{"text_format":"1","workbook":"xlsx","n_sheets":125,"sheets":["MENU","METAS","MENU REG","ARACAJU_MUN","ARAUA_MUN","BARRA_MUN","CRISTOVAO_MUN","GLORIA_MUN","FEIRA_MUN","ITABI_MUN","ARACAJU_REG","PINHAO_MUN","SAO_MIGUEL_MUN","ESTANCIA_REG","SANTA_LUZIA_MUN","ITABAIANINHA_MUN","TOMAR_MUN","ESTANCIA_MUN","INDIAROBA_MUN","PEDRINHAS_MUN","CRISTINAPOLIS_MUN","BOQUIM_MUN","UMBAUBA_MUN","GRACHO_MUN","GLORIA_REG","RIBEIROPOLIS_MUN","FREI_PAULO_MUN","MACAMBIRA_MUN","ITABAIANA_MUN","PEDRA_MOLE_MUN","MOITA_BONITA_MUN","AREIA_BRANCA_MUN","MALHADOR_MUN","SAO_DOMINGOS_MUN","CAMPO_BRITO_MUN","ITABAIANA_REG","CANINDE_MUN","POÇO_REDONDO_MUN","MONTE_ALEGRE_MUN","PORTO_FOLHA_MUN","GARARU_MUN","LAGARTO_REG","PROPRIA_REG","LARANJEIRAS_MUN","DIVINA_MUN","ITAPORANGA_MUN","RIACHUELO_MUN","SANTA_ROSA_MUN","CUMBE_MUN","SOCORRO_REG","SALGADO_MUN","RIACHAO_MUN","SIMÃO_DIAS_MUN","TOBIAS_MUN","POCO_VERDE_MUN","CARIRA_MUN","LAGARTO_MUN","APARECIDA_MUN","TAB_GRAFICOS","CARMOPOLIS_MUN","ROSARIO_MUN","AMPARO_MUN","PIRAMBU_MUN","SANTO_AMARO_MUN","MARUIM_MUN","SOCORRO_MUN","JAPARATUBA_MUN","GENERAL_MUN","CAPELA_MUN","DORES_MUN","LOURDES_MUN","AQUIDABA_MUN","CEDRO_MUN","MALHADA_MUN","SAO_FRANCISCO_MUN","JAPOATA_MUN","NEOPOLIS_MUN","SANTANA_MUN","BREJO_MUN","ILHA_MUN","PACATUBA_MUN","MURIBECA_MUN","PROPRIA_MUN","TELHA_MUN","CANHOBA_MUN","SIRIRI_MUN","RELATÓRIO_EST","RELATÓRIO_MUN","CONSOLIDADO_2017","CONSOLIDADO_REG","RELATÓRIO_REG","OBITOS_PREMATUROS","OBITOS_PREMATUROS_REG","OBITOS_MIF","OBITOS_MIF_REG","OBITOS_CAUSAS","OBITOS_CAUSAS_REG","CURA_CASOS_HANS","CURA_CASOS_HANS_REG","SIFILIS_CONG_1ANO","SIFILIS_CONG_1ANO_REG","AIDS_MENOR5","AIDS_MENOR5_REG","ANALISE_AGUA_2017","CITOPATOLOGICO","CITOPATOLOGICO_REG","MAMOGRAFIA","MAMOGRAFIA_REG","PARTO_NORMAL","PARTO_NORMAL_REG","MAES_ADOLESC","MAES_ADOL_REG","MORT_INF","MORT_INF_REG","OBITOS_MATERNOS","OBITOS_MATERNOS_REG","COBERTURA_AB","PBF_ACOMP_2017","PBF_ACOMP_REG_2017","COBETURA_SB","AÇOES_VIGIL","AÇOES_VIGIL_REG","MATRICIAMENTO_CAPS","CICLO_DENGUE","NOT_AC_TRAB_OCUP"],"not_rendered":{"charts":91,"images":2,"macros":1,"external_links":5,"defined_names":223,"comments":6,"pivot_tables":0},"unopened":[],"bounds":{"document_bytes":16777216,"sheet_cells":100000,"rows_first":2000,"rows_last":500,"rows_between":2000,"halvings":0,"cell_chars":16384,"cell_head_chars":4096},"cells_cut":0,"cells_raw":0,"read":"whole","date_system":"1900"}

{"sheet":"MENU","index":0,"n_rows":133,"n_cols":15,"rows_kept":133,"cut":false,"hidden":true,"merged":[]}
["MUNICÍPIO","CÓD",null,"REGIONAL","CÓD",null,"METAS","INDICADORES REGIONAIS",null,null,null,"INDICADORES MUN",null,null,"INDICADORES"]
[null,null,null,null,null,null,null,null,1]
["AMPARO DE SÃO FRANCISCO",280010,null,"REGIÃO ARACAJU",1,null,"META INDICADOR 01","01 TAXA OBITO PREMATURO 30 A 69 DCNT",2,null,null,"01 OBITO PREMATURO 30 A 69 DCNT",null,null,"01 OBITO PREMATURO 30 A 69 DCNT"]
["AQUIDABA",280020,null,"REGIÃO ESTANCIA",2,null,"META INDICADOR 02","02 %OBITOS EM MUL IDADE FERTIL INV",4,null,null,"02 %OBITOS EM MUL IDADE FERTIL INV",null,null,"RESULTADO META 01"]
["ARACAJU",280030,null,"REGIÃO GLÓRIA",3,null,"META INDICADOR 03","03 %OBITOS CAUSAS BAS DEFINIDAS",5,null,null,"03 %OBITOS CAUSAS BAS DEFINIDAS",null,null,"02 OBITOS EM MUL IDADE FERTIL 10 A 49"]
["ARAUA",280040,null,"REGIÃO ITABAIANA",4,null,"META INDICADOR 04","04 %VACINAS < 2 ANOS",6,null,null,"04 %VACINAS < 2 ANOS",null,null,"02 OBITOS EM MUL IDADE FERTIL INV"]
["AREIA BRANCA",280050,null,"REGIÃO LAGARTO",5,null,"META INDICADOR 05","05 %DE CASOS DOENÇAS NOT COMP IMEDIATA",7,null,null,"05 %DE CASOS DOENÇAS NOT COMP IMEDIATA",null,null,"02 %OBITOS EM MUL IDADE FERTIL INV"]
["BARRA DOS COQUEIROS",280060,null,"REGIÃO PROPRIA",6,null,"META INDICADOR 06","06 %CURA CASOS NOVOS HANSEN",10,null,null,"06 %CURA CASOS NOVOS HANSEN",null,null,"03 %OBITOS CAUSAS BAS DEFINIDAS"]
["BOQUIM",280067,null,"REGIÃO SOCORRO",7,null,"META INDICADOR 08","08 CASOS NOVOS SÍFILIS CONG < ANO",11,null,null,"08 CASOS NOVOS SÍFILIS CONG < ANO",null,null,"RESULTADO META 03"]
["BREJO GRANDE",280070,null,null,null,null,"META INDICADOR 09","09 Nº DE AIDS < 5 ANOS",12,null,null,"09 Nº DE AIDS < 5 ANOS",null,null,"04 %VACINAS < 2 ANOS"]
["CAMPO DO BRITO",280100,null,"PARÂMETRO","CÓD",null,"META INDICADOR 10","10 %ANÁLISE AMOSTRA ÁGUA CONS HUM",13,null,null,"10 %ANÁLISE AMOSTRA ÁGUA CONS HUM",null,null,"RESULTADO META 04"]
["CANHOBA",280110,null,null,null,null,"META INDICADOR 11","11 RAZÃO CITO 25 A 64",14,null,null,"11 RAZÃO CITO 25 A 64",null,null,"05 %DE CASOS DOENÇAS NOT COMP IMEDIATA"]
["CANINDE DE SÃO FRANCISCO",280120,null,"ÓTIMO",1,null,"META INDICADOR 12","12 RAZÃO MAMOGRAFIA BILATERAL 50 A 69",15,null,null,"12 RAZÃO MAMOGRAFIA BILATERAL 50 A 69",null,null,"RESULTADO META 05"]
["CAPELA",280130,null,"BOM",2,null,"META INDICADOR 13","13 %PARTO NORMAL SUS/SAÚDE SUPLEMENTAR",16,null,null,"13 %PARTO NORMAL SUS/SAÚDE SUPLEMENTAR",null,null,"Nº DE CURA DE CASOS NOVOS HANSEN "]
["CARIRA",280140,null,"ALERTA!",3,null,"META INDICADOR 14","14 %GRAVIDEZ ADOLESC 10 A 19",17,null,null,"14 %GRAVIDEZ ADOLESC 10 A 19",null,null,"06 %CURA CASOS NOVOS HANSEN"]
["CARMOPOLIS",280150,null,"INSATISFATÓRIO",4,null,"META INDICADOR 15","15 TAXA MORTALIDADE INFANTIL",18,null,null,"15 OBITOS < ANO",null,null,"RESULTADO META 06"]
["CEDRO DE SÃO JOAO",280160,null,null,null,null,"META INDICADOR 16","16 ÓBITOS MATERNOS",19,null,null,"16 ÓBITOS MATERNOS",null,null,"08 CASOS NOVOS SÍFILIS CONG < ANO"]
["CRISTINAPOLIS",280170,null,null,null,null,"META INDICADOR 17","17 %COB AB",20,null,null,"17 %COB AB",null,null,"RESULTADO META 08"]
["CUMBE",280190,null,"SITUAÇÃO","CÓD",null,"META INDICADOR 18","18 %COB Acomp BF",21,null,null,"18 %COB Acomp BF",null,null,"09 Nº DE AIDS < 5 ANOS"]
["DIVINA PASTORA",280200,null,null,null,null,"META INDICADOR 19","19 %COB SAUDE BUCAL",22,null,null,"19 %COB SAUDE BUCAL",null,null,"RESULTADO META 09"]
["ESTANCIA",280210,null,"ATINGIU",1,null,"META INDICADOR 20","20 %MUN REALIZ AÇÕES VIGILANCIA",23,null,null,"20 %MUN REALIZ AÇÕES VIGILANCIA",null,null,"10 %ANÁLISE AMOSTRA ÁGUA CONS HUM"]
["FEIRA NOVA",280220,null,"NÃO ATINGIU",2,null,"META INDICADOR 21","21 %AÇÕES DE MATRICIAMENTO CAPS",24,null,null,"21 %AÇÕES DE MATRICIAMENTO CAPS",null,null,"RESULTADO META 10"]
["FREI PAULO",280230,null,null,null,null,"META INDICADOR 22","22 NÚM CICLOS ATING 80% COB IMV DENGUE",25,null,null,"22 NÚM CICLOS ATING 80% COB IMV DENGUE",null,null,"11 EXAME CITO 25 A 64"]
["GARARU",280240,null,null,null,null,"META INDICADOR 23","23 %PREENCHIMENTO OCUP NOTIF AGRAVO",26,null,null,"23 %PREENCHIMENTO OCUP NOTIF AGRAVO",null,null,"11 RAZÃO CITO 25 A 64"]
["GENERAL MAYNARD",280250,null,null,null,null,"Nº METAS ALCANÇADAS",null,27,null,null,null,null,null,"RESULTADO META 11"]
["GRACHO CARDOSO",280260,null,null,null,null,"Nº METAS NÃO ALCANÇADAS",null,28,null,null,null,null,null,"12 MAMOGRAFIA BILATERAL 50 A 69"]
["ILHA DAS FLORES",280270,null,null,null,null,"PROPORÇÃO DE METAS ALCANÇADAS",null,29,null,null,null,null,null,"12 RAZÃO MAMOGRAFIA BILATERAL 50 A 69"]
["INDIAROBA",280280,null,null,null,null,null,null,30,null,null,null,null,null,"RESULTADO META 12"]
["ITABAIANA",280290,null,null,null,null,null,null,31,null,null,null,null,null,"13 PARTO NORMAL SUS/SAÚDE SUPLEMENTAR"]
["ITABAIANINHA",280300,null,null,null,null,null,null,32,null,null,null,null,null,"13 %PARTO NORMAL SUS/SAÚDE SUPLEMENTAR"]
["ITABI",280310,null,null,null,null,null,null,33,null,null,null,null,null,"RESULTADO META 13"]
["ITAPORANGA D'AJUDA",280320,null,null,null,null,null,null,34,null,null,null,null,null,"14 GRAVIDEZ ADOLESC 10 A 19"]
["JAPARATUBA",280330,null,null,null,null,null,null,35,null,null,null,null,null,"14 %GRAVIDEZ ADOLESC 10 A 19"]
["JAPOATÃ",280340,null,null,null,null,null,null,36,null,null,null,null,null,"RESULTADO META 14"]
["LAGARTO",280350,null,null,null,null,null,null,37,null,null,null,null,null,"15 OBITOS < ANO"]
["LARANJEIRAS",280360,null,null,null,null,null,null,38,null,null,null,null,null,"15 TAXA MORTALIDADE INFANTIL"]
["MACAMBIRA",280370,null,null,null,null,null,null,39,null,null,null,null,null,"RESULTADO META 15"]
["MALHADA DOS BOIS",280380,null,null,null,null,null,null,40,null,null,null,null,null,"16 ÓBITOS MATERNOS"]
["MALHADOR",280390,null,null,null,null,null,null,41,null,null,null,null,null,"RESULTADO META 16"]
["MARUIM",280400,null,null,null,null,null,null,42,null,null,null,null,null,"17 %COB AB"]
["MOITA BONITA",280410,null,null,null,null,null,null,43,null,null,null,null,null,"RESULTADO META 17"]
["MONTE ALEGRE DE SERGIPE",280420,null,null,null,null,null,null,44,null,null,null,null,null,"18 FAMILIAS PARA ACOMP"]
["MURIBECA",280430,null,null,null,null,null,null,45,null,null,null,null,null,"18 %COB Acomp BF"]
["NEOPOLIS",280440,null,null,null,null,null,null,46,null,null,null,null,null,"RESULTADO META 18"]
["NOSSA SENHORA APARECIDA",280445,null,null,null,null,null,null,47,null,null,null,null,null,"19 %COB SAUDE BUCAL"]
["NOSSA SENHORA DA GLORIA",280450,null,null,null,null,null,null,48,null,null,null,null,null,"RESULTADO META 19"]
["NOSSA SENHORA DAS DORES",280460,null,null,null,null,null,null,49,null,null,null,null,null,"20 %MUN REALIZ AÇÕES VIGILANCIA"]
["NOSSA SENHORA DE LOURDES",280470,null,null,null,null,null,null,50,null,null,null,null,null,"RESULTADO META 20"]
["NOSSA SENHORA DO SOCORRO",280480,null,null,null,null,null,null,51,null,null,null,null,null,"21 %AÇÕES DE MATRICIAMENTO CAPS"]
["PACATUBA",280490,null,null,null,null,null,null,52,null,null,null,null,null,"RESULTADO META 21"]
["PEDRA MOLE",280500,null,null,null,null,null,null,53,null,null,null,null,null,"22 NÚM CICLOS ATING 80% COB IMV DENGUE"]
["PEDRINHAS",280510,null,null,null,null,null,null,54,null,null,null,null,null,"RESULTADO META 22"]
["PINHAO",280520,null,null,null,null,null,null,55,null,null,null,null,null,"23 %PREENCHIMENTO OCUP NOTIF AGRAVO"]
["PIRAMBU",280530,null,null,null,null,null,null,56,null,null,null,null,null,"RESULTADO META 23"]
["POCO REDONDO",280540]
["POCO VERDE",280550]
["PORTO DA FOLHA",280560]
["PROPRIA",280570]
["RIACHAO DO DANTAS",280580]
["RIACHUELO",280590]
["RIBEIROPOLIS",280600]
["ROSARIO DO CATETE",280610]
["SALGADO",280620]
["SANTA LUZIA DO ITANHY",280630]
["SANTANA DO SÃO FRANCISCO",280640]
["SANTA ROSA DE LIMA",280650]
["SANTO AMARO DAS BROTAS",280660]
["SÃO CRISTOVÃO",280670]
["SÃO DOMINGOS",280680]
["SÃO FRANCISCO",280690]
["SÃO MIGUEL DO ALEIXO",280700]
["SIMÃO DIAS",280710]
["SIRIRI",280720]
["TELHA",280730]
["TOBIAS BARRETO",280740]
["TOMAR DO GERU",280750]
["UMBAUBA",280760]
[]
[]
["META INDICADOR 01"]
["01 OBITO PREMATURO 30 A 69 DCNT"]
["01 TAXA OBITO PREMATURO 30 A 69 DCNT"]
["META INDICADOR 02"]
[" 02 OBITOS EM MUL IDADE FERTIL 10 A 49"]
["02 OBITOS EM MUL IDADE FERTIL INV"]
["02 %OBITOS EM MUL IDADE FERTIL INV"]
["META INDICADOR 03"]
["03 OBITOS CAUSAS BAS DEFINIDAS"]
["03 %OBITOS CAUSAS BAS DEFINIDAS"]
["META INDICADOR 04"]
["04 %VACINAS < 2 ANOS"]
["META INDICADOR 05"]
["05 %DE CASOS DOENÇAS NOT COMP IMEDIATA"]
["META INDICADOR 06"]
["06 %CURA CASOS NOVOS HANSEN"]
["META INDICADOR 08"]
["08 CASOS NOVOS SÍFILIS CONG < ANO"]
["META INDICADOR 09"]
["09 Nº DE AIDS < 5 ANOS"]
["META INDICADOR 10"]
["10 %ANÁLISE AMOSTRA ÁGUA CONS HUM"]
["META INDICADOR 11"]
["11 EXAME CITO 25 A 64"]
["11 RAZÃO CITO 25 A 64"]
["META INDICADOR 12"]
["12 MAMOGRAFIA BILATERAL 50 A 69"]
["12 RAZÃO MAMOGRAFIA BILATERAL 50 A 69"]
["META INDICADOR 13"]
["13 PARTO NORMAL SUS/SAÚDE SUPLEMENTAR"]
["13 %PARTO NORMAL SUS/SAÚDE SUPLEMENTAR"]
["META INDICADOR 14"]
["14 GRAVIDEZ ADOLESC 10 A 19"]
["14 %GRAVIDEZ ADOLESC 10 A 19"]
["META INDICADOR 15"]
["15 OBITOS < ANO"]
["15 TAXA MORTALIDADE INFANTIL"]
["META INDICADOR 16"]
["16 ÓBITOS MATERNOS"]
["META INDICADOR 17"]
["17 COB AB"]
["META INDICADOR 18"]
["18 FAMILIAS PARA ACOMP"]
["18 COB Acomp BF"]
["META INDICADOR 19"]
["19 COB SAUDE BUCAL"]
["META INDICADOR 20"]
["20 %MUN REALIZ AÇÕES VIGILANCIA"]
["META INDICADOR 21"]
["21 AÇÕES DE MATICIAMENTO CAPS"]
["META INDICADOR 22"]
["22 NÚM CICLOS ATING 80% COB IMV DENGUE"]
["META INDICADOR 23"]
["23 %PREENCHIMENTO OCUP NOTIF AGRAVO"]

{"sheet":"METAS","index":1,"n_rows":87,"n_cols":28,"rows_kept":87,"cut":false,"hidden":true,"merged":[]}
["CÓD IBGE","REGIONAL","MUNICÍPIO","1.b) Mun/região> de 100 mil hab: Tx de ób prem. (de 30 a 69 anos) pelo conj das 04 principais DCNT(doenças do aparelho circulatório, câncer, diabetes e doenças respiratórias crônicas)","2. % de ób mulheres em idade fértil (10 a 49 anos) inv.","3. % de registro de óbitos com causa básica definida","4. % de vac. selec. do Calendário Nacional de Vacinação para crianças < de dois anos de idade - Pentav (3ª dose), Pneumocócica 10-valente (2ª dose), Polio (3ª U dose) e Tríp viral (1ª dose) - com cob. vacinal preconizada  ","5. %  de casos de doenças de notificação compulsória imediata (DNCI) encerrados em até 60 dias após notificação","6. %  de cura dos casos novos de hanseníase diagnosticados nos anos das coortes","8. Nº de casos novos de sífilis congênita em < de um ano de idade","9. Nº de casos novos de aids em < de 5 anos","10. %  de análises realizadas em amostras de água para consumo humano quanto aos parâmetros coliformes totais, cloro residual livre e turbidez","11. Rz de ex. citopatológicos colo do útero em mulhs de 25 a 64 anos na pop. residente de det. local e a pop. da mesma faixa etária","12. Rz de ex.s de mamografia de rastreamento realizados em mulh. de 50 a 69 anos na pop. residente de det. local e pop. da mesma faixa etária  ","13. %  de parto normal no SUS e na saúde suplementar","14. %  de gravidez na adolescência entre as faixas etárias de 10 a 19 anos","15. Tx de mortalidade infantil  ","16. Nº de ób.maternos em det. per e local de residência","17. Cob. Pop. estimada pelas equipes de Atenção Básica","18. Ob. de acomp. das condicionalidades de Saúde do Programa Bolsa Família (PBF)","19. Cobertura pop estimada de saúde bucal na Atenção Básica  ","20. %  de mun. que realizam mínimo 06 grup d ações de Vig.San. consideradas necessárias a todos os municípios anual","21. Ações de Matriciamento realizadas por CAPS com equipes de Atenção Básica  ","22. Nº de ciclos que atingiram mínimo de 80% de cobertura de imóveis visitados para controle vetorial da dengue","23. %  de preenchimento do campo \"ocupação\" nas notificações de agravos"]
[280010,"PROPRIA","AMPARO DE SAO FRANCISCO",2,0.9,0.95,1,0.85,0.9,0,0,0.5,0.78,0.15,0.65,0.16219999999999998,1,0,1,0.88,1,1,"N/A",5,0.95]
[280020,"PROPRIA","AQUIDABA",26,0.9,0.95,1,0.85,0.9,2,0,0.4,0.57999999999999996,0.22,0.66,0.22,2,0,0.8347,0.85,0.16190000000000002,1,1,4,0.95,null,null,"Selection.NumberFormat = \"0.00\""]
[280030,"ARACAJU","ARACAJU",233.5,0.9,0.95,1,0.85,0.9,71,1,1,0.32,0.35,0.5,0.152,15.2,5,0.7883,0.7,0.64249999999999996,1,1,4,0.95]
[280040,"ESTANCIA","ARAUA",14,0.9,0.95,1,0.85,0.95,2,0,0.7,0.8,0.3,0.66,0.23,1,0,1,0.87,0.9788,1,"N/A",4,0.95]
[280050,"ITABAIANA","AREIA BRANCA",19,0.9,0.95,0.75,0.85,0.9,1,0,0.85,0.49,0.26,0.66,0.27,4,0,1,0.88,0.56979999999999997,1,"N/A",4,0.9]
[280060,"ARACAJU","BARRA DOS COQUEIROS",28,0.95,0.95,1,0.85,0.9,8,0,1,0.55000000000000004,0.22,0.65,0.26,4,0,1,0.75,0.82569999999999988,1,1,4,0.95]
[280067,"ESTANCIA","BOQUIM",30,0.9,0.95,1,0.85,0.95,2,0,0.8,0.52,0.22,0.62,0.21,4,0,1,0.78,0.70090000000000008,1,1,4,0.95]
[280070,"PROPRIA","BREJO GRANDE",7,0.9,0.95,1,0.85,0.9,0,0,0.6,0.56000000000000005,0.28000000000000003,0.8,0.24489999999999998,1,1,1,0.95,1,1,"N/A",4,0.95]
[280100,"ITABAIANA","CAMPO DO BRITO",15,0.95,0.95,1,0.85,0.9,1,0,1,0.57999999999999996,0.2,0.64,0.2,2,0,1,0.8,1,1,1,4,0.95]
[280110,"PROPRIA","CANHOBA",6,1,0.95,0.75,0.85,1,0,0,0.3,0.65,0.1,0.7,0.25,1,0,1,0.96,0.75,1,"N/A",4,0.95]
[280120,"GLORIA","CANINDE DE SAO FRANCISCO",22,0.9,0.95,1,0.85,0.95,1,0,0.7,0.6,0.22,0.7,0.26,8,0,1,0.75,0.97599999999999998,1,1,4,0.97599999999999998]
[280130,"SOCORRO","CAPELA",36,"N/A",0.9,0.95,1,0.85,5,0,1,0.57999999999999996,0.1,0.68,0.26200000000000001,5,0,1,0.73,0.93040000000000012,1,"N/A",4,0.95]
[280140,"ITABAIANA","CARIRA",24,0.95,0.95,1,0.85,0.9,1,0,0.8,0.57999999999999996,0.17,0.62,0.21,4,0,1,0.86,0.32119999999999999,1,1,6,0.95]
[280150,"SOCORRO","CARMOPOLIS",20,0.9,0.95,1,0.85,0.91,1,0,0.5,0.45,0.35,0.65,0.25,5,0,1,0.75,0.98,1,"N/A",5,0.95]
[280160,"PROPRIA","CEDRO DE SAO JOAO",9,1,0.95,1,0.85,0.9,0,0,0.8,0.62,0.18,0.61,0.17,1,0,1,0.9,1,1,"N/A",4,0.95]
[280170,"ESTANCIA","CRISTINAPOLIS",15,0.9,0.95,1,0.85,0.9,2,0,0.8,0.55000000000000004,0.26,0.65,0.26500000000000001,2,0,1,0.83,1,1,1,4,1]
[280190,"SOCORRO","CUMBE",3,0.9,0.95,1,0.85,0.9,0,0,0.4,0.8,0.22,0.65,0.2,0,0,1,0.78,0.86569999999999991,1,"N/A",4,0.95]
[280200,"ARACAJU","DIVINA PASTORA",6,1,0.95,0.9,0.85,1,0,0,0.9,0.5,0.22,0.65,0.23,2,0,1,0.82,1,1,"N/A",4,0.95]
[280210,"ESTANCIA","ESTANCIA",80,0.9,0.95,1,0.85,0.9,14,0,0.8,0.57999999999999996,0.33,0.65,0.23,10,0,0.98019999999999996,0.8,0.75650000000000006,1,1,4,0.95]
[280220,"GLORIA","FEIRA NOVA",10,0.9,0.95,1,0.85,0.9,1,0,0.4,0.57999999999999996,0.22,0.69,0.25,1,0,1,0.83,0.61909999999999998,1,"N/A",5,0.95]
[280230,"ITABAIANA","FREI PAULO",13,0.9,0.95,1,0.85,1,1,0,0.5,0.5,0.2,0.65,0.2,3,0,1,0.85,1,1,"N/A",4,0.95]
[280240,"GLORIA","GARARU",9,0.9,0.95,1,0.85,0.9,1,0,0.5,0.45,0.2,0.65,0.2238,2,1,1,0.9,0.75,1,"N/A",4,0.95]
[280250,"SOCORRO","GENERAL MAYNARD",1,0.9,0.95,1,0.85,0.95,0,0,0.8,0.54,0.12,0.63,0.21429999999999999,0,0,1,0.8,1,1,"N/A",4,1]
[280260,"GLORIA","GRACHO CARDOSO",6,1,0.93,1,0.85,1,1,0,0.3,0.4,0.24,0.7,0.23,1,1,1,0.96,1,1,"N/A",4,1]
[280270,"PROPRIA","ILHA DAS FLORES",7,0.9,0.95,1,0.85,0.9,0,0,0.8,0.56000000000000005,0.28000000000000003,0.7,0.25,1,0,1,0.95,1,1,"N/A",4,0.95]
[280280,"ESTANCIA","INDIAROBA",16,0.9,0.95,0.75,0.85,1,0,0,0.8,0.48,0.24,0.66,0.25,1,0,1,0.87,1,1,"N/A",4,0.95]
[280290,"ITABAIANA","ITABAIANA",80,0.9,0.95,0.75,0.85,0.9,7,0,0.5,0.46,0.3,0.55000000000000004,0.2,17,0,0.71430000000000005,0.85,0.35590000000000005,1,1,4,0.95]
[280300,"ESTANCIA","ITABAIANINHA",43,0.9,0.93,1,0.85,0.9,14,0,0.65,0.55000000000000004,0.25,0.63,0.2,13,1,0.83329999999999993,0.75,0.53620000000000001,0.83,1,4,0.95]
[280310,"GLORIA","ITABI",3,0.9,0.95,1,0.85,0.9,0,0,0.6,0.44,0.2,0.7,0.23,2,0,1,0.92,0.68769999999999998,1,"N/A",4,0.68769999999999998]
[280320,"ARACAJU","ITAPORANGA D'AJUDA",36,0.9,0.95,1,1,0.9,5,0,1,0.55000000000000004,0.3,0.71,0.26,5,0,1,0.8,1,1,1,4,0.95]
[280330,"SOCORRO","JAPARATUBA",18,0.9,0.95,1,0.85,0.9,2,0,1,0.57999999999999996,0.16,0.64,0.18,2,0,0.98730000000000007,0.78,0.94319999999999993,1,"N/A",4,0.95]
[280340,"PROPRIA","JAPOATA",15,1,0.95,0.75,0.85,0.9,0,0,0.3,0.55000000000000004,0.1,0.63,0.3,3,0,1,0.74,1,1,1,4,0.95]
[280350,"LAGARTO","LAGARTO",264,0.93,0.95,1,0.85,0.9,5,0,0.9,0.62,0.25,0.6,0.22,13,0,0.62109999999999999,0.8,0.33450000000000002,1,0.5,4,0.95]
[280360,"ARACAJU","LARANJEIRAS",27,1,0.95,1,0.95,0.88,5,0,1,0.52,0.22,0.65,0.2,7,0,1,0.84,1,1,1,4,0.95]
[280370,"ITABAIANA","MACAMBIRA",6,0.9,0.9,0.75,0.85,0.95,0,0,0.9,0.16,0.1,0.55000000000000004,0.17,1,0,1,0.85,1,1,"N/A",4,0.95]
[280380,"PROPRIA","MALHADA DOS BOIS",6,0.9,0.95,1,0.85,0.9,0,0,0.4,0.65,0.17,0.6,0.23,2,0,1,0.96,1,1,"N/A",5,1]
[280390,"ITABAIANA","MALHADOR",13,1,0.95,1,1,1,1,0,0.8,0.57999999999999996,0.32,0.64,0.25,1,0,1,0.82,0.54770000000000008,0.5,"N/A",4,0.95]
[280400,"SOCORRO","MARUIM",15,0.9,0.95,1,0.85,0.9,4,0,0.4,0.49,0.14000000000000001,0.66,0.23649999999999999,1,0,1,0.75,1,1,1,4,0.95]
[280410,"ITABAIANA","MOITA BONITA",8,1,0.83,1,0.85,0.9,2,0,0.85,0.57999999999999996,0.28999999999999998,0.65,0.17,1,0,1,0.84,0.9083,1,"N/A",4,1]
[280420,"GLORIA","MONTE ALEGRE DE SERGIPE",6,1,0.95,1,0.85,0.9,1,0,0.5,0.5,0.3,0.62,0.2545,2,0,1,0.79,0.59709999999999996,1,"N/A",4,0.95]
[280430,"PROPRIA","MURIBECA",9,0.9,0.95,1,0.85,0.9,0,0,0.3,0.82,0.17,0.65,0.22,1,0,1,0.95,1,1,"N/A",6,0.95]
[280440,"PROPRIA","NEOPOLIS",10,0.9,0.95,1,0.85,0.9,1,0,0.8,0.6,0.2,0.64500000000000002,0.26789999999999997,2,0,1,0.75,0.96530000000000005,1,1,4,0.95]
[280445,"ITABAIANA","NOSSA SENHORA APARECIDA",8,1,0.95,1,0.85,1,0,0,0.5,0.4,0.26,0.66,0.18,1,0,1,0.8,1,1,"N/A",4,0.95]
[280450,"GLORIA","NOSSA SENHORA DA GLORIA",28,1,0.95,1,0.85,0.9,1,0,0.6,0.5,0.25,0.56999999999999995,0.23749999999999999,4,0,1,0.83,0.85650000000000004,1,1,4,1]
[280460,"SOCORRO","NOSSA SENHORA DAS DORES",33,0.9,0.95,1,0.85,0.9,3,0,0.3,0.65,0.1,0.66,0.26,3,1,1,0.76,1,1,1,4,0.95]
[280470,"PROPRIA","NOSSA SENHORA DE LOURDES",5,1,0.91,1,0.85,0.95,0,0,0.7,0.6,0.19,0.66,0.27,1,0,1,0.96,1,1,"N/A",5,1]
[280480,"SOCORRO","NOSSA SENHORA DO SOCORRO",280,0.9,0.94,0.75,0.85,0.9,55,0,1,0.48,0.24,0.625,0.22109999999999999,19.21,0,1,0.73,0.99,1,1,6,0.95]
[280490,"PROPRIA","PACATUBA",12,0.9,0.95,1,0.85,0.9,2,0,1,0.57999999999999996,0.25,0.73,0.23499999999999999,2,0,1,0.96,1,1,1,6,0.95]
[280500,"ITABAIANA","PEDRA MOLE",3,1,1,1,0.85,0.9,0,0,1,0.83,0.45,0.6,0.23,1,0,1,0.8,1,1,"N/A",5,1]
[280510,"ESTANCIA","PEDRINHAS",9,0.9,0.95,1,0.85,0.9,0,0,0.7,0.57999999999999996,0.36,0.65,0.35,0,0,1,0.93,1,0.8,"N/A",4,0.95]
[280520,"ITABAIANA","PINHAO",12,1,0.9,1,0.9,1,1,0,0.5,0.35,0.22,0.65,0.25,1,0,1,0.85,1,1,"N/A",4,1]
[280530,"SOCORRO","PIRAMBU",5,0.9,0.95,0.75,0.85,0.95,6,0,0.6,0.5,0.15,0.67,0.2,1,0,1,0.87,1,1,"N/A",4,0.95]
[280540,"GLORIA","POCO REDONDO",15,1,0.95,1,0.85,0.9,2,0,0.6,0.43,0.23,0.65,0.26,4,0,0.61520000000000008,0.91,0.20440000000000003,1,"N/A",4,0.95]
[280550,"LAGARTO","POCO VERDE",17,0.9,0.95,1,0.85,0.9,0,0,1,0.5,0.17,0.72799999999999998,0.21,2,0,0.87790000000000001,0.8,0.58930000000000005,1,1,4,0.95]
[280560,"GLORIA","PORTO DA FOLHA",16,0.9,0.95,1,0.85,0.9,2,0,0.5,0.57999999999999996,0.22,0.65,0.25,4,0,1,0.88,0.36329999999999996,1,"N/A",4,0.95]
[280570,"PROPRIA","PROPRIA",35,0.9,0.95,1,0.85,0.9,1,0,0.5,0.57999999999999996,0.22,0.55000000000000004,0.21,7,0,1,0.87,1,1,1,5,1]
[280580,"LAGARTO","RIACHAO DO DANTAS",18,0.9,0.95,1,0.85,0.9,0,0,0.5,0.51,0.13,0.67,0.17,3,0,1,0.92,0.56320000000000003,1,1,4,0.95]
[280590,"ARACAJU","RIACHUELO",15,1,0.95,0.75,0.85,0.9,5,0,0.65,0.6,0.2,0.76,0.28000000000000003,3,1,1,0.78,1,1,"N/A",4,0.95]
[280600,"ITABAIANA","RIBEIROPOLIS",20,0.9,0.95,0.75,0.85,0.9,0,0,0.8,0.5,0.18,0.55000000000000004,0.18539999999999998,1,0,1,0.85,1,1,"N/A",4,0.95]
[280610,"SOCORRO","ROSARIO DO CATETE",8,0.9,0.95,1,0.85,0.95,5,0,0.5,0.66,0.1,0.65,0.2,0,0,1,0.75,1,1,"N/A",4,0.95]
[280620,"LAGARTO","SALGADO",11,0.9,0.95,1,0.85,0.95,0,0,0.5,0.5,0.22,0.63,0.22,2,0,1,0.73,0.56999999999999995,1,1,4,0.95]
[280630,"ESTANCIA","SANTA LUZIA DO ITANHY",13,0.9,0.95,1,0.8,0.95,3,0,0.8,0.57999999999999996,0.24,0.65,0.28000000000000003,3,0,1,0.8,0.83299999999999996,1,"N/A",6,0.95]
[280640,"PROPRIA","SANTANA DO SAO FRANCISCO",6,1,0.95,0.75,0.85,0.9,0,0,0.8,0.55000000000000004,0.2,0.66,0.25,1,0,1,0.76,1,1,"N/A",4,1]
[280650,"ARACAJU","SANTA ROSA DE LIMA",4,0.95,0.95,1,0.85,0.9,1,0,1,0.59,0.17,0.65,0.25,1,0,1,0.85,1,1,"N/A",4,0.95]
[280660,"SOCORRO","SANTO AMARO DAS BROTAS",3,0.9,0.95,1,0.85,0.9,3,0,0.4,0.57999999999999996,0.22,0.69,0.25,3,0,1,0.8,1,1,"N/A",4,0.95]
[280670,"ARACAJU","SAO CRISTOVAO",80,0.9,0.95,1,0.85,0.9,15,0,0.8,0.4,0.22,0.65,0.20989999999999998,27,1,0.61049999999999993,0.95,0.43109999999999998,1,1,4,0.95]
[280680,"ITABAIANA","SAO DOMINGOS",10,0.9,0.95,0.75,0.85,0.9,0,0,0.8,0.52,0.25,0.66,0.21,2,0,1,0.72,0.62890000000000001,1,1,4,0.95]
[280690,"PROPRIA","SAO FRANCISCO",5,1,0.95,1,0.85,0.9,0,0,0.7,0.7,0.24,0.66,0.25,0,0,0.89680000000000004,0.9,0.89680000000000004,1,"N/A",6,0.95]
[280700,"ITABAIANA","SAO MIGUEL DO ALEIXO",8,1,0.95,1,1,1,0,0,0.5,0.57999999999999996,0.26,0.7,0.25579999999999997,0,0,1,0.9,1,1,"N/A",4,0.95]
[280710,"LAGARTO","SIMAO DIAS",47,0.95,0.95,1,0.85,0.9,4,0,0.8,0.57999999999999996,0.22,0.65,0.22,6,2,0.80319999999999991,0.84,0.54409999999999992,1,1,4,0.95]
[280720,"SOCORRO","SIRIRI",4,0.9,0.93,1,0.85,0.9,1,0,0.5,0.6,0.12,0.66,0.25,1,0,1,0.86,1,1,"N/A",4,0.95]
[280730,"PROPRIA","TELHA",2,0.9,0.95,1,0.85,0.9,0,0,0.4,0.6,0.19,0.6,0.28000000000000003,1,0,1,0.85,1,1,"N/A",5,0.95]
[280740,"LAGARTO","TOBIAS BARRETO",58,0.9,0.95,1,0.85,1,2,0,1,0.59,0.27,0.64,0.20499999999999999,7,0,0.79900000000000004,0.9,0.51680000000000004,1,1,6,0.95]
[280750,"ESTANCIA","TOMAR DO GERU",21,0.9,0.95,1,0.85,0.9,2,0,1,0.57999999999999996,0.28000000000000003,0.67,0.26,0,0,1,0.88,0.78410000000000002,0.9,"N/A",4,0.95]
[280760,"ESTANCIA","UMBAUBA",35,0.9,0.95,1,0.85,0.9,6,0,0.9,0.57999999999999996,0.26,0.7,0.25,4,0,0.84329999999999994,0.85,0.56220000000000003,1,1,4,0.95]
[280000,"SERGIPE","SERGIPE",263.62,0.9,0.95,0.75,0.85,0.9,300,3,0.6,0.57999999999999996,0.22,0.65,0.21100000000000002,14.25,14,0.87450000000000006,0.78,0.71200000000000008,1,1,4,0.95]
[]
[]
[]
[null,null,"Aracaju",245.75,0.9,0.95,1,0.85,0.9,94,1,0.9,0.48,0.16,0.53369999999999995,0.17280000000000001,15.54,7,0.79769999999999996,0.78,0.6623,1,1,4,0.95]
[null,null,"Estancia",309.41000000000003,0.9,0.95,1,0.85,0.9,43,0,0.75,0.48,0.16,0.61260000000000003,0.22690000000000002,14.55,1,0.95030000000000003,0.78,0.7631,0.5,1,4,0.95]
[null,null,"Gloria",299.76,0.9,0.95,1,0.85,0.9,10,0,0.45,0.48,0.16,0.6631999999999999,0.25659999999999999,10.44,2,0.92290000000000005,0.78,0.64069999999999994,1,1,4,0.64069999999999994]
[null,null,"Itabaiana",259.62,0.9,0.95,1,0.85,0.9,15,0,0.7,0.48,0.16,0.59810000000000008,0.22329999999999997,15.73,0,0.89249999999999996,0.78,0.624,1,1,4,0.95]
[null,null,"Lagarto",278.08999999999997,0.9,0.95,1,0.85,0.9,11,0,0.7,0.48,0.16,0.59219999999999995,0.20829999999999999,13.98,0,0.59219999999999995,0.78,0.49659999999999999,1,1,4,0.95]
[null,null,"Propria",315.3,0.9,0.95,1,0.85,0.9,5,0,0.6,0.48,0.16,0.56140000000000001,0.22469999999999998,16.21,2,0.97530000000000006,0.78,0.88090000000000002,1,1,4,0.95]
[null,null,"Socorro",276.68,0.9,0.95,1,0.85,0.9,80,0,0.6,0.48,0.16,0.63159999999999994,0.22949999999999998,17.690000000000001,2,0.9998999999999999,0.78,0.9849,1,1,4,0.95]

{"sheet":"MENU REG","index":2,"n_rows":51,"n_cols":2,"rows_kept":51,"cut":false,"hidden":false,"merged":[]}
[]
[]
[]
[]
[]
[]
[]
[]
[]
[]
[]
[]
[]
[]
[]
[]
[]
[]
[]
[]
[]
[]
[]
[]
[]
[]
[]
[]
[]
[]
[]
[]
[]
[]
[]
[]
[]
[]
[]
[]
[]
[]
[]
[]
[]
[]
[]
[]
["INDICADOR DESEMPENHO"]
["VALOR",{"$f":"CONSOLIDADO_2017!CG77","v":0.52380952380952384}]
["DIFERENÇA",{"$f":"100%-B50","v":0.47619047619047616}]

{"sheet":"ARACAJU_MUN","index":3,"n_rows":100,"n_cols":8,"rows_kept":100,"cut":false,"hidden":true,"merged":[]}
[]
[]
[]
[]
[]
[]
[]
[]
[null,null,null,null,null,null,{"$f":"IF($H$9=\"01 TAXA OBITO PREMATURO 30 A 69 DCNT\",MENU!$G$3,IF($H$9=\"02 %OBITOS EM MUL IDADE FERTIL INV\",MENU!$G$4,IF($H$9=\"03 %OBITOS CAUSAS BAS DEFINIDAS\",MENU!$G$5,IF($H$9=\"04 %VACINAS < 2 ANOS\",MENU!$G$6,IF($H$9=\"05 %DE CASOS DOENÇAS NOT COMP IMEDIATA\",MENU!$G$7,IF($H$9=\"06 %CURA CASOS NOVOS HANSEN\",MENU!$G$8,IF($H$9=\"08 CASOS NOVOS SÍFILIS CONG < ANO\",MENU!$G$9,IF($H$9=\"09 Nº DE AIDS < 5 ANOS\",MENU!$G$10,IF($H$9=\"10 %ANÁLISE AMOSTRA ÁGUA CONS HUM\",MENU!$G$11,IF($H$9=\"11 RAZÃO CITO 25 A 64\",MENU!$G$12,IF($H$9=\"12 RAZÃO MAMOGRAFIA BILATERAL 50 A 69\",MENU!$G$13,IF($H$9=\"13 %PARTO NORMAL SUS/SAÚDE SUPLEMENTAR\",MENU!$G$14,IF($H$9=\"14 %GRAVIDEZ ADOLESC 10 A 19\",MENU!$G$15,IF($H$9=\"15 TAXA MORTALIDADE INFANTIL\",MENU!$G$16,IF($H$9=\"16 ÓBITOS MATERNOS\",MENU!$G$17,IF($H$9=\"17 %COB AB\",MENU!$G$18,IF($H$9=\"18 %COB Acomp BF\",MENU!$G$19,IF($H$9=\"19 %COB SAUDE BUCAL\",MENU!$G$20,IF($H$9=\"20 %MUN REALIZ AÇÕES VIGILANCIA\",MENU!$G$21,IF($H$9=\"21 %AÇÕES DE MATRICIAMENTO CAPS\",MENU!$G$22,IF($H$9=\"22 NÚM CICLOS ATING 80% COB IMV DENGUE\",MENU!$G$23,IF($H$9=\"23 %PREENCHIMENTO OCUP NOTIF AGRAVO\",MENU!$G$24))))))))))))))))))))))","v":"META INDICADOR 04"},"04 %VACINAS < 2 ANOS"]
[null,null,null,null,null,null,{"$f":"INDEX(CONSOLIDADO_2017!A1:CG77,MATCH(CONSOLIDADO_2017!C4,CONSOLIDADO_2017!C1:C77,0),MATCH(ARACAJU_MUN!G9,Tabela13[#Headers],0))","v":1},{"$f":"INDEX(CONSOLIDADO_2017!A1:CG77,MATCH(CONSOLIDADO_2017!C4,CONSOLIDADO_2017!C1:C77,0),MATCH(ARACAJU_MUN!H9,Tabela13[#Headers],0))","v":0}]
[null,null,null,null,null,null,null,{"$f":"IF(H9=\"01 TAXA OBITO PREMATURO 30 A 69 DCNT\",CONSOLIDADO_2017!H4,IF(H9=\"02 %OBITOS EM MUL IDADE FERTIL INV\",CONSOLIDADO_2017!M4,IF(H9=\"03 %OBITOS CAUSAS BAS DEFINIDAS\",CONSOLIDADO_2017!Q4,IF(H9=\"04 %VACINAS < 2 ANOS\",CONSOLIDADO_2017!T4,IF(H9=\"05 %DE CASOS DOENÇAS NOT COMP IMEDIATA\",CONSOLIDADO_2017!W4,IF(H9=\"06 %CURA CASOS NOVOS HANSEN\",CONSOLIDADO_2017!AA4,IF(H9=\"08 CASOS NOVOS SÍFILIS CONG < ANO\",CONSOLIDADO_2017!AD4,IF(H9=\"09 Nº DE AIDS < 5 ANOS\",CONSOLIDADO_2017!AG4,IF(H9=\"10 %ANÁLISE AMOSTRA ÁGUA CONS HUM\",CONSOLIDADO_2017!AJ4,IF(H9=\"11 RAZÃO CITO 25 A 64\",CONSOLIDADO_2017!AN4,IF(H9=\"12 RAZÃO MAMOGRAFIA BILATERAL 50 A 69\",CONSOLIDADO_2017!AR4,IF(H9=\"13 %PARTO NORMAL SUS/SAÚDE SUPLEMENTAR\",CONSOLIDADO_2017!AV4,IF(H9=\"14 %GRAVIDEZ ADOLESC 10 A 19\",CONSOLIDADO_2017!AZ4,IF(H9=\"15 TAXA MORTALIDADE INFANTIL\",CONSOLIDADO_2017!BD4,IF(H9=\"16 ÓBITOS MATERNOS\",CONSOLIDADO_2017!BG4,IF(H9=\"17 %COB AB\",CONSOLIDADO_2017!BJ4,IF(H9=\"18 %COB Acomp BF\",CONSOLIDADO_2017!BN4,IF(H9=\"19 %COB SAUDE BUCAL\",CONSOLIDADO_2017!BQ4,IF(H9=\"20 %MUN REALIZ AÇÕES VIGILANCIA\",CONSOLIDADO_2017!BT4,IF(H9=\"21 %AÇÕES DE MATRICIAMENTO CAPS\",CONSOLIDADO_2017!BX4,IF(H9=\"22 NÚM CICLOS ATING 80% COB IMV DENGUE\",CONSOLIDADO_2017!CA4,IF(H9=\"23 %PREENCHIMENTO OCUP NOTIF AGRAVO\",CONSOLIDADO_2017!CD4))))))))))))))))))))))","v":"NÃO ATINGIU"}]
[]
[]
[]
[]
[]
[]
[]
[]
[]
[]
[]
[]
[]
[]
[]
[]
[]
[]
[]
[]
[]
[]
[]
[]
[]
[]
[]
[]
[]
[]
[]
[]
[]
[]
[]
[]
[]
[]
[]
[]
[]
[]
[]
[]
[]
[]
[]
[]
[]
[]
[]
[]
[]
[]
[]
[]
[]
[]
[]
[]
[]
[]
[]
[]
[]
[]
[]
[]
[]
[]
[]
[]
[]
[]
[]
[]
[]
[]
[]
[null,null,null,null,null,null,245.45705165891101,"Não atingiu"]
[]
[]
[]
[]
[]
[]
[]
[]
["POPULAÇÃO 2015",{"$f":"INDEX(CONSOLIDADO_2017!A1:CG77,MATCH(CONSOLIDADO_2017!C4,CONSOLIDADO_2017!C1:C77,0),4)","v":632745}]

{"sheet":"ARAUA_MUN","index":4,"n_rows":100,"n_cols":8,"rows_kept":100,"cut":false,"hidden":true,"merged":[]}
[]
[]
[]
[]
[]
[]
[]
[]
[null,null,null,null,null,null,{"$f":"IF($H$9=\"01 OBITO PREMATURO 30 A 69 DCNT\",MENU!$G$3,IF($H$9=\"02 %OBITOS EM MUL IDADE FERTIL INV\",MENU!$G$4,IF($H$9=\"03 %OBITOS CAUSAS BAS DEFINIDAS\",MENU!$G$5,IF($H$9=\"04 %VACINAS < 2 ANOS\",MENU!$G$6,IF($H$9=\"05 %DE CASOS DOENÇAS NOT COMP IMEDIATA\",MENU!$G$7,IF($H$9=\"06 %CURA CASOS NOVOS HANSEN\",MENU!$G$8,IF($H$9=\"08 CASOS NOVOS SÍFILIS CONG < ANO\",MENU!$G$9,IF($H$9=\"09 Nº DE AIDS < 5 ANOS\",MENU!$G$10,IF($H$9=\"10 %ANÁLISE AMOSTRA ÁGUA CONS HUM\",MENU!$G$11,IF($H$9=\"11 RAZÃO CITO 25 A 64\",MENU!$G$12,IF($H$9=\"12 RAZÃO MAMOGRAFIA BILATERAL 50 A 69\",MENU!$G$13,IF($H$9=\"13 %PARTO NORMAL SUS/SAÚDE SUPLEMENTAR\",MENU!$G$14,IF($H$9=\"14 %GRAVIDEZ ADOLESC 10 A 19\",MENU!$G$15,IF($H$9=\"15 OBITOS < ANO\",MENU!$G$16,IF($H$9=\"16 ÓBITOS MATERNOS\",MENU!$G$17,IF($H$9=\"17 %COB AB\",MENU!$G$18,IF($H$9=\"18 %COB Acomp BF\",MENU!$G$19,IF($H$9=\"19 %COB SAUDE BUCAL\",MENU!$G$20,IF($H$9=\"20 %MUN REALIZ AÇÕES VIGILANCIA\",MENU!$G$21,IF($H$9=\"21 %AÇÕES DE MATRICIAMENTO CAPS\",MENU!$G$22,IF($H$9=\"22 NÚM CICLOS ATING 80% COB IMV DENGUE\",MENU!$G$23,IF($H$9=\"23 %PREENCHIMENTO OCUP NOTIF AGRAVO\",MENU!$G$24))))))))))))))))))))))","v":"META INDICADOR 01"},"01 OBITO PREMATURO 30 A 69 DCNT"]
[null,null,null,null,null,null,{"$f":"INDEX(CONSOLIDADO_2017!A1:CG77,MATCH(CONSOLIDADO_2017!C5,CONSOLIDADO_2017!C1:C77,0),MATCH(ARAUA_MUN!G9,Tabela13[#Headers],0))","v":14},{"$f":"INDEX(CONSOLIDADO_2017!A1:CG77,MATCH(CONSOLIDADO_2017!C5,CONSOLIDADO_2017!C1:C77,0),MATCH(ARAUA_MUN!H9,Tabela13[#Headers],0))","v":12}]
[null,null,null,null,null,null,null,{"$f":"IF(H9=\"01 OBITO PREMATURO 30 A 69 DCNT\",CONSOLIDADO_2017!H5,IF(H9=\"02 %OBITOS EM MUL IDADE FERTIL INV\",CONSOLIDADO_2017!M5,IF(H9=\"03 %OBITOS CAUSAS BAS DEFINIDAS\",CONSOLIDADO_2017!Q5,IF(H9=\"04 %VACINAS < 2 ANOS\",CONSOLIDADO_2017!T5,IF(H9=\"05 %DE CASOS DOENÇAS NOT COMP IMEDIATA\",CONSOLIDADO_2017!W5,IF(H9=\"06 %CURA CASOS NOVOS HANSEN\",CONSOLIDADO_2017!AA5,IF(H9=\"08 CASOS NOVOS SÍFILIS CONG < ANO\",CONSOLIDADO_2017!AD5,IF(H9=\"09 Nº DE AIDS < 5 ANOS\",CONSOLIDADO_2017!AG5,IF(H9=\"10 %ANÁLISE AMOSTRA ÁGUA CONS HUM\",CONSOLIDADO_2017!AJ5,IF(H9=\"11 RAZÃO CITO 25 A 64\",CONSOLIDADO_2017!AN5,IF(H9=\"12 RAZÃO MAMOGRAFIA BILATERAL 50 A 69\",CONSOLIDADO_2017!AR5,IF(H9=\"13 %PARTO NORMAL SUS/SAÚDE SUPLEMENTAR\",CONSOLIDADO_2017!AV5,IF(H9=\"14 %GRAVIDEZ ADOLESC 10 A 19\",CONSOLIDADO_2017!AZ5,IF(H9=\"15 OBITOS < ANO\",CONSOLIDADO_2017!BD5,IF(H9=\"16 ÓBITOS MATERNOS\",CONSOLIDADO_2017!BG5,IF(H9=\"17 %COB AB\",CONSOLIDADO_2017!BJ5,IF(H9=\"18 %COB Acomp BF\",CONSOLIDADO_2017!BN5,IF(H9=\"19 %COB SAUDE BUCAL\",CONSOLIDADO_2017!BQ5,IF(H9=\"20 %MUN REALIZ AÇÕES VIGILANCIA\",CONSOLIDADO_2017!BT5,IF(H9=\"21 %AÇÕES DE MATRICIAMENTO CAPS\",CONSOLIDADO_2017!BX5,IF(H9=\"22 NÚM CICLOS ATING 80% COB IMV DENGUE\",CONSOLIDADO_2017!CA5,IF(H9=\"23 %PREENCHIMENTO OCUP NOTIF AGRAVO\",CONSOLIDADO_2017!CD5))))))))))))))))))))))","v":"ATINGIU"}]
[]
[]
[]
[]
[]
[]
[]
[]
[]
[]
[]
[]
[]
[]
[]
[]
[]
[]
[]
[]
[]
[]
[]
[]
[]
[]
[]
[]
[]
[]
[]
[]
[]
[]
[]
[]
[]
[]
[]
[]
[]
[]
[]
[]
[]
[]
[]
[]
[]
[]
[]
[]
[]
[]
[]
[]
[]
[]
[]
[]
[]
[]
[]
[]
[]
[]
[]
[]
[]
[]
[]
[]
[]
[]
[]
[]
[]
[]
[]
[]
[]
[]
[]
[]
[]
[]
[]
[]
["POPULAÇÃO",{"$f":"INDEX(CONSOLIDADO_2017!A1:CG77,MATCH(CONSOLIDADO_2017!C5,CONSOLIDADO_2017!C1:C77,0),4)","v":10572}]

{"sheet":"BARRA_MUN","index":5,"n_rows":100,"n_cols":8,"rows_kept":100,"cut":false,"hidden":true,"merged":[]}
[]
[]
[]
[]
[]
[]
[]
[]
[null,null,null,null,null,null,{"$f":"IF($H$9=\"01 OBITO PREMATURO 30 A 69 DCNT\",MENU!$G$3,IF($H$9=\"02 %OBITOS EM MUL IDADE FERTIL INV\",MENU!$G$4,IF($H$9=\"03 %OBITOS CAUSAS BAS DEFINIDAS\",MENU!$G$5,IF($H$9=\"04 %VACINAS < 2 ANOS\",MENU!$G$6,IF($H$9=\"05 %DE CASOS DOENÇAS NOT COMP IMEDIATA\",MENU!$G$7,IF($H$9=\"06 %CURA CASOS NOVOS HANSEN\",MENU!$G$8,IF($H$9=\"08 CASOS NOVOS SÍFILIS CONG < ANO\",MENU!$G$9,IF($H$9=\"09 Nº DE AIDS < 5 ANOS\",MENU!$G$10,IF($H$9=\"10 %ANÁLISE AMOSTRA ÁGUA CONS HUM\",MENU!$G$11,IF($H$9=\"11 RAZÃO CITO 25 A 64\",MENU!$G$12,IF($H$9=\"12 RAZÃO MAMOGRAFIA BILATERAL 50 A 69\",MENU!$G$13,IF($H$9=\"13 %PARTO NORMAL SUS/SAÚDE SUPLEMENTAR\",MENU!$G$14,IF($H$9=\"14 %GRAVIDEZ ADOLESC 10 A 19\",MENU!$G$15,IF($H$9=\"15 OBITOS < ANO\",MENU!$G$16,IF($H$9=\"16 ÓBITOS MATERNOS\",MENU!$G$17,IF($H$9=\"17 %COB AB\",MENU!$G$18,IF($H$9=\"18 %COB Acomp BF\",MENU!$G$19,IF($H$9=\"19 %COB SAUDE BUCAL\",MENU!$G$20,IF($H$9=\"20 %MUN REALIZ AÇÕES VIGILANCIA\",MENU!$G$21,IF($H$9=\"21 %AÇÕES DE MATRICIAMENTO CAPS\",MENU!$G$22,IF($H$9=\"22 NÚM CICLOS ATING 80% COB IMV DENGUE\",MENU!$G$23,IF($H$9=\"23 %PREENCHIMENTO OCUP NOTIF AGRAVO\",MENU!$G$24))))))))))))))))))))))","v":"META INDICADOR 01"},"01 OBITO PREMATURO 30 A 69 DCNT"]
[null,null,null,null,null,null,{"$f":"INDEX(CONSOLIDADO_2017!A1:CG77,MATCH(CONSOLIDADO_2017!C7,CONSOLIDADO_2017!C1:C77,0),MATCH(BARRA_MUN!G9,Tabela13[#Headers],0))","v":28},{"$f":"INDEX(CONSOLIDADO_2017!A1:CG77,MATCH(CONSOLIDADO_2017!C7,CONSOLIDADO_2017!C1:C77,0),MATCH(BARRA_MUN!H9,Tabela13[#Headers],0))","v":30}]
[null,null,null,null,null,null,null,{"$f":"IF(H9=\"01 OBITO PREMATURO 30 A 69 DCNT\",CONSOLIDADO_2017!H7,IF(H9=\"02 %OBITOS EM MUL IDADE FERTIL INV\",CONSOLIDADO_2017!M7,IF(H9=\"03 %OBITOS CAUSAS BAS DEFINIDAS\",CONSOLIDADO_2017!Q7,IF(H9=\"04 %VACINAS < 2 ANOS\",CONSOLIDADO_2017!T7,IF(H9=\"05 %DE CASOS DOENÇAS NOT COMP IMEDIATA\",CONSOLIDADO_2017!W7,IF(H9=\"06 %CURA CASOS NOVOS HANSEN\",CONSOLIDADO_2017!AA7,IF(H9=\"08 CASOS NOVOS SÍFILIS CONG < ANO\",CONSOLIDADO_2017!AD7,IF(H9=\"09 Nº DE AIDS < 5 ANOS\",CONSOLIDADO_2017!AG7,IF(H9=\"10 %ANÁLISE AMOSTRA ÁGUA CONS HUM\",CONSOLIDADO_2017!AJ7,IF(H9=\"11 RAZÃO CITO 25 A 64\",CONSOLIDADO_2017!AN7,IF(H9=\"12 RAZÃO MAMOGRAFIA BILATERAL 50 A 69\",CONSOLIDADO_2017!AR7,IF(H9=\"13 %PARTO NORMAL SUS/SAÚDE SUPLEMENTAR\",CONSOLIDADO_2017!AV7,IF(H9=\"14 %GRAVIDEZ ADOLESC 10 A 19\",CONSOLIDADO_2017!AZ7,IF(H9=\"15 OBITOS < ANO\",CONSOLIDADO_2017!BD7,IF(H9=\"16 ÓBITOS MATERNOS\",CONSOLIDADO_2017!BG7,IF(H9=\"17 %COB AB\",CONSOLIDADO_2017!BJ7,IF(H9=\"18 %COB Acomp BF\",CONSOLIDADO_2017!BN7,IF(H9=\"19 %COB SAUDE BUCAL\",CONSOLIDADO_2017!BQ7,IF(H9=\"20 %MUN REALIZ AÇÕES VIGILANCIA\",CONSOLIDADO_2017!BT7,IF(H9=\"21 %AÇÕES DE MATRICIAMENTO CAPS\",CONSOLIDADO_2017!BX7,IF(H9=\"22 NÚM CICLOS ATING 80% COB IMV DENGUE\",CONSOLIDADO_2017!CA7,IF(H9=\"23 %PREENCHIMENTO OCUP NOTIF AGRAVO\",CONSOLIDADO_2017!CD7))))))))))))))))))))))","v":"NÃO ATINGIU"}]
[]
[]
[]
[]
[]
[]
[]
[]
[]
[]
[]
[]
[]
[]
[]
[]
[]
[]
[]
[]
[]
[]
[]
[]
[]
[]
[]
[]
[]
[]
[]
[]
[]
[]
[]
[]
[]
[]
[]
[]
[]
[]
[]
[]
[]
[]
[]
[]
[]
[]
[]
[]
[]
[]
[]
[]
[]
[]
[]
[]
[]
[]
[]
[]
[]
[]
[]
[]
[]
[]
[]
[]
[]
[]
[]
[]
[]
[]
[]
[null,null,null,null,null,null,241.08003857280616,"Não atingiu"]
[]
[]
[]
[]
[]
[]
[]
[]
["POPULAÇÃO 2015",{"$f":"INDEX(CONSOLIDADO_2017!A1:CG77,MATCH(CONSOLIDADO_2017!C7,CONSOLIDADO_2017!C1:C77,0),4)","v":28679}]

{"sheet":"CRISTOVAO_MUN","index":6,"n_rows":100,"n_cols":8,"rows_kept":100,"cut":false,"hidden":true,"merged":[]}
[]
[]
[]
[]
[]
[]
[]
[]
[null,null,null,null,null,null,{"$f":"IF($H$9=\"01 OBITO PREMATURO 30 A 69 DCNT\",MENU!$G$3,IF($H$9=\"02 %OBITOS EM MUL IDADE FERTIL INV\",MENU!$G$4,IF($H$9=\"03 %OBITOS CAUSAS BAS DEFINIDAS\",MENU!$G$5,IF($H$9=\"04 %VACINAS < 2 ANOS\",MENU!$G$6,IF($H$9=\"05 %DE CASOS DOENÇAS NOT COMP IMEDIATA\",MENU!$G$7,IF($H$9=\"06 %CURA CASOS NOVOS HANSEN\",MENU!$G$8,IF($H$9=\"08 CASOS NOVOS SÍFILIS CONG < ANO\",MENU!$G$9,IF($H$9=\"09 Nº DE AIDS < 5 ANOS\",MENU!$G$10,IF($H$9=\"10 %ANÁLISE AMOSTRA ÁGUA CONS HUM\",MENU!$G$11,IF($H$9=\"11 RAZÃO CITO 25 A 64\",MENU!$G$12,IF($H$9=\"12 RAZÃO MAMOGRAFIA BILATERAL 50 A 69\",MENU!$G$13,IF($H$9=\"13 %PARTO NORMAL SUS/SAÚDE SUPLEMENTAR\",MENU!$G$14,IF($H$9=\"14 %GRAVIDEZ ADOLESC 10 A 19\",MENU!$G$15,IF($H$9=\"15 OBITOS < ANO\",MENU!$G$16,IF($H$9=\"16 ÓBITOS MATERNOS\",MENU!$G$17,IF($H$9=\"17 %COB AB\",MENU!$G$18,IF($H$9=\"18 %COB Acomp BF\",MENU!$G$19,IF($H$9=\"19 %COB SAUDE BUCAL\",MENU!$G$20,IF($H$9=\"20 %MUN REALIZ AÇÕES VIGILANCIA\",MENU!$G$21,IF($H$9=\"21 %AÇÕES DE MATRICIAMENTO CAPS\",MENU!$G$22,IF($H$9=\"22 NÚM CICLOS ATING 80% COB IMV DENGUE\",MENU!$G$23,IF($H$9=\"23 %PREENCHIMENTO OCUP NOTIF AGRAVO\",MENU!$G$24))))))))))))))))))))))","v":"META INDICADOR 06"},"06 %CURA CASOS NOVOS HANSEN"]
[null,null,null,null,null,null,{"$f":"INDEX(CONSOLIDADO_2017!A1:CG77,MATCH(CONSOLIDADO_2017!C67,CONSOLIDADO_2017!C1:C77,0),MATCH(CRISTOVAO_MUN!G9,Tabela13[#Headers],0))","v":0.9},{"$f":"INDEX(CONSOLIDADO_2017!A1:CG77,MATCH(CONSOLIDADO_2017!C67,CONSOLIDADO_2017!C1:C77,0),MATCH(CRISTOVAO_MUN!H9,Tabela13[#Headers],0))","v":0.5625}]
[null,null,null,null,null,null,null,{"$f":"IF(H9=\"01 OBITO PREMATURO 30 A 69 DCNT\",CONSOLIDADO_2017!H67,IF(H9=\"02 %OBITOS EM MUL IDADE FERTIL INV\",CONSOLIDADO_2017!M67,IF(H9=\"03 %OBITOS CAUSAS BAS DEFINIDAS\",CONSOLIDADO_2017!Q67,IF(H9=\"04 %VACINAS < 2 ANOS\",CONSOLIDADO_2017!T67,IF(H9=\"05 %DE CASOS DOENÇAS NOT COMP IMEDIATA\",CONSOLIDADO_2017!W67,IF(H9=\"06 %CURA CASOS NOVOS HANSEN\",CONSOLIDADO_2017!AA67,IF(H9=\"08 CASOS NOVOS SÍFILIS CONG < ANO\",CONSOLIDADO_2017!AD67,IF(H9=\"09 Nº DE AIDS < 5 ANOS\",CONSOLIDADO_2017!AG67,IF(H9=\"10 %ANÁLISE AMOSTRA ÁGUA CONS HUM\",CONSOLIDADO_2017!AJ67,IF(H9=\"11 RAZÃO CITO 25 A 64\",CONSOLIDADO_2017!AN67,IF(H9=\"12 RAZÃO MAMOGRAFIA BILATERAL 50 A 69\",CONSOLIDADO_2017!AR67,IF(H9=\"13 %PARTO NORMAL SUS/SAÚDE SUPLEMENTAR\",CONSOLIDADO_2017!AV67,IF(H9=\"14 %GRAVIDEZ ADOLESC 10 A 19\",CONSOLIDADO_2017!AZ67,IF(H9=\"15 OBITOS < ANO\",CONSOLIDADO_2017!BD67,IF(H9=\"16 ÓBITOS MATERNOS\",CONSOLIDADO_2017!BG67,IF(H9=\"167 %COB AB\",CONSOLIDADO_2017!BJ67,IF(H9=\"18 %COB Acomp BF\",CONSOLIDADO_2017!BN67,IF(H9=\"19 %COB SAUDE BUCAL\",CONSOLIDADO_2017!BQ67,IF(H9=\"20 %MUN REALIZ AÇÕES VIGILANCIA\",CONSOLIDADO_2017!BT67,IF(H9=\"21 %AÇÕES DE MATRICIAMENTO CAPS\",CONSOLIDADO_2017!BX67,IF(H9=\"22 NÚM CICLOS ATING 80% COB IMV DENGUE\",CONSOLIDADO_2017!CA67,IF(H9=\"23 %PREENCHIMENTO OCUP NOTIF AGRAVO\",CONSOLIDADO_2017!CD67))))))))))))))))))))))","v":"NÃO ATINGIU"}]
[]
[]
[]
[]
[]
[]
[]
[]
[]
[]
[]
[]
[]
[]
[]
[]
[]
[]
[]
[]
[]
[]
[]
[]
[]
[]
[]
[]
[]
[]
[]
[]
[]
[]
[]
[]
[]
[]
[]
[]
[]
[]
[]
[]
[]
[]
[]
[]
[]
[]
[]
[]
[]
[]
[]
[]
[]
[]
[]
[]
[]
[]
[]
[]
[]
[]
[]
[]
[]
[]
[]
[]
[]
[]
[]
[]
[]
[]
[]
[null,null,null,null,null,null,342.68753372908793,"Não atingiu"]
[]
[]
[]
[]
[]
[]
[]
[]
["POPULAÇÃO 2015",{"$f":"INDEX(CONSOLIDADO_2017!A1:CG77,MATCH(CONSOLIDADO_2017!C67,CONSOLIDADO_2017!C1:C77,0),4)","v":86979}]

{"sheet":"GLORIA_MUN","index":7,"n_rows":100,"n_cols":8,"rows_kept":100,"cut":false,"hidden":true,"merged":[]}
[]
[]
[]
[]
[]
[]
[]
[]
[null,null,null,null,null,null,{"$f":"IF($H$9=\"01 OBITO PREMATURO 30 A 69 DCNT\",MENU!$G$3,IF($H$9=\"02 %OBITOS EM MUL IDADE FERTIL INV\",MENU!$G$4,IF($H$9=\"03 %OBITOS CAUSAS BAS DEFINIDAS\",MENU!$G$5,IF($H$9=\"04 %VACINAS < 2 ANOS\",MENU!$G$6,IF($H$9=\"05 %DE CASOS DOENÇAS NOT COMP IMEDIATA\",MENU!$G$7,IF($H$9=\"06 %CURA CASOS NOVOS HANSEN\",MENU!$G$8,IF($H$9=\"08 CASOS NOVOS SÍFILIS CONG < ANO\",MENU!$G$9,IF($H$9=\"09 Nº DE AIDS < 5 ANOS\",MENU!$G$10,IF($H$9=\"10 %ANÁLISE AMOSTRA ÁGUA CONS HUM\",MENU!$G$11,IF($H$9=\"11 RAZÃO CITO 25 A 64\",MENU!$G$12,IF($H$9=\"12 RAZÃO MAMOGRAFIA BILATERAL 50 A 69\",MENU!$G$13,IF($H$9=\"13 %PARTO NORMAL SUS/SAÚDE SUPLEMENTAR\",MENU!$G$14,IF($H$9=\"14 %GRAVIDEZ ADOLESC 10 A 19\",MENU!$G$15,IF($H$9=\"15 OBITOS < ANO\",MENU!$G$16,IF($H$9=\"16 ÓBITOS MATERNOS\",MENU!$G$17,IF($H$9=\"17 %COB AB\",MENU!$G$18,IF($H$9=\"18 %COB Acomp BF\",MENU!$G$19,IF($H$9=\"19 %COB SAUDE BUCAL\",MENU!$G$20,IF($H$9=\"20 %MUN REALIZ AÇÕES VIGILANCIA\",MENU!$G$21,IF($H$9=\"21 %AÇÕES DE MATRICIAMENTO CAPS\",MENU!$G$22,IF($H$9=\"22 NÚM CICLOS ATING 80% COB IMV DENGUE\",MENU!$G$23,IF($H$9=\"23 %PREENCHIMENTO OCUP NOTIF AGRAVO\",MENU!$G$24))))))))))))))))))))))","v":"META INDICADOR 01"},"01 OBITO PREMATURO 30 A 69 DCNT"]
[null,null,null,null,null,null,{"$f":"INDEX(CONSOLIDADO_2017!A1:CG77,MATCH(CONSOLIDADO_2017!C45,CONSOLIDADO_2017!C1:C77,0),MATCH(GLORIA_MUN!G9,Tabela13[#Headers],0))","v":28},{"$f":"INDEX(CONSOLIDADO_2017!A1:CG77,MATCH(CONSOLIDADO_2017!C45,CONSOLIDADO_2017!C1:C77,0),MATCH(GLORIA_MUN!H9,Tabela13[#Headers],0))","v":43}]
[null,null,null,null,null,null,null,{"$f":"IF(H9=\"01 OBITO PREMATURO 30 A 69 DCNT\",CONSOLIDADO_2017!H45,IF(H9=\"02 %OBITOS EM MUL IDADE FERTIL INV\",CONSOLIDADO_2017!M45,IF(H9=\"03 %OBITOS CAUSAS BAS DEFINIDAS\",CONSOLIDADO_2017!Q45,IF(H9=\"04 %VACINAS < 2 ANOS\",CONSOLIDADO_2017!T45,IF(H9=\"05 %DE CASOS DOENÇAS NOT COMP IMEDIATA\",CONSOLIDADO_2017!W45,IF(H9=\"06 %CURA CASOS NOVOS HANSEN\",CONSOLIDADO_2017!AA45,IF(H9=\"08 CASOS NOVOS SÍFILIS CONG < ANO\",CONSOLIDADO_2017!AD45,IF(H9=\"09 Nº DE AIDS < 5 ANOS\",CONSOLIDADO_2017!AG45,IF(H9=\"10 %ANÁLISE AMOSTRA ÁGUA CONS HUM\",CONSOLIDADO_2017!AJ45,IF(H9=\"11 RAZÃO CITO 25 A 64\",CONSOLIDADO_2017!AN45,IF(H9=\"12 RAZÃO MAMOGRAFIA BILATERAL 50 A 69\",CONSOLIDADO_2017!AR45,IF(H9=\"13 %PARTO NORMAL SUS/SAÚDE SUPLEMENTAR\",CONSOLIDADO_2017!AV45,IF(H9=\"14 %GRAVIDEZ ADOLESC 10 A 19\",CONSOLIDADO_2017!AZ45,IF(H9=\"15 OBITOS < ANO\",CONSOLIDADO_2017!BD45,IF(H9=\"16 ÓBITOS MATERNOS\",CONSOLIDADO_2017!BG45,IF(H9=\"17 %COB AB\",CONSOLIDADO_2017!BJ45,IF(H9=\"18 %COB Acomp BF\",CONSOLIDADO_2017!BN45,IF(H9=\"19 %COB SAUDE BUCAL\",CONSOLIDADO_2017!BQ45,IF(H9=\"20 %MUN REALIZ AÇÕES VIGILANCIA\",CONSOLIDADO_2017!BT45,IF(H9=\"21 %AÇÕES DE MATRICIAMENTO CAPS\",CONSOLIDADO_2017!BX45,IF(H9=\"22 NÚM CICLOS ATING 80% COB IMV DENGUE\",CONSOLIDADO_2017!CA45,IF(H9=\"23 %PREENCHIMENTO OCUP NOTIF AGRAVO\",CONSOLIDADO_2017!CD45))))))))))))))))))))))","v":"NÃO ATINGIU"}]
[]
[]
[]
[]
[]
[]
[]
[]
[]
[]
[]
[]
[]
[]
[]
[]
[]
[]
[]
[]
[]
[]
[]
[]
[]
[]
[]
[]
[]
[]
[]
[]
[]
[]
[]
[]
[]
[]
[]
[]
[]
[]
[]
[]
[]
[]
[]
[]
[]
[]
[]
[]
[]
[]
[]
[]
[]
[]
[]
[]
[]
[]
[]
[]
[]
[]
[]
[]
[]
[]
[]
[]
[]
[]
[]
[]
[]
[]
[]
[]
[]
[]
[]
[]
[]
[]
[]
[]
["POPULAÇÃO 2015",{"$f":"INDEX(CONSOLIDADO_2017!A1:CG77,MATCH(CONSOLIDADO_2017!C45,CONSOLIDADO_2017!C1:C77,0),4)","v":35723}]

{"sheet":"FEIRA_MUN","index":8,"n_rows":100,"n_cols":8,"rows_kept":100,"cut":false,"hidden":true,"merged":[]}
[]
[]
[]
[]
[]
[]
[]
[]
[null,null,null,null,null,null,{"$f":"IF($H$9=\"01 OBITO PREMATURO 30 A 69 DCNT\",MENU!$G$3,IF($H$9=\"02 %OBITOS EM MUL IDADE FERTIL INV\",MENU!$G$4,IF($H$9=\"03 %OBITOS CAUSAS BAS DEFINIDAS\",MENU!$G$5,IF($H$9=\"04 %VACINAS < 2 ANOS\",MENU!$G$6,IF($H$9=\"05 %DE CASOS DOENÇAS NOT COMP IMEDIATA\",MENU!$G$7,IF($H$9=\"06 %CURA CASOS NOVOS HANSEN\",MENU!$G$8,IF($H$9=\"08 CASOS NOVOS SÍFILIS CONG < ANO\",MENU!$G$9,IF($H$9=\"09 Nº DE AIDS < 5 ANOS\",MENU!$G$10,IF($H$9=\"10 %ANÁLISE AMOSTRA ÁGUA CONS HUM\",MENU!$G$11,IF($H$9=\"11 RAZÃO CITO 25 A 64\",MENU!$G$12,IF($H$9=\"12 RAZÃO MAMOGRAFIA BILATERAL 50 A 69\",MENU!$G$13,IF($H$9=\"13 %PARTO NORMAL SUS/SAÚDE SUPLEMENTAR\",MENU!$G$14,IF($H$9=\"14 %GRAVIDEZ ADOLESC 10 A 19\",MENU!$G$15,IF($H$9=\"15 OBITOS < ANO\",MENU!$G$16,IF($H$9=\"16 ÓBITOS MATERNOS\",MENU!$G$17,IF($H$9=\"17 %COB AB\",MENU!$G$18,IF($H$9=\"18 %COB Acomp BF\",MENU!$G$19,IF($H$9=\"19 %COB SAUDE BUCAL\",MENU!$G$20,IF($H$9=\"20 %MUN REALIZ AÇÕES VIGILANCIA\",MENU!$G$21,IF($H$9=\"21 %AÇÕES DE MATRICIAMENTO CAPS\",MENU!$G$22,IF($H$9=\"22 NÚM CICLOS ATING 80% COB IMV DENGUE\",MENU!$G$23,IF($H$9=\"23 %PREENCHIMENTO OCUP NOTIF AGRAVO\",MENU!$G$24))))))))))))))))))))))","v":"META INDICADOR 01"},"01 OBITO PREMATURO 30 A 69 DCNT"]
[null,null,null,null,null,null,{"$f":"INDEX(CONSOLIDADO_2017!A1:CG77,MATCH(CONSOLIDADO_2017!C21,CONSOLIDADO_2017!C1:C77,0),MATCH(FEIRA_MUN!G9,Tabela13[#Headers],0))","v":10},{"$f":"INDEX(CONSOLIDADO_2017!A1:CG77,MATCH(CONSOLIDADO_2017!C21,CONSOLIDADO_2017!C1:C77,0),MATCH(FEIRA_MUN!H9,Tabela13[#Headers],0))","v":7}]
[null,null,null,null,null,null,null,{"$f":"IF(H9=\"01 OBITO PREMATURO 30 A 69 DCNT\",CONSOLIDADO_2017!H21,IF(H9=\"02 %OBITOS EM MUL IDADE FERTIL INV\",CONSOLIDADO_2017!M21,IF(H9=\"03 %OBITOS CAUSAS BAS DEFINIDAS\",CONSOLIDADO_2017!Q21,IF(H9=\"04 %VACINAS < 2 ANOS\",CONSOLIDADO_2017!T21,IF(H9=\"05 %DE CASOS DOENÇAS NOT COMP IMEDIATA\",CONSOLIDADO_2017!W21,IF(H9=\"06 %CURA CASOS NOVOS HANSEN\",CONSOLIDADO_2017!AA21,IF(H9=\"08 CASOS NOVOS SÍFILIS CONG < ANO\",CONSOLIDADO_2017!AD21,IF(H9=\"09 Nº DE AIDS < 5 ANOS\",CONSOLIDADO_2017!AG21,IF(H9=\"10 %ANÁLISE AMOSTRA ÁGUA CONS HUM\",CONSOLIDADO_2017!AJ21,IF(H9=\"11 RAZÃO CITO 25 A 64\",CONSOLIDADO_2017!AN21,IF(H9=\"12 RAZÃO MAMOGRAFIA BILATERAL 50 A 69\",CONSOLIDADO_2017!AR21,IF(H9=\"13 %PARTO NORMAL SUS/SAÚDE SUPLEMENTAR\",CONSOLIDADO_2017!AV21,IF(H9=\"14 %GRAVIDEZ ADOLESC 10 A 19\",CONSOLIDADO_2017!AZ21,IF(H9=\"15 OBITOS < ANO\",CONSOLIDADO_2017!BD21,IF(H9=\"16 ÓBITOS MATERNOS\",CONSOLIDADO_2017!BG21,IF(H9=\"17 %COB AB\",CONSOLIDADO_2017!BJ21,IF(H9=\"18 %COB Acomp BF\",CONSOLIDADO_2017!BN21,IF(H9=\"19 %COB SAUDE BUCAL\",CONSOLIDADO_2017!BQ21,IF(H9=\"20 %MUN REALIZ AÇÕES VIGILANCIA\",CONSOLIDADO_2017!BT21,IF(H9=\"21 %AÇÕES DE MATRICIAMENTO CAPS\",CONSOLIDADO_2017!BX21,IF(H9=\"22 NÚM CICLOS ATING 80% COB IMV DENGUE\",CONSOLIDADO_2017!CA21,IF(H9=\"23 %PREENCHIMENTO OCUP NOTIF AGRAVO\",CONSOLIDADO_2017!CD21))))))))))))))))))))))","v":"ATINGIU"}]
[]
[]
[]
[]
[]
[]
[]
[]
[]
[]
[]
[]
[]
[]
[]
[]
[]
[]
[]
[]
[]
[]
[]
[]
[]
[]
[]
[]
[]
[]
[]
[]
[]
[]
[]
[]
[]
[]
[]
[]
[]
[]
[]
[]
[]
[]
[]
[]
[]
[]
[]
[]
[]
[]
[]
[]
[]
[]
[]
[]
[]
[]
[]
[]
[]
[]
[]
[]
[]
[]
[]
[]
[]
[]
[]
[]
[]
[]
[]
[]
[]
[]
[]
[]
[]
[]
[]
[]
["POPULAÇÃO 2015",{"$f":"INDEX(CONSOLIDADO_2017!A1:CG77,MATCH(CONSOLIDADO_2017!C21,CONSOLIDADO_2017!C1:C77,0),4)","v":5571}]

{"sheet":"ITABI_MUN","index":9,"n_rows":100,"n_cols":8,"rows_kept":100,"cut":false,"hidden":true,"merged":[]}
[]
[]
[]
[]
[]
[]
[]
[]
[null,null,null,null,null,null,{"$f":"IF($H$9=\"01 OBITO PREMATURO 30 A 69 DCNT\",MENU!$G$3,IF($H$9=\"02 %OBITOS EM MUL IDADE FERTIL INV\",MENU!$G$4,IF($H$9=\"03 %OBITOS CAUSAS BAS DEFINIDAS\",MENU!$G$5,IF($H$9=\"04 %VACINAS < 2 ANOS\",MENU!$G$6,IF($H$9=\"05 %DE CASOS DOENÇAS NOT COMP IMEDIATA\",MENU!$G$7,IF($H$9=\"06 %CURA CASOS NOVOS HANSEN\",MENU!$G$8,IF($H$9=\"08 CASOS NOVOS SÍFILIS CONG < ANO\",MENU!$G$9,IF($H$9=\"09 Nº DE AIDS < 5 ANOS\",MENU!$G$10,IF($H$9=\"10 %ANÁLISE AMOSTRA ÁGUA CONS HUM\",MENU!$G$11,IF($H$9=\"11 RAZÃO CITO 25 A 64\",MENU!$G$12,IF($H$9=\"12 RAZÃO MAMOGRAFIA BILATERAL 50 A 69\",MENU!$G$13,IF($H$9=\"13 %PARTO NORMAL SUS/SAÚDE SUPLEMENTAR\",MENU!$G$14,IF($H$9=\"14 %GRAVIDEZ ADOLESC 10 A 19\",MENU!$G$15,IF($H$9=\"15 OBITOS < ANO\",MENU!$G$16,IF($H$9=\"16 ÓBITOS MATERNOS\",MENU!$G$17,IF($H$9=\"17 %COB AB\",MENU!$G$18,IF($H$9=\"18 %COB Acomp BF\",MENU!$G$19,IF($H$9=\"19 %COB SAUDE BUCAL\",MENU!$G$20,IF($H$9=\"20 %MUN REALIZ AÇÕES VIGILANCIA\",MENU!$G$21,IF($H$9=\"21 %AÇÕES DE MATRICIAMENTO CAPS\",MENU!$G$22,IF($H$9=\"22 NÚM CICLOS ATING 80% COB IMV DENGUE\",MENU!$G$23,IF($H$9=\"23 %PREENCHIMENTO OCUP NOTIF AGRAVO\",MENU!$G$24))))))))))))))))))))))","v":"META INDICADOR 01"},"01 OBITO PREMATURO 30 A 69 DCNT"]
[null,null,null,null,null,null,{"$f":"INDEX(CONSOLIDADO_2017!A1:CG77,MATCH(CONSOLIDADO_2017!C30,CONSOLIDADO_2017!C1:C77,0),MATCH(ITABI_MUN!G9,Tabela13[#Headers],0))","v":3},{"$f":"INDEX(CONSOLIDADO_2017!A1:CG77,MATCH(CONSOLIDADO_2017!C30,CONSOLIDADO_2017!C1:C77,0),MATCH(ITABI_MUN!H9,Tabela13[#Headers],0))","v":6}]
[null,null,null,null,null,null,null,{"$f":"IF(H9=\"01 OBITO PREMATURO 30 A 69 DCNT\",CONSOLIDADO_2017!H30,IF(H9=\"02 %OBITOS EM MUL IDADE FERTIL INV\",CONSOLIDADO_2017!M30,IF(H9=\"03 %OBITOS CAUSAS BAS DEFINIDAS\",CONSOLIDADO_2017!Q30,IF(H9=\"04 %VACINAS < 2 ANOS\",CONSOLIDADO_2017!T30,IF(H9=\"05 %DE CASOS DOENÇAS NOT COMP IMEDIATA\",CONSOLIDADO_2017!W30,IF(H9=\"06 %CURA CASOS NOVOS HANSEN\",CONSOLIDADO_2017!AA30,IF(H9=\"08 CASOS NOVOS SÍFILIS CONG < ANO\",CONSOLIDADO_2017!AD30,IF(H9=\"09 Nº DE AIDS < 5 ANOS\",CONSOLIDADO_2017!AG30,IF(H9=\"10 %ANÁLISE AMOSTRA ÁGUA CONS HUM\",CONSOLIDADO_2017!AJ30,IF(H9=\"11 RAZÃO CITO 25 A 64\",CONSOLIDADO_2017!AN30,IF(H9=\"12 RAZÃO MAMOGRAFIA BILATERAL 50 A 69\",CONSOLIDADO_2017!AR30,IF(H9=\"13 %PARTO NORMAL SUS/SAÚDE SUPLEMENTAR\",CONSOLIDADO_2017!AV30,IF(H9=\"14 %GRAVIDEZ ADOLESC 10 A 19\",CONSOLIDADO_2017!AZ30,IF(H9=\"15 OBITOS < ANO\",CONSOLIDADO_2017!BD30,IF(H9=\"16 ÓBITOS MATERNOS\",CONSOLIDADO_2017!BG30,IF(H9=\"17 %COB AB\",CONSOLIDADO_2017!BJ30,IF(H9=\"18 %COB Acomp BF\",CONSOLIDADO_2017!BN30,IF(H9=\"19 %COB SAUDE BUCAL\",CONSOLIDADO_2017!BQ30,IF(H9=\"20 %MUN REALIZ AÇÕES VIGILANCIA\",CONSOLIDADO_2017!BT30,IF(H9=\"21 %AÇÕES DE MATRICIAMENTO CAPS\",CONSOLIDADO_2017!BX30,IF(H9=\"22 NÚM CICLOS ATING 80% COB IMV DENGUE\",CONSOLIDADO_2017!CA30,IF(H9=\"23 %PREENCHIMENTO OCUP NOTIF AGRAVO\",CONSOLIDADO_2017!CD30))))))))))))))))))))))","v":"NÃO ATINGIU"}]
[]
[]
[]
[]
[]
[]
[]
[]
[]
[]
[]
[]
[]
[]
[]
[]
[]
[]
[]
[]
[]
[]
[]
[]
[]
[]
[]
[]
[]
[]
[]
[]
[]
[]
[]
[]
[]
[]
[]
[]
[]
[]
[]
[]
[]
[]
[]
[]
[]
[]
[]
[]
[]
[]
[]
[]
[]
[]
[]
[]
[]
[]
[]
[]
[]
[]
[]
[]
[]
[]
[]
[]
[]
[]
[]
[]
[]
[]
[]
[]
[]
[]
[]
[]
[]
[]
[]
[]
["POPULAÇÃO 2015",{"$f":"INDEX(CONSOLIDADO_2017!A1:CG77,MATCH(CONSOLIDADO_2017!C30,CONSOLIDADO_2017!C1:C77,0),4)","v":5017}]

{"sheet":"ARACAJU_REG","index":10,"n_rows":100,"n_cols":12,"rows_kept":100,"cut":false,"hidden":true,"merged":[]}
[]
[]
[]
[]
[]
[]
[]
[]
[null,null,null,null,null,null,{"$f":"IF($H$9=\"01 TAXA OBITO PREMATURO 30 A 69 DCNT\",MENU!$G$3,IF($H$9=\"02 %OBITOS EM MUL IDADE FERTIL INV\",MENU!$G$4,IF($H$9=\"03 %OBITOS CAUSAS BAS DEFINIDAS\",MENU!$G$5,IF($H$9=\"04 %VACINAS < 2 ANOS\",MENU!$G$6,IF($H$9=\"05 %DE CASOS DOENÇAS NOT COMP IMEDIATA\",MENU!$G$7,IF($H$9=\"06 %CURA CASOS NOVOS HANSEN\",MENU!$G$8,IF($H$9=\"08 CASOS NOVOS SÍFILIS CONG < ANO\",MENU!$G$9,IF($H$9=\"09 Nº DE AIDS < 5 ANOS\",MENU!$G$10,IF($H$9=\"10 %ANÁLISE AMOSTRA ÁGUA CONS HUM\",MENU!$G$11,IF($H$9=\"11 RAZÃO CITO 25 A 64\",MENU!$G$12,IF($H$9=\"12 RAZÃO MAMOGRAFIA BILATERAL 50 A 69\",MENU!$G$13,IF($H$9=\"13 %PARTO NORMAL SUS/SAÚDE SUPLEMENTAR\",MENU!$G$14,IF($H$9=\"14 %GRAVIDEZ ADOLESC 10 A 19\",MENU!$G$15,IF($H$9=\"15 TAXA MORTALIDADE INFANTIL\",MENU!$G$16,IF($H$9=\"16 ÓBITOS MATERNOS\",MENU!$G$17,IF($H$9=\"17 %COB AB\",MENU!$G$18,IF($H$9=\"18 %COB Acomp BF\",MENU!$G$19,IF($H$9=\"19 %COB SAUDE BUCAL\",MENU!$G$20,IF($H$9=\"20 %MUN REALIZ AÇÕES VIGILANCIA\",MENU!$G$21,IF($H$9=\"21 %AÇÕES DE MATRICIAMENTO CAPS\",MENU!$G$22,IF($H$9=\"22 NÚM CICLOS ATING 80% COB IMV DENGUE\",MENU!$G$23,IF($H$9=\"23 %PREENCHIMENTO OCUP NOTIF AGRAVO\",MENU!$G$24))))))))))))))))))))))","v":"META INDICADOR 21"},"21 %AÇÕES DE MATRICIAMENTO CAPS"]
[null,null,null,null,null,null,{"$f":"INDEX(TBDADOSREG,MATCH(CONSOLIDADO_REG!B2,CONSOLIDADO_REG!B1:B9,0),MATCH(ARACAJU_REG!G9,CONSOLIDADO_REG!A1:CE1,0))","v":1},{"$f":"INDEX(TBDADOSREG,MATCH(CONSOLIDADO_REG!B2,CONSOLIDADO_REG!B1:B9,0),MATCH(ARACAJU_REG!H9,CONSOLIDADO_REG!A1:CE1,0))","v":0.45454545454545453}]
[null,null,null,null,null,null,null,{"$f":"IF(H9=\"01 TAXA OBITO PREMATURO 30 A 69 DCNT\",CONSOLIDADO_REG!G2,IF(H9=\"02 %OBITOS EM MUL IDADE FERTIL INV\",CONSOLIDADO_REG!L2,IF(H9=\"03 %OBITOS CAUSAS BAS DEFINIDAS\",CONSOLIDADO_REG!P2,IF(H9=\"04 %VACINAS < 2 ANOS\",CONSOLIDADO_REG!S2,IF(H9=\"05 %DE CASOS DOENÇAS NOT COMP IMEDIATA\",CONSOLIDADO_REG!V2,IF(H9=\"06 %CURA CASOS NOVOS HANSEN\",CONSOLIDADO_REG!Z2,IF(H9=\"08 CASOS NOVOS SÍFILIS CONG < ANO\",CONSOLIDADO_REG!AC2,IF(H9=\"09 Nº DE AIDS < 5 ANOS\",CONSOLIDADO_REG!AF2,IF(H9=\"10 %ANÁLISE AMOSTRA ÁGUA CONS HUM\",CONSOLIDADO_REG!AI2,IF(H9=\"11 RAZÃO CITO 25 A 64\",CONSOLIDADO_REG!AM2,IF(H9=\"12 RAZÃO MAMOGRAFIA BILATERAL 50 A 69\",CONSOLIDADO_REG!AQ2,IF(H9=\"13 %PARTO NORMAL SUS/SAÚDE SUPLEMENTAR\",CONSOLIDADO_REG!AU2,IF(H9=\"14 %GRAVIDEZ ADOLESC 10 A 19\",CONSOLIDADO_REG!AY2,IF(H9=\"15 TAXA MORTALIDADE INFANTIL\",CONSOLIDADO_REG!BC2,IF(H9=\"16 ÓBITOS MATERNOS\",CONSOLIDADO_REG!BF2,IF(H9=\"17 %COB AB\",CONSOLIDADO_REG!BI2,IF(H9=\"18 %COB Acomp BF\",CONSOLIDADO_REG!BM2,IF(H9=\"19 %COB SAUDE BUCAL\",CONSOLIDADO_REG!BP2,IF(H9=\"20 %MUN REALIZ AÇÕES VIGILANCIA\",CONSOLIDADO_REG!BS2,IF(H9=\"21 %AÇÕES DE MATRICIAMENTO CAPS\",CONSOLIDADO_REG!BV2,IF(H9=\"22 NÚM CICLOS ATING 80% COB IMV DENGUE\",CONSOLIDADO_REG!BY2,IF(H9=\"23 %PREENCHIMENTO OCUP NOTIF AGRAVO\",CONSOLIDADO_REG!CB2))))))))))))))))))))))","v":"NÃO ATINGIU"}]
[]
[]
[]
[]
[null,null,null,null,null,null,null,null,null,null,null,"     "]
[]
[]
[]
[]
[]
[]
[]
[]
[]
[]
[]
[]
[]
[]
[]
[]
[]
[]
[]
[]
[]
[]
[]
[]
[]
[]
[]
[]
[]
[]
[]
[]
[]
[]
[]
[]
[]
[]
[]
[]
[]
[]
[]
[]
[]
[]
[]
[]
[]
[]
[]
[]
[]
[]
[]
[]
[]
[]
[]
[]
[]
[]
[]
[]
["CÓD","REGIONAL",null,"PROPORÇÃO DE METAS ALCANÇADAS POR MUNICÍPIO NO SISPACTO"]
[280030,"ARACAJU","ARACAJU",{"$f":"INDEX(CONSOLIDADO_2017!A4:CG67,MATCH(ARACAJU_REG!C82,CONSOLIDADO_2017!C4:C67,0),85)","v":0.27272727272727271}]
[280060,"ARACAJU","BARRA DOS COQUEIROS",{"$f":"INDEX(CONSOLIDADO_2017!A5:CG68,MATCH(ARACAJU_REG!C83,CONSOLIDADO_2017!C5:C68,0),85)","v":0.59090909090909094}]
[280200,"ARACAJU","DIVINA PASTORA",{"$f":"INDEX(CONSOLIDADO_2017!A6:CG69,MATCH(ARACAJU_REG!C84,CONSOLIDADO_2017!C6:C69,0),85)","v":0.73684210526315785}]
[280320,"ARACAJU","ITAPORANGA D'AJUDA",{"$f":"INDEX(CONSOLIDADO_2017!A7:CG70,MATCH(ARACAJU_REG!C85,CONSOLIDADO_2017!C7:C70,0),85)","v":0.40909090909090912}]
[280360,"ARACAJU","LARANJEIRAS",{"$f":"INDEX(CONSOLIDADO_2017!A8:CG71,MATCH(ARACAJU_REG!C86,CONSOLIDADO_2017!C8:C71,0),85)","v":0.52380952380952384}]
[280590,"ARACAJU","RIACHUELO",{"$f":"INDEX(CONSOLIDADO_2017!A9:CG72,MATCH(ARACAJU_REG!C87,CONSOLIDADO_2017!C9:C72,0),85)","v":0.55000000000000004}]
[280650,"ARACAJU","SANTA ROSA DE LIMA",{"$f":"INDEX(CONSOLIDADO_2017!A10:CG73,MATCH(ARACAJU_REG!C88,CONSOLIDADO_2017!C10:C73,0),85)","v":0.52631578947368418}]
[280670,"ARACAJU","SÃO CRISTOVÃO",{"$f":"INDEX(CONSOLIDADO_2017!A11:CG74,MATCH(ARACAJU_REG!C89,CONSOLIDADO_2017!C11:C74,0),85)","v":0.40909090909090912}]
[]
[]
[]
[]
[]
[]
[]
[]
[]
[]
["POPULAÇÃO 2015",{"$f":"INDEX(TBDADOSREG,MATCH(CONSOLIDADO_REG!B2,CONSOLIDADO_REG!B1:B9,0),3)","v":829684}]

{"sheet":"PINHAO_MUN","index":11,"n_rows":100,"n_cols":8,"rows_kept":100,"cut":false,"hidden":true,"merged":[]}
[]
[]
[]
[]
[]
[]
[]
[]
[null,null,null,null,null,null,{"$f":"IF($H$9=\"01 OBITO PREMATURO 30 A 69 DCNT\",MENU!$G$3,IF($H$9=\"02 %OBITOS EM MUL IDADE FERTIL INV\",MENU!$G$4,IF($H$9=\"03 %OBITOS CAUSAS BAS DEFINIDAS\",MENU!$G$5,IF($H$9=\"04 %VACINAS < 2 ANOS\",MENU!$G$6,IF($H$9=\"05 %DE CASOS DOENÇAS NOT COMP IMEDIATA\",MENU!$G$7,IF($H$9=\"06 %CURA CASOS NOVOS HANSEN\",MENU!$G$8,IF($H$9=\"08 CASOS NOVOS SÍFILIS CONG < ANO\",MENU!$G$9,IF($H$9=\"09 Nº DE AIDS < 5 ANOS\",MENU!$G$10,IF($H$9=\"10 %ANÁLISE AMOSTRA ÁGUA CONS HUM\",MENU!$G$11,IF($H$9=\"11 RAZÃO CITO 25 A 64\",MENU!$G$12,IF($H$9=\"12 RAZÃO MAMOGRAFIA BILATERAL 50 A 69\",MENU!$G$13,IF($H$9=\"13 %PARTO NORMAL SUS/SAÚDE SUPLEMENTAR\",MENU!$G$14,IF($H$9=\"14 %GRAVIDEZ ADOLESC 10 A 19\",MENU!$G$15,IF($H$9=\"15 OBITOS < ANO\",MENU!$G$16,IF($H$9=\"16 ÓBITOS MATERNOS\",MENU!$G$17,IF($H$9=\"17 %COB AB\",MENU!$G$18,IF($H$9=\"18 %COB Acomp BF\",MENU!$G$19,IF($H$9=\"19 %COB SAUDE BUCAL\",MENU!$G$20,IF($H$9=\"20 %MUN REALIZ AÇÕES VIGILANCIA\",MENU!$G$21,IF($H$9=\"21 AÇÕES DE MATRICIAMENTO CAPS\",MENU!$G$22,IF($H$9=\"22 NÚM CICLOS ATING 80% COB IMV DENGUE\",MENU!$G$23,IF($H$9=\"23 %PREENCHIMENTO OCUP NOTIF AGRAVO\",MENU!$G$24))))))))))))))))))))))","v":"META INDICADOR 01"},"01 OBITO PREMATURO 30 A 69 DCNT"]
[null,null,null,null,null,null,{"$f":"INDEX(CONSOLIDADO_2017!$A$1:$CG$77,MATCH(CONSOLIDADO_2017!C52,CONSOLIDADO_2017!C1:C77,0),MATCH(PINHAO_MUN!G9,CONSOLIDADO_2017!$A$1:$CG$1,0))","v":12},{"$f":"INDEX(CONSOLIDADO_2017!$A$1:$CG$77,MATCH(CONSOLIDADO_2017!C52,CONSOLIDADO_2017!C1:C77,0),MATCH(PINHAO_MUN!H9,CONSOLIDADO_2017!$A$1:$CG$1,0))","v":5}]
[null,null,null,null,null,null,null,{"$f":"IF(H9=\"01 OBITO PREMATURO 30 A 69 DCNT\",CONSOLIDADO_2017!H52,IF(H9=\"02 %OBITOS EM MUL IDADE FERTIL INV\",CONSOLIDADO_2017!M52,IF(H9=\"03 %OBITOS CAUSAS BAS DEFINIDAS\",CONSOLIDADO_2017!Q52,IF(H9=\"04 %VACINAS < 2 ANOS\",CONSOLIDADO_2017!T52,IF(H9=\"05 %DE CASOS DOENÇAS NOT COMP IMEDIATA\",CONSOLIDADO_2017!W52,IF(H9=\"06 %CURA CASOS NOVOS HANSEN\",CONSOLIDADO_2017!AA52,IF(H9=\"08 CASOS NOVOS SÍFILIS CONG < ANO\",CONSOLIDADO_2017!AD52,IF(H9=\"09 Nº DE AIDS < 5 ANOS\",CONSOLIDADO_2017!AG52,IF(H9=\"10 %ANÁLISE AMOSTRA ÁGUA CONS HUM\",CONSOLIDADO_2017!AJ52,IF(H9=\"11 RAZÃO CITO 25 A 64\",CONSOLIDADO_2017!AN52,IF(H9=\"12 RAZÃO MAMOGRAFIA BILATERAL 50 A 69\",CONSOLIDADO_2017!AR52,IF(H9=\"13 %PARTO NORMAL SUS/SAÚDE SUPLEMENTAR\",CONSOLIDADO_2017!AV52,IF(H9=\"14 %GRAVIDEZ ADOLESC 10 A 19\",CONSOLIDADO_2017!AZ52,IF(H9=\"15 OBITOS < ANO\",CONSOLIDADO_2017!BD52,IF(H9=\"16 ÓBITOS MATERNOS\",CONSOLIDADO_2017!BG52,IF(H9=\"17 %COB AB\",CONSOLIDADO_2017!BJ52,IF(H9=\"18 %COB Acomp BF\",CONSOLIDADO_2017!BN52,IF(H9=\"19 %COB SAUDE BUCAL\",CONSOLIDADO_2017!BQ52,IF(H9=\"20 %MUN REALIZ AÇÕES VIGILANCIA\",CONSOLIDADO_2017!BT52,IF(H9=\"21 AÇÕES DE MATRICIAMENTO CAPS\",CONSOLIDADO_2017!BX52,IF(H9=\"22 NÚM CICLOS ATING 80% COB IMV DENGUE\",CONSOLIDADO_2017!CA52,IF(H9=\"23 %PREENCHIMENTO OCUP NOTIF AGRAVO\",CONSOLIDADO_2017!CD52))))))))))))))))))))))","v":"ATINGIU"}]
[]
[]
[]
[]
[]
[]
[]
[]
[]
[]
[]
[]
[]
[]
[]
[]
[]
[]
[]
[]
[]
[]
[]
[]
[]
[]
[]
[]
[]
[]
[]
[]
[]
[]
[]
[]
[]
[]
[]
[]
[]
[]
[]
[]
[]
[]
[]
[]
[]
[]
[]
[]
[]
[]
[]
[]
[]
[]
[]
[]
[]
[]
[]
[]
[]
[]
[]
[]
[]
[]
[]
[]
[]
[]
[]
[]
[]
[]
[]
[]
[]
[]
[]
[]
[]
[]
[]
[]
["POPULAÇÃO 2015",{"$f":"INDEX(CONSOLIDADO_2017!A1:CG77,MATCH(CONSOLIDADO_2017!C52,CONSOLIDADO_2017!C1:C77,0),4)","v":6439}]

{"sheet":"SAO_MIGUEL_MUN","index":12,"n_rows":100,"n_cols":8,"rows_kept":100,"cut":false,"hidden":true,"merged":[]}
[]
[]
[]
[]
[]
[]
[]
[]
[null,null,null,null,null,null,{"$f":"IF($H$9=\"01 OBITO PREMATURO 30 A 69 DCNT\",MENU!$G$3,IF($H$9=\"02 %OBITOS EM MUL IDADE FERTIL INV\",MENU!$G$4,IF($H$9=\"03 %OBITOS CAUSAS BAS DEFINIDAS\",MENU!$G$5,IF($H$9=\"04 %VACINAS < 2 ANOS\",MENU!$G$6,IF($H$9=\"05 %DE CASOS DOENÇAS NOT COMP IMEDIATA\",MENU!$G$7,IF($H$9=\"06 %CURA CASOS NOVOS HANSEN\",MENU!$G$8,IF($H$9=\"08 CASOS NOVOS SÍFILIS CONG < ANO\",MENU!$G$9,IF($H$9=\"09 Nº DE AIDS < 5 ANOS\",MENU!$G$10,IF($H$9=\"10 %ANÁLISE AMOSTRA ÁGUA CONS HUM\",MENU!$G$11,IF($H$9=\"11 RAZÃO CITO 25 A 64\",MENU!$G$12,IF($H$9=\"12 RAZÃO MAMOGRAFIA BILATERAL 50 A 69\",MENU!$G$13,IF($H$9=\"13 %PARTO NORMAL SUS/SAÚDE SUPLEMENTAR\",MENU!$G$14,IF($H$9=\"14 %GRAVIDEZ ADOLESC 10 A 19\",MENU!$G$15,IF($H$9=\"15 OBITOS < ANO\",MENU!$G$16,IF($H$9=\"16 ÓBITOS MATERNOS\",MENU!$G$17,IF($H$9=\"17 %COB AB\",MENU!$G$18,IF($H$9=\"18 %COB Acomp BF\",MENU!$G$19,IF($H$9=\"19 %COB SAUDE BUCAL\",MENU!$G$20,IF($H$9=\"20 %MUN REALIZ AÇÕES VIGILANCIA\",MENU!$G$21,IF($H$9=\"21 AÇÕES DE MATRICIAMENTO CAPS\",MENU!$G$22,IF($H$9=\"22 NÚM CICLOS ATING 80% COB IMV DENGUE\",MENU!$G$23,IF($H$9=\"23 %PREENCHIMENTO OCUP NOTIF AGRAVO\",MENU!$G$24))))))))))))))))))))))","v":"META INDICADOR 01"},"01 OBITO PREMATURO 30 A 69 DCNT"]
[null,null,null,null,null,null,{"$f":"INDEX(CONSOLIDADO_2017!$A$1:$CG$77,70,MATCH(SAO_MIGUEL_MUN!G9,CONSOLIDADO_2017!$A$1:$CG$1,0))","v":8},{"$f":"INDEX(CONSOLIDADO_2017!$A$1:$CG$77,70,MATCH(SAO_MIGUEL_MUN!H9,CONSOLIDADO_2017!$A$1:$CG$1,0))","v":2}]
[null,null,null,null,null,null,null,{"$f":"IF(H9=\"01 OBITO PREMATURO 30 A 69 DCNT\",CONSOLIDADO_2017!H70,IF(H9=\"02 %OBITOS EM MUL IDADE FERTIL INV\",CONSOLIDADO_2017!M70,IF(H9=\"03 %OBITOS CAUSAS BAS DEFINIDAS\",CONSOLIDADO_2017!Q70,IF(H9=\"04 %VACINAS < 2 ANOS\",CONSOLIDADO_2017!T70,IF(H9=\"05 %DE CASOS DOENÇAS NOT COMP IMEDIATA\",CONSOLIDADO_2017!W70,IF(H9=\"06 %CURA CASOS NOVOS HANSEN\",CONSOLIDADO_2017!AA70,IF(H9=\"08 CASOS NOVOS SÍFILIS CONG < ANO\",CONSOLIDADO_2017!AD70,IF(H9=\"09 Nº DE AIDS < 5 ANOS\",CONSOLIDADO_2017!AG70,IF(H9=\"10 %ANÁLISE AMOSTRA ÁGUA CONS HUM\",CONSOLIDADO_2017!AJ70,IF(H9=\"11 RAZÃO CITO 25 A 64\",CONSOLIDADO_2017!AN70,IF(H9=\"12 RAZÃO MAMOGRAFIA BILATERAL 50 A 69\",CONSOLIDADO_2017!AR70,IF(H9=\"13 %PARTO NORMAL SUS/SAÚDE SUPLEMENTAR\",CONSOLIDADO_2017!AV70,IF(H9=\"14 %GRAVIDEZ ADOLESC 10 A 19\",CONSOLIDADO_2017!AZ70,IF(H9=\"15 OBITOS < ANO\",CONSOLIDADO_2017!BD70,IF(H9=\"16 ÓBITOS MATERNOS\",CONSOLIDADO_2017!BG70,IF(H9=\"17 %COB AB\",CONSOLIDADO_2017!BJ70,IF(H9=\"18 %COB Acomp BF\",CONSOLIDADO_2017!BN70,IF(H9=\"19 %COB SAUDE BUCAL\",CONSOLIDADO_2017!BQ70,IF(H9=\"20 %MUN REALIZ AÇÕES VIGILANCIA\",CONSOLIDADO_2017!BT70,IF(H9=\"21 AÇÕES DE MATRICIAMENTO CAPS\",CONSOLIDADO_2017!BX70,IF(H9=\"22 NÚM CICLOS ATING 80% COB IMV DENGUE\",CONSOLIDADO_2017!CA70,IF(H9=\"23 %PREENCHIMENTO OCUP NOTIF AGRAVO\",CONSOLIDADO_2017!CD70))))))))))))))))))))))","v":"ATINGIU"}]
[]
[]
[]
[]
[]
[]
[]
[]
[]
[]
[]
[]
[]
[]
[]
[]
[]
[]
[]
[]
[]
[]
[]
[]
[]
[]
[]
[]
[]
[]
[]
[]
[]
[]
[]
[]
[]
[]
[]
[]
[]
[]
[]
[]
[]
[]
[]
[]
[]
[]
[]
[]
[]
[]
[]
[]
[]
[]
[]
[]
[]
[]
[]
[]
[]
[]
[]
[]
[]
[]
[]
[]
[]
[]
[]
[]
[]
[]
[]
[]
[]
[]
[]
[]
[]
[]
[]
[]
["POPULAÇAO 2015",{"$f":"INDEX(CONSOLIDADO_2017!A1:CG77,MATCH(CONSOLIDADO_2017!C70,CONSOLIDADO_2017!C1:C77,0),4)","v":3902}]

{"sheet":"ESTANCIA_REG","index":13,"n_rows":100,"n_cols":12,"rows_kept":100,"cut":false,"hidden":true,"merged":[]}
[]
[]
[]
[]
[]
[]
[]
[]
[null,null,null,null,null,null,{"$f":"IF($H$9=\"01 TAXA OBITO PREMATURO 30 A 69 DCNT\",MENU!$G$3,IF($H$9=\"02 %OBITOS EM MUL IDADE FERTIL INV\",MENU!$G$4,IF($H$9=\"03 %OBITOS CAUSAS BAS DEFINIDAS\",MENU!$G$5,IF($H$9=\"04 %VACINAS < 2 ANOS\",MENU!$G$6,IF($H$9=\"05 %DE CASOS DOENÇAS NOT COMP IMEDIATA\",MENU!$G$7,IF($H$9=\"06 %CURA CASOS NOVOS HANSEN\",MENU!$G$8,IF($H$9=\"08 CASOS NOVOS SÍFILIS CONG < ANO\",MENU!$G$9,IF($H$9=\"09 Nº DE AIDS < 5 ANOS\",MENU!$G$10,IF($H$9=\"10 %ANÁLISE AMOSTRA ÁGUA CONS HUM\",MENU!$G$11,IF($H$9=\"11 RAZÃO CITO 25 A 64\",MENU!$G$12,IF($H$9=\"12 RAZÃO MAMOGRAFIA BILATERAL 50 A 69\",MENU!$G$13,IF($H$9=\"13 %PARTO NORMAL SUS/SAÚDE SUPLEMENTAR\",MENU!$G$14,IF($H$9=\"14 %GRAVIDEZ ADOLESC 10 A 19\",MENU!$G$15,IF($H$9=\"15 TAXA MORTALIDADE INFANTIL\",MENU!$G$16,IF($H$9=\"16 ÓBITOS MATERNOS\",MENU!$G$17,IF($H$9=\"17 COB AB\",MENU!$G$18,IF($H$9=\"18 COB Acomp BF\",MENU!$G$19,IF($H$9=\"19 COB SAUDE BUCAL\",MENU!$G$20,IF($H$9=\"20 %MUN REALIZ AÇÕES VIGILANCIA\",MENU!$G$21,IF($H$9=\"21 AÇÕES DE MATRICIAMENTO CAPS\",MENU!$G$22,IF($H$9=\"22 NÚM CICLOS ATING 80% COB IMV DENGUE\",MENU!$G$23,IF($H$9=\"23 %PREENCHIMENTO OCUP NOTIF AGRAVO\",MENU!$G$24))))))))))))))))))))))","v":"META INDICADOR 01"},"01 TAXA OBITO PREMATURO 30 A 69 DCNT"]
[null,null,null,null,null,null,{"$f":"INDEX(TBDADOSREG,MATCH(CONSOLIDADO_REG!B3,CONSOLIDADO_REG!B1:B9,0),MATCH(ESTANCIA_REG!G9,CONSOLIDADO_REG!A1:CE1,0))","v":309.41000000000003},{"$f":"INDEX(TBDADOSREG,MATCH(CONSOLIDADO_REG!B3,CONSOLIDADO_REG!B1:B9,0),MATCH(ESTANCIA_REG!H9,CONSOLIDADO_REG!A1:CE1,0))","v":284.13112499747217}]
[null,null,null,null,null,null,null,{"$f":"IF(H9=\"01 TAXA OBITO PREMATURO 30 A 69 DCNT\",CONSOLIDADO_REG!G3,IF(H9=\"02 %OBITOS EM MUL IDADE FERTIL INV\",CONSOLIDADO_REG!L3,IF(H9=\"03 %OBITOS CAUSAS BAS DEFINIDAS\",CONSOLIDADO_REG!P3,IF(H9=\"04 %VACINAS < 2 ANOS\",CONSOLIDADO_REG!S3,IF(H9=\"05 %DE CASOS DOENÇAS NOT COMP IMEDIATA\",CONSOLIDADO_REG!V3,IF(H9=\"06 %CURA CASOS NOVOS HANSEN\",CONSOLIDADO_REG!Z3,IF(H9=\"08 CASOS NOVOS SÍFILIS CONG < ANO\",CONSOLIDADO_REG!AC3,IF(H9=\"09 Nº DE AIDS < 5 ANOS\",CONSOLIDADO_REG!AF3,IF(H9=\"10 %ANÁLISE AMOSTRA ÁGUA CONS HUM\",CONSOLIDADO_REG!AI3,IF(H9=\"11 RAZÃO CITO 25 A 64\",CONSOLIDADO_REG!AM3,IF(H9=\"12 RAZÃO MAMOGRAFIA BILATERAL 50 A 69\",CONSOLIDADO_REG!AQ3,IF(H9=\"13 %PARTO NORMAL SUS/SAÚDE SUPLEMENTAR\",CONSOLIDADO_REG!AU3,IF(H9=\"14 %GRAVIDEZ ADOLESC 10 A 19\",CONSOLIDADO_REG!AY3,IF(H9=\"15 TAXA MORTALIDADE INFANTIL\",CONSOLIDADO_REG!BC3,IF(H9=\"16 ÓBITOS MATERNOS\",CONSOLIDADO_REG!BF3,IF(H9=\"17 COB AB\",CONSOLIDADO_REG!BI3,IF(H9=\"18 COB Acomp BF\",CONSOLIDADO_REG!BM3,IF(H9=\"19 COB SAUDE BUCAL\",CONSOLIDADO_REG!BP3,IF(H9=\"20 %MUN REALIZ AÇÕES VIGILANCIA\",CONSOLIDADO_REG!BS3,IF(H9=\"21 AÇÕES DE MATRICIAMENTO CAPS\",CONSOLIDADO_REG!BV3,IF(H9=\"22 NÚM CICLOS ATING 80% COB IMV DENGUE\",CONSOLIDADO_REG!BY3,IF(H9=\"23 %PREENCHIMENTO OCUP NOTIF AGRAVO\",CONSOLIDADO_REG!CB3))))))))))))))))))))))","v":"ATINGIU"}]
[]
[]
[]
[]
[null,null,null,null,null,null,null,null,null,null,null,"     "]
[]
[]
[]
[]
[]
[]
[]
[]
[]
[]
[]
[]
[]
[]
[]
[]
[]
[]
[]
[]
[]
[]
[]
[]
[]
[]
[]
[]
[]
[]
[]
[]
[]
[]
[]
[]
[]
[]
[]
[]
[]
[]
[]
[]
[]
[]
[]
[]
[]
[]
[]
[]
["COD","REGIÃO","MUNICIPIOS","PROPORÇÃO DE METAS ALCANÇADAS POR MUNICÍPIO NO SISPACTO"]
[280040,"Estância","ARAUA",{"$f":"INDEX(CONSOLIDADO_2017!A5:CG76,MATCH(ESTANCIA_REG!C70,CONSOLIDADO_2017!C5:C76,0),85)","v":0.47368421052631576}]
[280067,"Estância","BOQUIM",{"$f":"INDEX(CONSOLIDADO_2017!A6:CG77,MATCH(ESTANCIA_REG!C71,CONSOLIDADO_2017!C6:C77,0),85)","v":0.66666666666666663}]
[280170,"Estância","CRISTINAPOLIS",{"$f":"INDEX(CONSOLIDADO_2017!A7:CG78,MATCH(ESTANCIA_REG!C72,CONSOLIDADO_2017!C7:C78,0),85)","v":0.59090909090909094}]
[280210,"Estância","ESTANCIA",{"$f":"INDEX(CONSOLIDADO_2017!A8:CG79,MATCH(ESTANCIA_REG!C73,CONSOLIDADO_2017!C8:C79,0),85)","v":0.5}]
[280280,"Estância","INDIAROBA",{"$f":"INDEX(CONSOLIDADO_2017!A9:CG80,MATCH(ESTANCIA_REG!C74,CONSOLIDADO_2017!C9:C80,0),85)","v":0.36842105263157893}]
[280300,"Estância","ITABAIANINHA",{"$f":"INDEX(CONSOLIDADO_2017!A10:CG81,MATCH(ESTANCIA_REG!C75,CONSOLIDADO_2017!C10:C81,0),85)","v":0.5}]
[280510,"Estância","PEDRINHAS",{"$f":"INDEX(CONSOLIDADO_2017!A11:CG82,MATCH(ESTANCIA_REG!C76,CONSOLIDADO_2017!C11:C82,0),85)","v":0.45}]
[280630,"Estância","SANTA LUZIA DO ITANHY",{"$f":"INDEX(CONSOLIDADO_2017!A12:CG83,MATCH(ESTANCIA_REG!C77,CONSOLIDADO_2017!C12:C83,0),85)","v":0.63157894736842102}]
[280750,"Estância","TOMAR DO GERU",{"$f":"INDEX(CONSOLIDADO_2017!A13:CG85,MATCH(ESTANCIA_REG!C78,CONSOLIDADO_2017!C13:C85,0),85)","v":0.5}]
[280760,"Estância","UMBAUBA",{"$f":"INDEX(CONSOLIDADO_2017!A14:CG85,MATCH(ESTANCIA_REG!C79,CONSOLIDADO_2017!C14:C85,0),85)","v":0.4}]
[]
[]
[]
[]
[]
[]
[]
[]
[]
[]
[]
[]
[]
[]
[]
[]
[]
[]
[]
[]
["POPULAÇÃO 2015",{"$f":"INDEX(TBDADOSREG,MATCH(CONSOLIDADO_REG!B3,CONSOLIDADO_REG!B1:B9,0),3)","v":243464}]

{"sheet":"SANTA_LUZIA_MUN","index":14,"n_rows":100,"n_cols":8,"rows_kept":100,"cut":false,"hidden":true,"merged":[]}
[]
[]
[]
[]
[]
[]
[]
[]
[null,null,null,null,null,null,{"$f":"IF($H$9=\"01 OBITO PREMATURO 30 A 69 DCNT\",MENU!$G$3,IF($H$9=\"02 %OBITOS EM MUL IDADE FERTIL INV\",MENU!$G$4,IF($H$9=\"03 %OBITOS CAUSAS BAS DEFINIDAS\",MENU!$G$5,IF($H$9=\"04 %VACINAS < 2 ANOS\",MENU!$G$6,IF($H$9=\"05 %DE CASOS DOENÇAS NOT COMP IMEDIATA\",MENU!$G$7,IF($H$9=\"06 %CURA CASOS NOVOS HANSEN\",MENU!$G$8,IF($H$9=\"08 CASOS NOVOS SÍFILIS CONG < ANO\",MENU!$G$9,IF($H$9=\"09 Nº DE AIDS < 5 ANOS\",MENU!$G$10,IF($H$9=\"10 %ANÁLISE AMOSTRA ÁGUA CONS HUM\",MENU!$G$11,IF($H$9=\"11 RAZÃO CITO 25 A 64\",MENU!$G$12,IF($H$9=\"12 RAZÃO MAMOGRAFIA BILATERAL 50 A 69\",MENU!$G$13,IF($H$9=\"13 %PARTO NORMAL SUS/SAÚDE SUPLEMENTAR\",MENU!$G$14,IF($H$9=\"14 %GRAVIDEZ ADOLESC 10 A 19\",MENU!$G$15,IF($H$9=\"15 OBITOS < ANO\",MENU!$G$16,IF($H$9=\"16 ÓBITOS MATERNOS\",MENU!$G$17,IF($H$9=\"17 %COB AB\",MENU!$G$18,IF($H$9=\"18 %COB Acomp BF\",MENU!$G$19,IF($H$9=\"19 %COB SAUDE BUCAL\",MENU!$G$20,IF($H$9=\"20 %MUN REALIZ AÇÕES VIGILANCIA\",MENU!$G$21,IF($H$9=\"21 %AÇÕES DE MATRICIAMENTO CAPS\",MENU!$G$22,IF($H$9=\"22 NÚM CICLOS ATING 80% COB IMV DENGUE\",MENU!$G$23,IF($H$9=\"23 %PREENCHIMENTO OCUP NOTIF AGRAVO\",MENU!$G$24))))))))))))))))))))))","v":"META INDICADOR 01"},"01 OBITO PREMATURO 30 A 69 DCNT"]
[null,null,null,null,null,null,{"$f":"INDEX(CONSOLIDADO_2017!A1:CG77,MATCH(CONSOLIDADO_2017!C63,CONSOLIDADO_2017!C1:C77,0),MATCH(SANTA_LUZIA_MUN!G9,Tabela13[#Headers],0))","v":13},{"$f":"INDEX(CONSOLIDADO_2017!A1:CG77,MATCH(CONSOLIDADO_2017!C63,CONSOLIDADO_2017!C1:C77,0),MATCH(SANTA_LUZIA_MUN!H9,Tabela13[#Headers],0))","v":10}]
[null,null,null,null,null,null,null,{"$f":"IF(H9=\"01 OBITO PREMATURO 30 A 69 DCNT\",CONSOLIDADO_2017!H63,IF(H9=\"02 %OBITOS EM MUL IDADE FERTIL INV\",CONSOLIDADO_2017!M63,IF(H9=\"03 %OBITOS CAUSAS BAS DEFINIDAS\",CONSOLIDADO_2017!Q63,IF(H9=\"04 %VACINAS < 2 ANOS\",CONSOLIDADO_2017!T63,IF(H9=\"05 %DE CASOS DOENÇAS NOT COMP IMEDIATA\",CONSOLIDADO_2017!W63,IF(H9=\"06 %CURA CASOS NOVOS HANSEN\",CONSOLIDADO_2017!AA63,IF(H9=\"08 CASOS NOVOS SÍFILIS CONG < ANO\",CONSOLIDADO_2017!AD63,IF(H9=\"09 Nº DE AIDS < 5 ANOS\",CONSOLIDADO_2017!AG63,IF(H9=\"10 %ANÁLISE AMOSTRA ÁGUA CONS HUM\",CONSOLIDADO_2017!AJ63,IF(H9=\"11 RAZÃO CITO 25 A 64\",CONSOLIDADO_2017!AN63,IF(H9=\"12 RAZÃO MAMOGRAFIA BILATERAL 50 A 69\",CONSOLIDADO_2017!AR63,IF(H9=\"13 %PARTO NORMAL SUS/SAÚDE SUPLEMENTAR\",CONSOLIDADO_2017!AV63,IF(H9=\"14 %GRAVIDEZ ADOLESC 10 A 19\",CONSOLIDADO_2017!AZ63,IF(H9=\"15 OBITOS < ANO\",CONSOLIDADO_2017!BD63,IF(H9=\"16 ÓBITOS MATERNOS\",CONSOLIDADO_2017!BG63,IF(H9=\"17 %COB AB\",CONSOLIDADO_2017!BJ63,IF(H9=\"163 %COB Acomp BF\",CONSOLIDADO_2017!BN63,IF(H9=\"19 %COB SAUDE BUCAL\",CONSOLIDADO_2017!BQ63,IF(H9=\"20 %MUN REALIZ AÇÕES VIGILANCIA\",CONSOLIDADO_2017!BT63,IF(H9=\"21 %AÇÕES DE MATRICIAMENTO CAPS\",CONSOLIDADO_2017!BX63,IF(H9=\"22 NÚM CICLOS ATING 80% COB IMV DENGUE\",CONSOLIDADO_2017!CA63,IF(H9=\"23 %PREENCHIMENTO OCUP NOTIF AGRAVO\",CONSOLIDADO_2017!CD63))))))))))))))))))))))","v":"ATINGIU"}]
[]
[]
[]
[]
[]
[]
[]
[]
[]
[]
[]
[]
[]
[]
[]
[]
[]
[]
[]
[]
[]
[]
[]
[]
[]
[]
[]
[]
[]
[]
[]
[]
[]
[]
[]
[]
[]
[]
[]
[]
[]
[]
[]
[]
[]
[]
[]
[]
[]
[]
[]
[]
[]
[]
[]
[]
[]
[]
[]
[]
[]
[]
[]
[]
[]
[]
[]
[]
[]
[]
[]
[]
[]
[]
[]
[]
[]
[]
[]
[]
[]
[]
[]
[]
[]
[]
[]
[]
["POPULAÇÃO 2015",{"$f":"INDEX(CONSOLIDADO_2017!A1:CG77,MATCH(CONSOLIDADO_2017!C63,CONSOLIDADO_2017!C1:C77,0),4)","v":13838}]

{"sheet":"ITABAIANINHA_MUN","index":15,"n_rows":100,"n_cols":8,"rows_kept":100,"cut":false,"hidden":true,"merged":[]}
[]
[]
[]
[]
[]
[]
[]
[]
[null,null,null,null,null,null,{"$f":"IF($H$9=\"01 OBITO PREMATURO 30 A 69 DCNT\",MENU!$G$3,IF($H$9=\"02 %OBITOS EM MUL IDADE FERTIL INV\",MENU!$G$4,IF($H$9=\"03 %OBITOS CAUSAS BAS DEFINIDAS\",MENU!$G$5,IF($H$9=\"04 %VACINAS < 2 ANOS\",MENU!$G$6,IF($H$9=\"05 %DE CASOS DOENÇAS NOT COMP IMEDIATA\",MENU!$G$7,IF($H$9=\"06 %CURA CASOS NOVOS HANSEN\",MENU!$G$8,IF($H$9=\"08 CASOS NOVOS SÍFILIS CONG < ANO\",MENU!$G$9,IF($H$9=\"09 Nº DE AIDS < 5 ANOS\",MENU!$G$10,IF($H$9=\"10 %ANÁLISE AMOSTRA ÁGUA CONS HUM\",MENU!$G$11,IF($H$9=\"11 RAZÃO CITO 25 A 64\",MENU!$G$12,IF($H$9=\"12 RAZÃO MAMOGRAFIA BILATERAL 50 A 69\",MENU!$G$13,IF($H$9=\"13 %PARTO NORMAL SUS/SAÚDE SUPLEMENTAR\",MENU!$G$14,IF($H$9=\"14 %GRAVIDEZ ADOLESC 10 A 19\",MENU!$G$15,IF($H$9=\"15 OBITOS < ANO\",MENU!$G$16,IF($H$9=\"16 ÓBITOS MATERNOS\",MENU!$G$17,IF($H$9=\"17 %COB AB\",MENU!$G$18,IF($H$9=\"18 %COB Acomp BF\",MENU!$G$19,IF($H$9=\"19 %COB SAUDE BUCAL\",MENU!$G$20,IF($H$9=\"20 %MUN REALIZ AÇÕES VIGILANCIA\",MENU!$G$21,IF($H$9=\"21 %AÇÕES DE MATRICIAMENTO CAPS\",MENU!$G$22,IF($H$9=\"22 NÚM CICLOS ATING 80% COB IMV DENGUE\",MENU!$G$23,IF($H$9=\"23 %PREENCHIMENTO OCUP NOTIF AGRAVO\",MENU!$G$24))))))))))))))))))))))","v":"META INDICADOR 01"},"01 OBITO PREMATURO 30 A 69 DCNT"]
[null,null,null,null,null,null,{"$f":"INDEX(CONSOLIDADO_2017!A1:CG77,MATCH(CONSOLIDADO_2017!C29,CONSOLIDADO_2017!C1:C77,0),MATCH(ITABAIANINHA_MUN!G9,Tabela13[#Headers],0))","v":43},{"$f":"INDEX(CONSOLIDADO_2017!A1:CG77,MATCH(CONSOLIDADO_2017!C29,CONSOLIDADO_2017!C1:C77,0),MATCH(ITABAIANINHA_MUN!H9,Tabela13[#Headers],0))","v":55}]
[null,null,null,null,null,null,null,{"$f":"IF(H9=\"01 OBITO PREMATURO 30 A 69 DCNT\",CONSOLIDADO_2017!H29,IF(H9=\"02 %OBITOS EM MUL IDADE FERTIL INV\",CONSOLIDADO_2017!M29,IF(H9=\"03 %OBITOS CAUSAS BAS DEFINIDAS\",CONSOLIDADO_2017!Q29,IF(H9=\"04 %VACINAS < 2 ANOS\",CONSOLIDADO_2017!T29,IF(H9=\"05 %DE CASOS DOENÇAS NOT COMP IMEDIATA\",CONSOLIDADO_2017!W29,IF(H9=\"06 %CURA CASOS NOVOS HANSEN\",CONSOLIDADO_2017!AA29,IF(H9=\"08 CASOS NOVOS SÍFILIS CONG < ANO\",CONSOLIDADO_2017!AD29,IF(H9=\"09 Nº DE AIDS < 5 ANOS\",CONSOLIDADO_2017!AG29,IF(H9=\"10 %ANÁLISE AMOSTRA ÁGUA CONS HUM\",CONSOLIDADO_2017!AJ29,IF(H9=\"11 RAZÃO CITO 25 A 64\",CONSOLIDADO_2017!AN29,IF(H9=\"12 RAZÃO MAMOGRAFIA BILATERAL 50 A 69\",CONSOLIDADO_2017!AR29,IF(H9=\"13 %PARTO NORMAL SUS/SAÚDE SUPLEMENTAR\",CONSOLIDADO_2017!AV29,IF(H9=\"14 %GRAVIDEZ ADOLESC 10 A 19\",CONSOLIDADO_2017!AZ29,IF(H9=\"15 OBITOS < ANO\",CONSOLIDADO_2017!BD29,IF(H9=\"16 ÓBITOS MATERNOS\",CONSOLIDADO_2017!BG29,IF(H9=\"17 %COB AB\",CONSOLIDADO_2017!BJ29,IF(H9=\"18 %COB Acomp BF\",CONSOLIDADO_2017!BN29,IF(H9=\"19 %COB SAUDE BUCAL\",CONSOLIDADO_2017!BQ29,IF(H9=\"29 %MUN REALIZ AÇÕES VIGILANCIA\",CONSOLIDADO_2017!BT29,IF(H9=\"21 AÇÕES DE MATRICIAMENTO CAPS\",CONSOLIDADO_2017!BX29,IF(H9=\"22 NÚM CICLOS ATING 80% COB IMV DENGUE\",CONSOLIDADO_2017!CA29,IF(H9=\"23 %PREENCHIMENTO OCUP NOTIF AGRAVO\",CONSOLIDADO_2017!CD29))))))))))))))))))))))","v":"NÃO ATINGIU"}]
[]
[]
[]
[]
[]
[]
[]
[]
[]
[]
[]
[]
[]
[]
[]
[]
[]
[]
[]
[]
[]
[]
[]
[]
[]
[]
[]
[]
[]
[]
[]
[]
[]
[]
[]
[]
[]
[]
[]
[]
[]
[]
[]
[]
[]
[]
[]
[]
[]
[]
[]
[]
[]
[]
[]
[]
[]
[]
[]
[]
[]
[]
[]
[]
[]
[]
[]
[]
[]
[]
[]
[]
[]
[]
[]
[]
[]
[]
[]
[]
[]
[]
[]
[]
[]
[]
[]
[]
["POPULAÇÃO 2015",{"$f":"INDEX(CONSOLIDADO_2017!A1:CG77,MATCH(CONSOLIDADO_2017!C29,CONSOLIDADO_2017!C1:C77,0),4)","v":41405}]

{"sheet":"TOMAR_MUN","index":16,"n_rows":100,"n_cols":8,"rows_kept":100,"cut":false,"hidden":true,"merged":[]}
[]
[]
[]
[]
[]
[]
[]
[]
[null,null,null,null,null,null,{"$f":"IF($H$9=\"01 OBITO PREMATURO 30 A 69 DCNT\",MENU!$G$3,IF($H$9=\"02 %OBITOS EM MUL IDADE FERTIL INV\",MENU!$G$4,IF($H$9=\"03 %OBITOS CAUSAS BAS DEFINIDAS\",MENU!$G$5,IF($H$9=\"04 %VACINAS < 2 ANOS\",MENU!$G$6,IF($H$9=\"05 %DE CASOS DOENÇAS NOT COMP IMEDIATA\",MENU!$G$7,IF($H$9=\"06 %CURA CASOS NOVOS HANSEN\",MENU!$G$8,IF($H$9=\"08 CASOS NOVOS SÍFILIS CONG < ANO\",MENU!$G$9,IF($H$9=\"09 Nº DE AIDS < 5 ANOS\",MENU!$G$10,IF($H$9=\"10 %ANÁLISE AMOSTRA ÁGUA CONS HUM\",MENU!$G$11,IF($H$9=\"11 RAZÃO CITO 25 A 64\",MENU!$G$12,IF($H$9=\"12 RAZÃO MAMOGRAFIA BILATERAL 50 A 69\",MENU!$G$13,IF($H$9=\"13 %PARTO NORMAL SUS/SAÚDE SUPLEMENTAR\",MENU!$G$14,IF($H$9=\"14 %GRAVIDEZ ADOLESC 10 A 19\",MENU!$G$15,IF($H$9=\"15 OBITOS < ANO\",MENU!$G$16,IF($H$9=\"16 ÓBITOS MATERNOS\",MENU!$G$17,IF($H$9=\"17 %COB AB\",MENU!$G$18,IF($H$9=\"18 %COB Acomp BF\",MENU!$G$19,IF($H$9=\"19 %COB SAUDE BUCAL\",MENU!$G$20,IF($H$9=\"20 %MUN REALIZ AÇÕES VIGILANCIA\",MENU!$G$21,IF($H$9=\"21 %AÇÕES DE MATRICIAMENTO CAPS\",MENU!$G$22,IF($H$9=\"22 NÚM CICLOS ATING 80% COB IMV DENGUE\",MENU!$G$23,IF($H$9=\"23 %PREENCHIMENTO OCUP NOTIF AGRAVO\",MENU!$G$24))))))))))))))))))))))","v":"META INDICADOR 01"},"01 OBITO PREMATURO 30 A 69 DCNT"]
[null,null,null,null,null,null,{"$f":"INDEX(CONSOLIDADO_2017!A1:CG77,MATCH(CONSOLIDADO_2017!C75,CONSOLIDADO_2017!C1:C77,0),MATCH(TOMAR_MUN!G9,Tabela13[#Headers],0))","v":21},{"$f":"INDEX(CONSOLIDADO_2017!A1:CG77,MATCH(CONSOLIDADO_2017!C75,CONSOLIDADO_2017!C1:C77,0),MATCH(TOMAR_MUN!H9,Tabela13[#Headers],0))","v":16}]
[null,null,null,null,null,null,null,{"$f":"IF(H9=\"01 OBITO PREMATURO 30 A 69 DCNT\",CONSOLIDADO_2017!H75,IF(H9=\"02 %OBITOS EM MUL IDADE FERTIL INV\",CONSOLIDADO_2017!M75,IF(H9=\"03 %OBITOS CAUSAS BAS DEFINIDAS\",CONSOLIDADO_2017!Q75,IF(H9=\"04 %VACINAS < 2 ANOS\",CONSOLIDADO_2017!T75,IF(H9=\"05 %DE CASOS DOENÇAS NOT COMP IMEDIATA\",CONSOLIDADO_2017!W75,IF(H9=\"06 %CURA CASOS NOVOS HANSEN\",CONSOLIDADO_2017!AA75,IF(H9=\"08 CASOS NOVOS SÍFILIS CONG < ANO\",CONSOLIDADO_2017!AD75,IF(H9=\"09 Nº DE AIDS < 5 ANOS\",CONSOLIDADO_2017!AG75,IF(H9=\"10 %ANÁLISE AMOSTRA ÁGUA CONS HUM\",CONSOLIDADO_2017!AJ75,IF(H9=\"11 RAZÃO CITO 25 A 64\",CONSOLIDADO_2017!AN75,IF(H9=\"12 RAZÃO MAMOGRAFIA BILATERAL 50 A 69\",CONSOLIDADO_2017!AR75,IF(H9=\"13 %PARTO NORMAL SUS/SAÚDE SUPLEMENTAR\",CONSOLIDADO_2017!AV75,IF(H9=\"14 %GRAVIDEZ ADOLESC 10 A 19\",CONSOLIDADO_2017!AZ75,IF(H9=\"15 OBITOS < ANO\",CONSOLIDADO_2017!BD75,IF(H9=\"16 ÓBITOS MATERNOS\",CONSOLIDADO_2017!BG75,IF(H9=\"17 %COB AB\",CONSOLIDADO_2017!BJ75,IF(H9=\"18 %COB Acomp BF\",CONSOLIDADO_2017!BN75,IF(H9=\"19 %COB SAUDE BUCAL\",CONSOLIDADO_2017!BQ75,IF(H9=\"20 %MUN REALIZ AÇÕES VIGILANCIA\",CONSOLIDADO_2017!BT75,IF(H9=\"21 %AÇÕES DE MATRICIAMENTO CAPS\",CONSOLIDADO_2017!BX75,IF(H9=\"22 NÚM CICLOS ATING 80% COB IMV DENGUE\",CONSOLIDADO_2017!CA75,IF(H9=\"23 %PREENCHIMENTO OCUP NOTIF AGRAVO\",CONSOLIDADO_2017!CD75))))))))))))))))))))))","v":"ATINGIU"}]
[]
[]
[]
[]
[]
[]
[]
[]
[]
[]
[]
[]
[]
[]
[]
[]
[]
[]
[]
[]
[]
[]
[]
[]
[]
[]
[]
[]
[]
[]
[]
[]
[]
[]
[]
[]
[]
[]
[]
[]
[]
[]
[]
[]
[]
[]
[]
[]
[]
[]
[]
[]
[]
[]
[]
[]
[]
[]
[]
[]
[]
[]
[]
[]
[]
[]
[]
[]
[]
[]
[]
[]
[]
[]
[]
[]
[]
[]
[]
[]
[]
[]
[]
[]
[]
[]
[]
[]
["POPULAÇÃO 2015",{"$f":"INDEX(CONSOLIDADO_2017!A1:CG77,MATCH(CONSOLIDADO_2017!C75,CONSOLIDADO_2017!C1:C77,0),4)","v":13200}]

{"sheet":"ESTANCIA_MUN","index":17,"n_rows":100,"n_cols":8,"rows_kept":100,"cut":false,"hidden":true,"merged":[]}
[]
[]
[]
[]
[]
[]
[]
[]
[null,null,null,null,null,null,{"$f":"IF($H$9=\"01 OBITO PREMATURO 30 A 69 DCNT\",MENU!$G$3,IF($H$9=\"02 %OBITOS EM MUL IDADE FERTIL INV\",MENU!$G$4,IF($H$9=\"03 %OBITOS CAUSAS BAS DEFINIDAS\",MENU!$G$5,IF($H$9=\"04 %VACINAS < 2 ANOS\",MENU!$G$6,IF($H$9=\"05 %DE CASOS DOENÇAS NOT COMP IMEDIATA\",MENU!$G$7,IF($H$9=\"06 %CURA CASOS NOVOS HANSEN\",MENU!$G$8,IF($H$9=\"08 CASOS NOVOS SÍFILIS CONG < ANO\",MENU!$G$9,IF($H$9=\"09 Nº DE AIDS < 5 ANOS\",MENU!$G$10,IF($H$9=\"10 %ANÁLISE AMOSTRA ÁGUA CONS HUM\",MENU!$G$11,IF($H$9=\"11 RAZÃO CITO 25 A 64\",MENU!$G$12,IF($H$9=\"12 RAZÃO MAMOGRAFIA BILATERAL 50 A 69\",MENU!$G$13,IF($H$9=\"13 %PARTO NORMAL SUS/SAÚDE SUPLEMENTAR\",MENU!$G$14,IF($H$9=\"14 %GRAVIDEZ ADOLESC 10 A 19\",MENU!$G$15,IF($H$9=\"15 OBITOS < ANO\",MENU!$G$16,IF($H$9=\"16 ÓBITOS MATERNOS\",MENU!$G$17,IF($H$9=\"17 %COB AB\",MENU!$G$18,IF($H$9=\"18 %COB Acomp BF\",MENU!$G$19,IF($H$9=\"19 %COB SAUDE BUCAL\",MENU!$G$20,IF($H$9=\"20 %MUN REALIZ AÇÕES VIGILANCIA\",MENU!$G$21,IF($H$9=\"21 %AÇÕES DE MATRICIAMENTO CAPS\",MENU!$G$22,IF($H$9=\"22 NÚM CICLOS ATING 80% COB IMV DENGUE\",MENU!$G$23,IF($H$9=\"23 %PREENCHIMENTO OCUP NOTIF AGRAVO\",MENU!$G$24))))))))))))))))))))))","v":"META INDICADOR 01"},"01 OBITO PREMATURO 30 A 69 DCNT"]
[null,null,null,null,null,null,{"$f":"INDEX(CONSOLIDADO_2017!A1:CG77,MATCH(CONSOLIDADO_2017!C20,CONSOLIDADO_2017!C1:C77,0),MATCH(ESTANCIA_MUN!G9,Tabela13[#Headers],0))","v":80},{"$f":"INDEX(CONSOLIDADO_2017!A1:CG77,MATCH(CONSOLIDADO_2017!C20,CONSOLIDADO_2017!C1:C77,0),MATCH(ESTANCIA_MUN!H9,Tabela13[#Headers],0))","v":84}]
[null,null,null,null,null,null,null,{"$f":"IF(H9=\"01 OBITO PREMATURO 30 A 69 DCNT\",CONSOLIDADO_2017!H20,IF(H9=\"02 %OBITOS EM MUL IDADE FERTIL INV\",CONSOLIDADO_2017!M20,IF(H9=\"03 %OBITOS CAUSAS BAS DEFINIDAS\",CONSOLIDADO_2017!Q20,IF(H9=\"04 %VACINAS < 2 ANOS\",CONSOLIDADO_2017!T20,IF(H9=\"05 %DE CASOS DOENÇAS NOT COMP IMEDIATA\",CONSOLIDADO_2017!W20,IF(H9=\"06 %CURA CASOS NOVOS HANSEN\",CONSOLIDADO_2017!AA20,IF(H9=\"08 CASOS NOVOS SÍFILIS CONG < ANO\",CONSOLIDADO_2017!AD20,IF(H9=\"09 Nº DE AIDS < 5 ANOS\",CONSOLIDADO_2017!AG20,IF(H9=\"10 %ANÁLISE AMOSTRA ÁGUA CONS HUM\",CONSOLIDADO_2017!AJ20,IF(H9=\"11 RAZÃO CITO 25 A 64\",CONSOLIDADO_2017!AN20,IF(H9=\"12 RAZÃO MAMOGRAFIA BILATERAL 50 A 69\",CONSOLIDADO_2017!AR20,IF(H9=\"13 %PARTO NORMAL SUS/SAÚDE SUPLEMENTAR\",CONSOLIDADO_2017!AV20,IF(H9=\"14 %GRAVIDEZ ADOLESC 10 A 19\",CONSOLIDADO_2017!AZ20,IF(H9=\"15 OBITOS < ANO\",CONSOLIDADO_2017!BD20,IF(H9=\"16 ÓBITOS MATERNOS\",CONSOLIDADO_2017!BG20,IF(H9=\"17 %COB AB\",CONSOLIDADO_2017!BJ20,IF(H9=\"18 %COB Acomp BF\",CONSOLIDADO_2017!BN20,IF(H9=\"19 %COB SAUDE BUCAL\",CONSOLIDADO_2017!BQ20,IF(H9=\"20 %MUN REALIZ AÇÕES VIGILANCIA\",CONSOLIDADO_2017!BT20,IF(H9=\"21 %AÇÕES DE MATRICIAMENTO CAPS\",CONSOLIDADO_2017!BX20,IF(H9=\"22 NÚM CICLOS ATING 80% COB IMV DENGUE\",CONSOLIDADO_2017!CA20,IF(H9=\"23 %PREENCHIMENTO OCUP NOTIF AGRAVO\",CONSOLIDADO_2017!CD20))))))))))))))))))))))","v":"NÃO ATINGIU"}]
[]
[]
[]
[]
[]
[]
[]
[]
[]
[]
[]
[]
[]
[]
[]
[]
[]
[]
[]
[]
[]
[]
[]
[]
[]
[]
[]
[]
[]
[]
[]
[]
[]
[]
[]
[]
[]
[]
[]
[]
[]
[]
[]
[]
[]
[]
[]
[]
[]
[]
[]
[]
[]
[]
[]
[]
[]
[]
[]
[]
[]
[]
[]
[]
[]
[]
[]
[]
[]
[]
[]
[]
[]
[]
[]
[]
[]
[]
[]
[]
[]
[]
[]
[]
[]
[]
[]
[]
["POPULAÇÃO 2015",{"$f":"INDEX(CONSOLIDADO_2017!A1:CG77,MATCH(CONSOLIDADO_2017!C20,CONSOLIDADO_2017!C1:C77,0),4)","v":68407}]

{"sheet":"INDIAROBA_MUN","index":18,"n_rows":100,"n_cols":8,"rows_kept":100,"cut":false,"hidden":true,"merged":[]}
[]
[]
[]
[]
[]
[]
[]
[]
[null,null,null,null,null,null,{"$f":"IF($H$9=\"01 OBITO PREMATURO 30 A 69 DCNT\",MENU!$G$3,IF($H$9=\"02 %OBITOS EM MUL IDADE FERTIL INV\",MENU!$G$4,IF($H$9=\"03 %OBITOS CAUSAS BAS DEFINIDAS\",MENU!$G$5,IF($H$9=\"04 %VACINAS < 2 ANOS\",MENU!$G$6,IF($H$9=\"05 %DE CASOS DOENÇAS NOT COMP IMEDIATA\",MENU!$G$7,IF($H$9=\"06 %CURA CASOS NOVOS HANSEN\",MENU!$G$8,IF($H$9=\"08 CASOS NOVOS SÍFILIS CONG < ANO\",MENU!$G$9,IF($H$9=\"09 Nº DE AIDS < 5 ANOS\",MENU!$G$10,IF($H$9=\"10 %ANÁLISE AMOSTRA ÁGUA CONS HUM\",MENU!$G$11,IF($H$9=\"11 RAZÃO CITO 25 A 64\",MENU!$G$12,IF($H$9=\"12 RAZÃO MAMOGRAFIA BILATERAL 50 A 69\",MENU!$G$13,IF($H$9=\"13 %PARTO NORMAL SUS/SAÚDE SUPLEMENTAR\",MENU!$G$14,IF($H$9=\"14 %GRAVIDEZ ADOLESC 10 A 19\",MENU!$G$15,IF($H$9=\"15 OBITOS < ANO\",MENU!$G$16,IF($H$9=\"16 ÓBITOS MATERNOS\",MENU!$G$17,IF($H$9=\"17 %COB AB\",MENU!$G$18,IF($H$9=\"18 %COB Acomp BF\",MENU!$G$19,IF($H$9=\"19 %COB SAUDE BUCAL\",MENU!$G$20,IF($H$9=\"20 %MUN REALIZ AÇÕES VIGILANCIA\",MENU!$G$21,IF($H$9=\"21 %AÇÕES DE MATRICIAMENTO CAPS\",MENU!$G$22,IF($H$9=\"22 NÚM CICLOS ATING 80% COB IMV DENGUE\",MENU!$G$23,IF($H$9=\"23 %PREENCHIMENTO OCUP NOTIF AGRAVO\",MENU!$G$24))))))))))))))))))))))","v":"META INDICADOR 01"},"01 OBITO PREMATURO 30 A 69 DCNT"]
[null,null,null,null,null,null,{"$f":"INDEX(CONSOLIDADO_2017!A1:CG77,MATCH(CONSOLIDADO_2017!C27,CONSOLIDADO_2017!C1:C77,0),MATCH(INDIAROBA_MUN!G9,Tabela13[#Headers],0))","v":16},{"$f":"INDEX(CONSOLIDADO_2017!A1:CG77,MATCH(CONSOLIDADO_2017!C27,CONSOLIDADO_2017!C1:C77,0),MATCH(INDIAROBA_MUN!H9,Tabela13[#Headers],0))","v":17}]
[null,null,null,null,null,null,null,{"$f":"IF(H9=\"01 OBITO PREMATURO 30 A 69 DCNT\",CONSOLIDADO_2017!H27,IF(H9=\"02 %OBITOS EM MUL IDADE FERTIL INV\",CONSOLIDADO_2017!M27,IF(H9=\"03 %OBITOS CAUSAS BAS DEFINIDAS\",CONSOLIDADO_2017!Q27,IF(H9=\"04 %VACINAS < 2 ANOS\",CONSOLIDADO_2017!T27,IF(H9=\"05 %DE CASOS DOENÇAS NOT COMP IMEDIATA\",CONSOLIDADO_2017!W27,IF(H9=\"06 %CURA CASOS NOVOS HANSEN\",CONSOLIDADO_2017!AA27,IF(H9=\"08 CASOS NOVOS SÍFILIS CONG < ANO\",CONSOLIDADO_2017!AD27,IF(H9=\"09 Nº DE AIDS < 5 ANOS\",CONSOLIDADO_2017!AG27,IF(H9=\"10 %ANÁLISE AMOSTRA ÁGUA CONS HUM\",CONSOLIDADO_2017!AJ27,IF(H9=\"11 RAZÃO CITO 25 A 64\",CONSOLIDADO_2017!AN27,IF(H9=\"12 RAZÃO MAMOGRAFIA BILATERAL 50 A 69\",CONSOLIDADO_2017!AR27,IF(H9=\"13 %PARTO NORMAL SUS/SAÚDE SUPLEMENTAR\",CONSOLIDADO_2017!AV27,IF(H9=\"14 %GRAVIDEZ ADOLESC 10 A 19\",CONSOLIDADO_2017!AZ27,IF(H9=\"15 OBITOS < ANO\",CONSOLIDADO_2017!BD27,IF(H9=\"16 ÓBITOS MATERNOS\",CONSOLIDADO_2017!BG27,IF(H9=\"17 %COB AB\",CONSOLIDADO_2017!BJ27,IF(H9=\"18 %COB Acomp BF\",CONSOLIDADO_2017!BN27,IF(H9=\"19 %COB SAUDE BUCAL\",CONSOLIDADO_2017!BQ27,IF(H9=\"20 %MUN REALIZ AÇÕES VIGILANCIA\",CONSOLIDADO_2017!BT27,IF(H9=\"21 %AÇÕES DE MATRICIAMENTO CAPS\",CONSOLIDADO_2017!BX27,IF(H9=\"22 NÚM CICLOS ATING 80% COB IMV DENGUE\",CONSOLIDADO_2017!CA27,IF(H9=\"23 %PREENCHIMENTO OCUP NOTIF AGRAVO\",CONSOLIDADO_2017!CD27))))))))))))))))))))))","v":"NÃO ATINGIU"}]
[]
[]
[]
[]
[]
[]
[]
[]
[]
[]
[]
[]
[]
[]
[]
[]
[]
[]
[]
[]
[]
[]
[]
[]
[]
[]
[]
[]
[]
[]
[]
[]
[]
[]
[]
[]
[]
[]
[]
[]
[]
[]
[]
[]
[]
[]
[]
[]
[]
[]
[]
[]
[]
[]
[]
[]
[]
[]
[]
[]
[]
[]
[]
[]
[]
[]
[]
[]
[]
[]
[]
[]
[]
[]
[]
[]
[]
[]
[]
[]
[]
[]
[]
[]
[]
[]
[]
[]
["POPULAÇÃO 2015",{"$f":"INDEX(CONSOLIDADO_2017!A1:CG77,MATCH(CONSOLIDADO_2017!C27,CONSOLIDADO_2017!C1:C77,0),4)","v":17384}]

{"sheet":"PEDRINHAS_MUN","index":19,"n_rows":100,"n_cols":8,"rows_kept":100,"cut":false,"hidden":true,"merged":[]}
[]
[]
[]
[]
[]
[]
[]
[]
[null,null,null,null,null,null,{"$f":"IF($H$9=\"01 OBITO PREMATURO 30 A 69 DCNT\",MENU!$G$3,IF($H$9=\"02 %OBITOS EM MUL IDADE FERTIL INV\",MENU!$G$4,IF($H$9=\"03 %OBITOS CAUSAS BAS DEFINIDAS\",MENU!$G$5,IF($H$9=\"04 %VACINAS < 2 ANOS\",MENU!$G$6,IF($H$9=\"05 %DE CASOS DOENÇAS NOT COMP IMEDIATA\",MENU!$G$7,IF($H$9=\"06 %CURA CASOS NOVOS HANSEN\",MENU!$G$8,IF($H$9=\"08 CASOS NOVOS SÍFILIS CONG < ANO\",MENU!$G$9,IF($H$9=\"09 Nº DE AIDS < 5 ANOS\",MENU!$G$10,IF($H$9=\"10 %ANÁLISE AMOSTRA ÁGUA CONS HUM\",MENU!$G$11,IF($H$9=\"11 RAZÃO CITO 25 A 64\",MENU!$G$12,IF($H$9=\"12 RAZÃO MAMOGRAFIA BILATERAL 50 A 69\",MENU!$G$13,IF($H$9=\"13 %PARTO NORMAL SUS/SAÚDE SUPLEMENTAR\",MENU!$G$14,IF($H$9=\"14 %GRAVIDEZ ADOLESC 10 A 19\",MENU!$G$15,IF($H$9=\"15 OBITOS < ANO\",MENU!$G$16,IF($H$9=\"16 ÓBITOS MATERNOS\",MENU!$G$17,IF($H$9=\"17 %COB AB\",MENU!$G$18,IF($H$9=\"18 %COB Acomp BF\",MENU!$G$19,IF($H$9=\"19 %COB SAUDE BUCAL\",MENU!$G$20,IF($H$9=\"20 %MUN REALIZ AÇÕES VIGILANCIA\",MENU!$G$21,IF($H$9=\"21 %AÇÕES DE MATRICIAMENTO CAPS\",MENU!$G$22,IF($H$9=\"22 NÚM CICLOS ATING 80% COB IMV DENGUE\",MENU!$G$23,IF($H$9=\"23 %PREENCHIMENTO OCUP NOTIF AGRAVO\",MENU!$G$24))))))))))))))))))))))","v":"META INDICADOR 01"},"01 OBITO PREMATURO 30 A 69 DCNT"]
[null,null,null,null,null,null,{"$f":"INDEX(CONSOLIDADO_2017!A1:CG77,MATCH(CONSOLIDADO_2017!C51,CONSOLIDADO_2017!C1:C77,0),MATCH(PEDRINHAS_MUN!G9,Tabela13[#Headers],0))","v":9},{"$f":"INDEX(CONSOLIDADO_2017!A1:CG77,MATCH(CONSOLIDADO_2017!C51,CONSOLIDADO_2017!C1:C77,0),MATCH(PEDRINHAS_MUN!H9,Tabela13[#Headers],0))","v":6}]
[null,null,null,null,null,null,null,{"$f":"IF(H9=\"01 OBITO PREMATURO 30 A 69 DCNT\",CONSOLIDADO_2017!H51,IF(H9=\"02 %OBITOS EM MUL IDADE FERTIL INV\",CONSOLIDADO_2017!M51,IF(H9=\"03 %OBITOS CAUSAS BAS DEFINIDAS\",CONSOLIDADO_2017!Q51,IF(H9=\"04 %VACINAS < 2 ANOS\",CONSOLIDADO_2017!T51,IF(H9=\"05 %DE CASOS DOENÇAS NOT COMP IMEDIATA\",CONSOLIDADO_2017!W51,IF(H9=\"06 %CURA CASOS NOVOS HANSEN\",CONSOLIDADO_2017!AA51,IF(H9=\"08 CASOS NOVOS SÍFILIS CONG < ANO\",CONSOLIDADO_2017!AD51,IF(H9=\"09 Nº DE AIDS < 5 ANOS\",CONSOLIDADO_2017!AG51,IF(H9=\"10 %ANÁLISE AMOSTRA ÁGUA CONS HUM\",CONSOLIDADO_2017!AJ51,IF(H9=\"11 RAZÃO CITO 25 A 64\",CONSOLIDADO_2017!AN51,IF(H9=\"12 RAZÃO MAMOGRAFIA BILATERAL 50 A 69\",CONSOLIDADO_2017!AR51,IF(H9=\"13 %PARTO NORMAL SUS/SAÚDE SUPLEMENTAR\",CONSOLIDADO_2017!AV51,IF(H9=\"14 %GRAVIDEZ ADOLESC 10 A 19\",CONSOLIDADO_2017!AZ51,IF(H9=\"15 OBITOS < ANO\",CONSOLIDADO_2017!BD51,IF(H9=\"16 ÓBITOS MATERNOS\",CONSOLIDADO_2017!BG51,IF(H9=\"17 %COB AB\",CONSOLIDADO_2017!BJ51,IF(H9=\"18 %COB Acomp BF\",CONSOLIDADO_2017!BN51,IF(H9=\"19 %COB SAUDE BUCAL\",CONSOLIDADO_2017!BQ51,IF(H9=\"20 %MUN REALIZ AÇÕES VIGILANCIA\",CONSOLIDADO_2017!BT51,IF(H9=\"21 %AÇÕES DE MATRICIAMENTO CAPS\",CONSOLIDADO_2017!BX51,IF(H9=\"22 NÚM CICLOS ATING 80% COB IMV DENGUE\",CONSOLIDADO_2017!CA51,IF(H9=\"23 %PREENCHIMENTO OCUP NOTIF AGRAVO\",CONSOLIDADO_2017!CD51))))))))))))))))))))))","v":"ATINGIU"}]
[]
[]
[]
[]
[]
[]
[]
[]
[]
[]
[]
[]
[]
[]
[]
[]
[]
[]
[]
[]
[]
[]
[]
[]
[]
[]
[]
[]
[]
[]
[]
[]
[]
[]
[]
[]
[]
[]
[]
[]
[]
[]
[]
[]
[]
[]
[]
[]
[]
[]
[]
[]
[]
[]
[]
[]
[]
[]
[]
[]
[]
[]
[]
[]
[]
[]
[]
[]
[]
[]
[]
[]
[]
[]
[]
[]
[]
[]
[]
[]
[]
[]
[]
[]
[]
[]
[]
[]
["POPULAÇÃO 2015",{"$f":"INDEX(CONSOLIDADO_2017!A1:CG77,MATCH(CONSOLIDADO_2017!C51,CONSOLIDADO_2017!C1:C77,0),4)","v":9455}]

{"sheet":"CRISTINAPOLIS_MUN","index":20,"n_rows":100,"n_cols":8,"rows_kept":100,"cut":false,"hidden":true,"merged":[]}
[]
[]
[]
[]
[]
[]
[]
[]
[null,null,null,null,null,null,{"$f":"IF($H$9=\"01 OBITO PREMATURO 30 A 69 DCNT\",MENU!$G$3,IF($H$9=\"02 %OBITOS EM MUL IDADE FERTIL INV\",MENU!$G$4,IF($H$9=\"03 %OBITOS CAUSAS BAS DEFINIDAS\",MENU!$G$5,IF($H$9=\"04 %VACINAS < 2 ANOS\",MENU!$G$6,IF($H$9=\"05 %DE CASOS DOENÇAS NOT COMP IMEDIATA\",MENU!$G$7,IF($H$9=\"06 %CURA CASOS NOVOS HANSEN\",MENU!$G$8,IF($H$9=\"08 CASOS NOVOS SÍFILIS CONG < ANO\",MENU!$G$9,IF($H$9=\"09 Nº DE AIDS < 5 ANOS\",MENU!$G$10,IF($H$9=\"10 %ANÁLISE AMOSTRA ÁGUA CONS HUM\",MENU!$G$11,IF($H$9=\"11 RAZÃO CITO 25 A 64\",MENU!$G$12,IF($H$9=\"12 RAZÃO MAMOGRAFIA BILATERAL 50 A 69\",MENU!$G$13,IF($H$9=\"13 %PARTO NORMAL SUS/SAÚDE SUPLEMENTAR\",MENU!$G$14,IF($H$9=\"14 %GRAVIDEZ ADOLESC 10 A 19\",MENU!$G$15,IF($H$9=\"15 OBITOS < ANO\",MENU!$G$16,IF($H$9=\"16 ÓBITOS MATERNOS\",MENU!$G$17,IF($H$9=\"17 %COB AB\",MENU!$G$18,IF($H$9=\"18 %COB Acomp BF\",MENU!$G$19,IF($H$9=\"19 %COB SAUDE BUCAL\",MENU!$G$20,IF($H$9=\"20 %MUN REALIZ AÇÕES VIGILANCIA\",MENU!$G$21,IF($H$9=\"21 %AÇÕES DE MATRICIAMENTO CAPS\",MENU!$G$22,IF($H$9=\"22 NÚM CICLOS ATING 80% COB IMV DENGUE\",MENU!$G$23,IF($H$9=\"23 %PREENCHIMENTO OCUP NOTIF AGRAVO\",MENU!$G$24))))))))))))))))))))))","v":"META INDICADOR 01"},"01 OBITO PREMATURO 30 A 69 DCNT"]
[null,null,null,null,null,null,{"$f":"INDEX(CONSOLIDADO_2017!A1:CG77,MATCH(CONSOLIDADO_2017!C17,CONSOLIDADO_2017!C1:C77,0),MATCH(CRISTINAPOLIS_MUN!G9,Tabela13[#Headers],0))","v":15},{"$f":"INDEX(CONSOLIDADO_2017!A1:CG77,MATCH(CONSOLIDADO_2017!C17,CONSOLIDADO_2017!C1:C77,0),MATCH(CRISTINAPOLIS_MUN!H9,Tabela13[#Headers],0))","v":15}]
[null,null,null,null,null,null,null,{"$f":"IF(H9=\"01 OBITO PREMATURO 30 A 69 DCNT\",CONSOLIDADO_2017!H17,IF(H9=\"02 %OBITOS EM MUL IDADE FERTIL INV\",CONSOLIDADO_2017!M17,IF(H9=\"03 %OBITOS CAUSAS BAS DEFINIDAS\",CONSOLIDADO_2017!Q17,IF(H9=\"04 %VACINAS < 2 ANOS\",CONSOLIDADO_2017!T17,IF(H9=\"05 %DE CASOS DOENÇAS NOT COMP IMEDIATA\",CONSOLIDADO_2017!W17,IF(H9=\"06 %CURA CASOS NOVOS HANSEN\",CONSOLIDADO_2017!AA17,IF(H9=\"08 CASOS NOVOS SÍFILIS CONG < ANO\",CONSOLIDADO_2017!AD17,IF(H9=\"09 Nº DE AIDS < 5 ANOS\",CONSOLIDADO_2017!AG17,IF(H9=\"10 %ANÁLISE AMOSTRA ÁGUA CONS HUM\",CONSOLIDADO_2017!AJ17,IF(H9=\"11 RAZÃO CITO 25 A 64\",CONSOLIDADO_2017!AN17,IF(H9=\"12 RAZÃO MAMOGRAFIA BILATERAL 50 A 69\",CONSOLIDADO_2017!AR17,IF(H9=\"13 %PARTO NORMAL SUS/SAÚDE SUPLEMENTAR\",CONSOLIDADO_2017!AV17,IF(H9=\"14 %GRAVIDEZ ADOLESC 10 A 19\",CONSOLIDADO_2017!AZ17,IF(H9=\"15 OBITOS < ANO\",CONSOLIDADO_2017!BD17,IF(H9=\"16 ÓBITOS MATERNOS\",CONSOLIDADO_2017!BG17,IF(H9=\"17 %COB AB\",CONSOLIDADO_2017!BJ17,IF(H9=\"18 %COB Acomp BF\",CONSOLIDADO_2017!BN17,IF(H9=\"19 %COB SAUDE BUCAL\",CONSOLIDADO_2017!BQ17,IF(H9=\"20 %MUN REALIZ AÇÕES VIGILANCIA\",CONSOLIDADO_2017!BT17,IF(H9=\"21 %AÇÕES DE MATRICIAMENTO CAPS\",CONSOLIDADO_2017!BX17,IF(H9=\"22 NÚM CICLOS ATING 80% COB IMV DENGUE\",CONSOLIDADO_2017!CA17,IF(H9=\"23 %PREENCHIMENTO OCUP NOTIF AGRAVO\",CONSOLIDADO_2017!CD17))))))))))))))))))))))","v":"ATINGIU"}]
[]
[]
[]
[]
[]
[]
[]
[]
[]
[]
[]
[]
[]
[]
[]
[]
[]
[]
[]
[]
[]
[]
[]
[]
[]
[]
[]
[]
[]
[]
[]
[]
[]
[]
[]
[]
[]
[]
[]
[]
[]
[]
[]
[]
[]
[]
[]
[]
[]
[]
[]
[]
[]
[]
[]
[]
[]
[]
[]
[]
[]
[]
[]
[]
[]
[]
[]
[]
[]
[]
[]
[]
[]
[]
[]
[]
[]
[]
[]
[]
[]
[]
[]
[]
[]
[]
[]
[]
["POPULAÇÃO 2015",{"$f":"INDEX(CONSOLIDADO_2017!A1:CG77,MATCH(CONSOLIDADO_2017!C17,CONSOLIDADO_2017!C1:C77,0),4)","v":17911}]

{"sheet":"BOQUIM_MUN","index":21,"n_rows":100,"n_cols":8,"rows_kept":100,"cut":false,"hidden":true,"merged":[]}
[]
[]
[]
[]
[]
[]
[]
[]
[null,null,null,null,null,null,{"$f":"IF($H$9=\"01 OBITO PREMATURO 30 A 69 DCNT\",MENU!$G$3,IF($H$9=\"02 %OBITOS EM MUL IDADE FERTIL INV\",MENU!$G$4,IF($H$9=\"03 %OBITOS CAUSAS BAS DEFINIDAS\",MENU!$G$5,IF($H$9=\"04 %VACINAS < 2 ANOS\",MENU!$G$6,IF($H$9=\"05 %DE CASOS DOENÇAS NOT COMP IMEDIATA\",MENU!$G$7,IF($H$9=\"06 %CURA CASOS NOVOS HANSEN\",MENU!$G$8,IF($H$9=\"08 CASOS NOVOS SÍFILIS CONG < ANO\",MENU!$G$9,IF($H$9=\"09 Nº DE AIDS < 5 ANOS\",MENU!$G$10,IF($H$9=\"10 %ANÁLISE AMOSTRA ÁGUA CONS HUM\",MENU!$G$11,IF($H$9=\"11 RAZÃO CITO 25 A 64\",MENU!$G$12,IF($H$9=\"12 RAZÃO MAMOGRAFIA BILATERAL 50 A 69\",MENU!$G$13,IF($H$9=\"13 %PARTO NORMAL SUS/SAÚDE SUPLEMENTAR\",MENU!$G$14,IF($H$9=\"14 %GRAVIDEZ ADOLESC 10 A 19\",MENU!$G$15,IF($H$9=\"15 OBITOS < ANO\",MENU!$G$16,IF($H$9=\"16 ÓBITOS MATERNOS\",MENU!$G$17,IF($H$9=\"17 %COB AB\",MENU!$G$18,IF($H$9=\"18 %COB Acomp BF\",MENU!$G$19,IF($H$9=\"19 %COB SAUDE BUCAL\",MENU!$G$20,IF($H$9=\"20 %MUN REALIZ AÇÕES VIGILANCIA\",MENU!$G$21,IF($H$9=\"21 %AÇÕES DE MATRICIAMENTO CAPS\",MENU!$G$22,IF($H$9=\"22 NÚM CICLOS ATING 80% COB IMV DENGUE\",MENU!$G$23,IF($H$9=\"23 %PREENCHIMENTO OCUP NOTIF AGRAVO\",MENU!$G$24))))))))))))))))))))))","v":"META INDICADOR 01"},"01 OBITO PREMATURO 30 A 69 DCNT"]
[null,null,null,null,null,null,{"$f":"INDEX(CONSOLIDADO_2017!$A$1:$CG$77,MATCH(CONSOLIDADO_2017!C8,CONSOLIDADO_2017!$C$1:$C$77,0),MATCH(BOQUIM_MUN!G9,CONSOLIDADO_2017!$A$1:$CG$1,0))","v":30},{"$f":"INDEX(CONSOLIDADO_2017!$A$1:$CG$77,MATCH(CONSOLIDADO_2017!C8,CONSOLIDADO_2017!$C$1:$C$77,0),MATCH(BOQUIM_MUN!H9,CONSOLIDADO_2017!$A$1:$CG$1,0))","v":35}]
[null,null,null,null,null,null,null,{"$f":"IF(H9=\"01 OBITO PREMATURO 30 A 69 DCNT\",CONSOLIDADO_2017!H8,IF(H9=\"02 %OBITOS EM MUL IDADE FERTIL INV\",CONSOLIDADO_2017!M8,IF(H9=\"03 %OBITOS CAUSAS BAS DEFINIDAS\",CONSOLIDADO_2017!Q8,IF(H9=\"04 %VACINAS < 2 ANOS\",CONSOLIDADO_2017!T8,IF(H9=\"05 %DE CASOS DOENÇAS NOT COMP IMEDIATA\",CONSOLIDADO_2017!W8,IF(H9=\"06 %CURA CASOS NOVOS HANSEN\",CONSOLIDADO_2017!AA8,IF(H9=\"08 CASOS NOVOS SÍFILIS CONG < ANO\",CONSOLIDADO_2017!AD8,IF(H9=\"09 Nº DE AIDS < 5 ANOS\",CONSOLIDADO_2017!AG8,IF(H9=\"10 %ANÁLISE AMOSTRA ÁGUA CONS HUM\",CONSOLIDADO_2017!AJ8,IF(H9=\"11 RAZÃO CITO 25 A 64\",CONSOLIDADO_2017!AN8,IF(H9=\"12 RAZÃO MAMOGRAFIA BILATERAL 50 A 69\",CONSOLIDADO_2017!AR8,IF(H9=\"13 %PARTO NORMAL SUS/SAÚDE SUPLEMENTAR\",CONSOLIDADO_2017!AV8,IF(H9=\"14 %GRAVIDEZ ADOLESC 10 A 19\",CONSOLIDADO_2017!AZ8,IF(H9=\"15 OBITOS < ANO\",CONSOLIDADO_2017!BD8,IF(H9=\"16 ÓBITOS MATERNOS\",CONSOLIDADO_2017!BG8,IF(H9=\"17 %COB AB\",CONSOLIDADO_2017!BJ8,IF(H9=\"18 %COB Acomp BF\",CONSOLIDADO_2017!BN8,IF(H9=\"19 %COB SAUDE BUCAL\",CONSOLIDADO_2017!BQ8,IF(H9=\"20 %MUN REALIZ AÇÕES VIGILANCIA\",CONSOLIDADO_2017!BT8,IF(H9=\"21 %AÇÕES DE MATRICIAMENTO CAPS\",CONSOLIDADO_2017!BX8,IF(H9=\"22 NÚM CICLOS ATING 80% COB IMV DENGUE\",CONSOLIDADO_2017!CA8,IF(H9=\"23 %PREENCHIMENTO OCUP NOTIF AGRAVO\",CONSOLIDADO_2017!CD8))))))))))))))))))))))","v":"NÃO ATINGIU"}]
[]
[]
[]
[]
[]
[]
[]
[]
[]
[]
[]
[]
[]
[]
[]
[]
[]
[]
[]
[]
[]
[]
[]
[]
[]
[]
[]
[]
[]
[]
[]
[]
[]
[]
[]
[]
[]
[]
[]
[]
[]
[]
[]
[]
[]
[]
[]
[]
[]
[]
[]
[]
[]
[]
[]
[]
[]
[]
[]
[]
[]
[]
[]
[]
[]
[]
[]
[]
[]
[]
[]
[]
[]
[]
[]
[]
[]
[]
[]
[]
[]
[]
[]
[]
[]
[]
[]
[]
["POPULAÇÃO 2015",{"$f":"INDEX(CONSOLIDADO_2017!A1:CG77,MATCH(CONSOLIDADO_2017!C8,CONSOLIDADO_2017!C1:C77,0),4)","v":26750}]

{"sheet":"UMBAUBA_MUN","index":22,"n_rows":100,"n_cols":8,"rows_kept":100,"cut":false,"hidden":true,"merged":[]}
[]
[]
[]
[]
[]
[]
[]
[]
[null,null,null,null,null,null,{"$f":"IF($H$9=\"01 OBITO PREMATURO 30 A 69 DCNT\",MENU!$G$3,IF($H$9=\"02 %OBITOS EM MUL IDADE FERTIL INV\",MENU!$G$4,IF($H$9=\"03 %OBITOS CAUSAS BAS DEFINIDAS\",MENU!$G$5,IF($H$9=\"04 %VACINAS < 2 ANOS\",MENU!$G$6,IF($H$9=\"05 %DE CASOS DOENÇAS NOT COMP IMEDIATA\",MENU!$G$7,IF($H$9=\"06 %CURA CASOS NOVOS HANSEN\",MENU!$G$8,IF($H$9=\"08 CASOS NOVOS SÍFILIS CONG < ANO\",MENU!$G$9,IF($H$9=\"09 Nº DE AIDS < 5 ANOS\",MENU!$G$10,IF($H$9=\"10 %ANÁLISE AMOSTRA ÁGUA CONS HUM\",MENU!$G$11,IF($H$9=\"11 RAZÃO CITO 25 A 64\",MENU!$G$12,IF($H$9=\"12 RAZÃO MAMOGRAFIA BILATERAL 50 A 69\",MENU!$G$13,IF($H$9=\"13 %PARTO NORMAL SUS/SAÚDE SUPLEMENTAR\",MENU!$G$14,IF($H$9=\"14 %GRAVIDEZ ADOLESC 10 A 19\",MENU!$G$15,IF($H$9=\"15 OBITOS < ANO\",MENU!$G$16,IF($H$9=\"16 ÓBITOS MATERNOS\",MENU!$G$17,IF($H$9=\"17 %COB AB\",MENU!$G$18,IF($H$9=\"18 %COB Acomp BF\",MENU!$G$19,IF($H$9=\"19 %COB SAUDE BUCAL\",MENU!$G$20,IF($H$9=\"20 %MUN REALIZ AÇÕES VIGILANCIA\",MENU!$G$21,IF($H$9=\"21 %AÇÕES DE MATRICIAMENTO CAPS\",MENU!$G$22,IF($H$9=\"22 NÚM CICLOS ATING 80% COB IMV DENGUE\",MENU!$G$23,IF($H$9=\"23 %PREENCHIMENTO OCUP NOTIF AGRAVO\",MENU!$G$24))))))))))))))))))))))","v":"META INDICADOR 01"},"01 OBITO PREMATURO 30 A 69 DCNT"]
[null,null,null,null,null,null,{"$f":"INDEX(CONSOLIDADO_2017!A1:CG77,MATCH(CONSOLIDADO_2017!C76,CONSOLIDADO_2017!C1:C77,0),MATCH(UMBAUBA_MUN!G9,Tabela13[#Headers],0))","v":35},{"$f":"INDEX(CONSOLIDADO_2017!A1:CG77,MATCH(CONSOLIDADO_2017!C76,CONSOLIDADO_2017!C1:C77,0),MATCH(UMBAUBA_MUN!H9,Tabela13[#Headers],0))","v":31}]
[null,null,null,null,null,null,null,{"$f":"IF(H9=\"01 OBITO PREMATURO 30 A 69 DCNT\",CONSOLIDADO_2017!H76,IF(H9=\"02 %OBITOS EM MUL IDADE FERTIL INV\",CONSOLIDADO_2017!M76,IF(H9=\"03 %OBITOS CAUSAS BAS DEFINIDAS\",CONSOLIDADO_2017!Q76,IF(H9=\"04 %VACINAS < 2 ANOS\",CONSOLIDADO_2017!T76,IF(H9=\"05 %DE CASOS DOENÇAS NOT COMP IMEDIATA\",CONSOLIDADO_2017!W76,IF(H9=\"06 %CURA CASOS NOVOS HANSEN\",CONSOLIDADO_2017!AA76,IF(H9=\"08 CASOS NOVOS SÍFILIS CONG < ANO\",CONSOLIDADO_2017!AD76,IF(H9=\"09 Nº DE AIDS < 5 ANOS\",CONSOLIDADO_2017!AG76,IF(H9=\"10 %ANÁLISE AMOSTRA ÁGUA CONS HUM\",CONSOLIDADO_2017!AJ76,IF(H9=\"11 RAZÃO CITO 25 A 64\",CONSOLIDADO_2017!AN76,IF(H9=\"12 RAZÃO MAMOGRAFIA BILATERAL 50 A 69\",CONSOLIDADO_2017!AR76,IF(H9=\"13 %PARTO NORMAL SUS/SAÚDE SUPLEMENTAR\",CONSOLIDADO_2017!AV76,IF(H9=\"14 %GRAVIDEZ ADOLESC 10 A 19\",CONSOLIDADO_2017!AZ76,IF(H9=\"15 OBITOS < ANO\",CONSOLIDADO_2017!BD76,IF(H9=\"16 ÓBITOS MATERNOS\",CONSOLIDADO_2017!BG76,IF(H9=\"17 %COB AB\",CONSOLIDADO_2017!BJ76,IF(H9=\"18 %COB Acomp BF\",CONSOLIDADO_2017!BN76,IF(H9=\"19 %COB SAUDE BUCAL\",CONSOLIDADO_2017!BQ76,IF(H9=\"20 %MUN REALIZ AÇÕES VIGILANCIA\",CONSOLIDADO_2017!BT76,IF(H9=\"21 %AÇÕES DE MATRICIAMENTO CAPS\",CONSOLIDADO_2017!BX76,IF(H9=\"22 NÚM CICLOS ATING 80% COB IMV DENGUE\",CONSOLIDADO_2017!CA76,IF(H9=\"23 %PREENCHIMENTO OCUP NOTIF AGRAVO\",CONSOLIDADO_2017!CD76))))))))))))))))))))))","v":"ATINGIU"}]
[]
[]
[]
[]
[]
[]
[]
[]
[]
[]
[]
[]
[]
[]
[]
[]
[]
[]
[]
[]
[]
[]
[]
[]
[]
[]
[]
[]
[]
[]
[]
[]
[]
[]
[]
[]
[]
[]
[]
[]
[]
[]
[]
[]
[]
[]
[]
[]
[]
[]
[]
[]
[]
[]
[]
[]
[]
[]
[]
[]
[]
[]
[]
[]
[]
[]
[]
[]
[]
[]
[]
[]
[]
[]
[]
[]
[]
[]
[]
[]
[]
[]
[]
[]
[]
[]
[]
[]
["POPULAÇÃO 2015",{"$f":"INDEX(CONSOLIDADO_2017!A1:CG77,MATCH(CONSOLIDADO_2017!C76,CONSOLIDADO_2017!C1:C77,0),4)","v":24542}]

{"sheet":"GRACHO_MUN","index":23,"n_rows":100,"n_cols":8,"rows_kept":100,"cut":false,"hidden":true,"merged":[]}
[]
[]
[]
[]
[]
[]
[]
[]
[null,null,null,null,null,null,{"$f":"IF($H$9=\"01 OBITO PREMATURO 30 A 69 DCNT\",MENU!$G$3,IF($H$9=\"02 %OBITOS EM MUL IDADE FERTIL INV\",MENU!$G$4,IF($H$9=\"03 %OBITOS CAUSAS BAS DEFINIDAS\",MENU!$G$5,IF($H$9=\"04 %VACINAS < 2 ANOS\",MENU!$G$6,IF($H$9=\"05 %DE CASOS DOENÇAS NOT COMP IMEDIATA\",MENU!$G$7,IF($H$9=\"06 %CURA CASOS NOVOS HANSEN\",MENU!$G$8,IF($H$9=\"08 CASOS NOVOS SÍFILIS CONG < ANO\",MENU!$G$9,IF($H$9=\"09 Nº DE AIDS < 5 ANOS\",MENU!$G$10,IF($H$9=\"10 %ANÁLISE AMOSTRA ÁGUA CONS HUM\",MENU!$G$11,IF($H$9=\"11 RAZÃO CITO 25 A 64\",MENU!$G$12,IF($H$9=\"12 RAZÃO MAMOGRAFIA BILATERAL 50 A 69\",MENU!$G$13,IF($H$9=\"13 %PARTO NORMAL SUS/SAÚDE SUPLEMENTAR\",MENU!$G$14,IF($H$9=\"14 %GRAVIDEZ ADOLESC 10 A 19\",MENU!$G$15,IF($H$9=\"15 OBITOS < ANO\",MENU!$G$16,IF($H$9=\"16 ÓBITOS MATERNOS\",MENU!$G$17,IF($H$9=\"17 %COB AB\",MENU!$G$18,IF($H$9=\"18 %COB Acomp BF\",MENU!$G$19,IF($H$9=\"19 %COB SAUDE BUCAL\",MENU!$G$20,IF($H$9=\"20 %MUN REALIZ AÇÕES VIGILANCIA\",MENU!$G$21,IF($H$9=\"21 %AÇÕES DE MATRICIAMENTO CAPS\",MENU!$G$22,IF($H$9=\"22 NÚM CICLOS ATING 80% COB IMV DENGUE\",MENU!$G$23,IF($H$9=\"23 %PREENCHIMENTO OCUP NOTIF AGRAVO\",MENU!$G$24))))))))))))))))))))))","v":"META INDICADOR 01"},"01 OBITO PREMATURO 30 A 69 DCNT"]
[null,null,null,null,null,null,{"$f":"INDEX(CONSOLIDADO_2017!A1:CG77,MATCH(CONSOLIDADO_2017!C25,CONSOLIDADO_2017!C1:C77,0),MATCH(GRACHO_MUN!G9,Tabela13[#Headers],0))","v":6},{"$f":"INDEX(CONSOLIDADO_2017!A1:CG77,MATCH(CONSOLIDADO_2017!C25,CONSOLIDADO_2017!C1:C77,0),MATCH(GRACHO_MUN!H9,Tabela13[#Headers],0))","v":7}]
[null,null,null,null,null,null,null,{"$f":"IF(H9=\"01 OBITO PREMATURO 30 A 69 DCNT\",CONSOLIDADO_2017!H25,IF(H9=\"02 %OBITOS EM MUL IDADE FERTIL INV\",CONSOLIDADO_2017!M25,IF(H9=\"03 %OBITOS CAUSAS BAS DEFINIDAS\",CONSOLIDADO_2017!Q25,IF(H9=\"04 %VACINAS < 2 ANOS\",CONSOLIDADO_2017!T25,IF(H9=\"05 %DE CASOS DOENÇAS NOT COMP IMEDIATA\",CONSOLIDADO_2017!W25,IF(H9=\"06 %CURA CASOS NOVOS HANSEN\",CONSOLIDADO_2017!AA25,IF(H9=\"08 CASOS NOVOS SÍFILIS CONG < ANO\",CONSOLIDADO_2017!AD25,IF(H9=\"09 Nº DE AIDS < 5 ANOS\",CONSOLIDADO_2017!AG25,IF(H9=\"10 %ANÁLISE AMOSTRA ÁGUA CONS HUM\",CONSOLIDADO_2017!AJ25,IF(H9=\"11 RAZÃO CITO 25 A 64\",CONSOLIDADO_2017!AN25,IF(H9=\"12 RAZÃO MAMOGRAFIA BILATERAL 50 A 69\",CONSOLIDADO_2017!AR25,IF(H9=\"13 %PARTO NORMAL SUS/SAÚDE SUPLEMENTAR\",CONSOLIDADO_2017!AV25,IF(H9=\"14 %GRAVIDEZ ADOLESC 10 A 19\",CONSOLIDADO_2017!AZ25,IF(H9=\"15 OBITOS < ANO\",CONSOLIDADO_2017!BD25,IF(H9=\"16 ÓBITOS MATERNOS\",CONSOLIDADO_2017!BG25,IF(H9=\"17 %COB AB\",CONSOLIDADO_2017!BJ25,IF(H9=\"18 %COB Acomp BF\",CONSOLIDADO_2017!BN25,IF(H9=\"19 %COB SAUDE BUCAL\",CONSOLIDADO_2017!BQ25,IF(H9=\"20 %MUN REALIZ AÇÕES VIGILANCIA\",CONSOLIDADO_2017!BT25,IF(H9=\"21 %AÇÕES DE MATRICIAMENTO CAPS\",CONSOLIDADO_2017!BX25,IF(H9=\"22 NÚM CICLOS ATING 80% COB IMV DENGUE\",CONSOLIDADO_2017!CA25,IF(H9=\"23 %PREENCHIMENTO OCUP NOTIF AGRAVO\",CONSOLIDADO_2017!CD25))))))))))))))))))))))","v":"NÃO ATINGIU"}]
[]
[]
[]
[]
[]
[]
[]
[]
[]
[]
[]
[]
[]
[]
[]
[]
[]
[]
[]
[]
[]
[]
[]
[]
[]
[]
[]
[]
[]
[]
[]
[]
[]
[]
[]
[]
[]
[]
[]
[]
[]
[]
[]
[]
[]
[]
[]
[]
[]
[]
[]
[]
[]
[]
[]
[]
[]
[]
[]
[]
[]
[]
[]
[]
[]
[]
[]
[]
[]
[]
[]
[]
[]
[]
[]
[]
[]
[]
[]
[]
[]
[]
[]
[]
[]
[]
[]
[]
["POPULAÇÃO 2015",{"$f":"INDEX(CONSOLIDADO_2017!A1:CG77,MATCH(CONSOLIDADO_2017!C25,CONSOLIDADO_2017!C1:C77,0),4)","v":5846}]

{"sheet":"GLORIA_REG","index":24,"n_rows":100,"n_cols":12,"rows_kept":100,"cut":false,"hidden":true,"merged":[]}
[]
[]
[]
[]
[]
[]
[]
[]
[null,null,null,null,null,null,{"$f":"IF($H$9=\"01 TAXA OBITO PREMATURO 30 A 69 DCNT\",MENU!$G$3,IF($H$9=\"02 %OBITOS EM MUL IDADE FERTIL INV\",MENU!$G$4,IF($H$9=\"03 %OBITOS CAUSAS BAS DEFINIDAS\",MENU!$G$5,IF($H$9=\"04 %VACINAS < 2 ANOS\",MENU!$G$6,IF($H$9=\"05 %DE CASOS DOENÇAS NOT COMP IMEDIATA\",MENU!$G$7,IF($H$9=\"06 %CURA CASOS NOVOS HANSEN\",MENU!$G$8,IF($H$9=\"08 CASOS NOVOS SÍFILIS CONG < ANO\",MENU!$G$9,IF($H$9=\"09 Nº DE AIDS < 5 ANOS\",MENU!$G$10,IF($H$9=\"10 %ANÁLISE AMOSTRA ÁGUA CONS HUM\",MENU!$G$11,IF($H$9=\"11 RAZÃO CITO 25 A 64\",MENU!$G$12,IF($H$9=\"12 RAZÃO MAMOGRAFIA BILATERAL 50 A 69\",MENU!$G$13,IF($H$9=\"13 %PARTO NORMAL SUS/SAÚDE SUPLEMENTAR\",MENU!$G$14,IF($H$9=\"14 %GRAVIDEZ ADOLESC 10 A 19\",MENU!$G$15,IF($H$9=\"15 TAXA MORTALIDADE INFANTIL\",MENU!$G$16,IF($H$9=\"16 ÓBITOS MATERNOS\",MENU!$G$17,IF($H$9=\"17 %COB AB\",MENU!$G$18,IF($H$9=\"18 %COB Acomp BF\",MENU!$G$19,IF($H$9=\"19 %COB SAUDE BUCAL\",MENU!$G$20,IF($H$9=\"20 %MUN REALIZ AÇÕES VIGILANCIA\",MENU!$G$21,IF($H$9=\"21 %AÇÕES DE MATRICIAMENTO CAPS\",MENU!$G$22,IF($H$9=\"22 NÚM CICLOS ATING 80% COB IMV DENGUE\",MENU!$G$23,IF($H$9=\"23 %PREENCHIMENTO OCUP NOTIF AGRAVO\",MENU!$G$24))))))))))))))))))))))","v":"META INDICADOR 19"},"19 %COB SAUDE BUCAL"]
[null,null,null,null,null,null,{"$f":"INDEX(TBDADOSREG,MATCH(CONSOLIDADO_REG!B4,CONSOLIDADO_REG!B1:B9,0),MATCH(GLORIA_REG!G9,CONSOLIDADO_REG!A1:CE1,0))","v":0.64069999999999994},{"$f":"INDEX(TBDADOSREG,MATCH(CONSOLIDADO_REG!B4,CONSOLIDADO_REG!B1:B9,0),MATCH(GLORIA_REG!H9,CONSOLIDADO_REG!A1:CE1,0))","v":0.95726970033296332}]
[null,null,null,null,null,null,null,{"$f":"IF(H9=\"01 TAXA OBITO PREMATURO 30 A 69 DCNT\",CONSOLIDADO_REG!G4,IF(H9=\"02 %OBITOS EM MUL IDADE FERTIL INV\",CONSOLIDADO_REG!L4,IF(H9=\"03 %OBITOS CAUSAS BAS DEFINIDAS\",CONSOLIDADO_REG!P4,IF(H9=\"04 %VACINAS < 2 ANOS\",CONSOLIDADO_REG!S4,IF(H9=\"05 %DE CASOS DOENÇAS NOT COMP IMEDIATA\",CONSOLIDADO_REG!V4,IF(H9=\"06 %CURA CASOS NOVOS HANSEN\",CONSOLIDADO_REG!Z4,IF(H9=\"08 CASOS NOVOS SÍFILIS CONG < ANO\",CONSOLIDADO_REG!AC4,IF(H9=\"09 Nº DE AIDS < 5 ANOS\",CONSOLIDADO_REG!AF4,IF(H9=\"10 %ANÁLISE AMOSTRA ÁGUA CONS HUM\",CONSOLIDADO_REG!AI4,IF(H9=\"11 RAZÃO CITO 25 A 64\",CONSOLIDADO_REG!AM4,IF(H9=\"12 RAZÃO MAMOGRAFIA BILATERAL 50 A 69\",CONSOLIDADO_REG!AQ4,IF(H9=\"13 %PARTO NORMAL SUS/SAÚDE SUPLEMENTAR\",CONSOLIDADO_REG!AU4,IF(H9=\"14 %GRAVIDEZ ADOLESC 10 A 19\",CONSOLIDADO_REG!AY4,IF(H9=\"15 TAXA MORTALIDADE INFANTIL\",CONSOLIDADO_REG!BC4,IF(H9=\"16 ÓBITOS MATERNOS\",CONSOLIDADO_REG!BF4,IF(H9=\"17 %COB AB\",CONSOLIDADO_REG!BI4,IF(H9=\"18 %COB Acomp BF\",CONSOLIDADO_REG!BM4,IF(H9=\"19 %COB SAUDE BUCAL\",CONSOLIDADO_REG!BP4,IF(H9=\"20 %MUN REALIZ AÇÕES VIGILANCIA\",CONSOLIDADO_REG!BS4,IF(H9=\"21 %AÇÕES DE MATRICIAMENTO CAPS\",CONSOLIDADO_REG!BV4,IF(H9=\"22 NÚM CICLOS ATING 80% COB IMV DENGUE\",CONSOLIDADO_REG!BY4,IF(H9=\"23 %PREENCHIMENTO OCUP NOTIF AGRAVO\",CONSOLIDADO_REG!CB4))))))))))))))))))))))","v":"ATINGIU"}]
[]
[]
[]
[]
[null,null,null,null,null,null,null,null,null,null,null,"     "]
[]
[]
[]
[]
[]
[]
[]
[]
[]
[]
[]
[]
[]
[]
[]
[]
[]
[]
[]
[]
[]
[]
[]
[]
[]
[]
[]
[]
[]
[]
[]
[]
[]
[]
[]
[]
[]
[]
["CÓD","REGIONAL","MUNICIPIOS","PROPORÇÃO DE METAS ALCANÇADAS POR MUNICÍPIO NO SISPACTO"]
[280120,"GLORIA","CANINDE DE SÃO FRANCISCO",{"$f":"INDEX(CONSOLIDADO_2017!A12:CG56,MATCH(GLORIA_REG!C56,CONSOLIDADO_2017!C12:C56,0),85)","v":0.40909090909090912}]
[280220,"GLORIA","FEIRA NOVA",{"$f":"INDEX(CONSOLIDADO_2017!A13:CG57,MATCH(GLORIA_REG!C57,CONSOLIDADO_2017!C13:C57,0),85)","v":0.47368421052631576}]
[280240,"GLORIA","GARARU",{"$f":"INDEX(CONSOLIDADO_2017!A14:CG58,MATCH(GLORIA_REG!C58,CONSOLIDADO_2017!C14:C58,0),85)","v":0.5}]
[280260,"GLORIA","GRACHO CARDOSO",{"$f":"INDEX(CONSOLIDADO_2017!A15:CG59,MATCH(GLORIA_REG!C59,CONSOLIDADO_2017!C15:C59,0),85)","v":0.47368421052631576}]
[280310,"GLORIA","ITABI",{"$f":"INDEX(CONSOLIDADO_2017!A16:CG60,MATCH(GLORIA_REG!C60,CONSOLIDADO_2017!C16:C60,0),85)","v":0.35}]
[280420,"GLORIA","MONTE ALEGRE DE SERGIPE",{"$f":"INDEX(CONSOLIDADO_2017!A17:CG61,MATCH(GLORIA_REG!C61,CONSOLIDADO_2017!C17:C61,0),85)","v":0.5714285714285714}]
[280450,"GLORIA","NOSSA SENHORA DA GLORIA",{"$f":"INDEX(CONSOLIDADO_2017!A18:CG62,MATCH(GLORIA_REG!C62,CONSOLIDADO_2017!C18:C62,0),85)","v":0.36363636363636365}]
[280540,"GLORIA","POCO REDONDO",{"$f":"INDEX(CONSOLIDADO_2017!A19:CG63,MATCH(GLORIA_REG!C63,CONSOLIDADO_2017!C19:C63,0),85)","v":0.5}]
[280560,"GLORIA","PORTO DA FOLHA",{"$f":"INDEX(CONSOLIDADO_2017!A20:CG64,MATCH(GLORIA_REG!C64,CONSOLIDADO_2017!C20:C64,0),85)","v":0.45}]
[]
[]
[]
[]
[]
[]
[]
[]
[]
[]
[]
[]
[]
[]
[]
[]
[]
[]
[]
[]
[]
[]
[]
[]
[]
[]
[]
[]
[]
[]
[]
[]
[]
[]
[]
["POPULAÇÃO 2015",{"$f":"INDEX(TBDADOSREG,MATCH(CONSOLIDADO_REG!B4,CONSOLIDADO_REG!B1:B9,0),3)","v":169266}]

{"sheet":"RIBEIROPOLIS_MUN","index":25,"n_rows":100,"n_cols":8,"rows_kept":100,"cut":false,"hidden":true,"merged":[]}
[]
[]
[]
[]
[]
[]
[]
[]
[null,null,null,null,null,null,{"$f":"IF($H$9=\"01 OBITO PREMATURO 30 A 69 DCNT\",MENU!$G$3,IF($H$9=\"02 %OBITOS EM MUL IDADE FERTIL INV\",MENU!$G$4,IF($H$9=\"03 %OBITOS CAUSAS BAS DEFINIDAS\",MENU!$G$5,IF($H$9=\"04 %VACINAS < 2 ANOS\",MENU!$G$6,IF($H$9=\"05 %DE CASOS DOENÇAS NOT COMP IMEDIATA\",MENU!$G$7,IF($H$9=\"06 %CURA CASOS NOVOS HANSEN\",MENU!$G$8,IF($H$9=\"08 CASOS NOVOS SÍFILIS CONG < ANO\",MENU!$G$9,IF($H$9=\"09 Nº DE AIDS < 5 ANOS\",MENU!$G$10,IF($H$9=\"10 %ANÁLISE AMOSTRA ÁGUA CONS HUM\",MENU!$G$11,IF($H$9=\"11 RAZÃO CITO 25 A 64\",MENU!$G$12,IF($H$9=\"12 RAZÃO MAMOGRAFIA BILATERAL 50 A 69\",MENU!$G$13,IF($H$9=\"13 %PARTO NORMAL SUS/SAÚDE SUPLEMENTAR\",MENU!$G$14,IF($H$9=\"14 %GRAVIDEZ ADOLESC 10 A 19\",MENU!$G$15,IF($H$9=\"15 OBITOS < ANO\",MENU!$G$16,IF($H$9=\"16 ÓBITOS MATERNOS\",MENU!$G$17,IF($H$9=\"17 COB AB\",MENU!$G$18,IF($H$9=\"18 COB Acomp BF\",MENU!$G$19,IF($H$9=\"19 COB SAUDE BUCAL\",MENU!$G$20,IF($H$9=\"20 %MUN REALIZ AÇÕES VIGILANCIA\",MENU!$G$21,IF($H$9=\"21 AÇÕES DE MATRICIAMENTO CAPS\",MENU!$G$22,IF($H$9=\"22 NÚM CICLOS ATING 80% COB IMV DENGUE\",MENU!$G$23,IF($H$9=\"23 %PREENCHIMENTO OCUP NOTIF AGRAVO\",MENU!$G$24))))))))))))))))))))))","v":"META INDICADOR 01"},"01 OBITO PREMATURO 30 A 69 DCNT"]
[null,null,null,null,null,null,{"$f":"INDEX(CONSOLIDADO_2017!$A$1:$CG$77,MATCH(CONSOLIDADO_2017!C60,CONSOLIDADO_2017!C1:C77,0),MATCH(RIBEIROPOLIS_MUN!G9,CONSOLIDADO_2017!$A$1:$CG$1,0))","v":20},{"$f":"INDEX(CONSOLIDADO_2017!$A$1:$CG$77,MATCH(CONSOLIDADO_2017!C60,CONSOLIDADO_2017!C1:C77,0),MATCH(RIBEIROPOLIS_MUN!H9,CONSOLIDADO_2017!$A$1:$CG$1,0))","v":14}]
[null,null,null,null,null,null,null,{"$f":"IF(H9=\"01 OBITO PREMATURO 30 A 69 DCNT\",CONSOLIDADO_2017!H60,IF(H9=\"02 %OBITOS EM MUL IDADE FERTIL INV\",CONSOLIDADO_2017!M60,IF(H9=\"03 %OBITOS CAUSAS BAS DEFINIDAS\",CONSOLIDADO_2017!Q60,IF(H9=\"04 %VACINAS < 2 ANOS\",CONSOLIDADO_2017!T60,IF(H9=\"05 %DE CASOS DOENÇAS NOT COMP IMEDIATA\",CONSOLIDADO_2017!W60,IF(H9=\"06 %CURA CASOS NOVOS HANSEN\",CONSOLIDADO_2017!AA60,IF(H9=\"08 CASOS NOVOS SÍFILIS CONG < ANO\",CONSOLIDADO_2017!AD60,IF(H9=\"09 Nº DE AIDS < 5 ANOS\",CONSOLIDADO_2017!AG60,IF(H9=\"10 %ANÁLISE AMOSTRA ÁGUA CONS HUM\",CONSOLIDADO_2017!AJ60,IF(H9=\"11 RAZÃO CITO 25 A 64\",CONSOLIDADO_2017!AN60,IF(H9=\"12 RAZÃO MAMOGRAFIA BILATERAL 50 A 69\",CONSOLIDADO_2017!AR60,IF(H9=\"13 %PARTO NORMAL SUS/SAÚDE SUPLEMENTAR\",CONSOLIDADO_2017!AV60,IF(H9=\"14 %GRAVIDEZ ADOLESC 10 A 19\",CONSOLIDADO_2017!AZ60,IF(H9=\"15 OBITOS < ANO\",CONSOLIDADO_2017!BD60,IF(H9=\"16 ÓBITOS MATERNOS\",CONSOLIDADO_2017!BG60,IF(H9=\"17 COB AB\",CONSOLIDADO_2017!BJ60,IF(H9=\"18 COB Acomp BF\",CONSOLIDADO_2017!BN60,IF(H9=\"19 COB SAUDE BUCAL\",CONSOLIDADO_2017!BQ60,IF(H9=\"20 %MUN REALIZ AÇÕES VIGILANCIA\",CONSOLIDADO_2017!BT60,IF(H9=\"21 AÇÕES DE MATRICIAMENTO CAPS\",CONSOLIDADO_2017!BX60,IF(H9=\"22 NÚM CICLOS ATING 80% COB IMV DENGUE\",CONSOLIDADO_2017!CA60,IF(H9=\"23 %PREENCHIMENTO OCUP NOTIF AGRAVO\",CONSOLIDADO_2017!CD60))))))))))))))))))))))","v":"ATINGIU"}]
[]
[]
[]
[]
[]
[]
[]
[]
[]
[]
[]
[]
[]
[]
[]
[]
[]
[]
[]
[]
[]
[]
[]
[]
[]
[]
[]
[]
[]
[]
[]
[]
[]
[]
[]
[]
[]
[]
[]
[]
[]
[]
[]
[]
[]
[]
[]
[]
[]
[]
[]
[]
[]
[]
[]
[]
[]
[]
[]
[]
[]
[]
[]
[]
[]
[]
[]
[]
[]
[]
[]
[]
[]
[]
[]
[]
[]
[]
[]
[]
[]
[]
[]
[]
[]
[]
[]
[]
["POPULAÇÃO",{"$f":"INDEX(CONSOLIDADO_2017!A1:CG77,MATCH(CONSOLIDADO_2017!C60,CONSOLIDADO_2017!C1:C77,0),4)","v":18363}]

{"sheet":"FREI_PAULO_MUN","index":26,"n_rows":100,"n_cols":8,"rows_kept":100,"cut":false,"hidden":true,"merged":[]}
[]
[]
[]
[]
[]
[]
[]
[]
[null,null,null,null,null,null,{"$f":"IF($H$9=\"01 OBITO PREMATURO 30 A 69 DCNT\",MENU!$G$3,IF($H$9=\"02 %OBITOS EM MUL IDADE FERTIL INV\",MENU!$G$4,IF($H$9=\"03 %OBITOS CAUSAS BAS DEFINIDAS\",MENU!$G$5,IF($H$9=\"04 %VACINAS < 2 ANOS\",MENU!$G$6,IF($H$9=\"05 %DE CASOS DOENÇAS NOT COMP IMEDIATA\",MENU!$G$7,IF($H$9=\"06 %CURA CASOS NOVOS HANSEN\",MENU!$G$8,IF($H$9=\"08 CASOS NOVOS SÍFILIS CONG < ANO\",MENU!$G$9,IF($H$9=\"09 Nº DE AIDS < 5 ANOS\",MENU!$G$10,IF($H$9=\"10 %ANÁLISE AMOSTRA ÁGUA CONS HUM\",MENU!$G$11,IF($H$9=\"11 RAZÃO CITO 25 A 64\",MENU!$G$12,IF($H$9=\"12 RAZÃO MAMOGRAFIA BILATERAL 50 A 69\",MENU!$G$13,IF($H$9=\"13 %PARTO NORMAL SUS/SAÚDE SUPLEMENTAR\",MENU!$G$14,IF($H$9=\"14 %GRAVIDEZ ADOLESC 10 A 19\",MENU!$G$15,IF($H$9=\"15 OBITOS < ANO\",MENU!$G$16,IF($H$9=\"16 ÓBITOS MATERNOS\",MENU!$G$17,IF($H$9=\"17 %COB AB\",MENU!$G$18,IF($H$9=\"18 %COB Acomp BF\",MENU!$G$19,IF($H$9=\"19 %COB SAUDE BUCAL\",MENU!$G$20,IF($H$9=\"20 %MUN REALIZ AÇÕES VIGILANCIA\",MENU!$G$21,IF($H$9=\"21 AÇÕES DE MATRICIAMENTO CAPS\",MENU!$G$22,IF($H$9=\"22 NÚM CICLOS ATING 80% COB IMV DENGUE\",MENU!$G$23,IF($H$9=\"23 %PREENCHIMENTO OCUP NOTIF AGRAVO\",MENU!$G$24))))))))))))))))))))))","v":"META INDICADOR 01"},"01 OBITO PREMATURO 30 A 69 DCNT"]
[null,null,null,null,null,null,{"$f":"INDEX(CONSOLIDADO_2017!$A$1:$CG$77,MATCH(CONSOLIDADO_2017!C22,CONSOLIDADO_2017!C1:C77,0),MATCH(FREI_PAULO_MUN!G9,CONSOLIDADO_2017!$A$1:$CG$1,0))","v":13},{"$f":"INDEX(CONSOLIDADO_2017!$A$1:$CG$77,MATCH(CONSOLIDADO_2017!C22,CONSOLIDADO_2017!C1:C77,0),MATCH(FREI_PAULO_MUN!H9,CONSOLIDADO_2017!$A$1:$CG$1,0))","v":27}]
[null,null,null,null,null,null,null,{"$f":"IF(H9=\"01 OBITO PREMATURO 30 A 69 DCNT\",CONSOLIDADO_2017!H22,IF(H9=\"02 %OBITOS EM MUL IDADE FERTIL INV\",CONSOLIDADO_2017!M22,IF(H9=\"03 %OBITOS CAUSAS BAS DEFINIDAS\",CONSOLIDADO_2017!Q22,IF(H9=\"04 %VACINAS < 2 ANOS\",CONSOLIDADO_2017!T22,IF(H9=\"05 %DE CASOS DOENÇAS NOT COMP IMEDIATA\",CONSOLIDADO_2017!W22,IF(H9=\"06 %CURA CASOS NOVOS HANSEN\",CONSOLIDADO_2017!AA22,IF(H9=\"08 CASOS NOVOS SÍFILIS CONG < ANO\",CONSOLIDADO_2017!AD22,IF(H9=\"09 Nº DE AIDS < 5 ANOS\",CONSOLIDADO_2017!AG22,IF(H9=\"10 %ANÁLISE AMOSTRA ÁGUA CONS HUM\",CONSOLIDADO_2017!AJ22,IF(H9=\"11 RAZÃO CITO 25 A 64\",CONSOLIDADO_2017!AN22,IF(H9=\"12 RAZÃO MAMOGRAFIA BILATERAL 50 A 69\",CONSOLIDADO_2017!AR22,IF(H9=\"13 %PARTO NORMAL SUS/SAÚDE SUPLEMENTAR\",CONSOLIDADO_2017!AV22,IF(H9=\"14 %GRAVIDEZ ADOLESC 10 A 19\",CONSOLIDADO_2017!AZ22,IF(H9=\"15 OBITOS < ANO\",CONSOLIDADO_2017!BD22,IF(H9=\"16 ÓBITOS MATERNOS\",CONSOLIDADO_2017!BG22,IF(H9=\"17 %COB AB\",CONSOLIDADO_2017!BJ22,IF(H9=\"18 %COB Acomp BF\",CONSOLIDADO_2017!BN22,IF(H9=\"19 %COB SAUDE BUCAL\",CONSOLIDADO_2017!BQ22,IF(H9=\"20 %MUN REALIZ AÇÕES VIGILANCIA\",CONSOLIDADO_2017!BT22,IF(H9=\"21 AÇÕES DE MATRICIAMENTO CAPS\",CONSOLIDADO_2017!BX22,IF(H9=\"22 NÚM CICLOS ATING 80% COB IMV DENGUE\",CONSOLIDADO_2017!CA22,IF(H9=\"23 %PREENCHIMENTO OCUP NOTIF AGRAVO\",CONSOLIDADO_2017!CD22))))))))))))))))))))))","v":"NÃO ATINGIU"}]
[]
[]
[]
[]
[]
[]
[]
[]
[]
[]
[]
[]
[]
[]
[]
[]
[]
[]
[]
[]
[]
[]
[]
[]
[]
[]
[]
[]
[]
[]
[]
[]
[]
[]
[]
[]
[]
[]
[]
[]
[]
[]
[]
[]
[]
[]
[]
[]
[]
[]
[]
[]
[]
[]
[]
[]
[]
[]
[]
[]
[]
[]
[]
[]
[]
[]
[]
[]
[]
[]
[]
[]
[]
[]
[]
[]
[]
[]
[]
[]
[]
[]
[]
[]
[]
[]
[]
[]
["POPULAÇÃO 2015",{"$f":"INDEX(CONSOLIDADO_2017!A1:CG77,MATCH(CONSOLIDADO_2017!C22,CONSOLIDADO_2017!C1:C77,0),4)","v":15044}]

{"sheet":"MACAMBIRA_MUN","index":27,"n_rows":11,"n_cols":8,"rows_kept":11,"cut":false,"hidden":true,"merged":[]}
[]
[]
["POPULAÇÃO 2015",{"$f":"INDEX(CONSOLIDADO_2017!A1:CG77,MATCH(CONSOLIDADO_2017!C36,CONSOLIDADO_2017!C1:C77,0),4)","v":6823}]
[]
[]
[]
[]
[]
[null,null,null,null,null,null,{"$f":"IF($H$9=\"01 OBITO PREMATURO 30 A 69 DCNT\",MENU!$G$3,IF($H$9=\"02 %OBITOS EM MUL IDADE FERTIL INV\",MENU!$G$4,IF($H$9=\"03 %OBITOS CAUSAS BAS DEFINIDAS\",MENU!$G$5,IF($H$9=\"04 %VACINAS < 2 ANOS\",MENU!$G$6,IF($H$9=\"05 %DE CASOS DOENÇAS NOT COMP IMEDIATA\",MENU!$G$7,IF($H$9=\"06 %CURA CASOS NOVOS HANSEN\",MENU!$G$8,IF($H$9=\"08 CASOS NOVOS SÍFILIS CONG < ANO\",MENU!$G$9,IF($H$9=\"09 Nº DE AIDS < 5 ANOS\",MENU!$G$10,IF($H$9=\"10 %ANÁLISE AMOSTRA ÁGUA CONS HUM\",MENU!$G$11,IF($H$9=\"11 RAZÃO CITO 25 A 64\",MENU!$G$12,IF($H$9=\"12 RAZÃO MAMOGRAFIA BILATERAL 50 A 69\",MENU!$G$13,IF($H$9=\"13 %PARTO NORMAL SUS/SAÚDE SUPLEMENTAR\",MENU!$G$14,IF($H$9=\"14 %GRAVIDEZ ADOLESC 10 A 19\",MENU!$G$15,IF($H$9=\"15 OBITOS < ANO\",MENU!$G$16,IF($H$9=\"16 ÓBITOS MATERNOS\",MENU!$G$17,IF($H$9=\"17 COB AB\",MENU!$G$18,IF($H$9=\"18 COB Acomp BF\",MENU!$G$19,IF($H$9=\"19 COB SAUDE BUCAL\",MENU!$G$20,IF($H$9=\"20 %MUN REALIZ AÇÕES VIGILANCIA\",MENU!$G$21,IF($H$9=\"21 AÇÕES DE MATRICIAMENTO CAPS\",MENU!$G$22,IF($H$9=\"22 NÚM CICLOS ATING 80% COB IMV DENGUE\",MENU!$G$23,IF($H$9=\"23 %PREENCHIMENTO OCUP NOTIF AGRAVO\",MENU!$G$24))))))))))))))))))))))","v":"META INDICADOR 01"},"01 OBITO PREMATURO 30 A 69 DCNT"]
[null,null,null,null,null,null,{"$f":"INDEX(CONSOLIDADO_2017!$A$1:$CG$77,MATCH(CONSOLIDADO_2017!C36,CONSOLIDADO_2017!C1:C77,0),MATCH(MACAMBIRA_MUN!G9,CONSOLIDADO_2017!$A$1:$CG$1,0))","v":6},{"$f":"INDEX(CONSOLIDADO_2017!$A$1:$CG$77,MATCH(CONSOLIDADO_2017!C36,CONSOLIDADO_2017!C1:C77,0),MATCH(MACAMBIRA_MUN!H9,CONSOLIDADO_2017!$A$1:$CG$1,0))","v":10}]
[null,null,null,null,null,null,null,{"$f":"IF(H9=\"01 OBITO PREMATURO 30 A 69 DCNT\",CONSOLIDADO_2017!H36,IF(H9=\"02 %OBITOS EM MUL IDADE FERTIL INV\",CONSOLIDADO_2017!M36,IF(H9=\"03 %OBITOS CAUSAS BAS DEFINIDAS\",CONSOLIDADO_2017!Q36,IF(H9=\"04 %VACINAS < 2 ANOS\",CONSOLIDADO_2017!T36,IF(H9=\"05 %DE CASOS DOENÇAS NOT COMP IMEDIATA\",CONSOLIDADO_2017!W36,IF(H9=\"06 %CURA CASOS NOVOS HANSEN\",CONSOLIDADO_2017!AA36,IF(H9=\"08 CASOS NOVOS SÍFILIS CONG < ANO\",CONSOLIDADO_2017!AD36,IF(H9=\"09 Nº DE AIDS < 5 ANOS\",CONSOLIDADO_2017!AG36,IF(H9=\"10 %ANÁLISE AMOSTRA ÁGUA CONS HUM\",CONSOLIDADO_2017!AJ36,IF(H9=\"11 RAZÃO CITO 25 A 64\",CONSOLIDADO_2017!AN36,IF(H9=\"12 RAZÃO MAMOGRAFIA BILATERAL 50 A 69\",CONSOLIDADO_2017!AR36,IF(H9=\"13 %PARTO NORMAL SUS/SAÚDE SUPLEMENTAR\",CONSOLIDADO_2017!AV36,IF(H9=\"14 %GRAVIDEZ ADOLESC 10 A 19\",CONSOLIDADO_2017!AZ36,IF(H9=\"15 OBITOS < ANO\",CONSOLIDADO_2017!BD36,IF(H9=\"16 ÓBITOS MATERNOS\",CONSOLIDADO_2017!BG36,IF(H9=\"17 COB AB\",CONSOLIDADO_2017!BJ36,IF(H9=\"18 COB Acomp BF\",CONSOLIDADO_2017!BN36,IF(H9=\"19 COB SAUDE BUCAL\",CONSOLIDADO_2017!BQ36,IF(H9=\"20 %MUN REALIZ AÇÕES VIGILANCIA\",CONSOLIDADO_2017!BT36,IF(H9=\"21 AÇÕES DE MATRICIAMENTO CAPS\",CONSOLIDADO_2017!BX36,IF(H9=\"22 NÚM CICLOS ATING 80% COB IMV DENGUE\",CONSOLIDADO_2017!CA36,IF(H9=\"23 %PREENCHIMENTO OCUP NOTIF AGRAVO\",CONSOLIDADO_2017!CD36))))))))))))))))))))))","v":"NÃO ATINGIU"}]

{"sheet":"ITABAIANA_MUN","index":28,"n_rows":11,"n_cols":8,"rows_kept":11,"cut":false,"hidden":true,"merged":[]}
[]
[]
["POPULAÇÃO 2015",{"$f":"INDEX(CONSOLIDADO_2017!A1:CG77,MATCH(CONSOLIDADO_2017!C28,CONSOLIDADO_2017!C1:C77,0),4)","v":93573}]
[]
[]
[]
[]
[]
[null,null,null,null,null,null,{"$f":"IF($H$9=\"01 OBITO PREMATURO 30 A 69 DCNT\",MENU!$G$3,IF($H$9=\"02 %OBITOS EM MUL IDADE FERTIL INV\",MENU!$G$4,IF($H$9=\"03 %OBITOS CAUSAS BAS DEFINIDAS\",MENU!$G$5,IF($H$9=\"04 %VACINAS < 2 ANOS\",MENU!$G$6,IF($H$9=\"05 %DE CASOS DOENÇAS NOT COMP IMEDIATA\",MENU!$G$7,IF($H$9=\"06 %CURA CASOS NOVOS HANSEN\",MENU!$G$8,IF($H$9=\"08 CASOS NOVOS SÍFILIS CONG < ANO\",MENU!$G$9,IF($H$9=\"09 Nº DE AIDS < 5 ANOS\",MENU!$G$10,IF($H$9=\"10 %ANÁLISE AMOSTRA ÁGUA CONS HUM\",MENU!$G$11,IF($H$9=\"11 RAZÃO CITO 25 A 64\",MENU!$G$12,IF($H$9=\"12 RAZÃO MAMOGRAFIA BILATERAL 50 A 69\",MENU!$G$13,IF($H$9=\"13 %PARTO NORMAL SUS/SAÚDE SUPLEMENTAR\",MENU!$G$14,IF($H$9=\"14 %GRAVIDEZ ADOLESC 10 A 19\",MENU!$G$15,IF($H$9=\"15 OBITOS < ANO\",MENU!$G$16,IF($H$9=\"16 ÓBITOS MATERNOS\",MENU!$G$17,IF($H$9=\"17 %COB AB\",MENU!$G$18,IF($H$9=\"18 %COB Acomp BF\",MENU!$G$19,IF($H$9=\"19 %COB SAUDE BUCAL\",MENU!$G$20,IF($H$9=\"20 %MUN REALIZ AÇÕES VIGILANCIA\",MENU!$G$21,IF($H$9=\"21 AÇÕES DE MATRICIAMENTO CAPS\",MENU!$G$22,IF($H$9=\"22 NÚM CICLOS ATING 80% COB IMV DENGUE\",MENU!$G$23,IF($H$9=\"23 %PREENCHIMENTO OCUP NOTIF AGRAVO\",MENU!$G$24))))))))))))))))))))))","v":"META INDICADOR 01"},"01 OBITO PREMATURO 30 A 69 DCNT"]
[null,null,null,null,null,null,{"$f":"INDEX(CONSOLIDADO_2017!$A$1:$CG$77,MATCH(CONSOLIDADO_2017!C28,CONSOLIDADO_2017!C1:C77,0),MATCH(ITABAIANA_MUN!G9,CONSOLIDADO_2017!$A$1:$CG$1,0))","v":80},{"$f":"INDEX(CONSOLIDADO_2017!$A$1:$CG$77,MATCH(CONSOLIDADO_2017!C28,CONSOLIDADO_2017!C1:C77,0),MATCH(ITABAIANA_MUN!H9,CONSOLIDADO_2017!$A$1:$CG$1,0))","v":96}]
[null,null,null,null,null,null,null,{"$f":"IF(H9=\"01 OBITO PREMATURO 30 A 69 DCNT\",CONSOLIDADO_2017!H28,IF(H9=\"02 %OBITOS EM MUL IDADE FERTIL INV\",CONSOLIDADO_2017!M28,IF(H9=\"03 %OBITOS CAUSAS BAS DEFINIDAS\",CONSOLIDADO_2017!Q28,IF(H9=\"04 %VACINAS < 2 ANOS\",CONSOLIDADO_2017!T28,IF(H9=\"05 %DE CASOS DOENÇAS NOT COMP IMEDIATA\",CONSOLIDADO_2017!W28,IF(H9=\"06 %CURA CASOS NOVOS HANSEN\",CONSOLIDADO_2017!AA28,IF(H9=\"08 CASOS NOVOS SÍFILIS CONG < ANO\",CONSOLIDADO_2017!AD28,IF(H9=\"09 Nº DE AIDS < 5 ANOS\",CONSOLIDADO_2017!AG28,IF(H9=\"10 %ANÁLISE AMOSTRA ÁGUA CONS HUM\",CONSOLIDADO_2017!AJ28,IF(H9=\"11 RAZÃO CITO 25 A 64\",CONSOLIDADO_2017!AN28,IF(H9=\"12 RAZÃO MAMOGRAFIA BILATERAL 50 A 69\",CONSOLIDADO_2017!AR28,IF(H9=\"13 %PARTO NORMAL SUS/SAÚDE SUPLEMENTAR\",CONSOLIDADO_2017!AV28,IF(H9=\"14 %GRAVIDEZ ADOLESC 10 A 19\",CONSOLIDADO_2017!AZ28,IF(H9=\"15 OBITOS < ANO\",CONSOLIDADO_2017!BD28,IF(H9=\"16 ÓBITOS MATERNOS\",CONSOLIDADO_2017!BG28,IF(H9=\"17 %COB AB\",CONSOLIDADO_2017!BJ28,IF(H9=\"18 %COB Acomp BF\",CONSOLIDADO_2017!BN28,IF(H9=\"19 %COB SAUDE BUCAL\",CONSOLIDADO_2017!BQ28,IF(H9=\"20 %MUN REALIZ AÇÕES VIGILANCIA\",CONSOLIDADO_2017!BT28,IF(H9=\"21 AÇÕES DE MATRICIAMENTO CAPS\",CONSOLIDADO_2017!BX28,IF(H9=\"22 NÚM CICLOS ATING 80% COB IMV DENGUE\",CONSOLIDADO_2017!CA28,IF(H9=\"23 %PREENCHIMENTO OCUP NOTIF AGRAVO\",CONSOLIDADO_2017!CD28))))))))))))))))))))))","v":"NÃO ATINGIU"}]

{"sheet":"PEDRA_MOLE_MUN","index":29,"n_rows":11,"n_cols":8,"rows_kept":11,"cut":false,"hidden":true,"merged":[]}
[]
[]
["POPULAÇÃO 2015",{"$f":"INDEX(CONSOLIDADO_2017!A1:CG77,MATCH(CONSOLIDADO_2017!C50,CONSOLIDADO_2017!C1:C77,0),4)","v":3199}]
[]
[]
[]
[]
[]
[null,null,null,null,null,null,{"$f":"IF($H$9=\"01 OBITO PREMATURO 30 A 69 DCNT\",MENU!$G$3,IF($H$9=\"02 %OBITOS EM MUL IDADE FERTIL INV\",MENU!$G$4,IF($H$9=\"03 %OBITOS CAUSAS BAS DEFINIDAS\",MENU!$G$5,IF($H$9=\"04 %VACINAS < 2 ANOS\",MENU!$G$6,IF($H$9=\"05 %DE CASOS DOENÇAS NOT COMP IMEDIATA\",MENU!$G$7,IF($H$9=\"06 %CURA CASOS NOVOS HANSEN\",MENU!$G$8,IF($H$9=\"08 CASOS NOVOS SÍFILIS CONG < ANO\",MENU!$G$9,IF($H$9=\"09 Nº DE AIDS < 5 ANOS\",MENU!$G$10,IF($H$9=\"10 %ANÁLISE AMOSTRA ÁGUA CONS HUM\",MENU!$G$11,IF($H$9=\"11 RAZÃO CITO 25 A 64\",MENU!$G$12,IF($H$9=\"12 RAZÃO MAMOGRAFIA BILATERAL 50 A 69\",MENU!$G$13,IF($H$9=\"13 %PARTO NORMAL SUS/SAÚDE SUPLEMENTAR\",MENU!$G$14,IF($H$9=\"14 %GRAVIDEZ ADOLESC 10 A 19\",MENU!$G$15,IF($H$9=\"15 OBITOS < ANO\",MENU!$G$16,IF($H$9=\"16 ÓBITOS MATERNOS\",MENU!$G$17,IF($H$9=\"17 %COB AB\",MENU!$G$18,IF($H$9=\"18 %COB Acomp BF\",MENU!$G$19,IF($H$9=\"19 %COB SAUDE BUCAL\",MENU!$G$20,IF($H$9=\"20 %MUN REALIZ AÇÕES VIGILANCIA\",MENU!$G$21,IF($H$9=\"21 AÇÕES DE MATRICIAMENTO CAPS\",MENU!$G$22,IF($H$9=\"22 NÚM CICLOS ATING 80% COB IMV DENGUE\",MENU!$G$23,IF($H$9=\"23 %PREENCHIMENTO OCUP NOTIF AGRAVO\",MENU!$G$24))))))))))))))))))))))","v":"META INDICADOR 01"},"01 OBITO PREMATURO 30 A 69 DCNT"]
[null,null,null,null,null,null,{"$f":"INDEX(CONSOLIDADO_2017!$A$1:$CG$77,MATCH(CONSOLIDADO_2017!C50,CONSOLIDADO_2017!C1:C77,0),MATCH(PEDRA_MOLE_MUN!G9,CONSOLIDADO_2017!$A$1:$CG$1,0))","v":3},{"$f":"INDEX(CONSOLIDADO_2017!$A$1:$CG$77,MATCH(CONSOLIDADO_2017!C50,CONSOLIDADO_2017!C1:C77,0),MATCH(PEDRA_MOLE_MUN!H9,CONSOLIDADO_2017!$A$1:$CG$1,0))","v":2}]
[null,null,null,null,null,null,null,{"$f":"IF(H9=\"01 OBITO PREMATURO 30 A 69 DCNT\",CONSOLIDADO_2017!H50,IF(H9=\"02 %OBITOS EM MUL IDADE FERTIL INV\",CONSOLIDADO_2017!M50,IF(H9=\"03 %OBITOS CAUSAS BAS DEFINIDAS\",CONSOLIDADO_2017!Q50,IF(H9=\"04 %VACINAS < 2 ANOS\",CONSOLIDADO_2017!T50,IF(H9=\"05 %DE CASOS DOENÇAS NOT COMP IMEDIATA\",CONSOLIDADO_2017!W50,IF(H9=\"06 %CURA CASOS NOVOS HANSEN\",CONSOLIDADO_2017!AA50,IF(H9=\"08 CASOS NOVOS SÍFILIS CONG < ANO\",CONSOLIDADO_2017!AD50,IF(H9=\"09 Nº DE AIDS < 5 ANOS\",CONSOLIDADO_2017!AG50,IF(H9=\"10 %ANÁLISE AMOSTRA ÁGUA CONS HUM\",CONSOLIDADO_2017!AJ50,IF(H9=\"11 RAZÃO CITO 25 A 64\",CONSOLIDADO_2017!AN50,IF(H9=\"12 RAZÃO MAMOGRAFIA BILATERAL 50 A 69\",CONSOLIDADO_2017!AR50,IF(H9=\"13 %PARTO NORMAL SUS/SAÚDE SUPLEMENTAR\",CONSOLIDADO_2017!AV50,IF(H9=\"14 %GRAVIDEZ ADOLESC 10 A 19\",CONSOLIDADO_2017!AZ50,IF(H9=\"15 OBITOS < ANO\",CONSOLIDADO_2017!BD50,IF(H9=\"16 ÓBITOS MATERNOS\",CONSOLIDADO_2017!BG50,IF(H9=\"17 %COB AB\",CONSOLIDADO_2017!BJ50,IF(H9=\"18 %COB Acomp BF\",CONSOLIDADO_2017!BN50,IF(H9=\"19 %COB SAUDE BUCAL\",CONSOLIDADO_2017!BQ50,IF(H9=\"20 %MUN REALIZ AÇÕES VIGILANCIA\",CONSOLIDADO_2017!BT50,IF(H9=\"21 AÇÕES DE MATRICIAMENTO CAPS\",CONSOLIDADO_2017!BX50,IF(H9=\"22 NÚM CICLOS ATING 80% COB IMV DENGUE\",CONSOLIDADO_2017!CA50,IF(H9=\"23 %PREENCHIMENTO OCUP NOTIF AGRAVO\",CONSOLIDADO_2017!CD50))))))))))))))))))))))","v":"ATINGIU"}]

{"sheet":"MOITA_BONITA_MUN","index":30,"n_rows":11,"n_cols":8,"rows_kept":11,"cut":false,"hidden":true,"merged":[]}
[]
[]
["POPULAÇÃO 2015",{"$f":"INDEX(CONSOLIDADO_2017!A1:CG77,MATCH(CONSOLIDADO_2017!C40,CONSOLIDADO_2017!C1:C77,0),4)","v":11399}]
[]
[]
[]
[]
[]
[null,null,null,null,null,null,{"$f":"IF($H$9=\"01 OBITO PREMATURO 30 A 69 DCNT\",MENU!$G$3,IF($H$9=\"02 %OBITOS EM MUL IDADE FERTIL INV\",MENU!$G$4,IF($H$9=\"03 %OBITOS CAUSAS BAS DEFINIDAS\",MENU!$G$5,IF($H$9=\"04 %VACINAS < 2 ANOS\",MENU!$G$6,IF($H$9=\"05 %DE CASOS DOENÇAS NOT COMP IMEDIATA\",MENU!$G$7,IF($H$9=\"06 %CURA CASOS NOVOS HANSEN\",MENU!$G$8,IF($H$9=\"08 CASOS NOVOS SÍFILIS CONG < ANO\",MENU!$G$9,IF($H$9=\"09 Nº DE AIDS < 5 ANOS\",MENU!$G$10,IF($H$9=\"10 %ANÁLISE AMOSTRA ÁGUA CONS HUM\",MENU!$G$11,IF($H$9=\"11 RAZÃO CITO 25 A 64\",MENU!$G$12,IF($H$9=\"12 RAZÃO MAMOGRAFIA BILATERAL 50 A 69\",MENU!$G$13,IF($H$9=\"13 %PARTO NORMAL SUS/SAÚDE SUPLEMENTAR\",MENU!$G$14,IF($H$9=\"14 %GRAVIDEZ ADOLESC 10 A 19\",MENU!$G$15,IF($H$9=\"15 OBITOS < ANO\",MENU!$G$16,IF($H$9=\"16 ÓBITOS MATERNOS\",MENU!$G$17,IF($H$9=\"17 %COB AB\",MENU!$G$18,IF($H$9=\"18 %COB Acomp BF\",MENU!$G$19,IF($H$9=\"19 %COB SAUDE BUCAL\",MENU!$G$20,IF($H$9=\"20 %MUN REALIZ AÇÕES VIGILANCIA\",MENU!$G$21,IF($H$9=\"21 AÇÕES DE MATRICIAMENTO CAPS\",MENU!$G$22,IF($H$9=\"22 NÚM CICLOS ATING 80% COB IMV DENGUE\",MENU!$G$23,IF($H$9=\"23 %PREENCHIMENTO OCUP NOTIF AGRAVO\",MENU!$G$24))))))))))))))))))))))","v":"META INDICADOR 01"},"01 OBITO PREMATURO 30 A 69 DCNT"]
[null,null,null,null,null,null,{"$f":"INDEX(CONSOLIDADO_2017!$A$1:$CG$77,MATCH(CONSOLIDADO_2017!C40,CONSOLIDADO_2017!C1:C77,0),MATCH(MOITA_BONITA_MUN!G9,CONSOLIDADO_2017!$A$1:$CG$1,0))","v":8},{"$f":"INDEX(CONSOLIDADO_2017!$A$1:$CG$77,MATCH(CONSOLIDADO_2017!C40,CONSOLIDADO_2017!C1:C77,0),MATCH(MOITA_BONITA_MUN!H9,CONSOLIDADO_2017!$A$1:$CG$1,0))","v":7}]
[null,null,null,null,null,null,null,{"$f":"IF(H9=\"01 OBITO PREMATURO 30 A 69 DCNT\",CONSOLIDADO_2017!H40,IF(H9=\"02 %OBITOS EM MUL IDADE FERTIL INV\",CONSOLIDADO_2017!M40,IF(H9=\"03 %OBITOS CAUSAS BAS DEFINIDAS\",CONSOLIDADO_2017!Q40,IF(H9=\"04 %VACINAS < 2 ANOS\",CONSOLIDADO_2017!T40,IF(H9=\"05 %DE CASOS DOENÇAS NOT COMP IMEDIATA\",CONSOLIDADO_2017!W40,IF(H9=\"06 %CURA CASOS NOVOS HANSEN\",CONSOLIDADO_2017!AA40,IF(H9=\"08 CASOS NOVOS SÍFILIS CONG < ANO\",CONSOLIDADO_2017!AD40,IF(H9=\"09 Nº DE AIDS < 5 ANOS\",CONSOLIDADO_2017!AG40,IF(H9=\"10 %ANÁLISE AMOSTRA ÁGUA CONS HUM\",CONSOLIDADO_2017!AJ40,IF(H9=\"11 RAZÃO CITO 25 A 64\",CONSOLIDADO_2017!AN40,IF(H9=\"12 RAZÃO MAMOGRAFIA BILATERAL 50 A 69\",CONSOLIDADO_2017!AR40,IF(H9=\"13 %PARTO NORMAL SUS/SAÚDE SUPLEMENTAR\",CONSOLIDADO_2017!AV40,IF(H9=\"14 %GRAVIDEZ ADOLESC 10 A 19\",CONSOLIDADO_2017!AZ40,IF(H9=\"15 OBITOS < ANO\",CONSOLIDADO_2017!BD40,IF(H9=\"16 ÓBITOS MATERNOS\",CONSOLIDADO_2017!BG40,IF(H9=\"17 %COB AB\",CONSOLIDADO_2017!BJ40,IF(H9=\"18 %COB Acomp BF\",CONSOLIDADO_2017!BN40,IF(H9=\"19 %COB SAUDE BUCAL\",CONSOLIDADO_2017!BQ40,IF(H9=\"20 %MUN REALIZ AÇÕES VIGILANCIA\",CONSOLIDADO_2017!BT40,IF(H9=\"21 AÇÕES DE MATRICIAMENTO CAPS\",CONSOLIDADO_2017!BX40,IF(H9=\"22 NÚM CICLOS ATING 80% COB IMV DENGUE\",CONSOLIDADO_2017!CA40,IF(H9=\"23 %PREENCHIMENTO OCUP NOTIF AGRAVO\",CONSOLIDADO_2017!CD40))))))))))))))))))))))","v":"ATINGIU"}]

{"sheet":"AREIA_BRANCA_MUN","index":31,"n_rows":11,"n_cols":8,"rows_kept":11,"cut":false,"hidden":true,"merged":[]}
[]
[]
["POPULAÇÃO 2015",{"$f":"INDEX(CONSOLIDADO_2017!A1:CG77,MATCH(CONSOLIDADO_2017!C6,CONSOLIDADO_2017!C1:C77,0),4)","v":18169}]
[]
[]
[]
[]
[]
[null,null,null,null,null,null,{"$f":"IF($H$9=\"01 OBITO PREMATURO 30 A 69 DCNT\",MENU!$G$3,IF($H$9=\"02 %OBITOS EM MUL IDADE FERTIL INV\",MENU!$G$4,IF($H$9=\"03 %OBITOS CAUSAS BAS DEFINIDAS\",MENU!$G$5,IF($H$9=\"04 %VACINAS < 2 ANOS\",MENU!$G$6,IF($H$9=\"05 %DE CASOS DOENÇAS NOT COMP IMEDIATA\",MENU!$G$7,IF($H$9=\"06 %CURA CASOS NOVOS HANSEN\",MENU!$G$8,IF($H$9=\"08 CASOS NOVOS SÍFILIS CONG < ANO\",MENU!$G$9,IF($H$9=\"09 Nº DE AIDS < 5 ANOS\",MENU!$G$10,IF($H$9=\"10 %ANÁLISE AMOSTRA ÁGUA CONS HUM\",MENU!$G$11,IF($H$9=\"11 RAZÃO CITO 25 A 64\",MENU!$G$12,IF($H$9=\"12 RAZÃO MAMOGRAFIA BILATERAL 50 A 69\",MENU!$G$13,IF($H$9=\"13 %PARTO NORMAL SUS/SAÚDE SUPLEMENTAR\",MENU!$G$14,IF($H$9=\"14 %GRAVIDEZ ADOLESC 10 A 19\",MENU!$G$15,IF($H$9=\"15 OBITOS < ANO\",MENU!$G$16,IF($H$9=\"16 ÓBITOS MATERNOS\",MENU!$G$17,IF($H$9=\"17 %COB AB\",MENU!$G$18,IF($H$9=\"18 %COB Acomp BF\",MENU!$G$19,IF($H$9=\"19 %COB SAUDE BUCAL\",MENU!$G$20,IF($H$9=\"20 %MUN REALIZ AÇÕES VIGILANCIA\",MENU!$G$21,IF($H$9=\"21 AÇÕES DE MATRICIAMENTO CAPS\",MENU!$G$22,IF($H$9=\"22 NÚM CICLOS ATING 80% COB IMV DENGUE\",MENU!$G$23,IF($H$9=\"23 %PREENCHIMENTO OCUP NOTIF AGRAVO\",MENU!$G$24))))))))))))))))))))))","v":"META INDICADOR 01"},"01 OBITO PREMATURO 30 A 69 DCNT"]
[null,null,null,null,null,null,{"$f":"INDEX(CONSOLIDADO_2017!$A$1:$CG$77,MATCH(CONSOLIDADO_2017!C6,CONSOLIDADO_2017!C1:C77,0),MATCH(AREIA_BRANCA_MUN!G9,CONSOLIDADO_2017!$A$1:$CG$1,0))","v":19},{"$f":"INDEX(CONSOLIDADO_2017!$A$1:$CG$77,MATCH(CONSOLIDADO_2017!C6,CONSOLIDADO_2017!C1:C77,0),MATCH(AREIA_BRANCA_MUN!H9,CONSOLIDADO_2017!$A$1:$CG$1,0))","v":20}]
[null,null,null,null,null,null,null,{"$f":"IF(H9=\"01 OBITO PREMATURO 30 A 69 DCNT\",CONSOLIDADO_2017!H6,IF(H9=\"02 %OBITOS EM MUL IDADE FERTIL INV\",CONSOLIDADO_2017!M6,IF(H9=\"03 %OBITOS CAUSAS BAS DEFINIDAS\",CONSOLIDADO_2017!Q6,IF(H9=\"04 %VACINAS < 2 ANOS\",CONSOLIDADO_2017!T6,IF(H9=\"05 %DE CASOS DOENÇAS NOT COMP IMEDIATA\",CONSOLIDADO_2017!W6,IF(H9=\"06 %CURA CASOS NOVOS HANSEN\",CONSOLIDADO_2017!AA6,IF(H9=\"08 CASOS NOVOS SÍFILIS CONG < ANO\",CONSOLIDADO_2017!AD6,IF(H9=\"09 Nº DE AIDS < 5 ANOS\",CONSOLIDADO_2017!AG6,IF(H9=\"10 %ANÁLISE AMOSTRA ÁGUA CONS HUM\",CONSOLIDADO_2017!AJ6,IF(H9=\"11 RAZÃO CITO 25 A 64\",CONSOLIDADO_2017!AN6,IF(H9=\"12 RAZÃO MAMOGRAFIA BILATERAL 50 A 69\",CONSOLIDADO_2017!AR6,IF(H9=\"13 %PARTO NORMAL SUS/SAÚDE SUPLEMENTAR\",CONSOLIDADO_2017!AV6,IF(H9=\"14 %GRAVIDEZ ADOLESC 10 A 19\",CONSOLIDADO_2017!AZ6,IF(H9=\"15 OBITOS < ANO\",CONSOLIDADO_2017!BD6,IF(H9=\"16 ÓBITOS MATERNOS\",CONSOLIDADO_2017!BG6,IF(H9=\"17 %COB AB\",CONSOLIDADO_2017!BJ6,IF(H9=\"18 %COB Acomp BF\",CONSOLIDADO_2017!BN6,IF(H9=\"19 %COB SAUDE BUCAL\",CONSOLIDADO_2017!BQ6,IF(H9=\"20 %MUN REALIZ AÇÕES VIGILANCIA\",CONSOLIDADO_2017!BT6,IF(H9=\"21 AÇÕES DE MATRICIAMENTO CAPS\",CONSOLIDADO_2017!BX6,IF(H9=\"22 NÚM CICLOS ATING 80% COB IMV DENGUE\",CONSOLIDADO_2017!CA6,IF(H9=\"23 %PREENCHIMENTO OCUP NOTIF AGRAVO\",CONSOLIDADO_2017!CD6))))))))))))))))))))))","v":"NÃO ATINGIU"}]

{"sheet":"MALHADOR_MUN","index":32,"n_rows":11,"n_cols":8,"rows_kept":11,"cut":false,"hidden":true,"merged":[]}
[]
[]
["POPULAÇÃO 2015",{"$f":"INDEX(CONSOLIDADO_2017!A1:CG77,MATCH(CONSOLIDADO_2017!C38,CONSOLIDADO_2017!C1:C77,0),4)","v":12601}]
[]
[]
[]
[]
[]
[null,null,null,null,null,null,{"$f":"IF($H$9=\"01 OBITO PREMATURO 30 A 69 DCNT\",MENU!$G$3,IF($H$9=\"02 %OBITOS EM MUL IDADE FERTIL INV\",MENU!$G$4,IF($H$9=\"03 %OBITOS CAUSAS BAS DEFINIDAS\",MENU!$G$5,IF($H$9=\"04 %VACINAS < 2 ANOS\",MENU!$G$6,IF($H$9=\"05 %DE CASOS DOENÇAS NOT COMP IMEDIATA\",MENU!$G$7,IF($H$9=\"06 %CURA CASOS NOVOS HANSEN\",MENU!$G$8,IF($H$9=\"08 CASOS NOVOS SÍFILIS CONG < ANO\",MENU!$G$9,IF($H$9=\"09 Nº DE AIDS < 5 ANOS\",MENU!$G$10,IF($H$9=\"10 %ANÁLISE AMOSTRA ÁGUA CONS HUM\",MENU!$G$11,IF($H$9=\"11 RAZÃO CITO 25 A 64\",MENU!$G$12,IF($H$9=\"12 RAZÃO MAMOGRAFIA BILATERAL 50 A 69\",MENU!$G$13,IF($H$9=\"13 %PARTO NORMAL SUS/SAÚDE SUPLEMENTAR\",MENU!$G$14,IF($H$9=\"14 %GRAVIDEZ ADOLESC 10 A 19\",MENU!$G$15,IF($H$9=\"15 OBITOS < ANO\",MENU!$G$16,IF($H$9=\"16 ÓBITOS MATERNOS\",MENU!$G$17,IF($H$9=\"17 %COB AB\",MENU!$G$18,IF($H$9=\"18 %COB Acomp BF\",MENU!$G$19,IF($H$9=\"19 %COB SAUDE BUCAL\",MENU!$G$20,IF($H$9=\"20 %MUN REALIZ AÇÕES VIGILANCIA\",MENU!$G$21,IF($H$9=\"21 AÇÕES DE MATRICIAMENTO CAPS\",MENU!$G$22,IF($H$9=\"22 NÚM CICLOS ATING 80% COB IMV DENGUE\",MENU!$G$23,IF($H$9=\"23 %PREENCHIMENTO OCUP NOTIF AGRAVO\",MENU!$G$24))))))))))))))))))))))","v":"META INDICADOR 01"},"01 OBITO PREMATURO 30 A 69 DCNT"]
[null,null,null,null,null,null,{"$f":"INDEX(CONSOLIDADO_2017!$A$1:$CG$77,MATCH(CONSOLIDADO_2017!C38,CONSOLIDADO_2017!C1:C77,0),MATCH(MALHADOR_MUN!G9,CONSOLIDADO_2017!$A$1:$CG$1,0))","v":13},{"$f":"INDEX(CONSOLIDADO_2017!$A$1:$CG$77,MATCH(CONSOLIDADO_2017!C38,CONSOLIDADO_2017!C1:C77,0),MATCH(MALHADOR_MUN!H9,CONSOLIDADO_2017!$A$1:$CG$1,0))","v":13}]
[null,null,null,null,null,null,null,{"$f":"IF(H9=\"01 OBITO PREMATURO 30 A 69 DCNT\",CONSOLIDADO_2017!H38,IF(H9=\"02 %OBITOS EM MUL IDADE FERTIL INV\",CONSOLIDADO_2017!M38,IF(H9=\"03 %OBITOS CAUSAS BAS DEFINIDAS\",CONSOLIDADO_2017!Q38,IF(H9=\"04 %VACINAS < 2 ANOS\",CONSOLIDADO_2017!T38,IF(H9=\"05 %DE CASOS DOENÇAS NOT COMP IMEDIATA\",CONSOLIDADO_2017!W38,IF(H9=\"06 %CURA CASOS NOVOS HANSEN\",CONSOLIDADO_2017!AA38,IF(H9=\"08 CASOS NOVOS SÍFILIS CONG < ANO\",CONSOLIDADO_2017!AD38,IF(H9=\"09 Nº DE AIDS < 5 ANOS\",CONSOLIDADO_2017!AG38,IF(H9=\"10 %ANÁLISE AMOSTRA ÁGUA CONS HUM\",CONSOLIDADO_2017!AJ38,IF(H9=\"11 RAZÃO CITO 25 A 64\",CONSOLIDADO_2017!AN38,IF(H9=\"12 RAZÃO MAMOGRAFIA BILATERAL 50 A 69\",CONSOLIDADO_2017!AR38,IF(H9=\"13 %PARTO NORMAL SUS/SAÚDE SUPLEMENTAR\",CONSOLIDADO_2017!AV38,IF(H9=\"14 %GRAVIDEZ ADOLESC 10 A 19\",CONSOLIDADO_2017!AZ38,IF(H9=\"15 OBITOS < ANO\",CONSOLIDADO_2017!BD38,IF(H9=\"16 ÓBITOS MATERNOS\",CONSOLIDADO_2017!BG38,IF(H9=\"17 %COB AB\",CONSOLIDADO_2017!BJ38,IF(H9=\"18 %COB Acomp BF\",CONSOLIDADO_2017!BN38,IF(H9=\"19 %COB SAUDE BUCAL\",CONSOLIDADO_2017!BQ38,IF(H9=\"20 %MUN REALIZ AÇÕES VIGILANCIA\",CONSOLIDADO_2017!BT38,IF(H9=\"21 AÇÕES DE MATRICIAMENTO CAPS\",CONSOLIDADO_2017!BX38,IF(H9=\"22 NÚM CICLOS ATING 80% COB IMV DENGUE\",CONSOLIDADO_2017!CA38,IF(H9=\"23 %PREENCHIMENTO OCUP NOTIF AGRAVO\",CONSOLIDADO_2017!CD38))))))))))))))))))))))","v":"ATINGIU"}]

{"sheet":"SAO_DOMINGOS_MUN","index":33,"n_rows":11,"n_cols":8,"rows_kept":11,"cut":false,"hidden":true,"merged":[]}
[]
[]
["POPULAÇÃO 2015",{"$f":"INDEX(CONSOLIDADO_2017!A1:CG77,MATCH(CONSOLIDADO_2017!C68,CONSOLIDADO_2017!C1:C77,0),4)","v":10971}]
[]
[]
[]
[]
[]
[null,null,null,null,null,null,{"$f":"IF($H$9=\"01 OBITO PREMATURO 30 A 69 DCNT\",MENU!$G$3,IF($H$9=\"02 %OBITOS EM MUL IDADE FERTIL INV\",MENU!$G$4,IF($H$9=\"03 %OBITOS CAUSAS BAS DEFINIDAS\",MENU!$G$5,IF($H$9=\"04 %VACINAS < 2 ANOS\",MENU!$G$6,IF($H$9=\"05 %DE CASOS DOENÇAS NOT COMP IMEDIATA\",MENU!$G$7,IF($H$9=\"06 %CURA CASOS NOVOS HANSEN\",MENU!$G$8,IF($H$9=\"08 CASOS NOVOS SÍFILIS CONG < ANO\",MENU!$G$9,IF($H$9=\"09 Nº DE AIDS < 5 ANOS\",MENU!$G$10,IF($H$9=\"10 %ANÁLISE AMOSTRA ÁGUA CONS HUM\",MENU!$G$11,IF($H$9=\"11 RAZÃO CITO 25 A 64\",MENU!$G$12,IF($H$9=\"12 RAZÃO MAMOGRAFIA BILATERAL 50 A 69\",MENU!$G$13,IF($H$9=\"13 %PARTO NORMAL SUS/SAÚDE SUPLEMENTAR\",MENU!$G$14,IF($H$9=\"14 %GRAVIDEZ ADOLESC 10 A 19\",MENU!$G$15,IF($H$9=\"15 OBITOS < ANO\",MENU!$G$16,IF($H$9=\"16 ÓBITOS MATERNOS\",MENU!$G$17,IF($H$9=\"17 %COB AB\",MENU!$G$18,IF($H$9=\"18 %COB Acomp BF\",MENU!$G$19,IF($H$9=\"19 %COB SAUDE BUCAL\",MENU!$G$20,IF($H$9=\"20 %MUN REALIZ AÇÕES VIGILANCIA\",MENU!$G$21,IF($H$9=\"21 AÇÕES DE MATRICIAMENTO CAPS\",MENU!$G$22,IF($H$9=\"22 NÚM CICLOS ATING 80% COB IMV DENGUE\",MENU!$G$23,IF($H$9=\"23 %PREENCHIMENTO OCUP NOTIF AGRAVO\",MENU!$G$24))))))))))))))))))))))","v":"META INDICADOR 01"},"01 OBITO PREMATURO 30 A 69 DCNT"]
[null,null,null,null,null,null,{"$f":"INDEX(CONSOLIDADO_2017!$A$1:$CG$77,MATCH(CONSOLIDADO_2017!C68,CONSOLIDADO_2017!C1:C77,0),MATCH(SAO_DOMINGOS_MUN!G9,CONSOLIDADO_2017!$A$1:$CG$1,0))","v":10},{"$f":"INDEX(CONSOLIDADO_2017!$A$1:$CG$77,MATCH(CONSOLIDADO_2017!C68,CONSOLIDADO_2017!C1:C77,0),MATCH(SAO_DOMINGOS_MUN!H9,CONSOLIDADO_2017!$A$1:$CG$1,0))","v":6}]
[null,null,null,null,null,null,null,{"$f":"IF(H9=\"01 OBITO PREMATURO 30 A 69 DCNT\",CONSOLIDADO_2017!H68,IF(H9=\"02 %OBITOS EM MUL IDADE FERTIL INV\",CONSOLIDADO_2017!M68,IF(H9=\"03 %OBITOS CAUSAS BAS DEFINIDAS\",CONSOLIDADO_2017!Q68,IF(H9=\"04 %VACINAS < 2 ANOS\",CONSOLIDADO_2017!T68,IF(H9=\"05 %DE CASOS DOENÇAS NOT COMP IMEDIATA\",CONSOLIDADO_2017!W68,IF(H9=\"06 %CURA CASOS NOVOS HANSEN\",CONSOLIDADO_2017!AA68,IF(H9=\"08 CASOS NOVOS SÍFILIS CONG < ANO\",CONSOLIDADO_2017!AD68,IF(H9=\"09 Nº DE AIDS < 5 ANOS\",CONSOLIDADO_2017!AG68,IF(H9=\"10 %ANÁLISE AMOSTRA ÁGUA CONS HUM\",CONSOLIDADO_2017!AJ68,IF(H9=\"11 RAZÃO CITO 25 A 64\",CONSOLIDADO_2017!AN68,IF(H9=\"12 RAZÃO MAMOGRAFIA BILATERAL 50 A 69\",CONSOLIDADO_2017!AR68,IF(H9=\"13 %PARTO NORMAL SUS/SAÚDE SUPLEMENTAR\",CONSOLIDADO_2017!AV68,IF(H9=\"14 %GRAVIDEZ ADOLESC 10 A 19\",CONSOLIDADO_2017!AZ68,IF(H9=\"15 OBITOS < ANO\",CONSOLIDADO_2017!BD68,IF(H9=\"16 ÓBITOS MATERNOS\",CONSOLIDADO_2017!BG68,IF(H9=\"17 %COB AB\",CONSOLIDADO_2017!BJ68,IF(H9=\"18 %COB Acomp BF\",CONSOLIDADO_2017!BN68,IF(H9=\"19 %COB SAUDE BUCAL\",CONSOLIDADO_2017!BQ68,IF(H9=\"20 %MUN REALIZ AÇÕES VIGILANCIA\",CONSOLIDADO_2017!BT68,IF(H9=\"21 AÇÕES DE MATRICIAMENTO CAPS\",CONSOLIDADO_2017!BX68,IF(H9=\"22 NÚM CICLOS ATING 80% COB IMV DENGUE\",CONSOLIDADO_2017!CA68,IF(H9=\"23 %PREENCHIMENTO OCUP NOTIF AGRAVO\",CONSOLIDADO_2017!CD68))))))))))))))))))))))","v":"ATINGIU"}]

{"sheet":"CAMPO_BRITO_MUN","index":34,"n_rows":11,"n_cols":8,"rows_kept":11,"cut":false,"hidden":true,"merged":[]}
[]
[]
["POPULAÇÃO 2015",{"$f":"INDEX(CONSOLIDADO_2017!A1:CG77,MATCH(CONSOLIDADO_2017!C10,CONSOLIDADO_2017!C1:C77,0),4)","v":17851}]
[]
[]
[]
[]
[]
[null,null,null,null,null,null,{"$f":"IF($H$9=\"01 OBITO PREMATURO 30 A 69 DCNT\",MENU!$G$3,IF($H$9=\"02 %OBITOS EM MUL IDADE FERTIL INV\",MENU!$G$4,IF($H$9=\"03 %OBITOS CAUSAS BAS DEFINIDAS\",MENU!$G$5,IF($H$9=\"04 %VACINAS < 2 ANOS\",MENU!$G$6,IF($H$9=\"05 %DE CASOS DOENÇAS NOT COMP IMEDIATA\",MENU!$G$7,IF($H$9=\"06 %CURA CASOS NOVOS HANSEN\",MENU!$G$8,IF($H$9=\"08 CASOS NOVOS SÍFILIS CONG < ANO\",MENU!$G$9,IF($H$9=\"09 Nº DE AIDS < 5 ANOS\",MENU!$G$10,IF($H$9=\"10 %ANÁLISE AMOSTRA ÁGUA CONS HUM\",MENU!$G$11,IF($H$9=\"11 RAZÃO CITO 25 A 64\",MENU!$G$12,IF($H$9=\"12 RAZÃO MAMOGRAFIA BILATERAL 50 A 69\",MENU!$G$13,IF($H$9=\"13 %PARTO NORMAL SUS/SAÚDE SUPLEMENTAR\",MENU!$G$14,IF($H$9=\"14 %GRAVIDEZ ADOLESC 10 A 19\",MENU!$G$15,IF($H$9=\"15 OBITOS < ANO\",MENU!$G$16,IF($H$9=\"16 ÓBITOS MATERNOS\",MENU!$G$17,IF($H$9=\"17 %COB AB\",MENU!$G$18,IF($H$9=\"18 %COB Acomp BF\",MENU!$G$19,IF($H$9=\"19 %COB SAUDE BUCAL\",MENU!$G$20,IF($H$9=\"20 %MUN REALIZ AÇÕES VIGILANCIA\",MENU!$G$21,IF($H$9=\"21 AÇÕES DE MATRICIAMENTO CAPS\",MENU!$G$22,IF($H$9=\"22 NÚM CICLOS ATING 80% COB IMV DENGUE\",MENU!$G$23,IF($H$9=\"23 %PREENCHIMENTO OCUP NOTIF AGRAVO\",MENU!$G$24))))))))))))))))))))))","v":"META INDICADOR 01"},"01 OBITO PREMATURO 30 A 69 DCNT"]
[null,null,null,null,null,null,{"$f":"INDEX(CONSOLIDADO_2017!$A$1:$CG$77,MATCH(CONSOLIDADO_2017!C10,CONSOLIDADO_2017!C1:C77,0),MATCH(CAMPO_BRITO_MUN!G9,CONSOLIDADO_2017!$A$1:$CG$1,0))","v":15},{"$f":"INDEX(CONSOLIDADO_2017!$A$1:$CG$77,MATCH(CONSOLIDADO_2017!C10,CONSOLIDADO_2017!C1:C77,0),MATCH(CAMPO_BRITO_MUN!H9,CONSOLIDADO_2017!$A$1:$CG$1,0))","v":26}]
[null,null,null,null,null,null,null,{"$f":"IF(H9=\"01 OBITO PREMATURO 30 A 69 DCNT\",CONSOLIDADO_2017!H10,IF(H9=\"02 %OBITOS EM MUL IDADE FERTIL INV\",CONSOLIDADO_2017!M10,IF(H9=\"03 %OBITOS CAUSAS BAS DEFINIDAS\",CONSOLIDADO_2017!Q10,IF(H9=\"04 %VACINAS < 2 ANOS\",CONSOLIDADO_2017!T10,IF(H9=\"05 %DE CASOS DOENÇAS NOT COMP IMEDIATA\",CONSOLIDADO_2017!W10,IF(H9=\"06 %CURA CASOS NOVOS HANSEN\",CONSOLIDADO_2017!AA10,IF(H9=\"08 CASOS NOVOS SÍFILIS CONG < ANO\",CONSOLIDADO_2017!AD10,IF(H9=\"09 Nº DE AIDS < 5 ANOS\",CONSOLIDADO_2017!AG10,IF(H9=\"10 %ANÁLISE AMOSTRA ÁGUA CONS HUM\",CONSOLIDADO_2017!AJ10,IF(H9=\"11 RAZÃO CITO 25 A 64\",CONSOLIDADO_2017!AN10,IF(H9=\"12 RAZÃO MAMOGRAFIA BILATERAL 50 A 69\",CONSOLIDADO_2017!AR10,IF(H9=\"13 %PARTO NORMAL SUS/SAÚDE SUPLEMENTAR\",CONSOLIDADO_2017!AV10,IF(H9=\"14 %GRAVIDEZ ADOLESC 10 A 19\",CONSOLIDADO_2017!AZ10,IF(H9=\"15 OBITOS < ANO\",CONSOLIDADO_2017!BD10,IF(H9=\"16 ÓBITOS MATERNOS\",CONSOLIDADO_2017!BG10,IF(H9=\"17 %COB AB\",CONSOLIDADO_2017!BJ10,IF(H9=\"18 %COB Acomp BF\",CONSOLIDADO_2017!BN10,IF(H9=\"19 %COB SAUDE BUCAL\",CONSOLIDADO_2017!BQ10,IF(H9=\"20 %MUN REALIZ AÇÕES VIGILANCIA\",CONSOLIDADO_2017!BT10,IF(H9=\"21 AÇÕES DE MATRICIAMENTO CAPS\",CONSOLIDADO_2017!BX10,IF(H9=\"22 NÚM CICLOS ATING 80% COB IMV DENGUE\",CONSOLIDADO_2017!CA10,IF(H9=\"23 %PREENCHIMENTO OCUP NOTIF AGRAVO\",CONSOLIDADO_2017!CD10))))))))))))))))))))))","v":"NÃO ATINGIU"}]

{"sheet":"ITABAIANA_REG","index":35,"n_rows":100,"n_cols":12,"rows_kept":100,"cut":false,"hidden":true,"merged":[]}
[]
[]
[]
[]
[]
[]
[]
[]
[null,null,null,null,null,null,{"$f":"IF($H$9=\"01 TAXA OBITO PREMATURO 30 A 69 DCNT\",MENU!$G$3,IF($H$9=\"02 %OBITOS EM MUL IDADE FERTIL INV\",MENU!$G$4,IF($H$9=\"03 %OBITOS CAUSAS BAS DEFINIDAS\",MENU!$G$5,IF($H$9=\"04 %VACINAS < 2 ANOS\",MENU!$G$6,IF($H$9=\"05 %DE CASOS DOENÇAS NOT COMP IMEDIATA\",MENU!$G$7,IF($H$9=\"06 %CURA CASOS NOVOS HANSEN\",MENU!$G$8,IF($H$9=\"08 CASOS NOVOS SÍFILIS CONG < ANO\",MENU!$G$9,IF($H$9=\"09 Nº DE AIDS < 5 ANOS\",MENU!$G$10,IF($H$9=\"10 %ANÁLISE AMOSTRA ÁGUA CONS HUM\",MENU!$G$11,IF($H$9=\"11 RAZÃO CITO 25 A 64\",MENU!$G$12,IF($H$9=\"12 RAZÃO MAMOGRAFIA BILATERAL 50 A 69\",MENU!$G$13,IF($H$9=\"13 %PARTO NORMAL SUS/SAÚDE SUPLEMENTAR\",MENU!$G$14,IF($H$9=\"14 %GRAVIDEZ ADOLESC 10 A 19\",MENU!$G$15,IF($H$9=\"15 TAXA MORTALIDADE INFANTIL\",MENU!$G$16,IF($H$9=\"16 ÓBITOS MATERNOS\",MENU!$G$17,IF($H$9=\"17 %COB AB\",MENU!$G$18,IF($H$9=\"18 %COB Acomp BF\",MENU!$G$19,IF($H$9=\"19 %COB SAUDE BUCAL\",MENU!$G$20,IF($H$9=\"20 %MUN REALIZ AÇÕES VIGILANCIA\",MENU!$G$21,IF($H$9=\"21 %AÇÕES DE MATRICIAMENTO CAPS\",MENU!$G$22,IF($H$9=\"22 NÚM CICLOS ATING 80% COB IMV DENGUE\",MENU!$G$23,IF($H$9=\"23 %PREENCHIMENTO OCUP NOTIF AGRAVO\",MENU!$G$24))))))))))))))))))))))","v":"META INDICADOR 21"},"21 %AÇÕES DE MATRICIAMENTO CAPS"]
[null,null,null,null,null,null,{"$f":"INDEX(TBDADOSREG,MATCH(CONSOLIDADO_REG!B5,CONSOLIDADO_REG!B1:B9,0),MATCH(ITABAIANA_REG!G9,CONSOLIDADO_REG!A1:CE1,0))","v":1},{"$f":"INDEX(TBDADOSREG,MATCH(CONSOLIDADO_REG!B5,CONSOLIDADO_REG!B1:B9,0),MATCH(ITABAIANA_REG!H9,CONSOLIDADO_REG!A1:CE1,0))","v":0.6}]
[null,null,null,null,null,null,null,{"$f":"IF(H9=\"01 TAXA OBITO PREMATURO 30 A 69 DCNT\",CONSOLIDADO_REG!G5,IF(H9=\"02 %OBITOS EM MUL IDADE FERTIL INV\",CONSOLIDADO_REG!L5,IF(H9=\"03 %OBITOS CAUSAS BAS DEFINIDAS\",CONSOLIDADO_REG!P5,IF(H9=\"04 %VACINAS < 2 ANOS\",CONSOLIDADO_REG!S5,IF(H9=\"05 %DE CASOS DOENÇAS NOT COMP IMEDIATA\",CONSOLIDADO_REG!V5,IF(H9=\"06 %CURA CASOS NOVOS HANSEN\",CONSOLIDADO_REG!Z5,IF(H9=\"08 CASOS NOVOS SÍFILIS CONG < ANO\",CONSOLIDADO_REG!AC5,IF(H9=\"09 Nº DE AIDS < 5 ANOS\",CONSOLIDADO_REG!AF5,IF(H9=\"10 %ANÁLISE AMOSTRA ÁGUA CONS HUM\",CONSOLIDADO_REG!AI5,IF(H9=\"11 RAZÃO CITO 25 A 64\",CONSOLIDADO_REG!AM5,IF(H9=\"12 RAZÃO MAMOGRAFIA BILATERAL 50 A 69\",CONSOLIDADO_REG!AQ5,IF(H9=\"13 %PARTO NORMAL SUS/SAÚDE SUPLEMENTAR\",CONSOLIDADO_REG!AU5,IF(H9=\"14 %GRAVIDEZ ADOLESC 10 A 19\",CONSOLIDADO_REG!AY5,IF(H9=\"15 TAXA MORTALIDADE INFANTIL\",CONSOLIDADO_REG!BC5,IF(H9=\"16 ÓBITOS MATERNOS\",CONSOLIDADO_REG!BF5,IF(H9=\"17 %COB AB\",CONSOLIDADO_REG!BI5,IF(H9=\"18 %COB Acomp BF\",CONSOLIDADO_REG!BM5,IF(H9=\"19 %COB SAUDE BUCAL\",CONSOLIDADO_REG!BP5,IF(H9=\"20 %MUN REALIZ AÇÕES VIGILANCIA\",CONSOLIDADO_REG!BS5,IF(H9=\"21 %AÇÕES DE MATRICIAMENTO CAPS\",CONSOLIDADO_REG!BV5,IF(H9=\"22 NÚM CICLOS ATING 80% COB IMV DENGUE\",CONSOLIDADO_REG!BY5,IF(H9=\"23 %PREENCHIMENTO OCUP NOTIF AGRAVO\",CONSOLIDADO_REG!CB5))))))))))))))))))))))","v":"NÃO ATINGIU"}]
[]
[]
[]
[]
[null,null,null,null,null,null,null,null,null,null,null,"     "]
[]
[]
[]
[]
[]
[]
[]
[]
[]
[]
[]
[]
[]
[]
[]
[]
[]
[]
[]
[]
[]
[]
[]
[]
[]
[]
[]
[]
[]
[]
[]
[]
[]
[]
[]
[]
[]
[]
[]
[]
[]
[]
[]
[]
[]
[]
[]
[]
[]
[]
[]
[]
[]
[]
[]
[]
[]
[]
[]
[]
[]
[]
["COD","REGIÃO","MUNICIPIOS","PROPORÇÃO DE METAS ALCANÇADAS POR MUNICÍPIO NO SISPACTO"]
[280050,"ITABAIANA","AREIA BRANCA",{"$f":"INDEX(CONSOLIDADO_2017!A6:CG70,MATCH(ITABAIANA_REG!C80,CONSOLIDADO_2017!C6:C70,0),85)","v":0.55000000000000004}]
[280100,"ITABAIANA","CAMPO DO BRITO",{"$f":"INDEX(CONSOLIDADO_2017!A7:CG71,MATCH(ITABAIANA_REG!C81,CONSOLIDADO_2017!C7:C71,0),85)","v":0.5714285714285714}]
[280140,"ITABAIANA","CARIRA",{"$f":"INDEX(CONSOLIDADO_2017!A8:CG72,MATCH(ITABAIANA_REG!C82,CONSOLIDADO_2017!C8:C72,0),85)","v":0.47619047619047616}]
[280230,"ITABAIANA","FREI PAULO",{"$f":"INDEX(CONSOLIDADO_2017!A9:CG73,MATCH(ITABAIANA_REG!C83,CONSOLIDADO_2017!C9:C73,0),85)","v":0.44444444444444442}]
[280290,"ITABAIANA","ITABAIANA",{"$f":"INDEX(CONSOLIDADO_2017!A10:CG74,MATCH(ITABAIANA_REG!C85,CONSOLIDADO_2017!C10:C74,0),85)","v":0.52631578947368418}]
[280370,"ITABAIANA","MACAMBIRA",{"$f":"INDEX(CONSOLIDADO_2017!A11:CG75,MATCH(ITABAIANA_REG!C85,CONSOLIDADO_2017!C11:C75,0),85)","v":0.52631578947368418}]
[280390,"ITABAIANA","MALHADOR",{"$f":"INDEX(CONSOLIDADO_2017!A12:CG76,MATCH(ITABAIANA_REG!C86,CONSOLIDADO_2017!C12:C76,0),85)","v":0.5}]
[280410,"ITABAIANA","MOITA BONITA",{"$f":"INDEX(CONSOLIDADO_2017!A13:CG77,MATCH(ITABAIANA_REG!C87,CONSOLIDADO_2017!C13:C77,0),85)","v":0.5}]
[280445,"ITABAIANA","NOSSA SENHORA APARECIDA",{"$f":"INDEX(CONSOLIDADO_2017!A14:CG78,MATCH(ITABAIANA_REG!C88,CONSOLIDADO_2017!C14:C78,0),85)","v":0.5}]
[280500,"ITABAIANA","PEDRA MOLE",{"$f":"INDEX(CONSOLIDADO_2017!A15:CG79,MATCH(ITABAIANA_REG!C89,CONSOLIDADO_2017!C15:C79,0),85)","v":0.57894736842105265}]
[280520,"ITABAIANA","PINHAO",{"$f":"INDEX(CONSOLIDADO_2017!A16:CG80,MATCH(ITABAIANA_REG!C90,CONSOLIDADO_2017!C16:C80,0),85)","v":0.3888888888888889}]
[280600,"ITABAIANA","RIBEIROPOLIS",{"$f":"INDEX(CONSOLIDADO_2017!A17:CG81,MATCH(ITABAIANA_REG!C91,CONSOLIDADO_2017!C17:C81,0),85)","v":0.45}]
[280680,"ITABAIANA","SÃO DOMINGOS",{"$f":"INDEX(CONSOLIDADO_2017!A18:CG82,MATCH(ITABAIANA_REG!C92,CONSOLIDADO_2017!C18:C82,0),85)","v":0.52380952380952384}]
[280700,"ITABAIANA","SÃO MIGUEL DO ALEIXO",{"$f":"INDEX(CONSOLIDADO_2017!A19:CG83,MATCH(ITABAIANA_REG!C93,CONSOLIDADO_2017!C19:C83,0),85)","v":0.42105263157894735}]
[]
[]
[]
[]
[]
[]
["POPULAÇÃO 2015",{"$f":"INDEX(TBDADOSREG,MATCH(CONSOLIDADO_REG!B5,CONSOLIDADO_REG!B1:B9,0),3)","v":248651}]

{"sheet":"CANINDE_MUN","index":36,"n_rows":100,"n_cols":8,"rows_kept":100,"cut":false,"hidden":true,"merged":[]}
[]
[]
[]
[]
[]
[]
[]
[]
[null,null,null,null,null,null,{"$f":"IF($H$9=\"01 OBITO PREMATURO 30 A 69 DCNT\",MENU!$G$3,IF($H$9=\"02 %OBITOS EM MUL IDADE FERTIL INV\",MENU!$G$4,IF($H$9=\"03 %OBITOS CAUSAS BAS DEFINIDAS\",MENU!$G$5,IF($H$9=\"04 %VACINAS < 2 ANOS\",MENU!$G$6,IF($H$9=\"05 %DE CASOS DOENÇAS NOT COMP IMEDIATA\",MENU!$G$7,IF($H$9=\"06 %CURA CASOS NOVOS HANSEN\",MENU!$G$8,IF($H$9=\"08 CASOS NOVOS SÍFILIS CONG < ANO\",MENU!$G$9,IF($H$9=\"09 Nº DE AIDS < 5 ANOS\",MENU!$G$10,IF($H$9=\"10 %ANÁLISE AMOSTRA ÁGUA CONS HUM\",MENU!$G$11,IF($H$9=\"11 RAZÃO CITO 25 A 64\",MENU!$G$12,IF($H$9=\"12 RAZÃO MAMOGRAFIA BILATERAL 50 A 69\",MENU!$G$13,IF($H$9=\"13 %PARTO NORMAL SUS/SAÚDE SUPLEMENTAR\",MENU!$G$14,IF($H$9=\"14 %GRAVIDEZ ADOLESC 10 A 19\",MENU!$G$15,IF($H$9=\"15 OBITOS < ANO\",MENU!$G$16,IF($H$9=\"16 ÓBITOS MATERNOS\",MENU!$G$17,IF($H$9=\"17 %COB AB\",MENU!$G$18,IF($H$9=\"18 %COB Acomp BF\",MENU!$G$19,IF($H$9=\"19 %COB SAUDE BUCAL\",MENU!$G$20,IF($H$9=\"20 %MUN REALIZ AÇÕES VIGILANCIA\",MENU!$G$21,IF($H$9=\"21 %AÇÕES DE MATRICIAMENTO CAPS\",MENU!$G$22,IF($H$9=\"22 NÚM CICLOS ATING 80% COB IMV DENGUE\",MENU!$G$23,IF($H$9=\"23 %PREENCHIMENTO OCUP NOTIF AGRAVO\",MENU!$G$24))))))))))))))))))))))","v":"META INDICADOR 01"},"01 OBITO PREMATURO 30 A 69 DCNT"]
[null,null,null,null,null,null,{"$f":"INDEX(CONSOLIDADO_2017!A1:CG77,MATCH(CONSOLIDADO_2017!C12,CONSOLIDADO_2017!C1:C77,0),MATCH(CANINDE_MUN!G9,Tabela13[#Headers],0))","v":22},{"$f":"INDEX(CONSOLIDADO_2017!A1:CG77,MATCH(CONSOLIDADO_2017!C12,CONSOLIDADO_2017!C1:C77,0),MATCH(CANINDE_MUN!H9,Tabela13[#Headers],0))","v":27}]
[null,null,null,null,null,null,null,{"$f":"IF(H9=\"01 OBITO PREMATURO 30 A 69 DCNT\",CONSOLIDADO_2017!H12,IF(H9=\"02 %OBITOS EM MUL IDADE FERTIL INV\",CONSOLIDADO_2017!M12,IF(H9=\"03 %OBITOS CAUSAS BAS DEFINIDAS\",CONSOLIDADO_2017!Q12,IF(H9=\"04 %VACINAS < 2 ANOS\",CONSOLIDADO_2017!T12,IF(H9=\"05 %DE CASOS DOENÇAS NOT COMP IMEDIATA\",CONSOLIDADO_2017!W12,IF(H9=\"06 %CURA CASOS NOVOS HANSEN\",CONSOLIDADO_2017!AA12,IF(H9=\"08 CASOS NOVOS SÍFILIS CONG < ANO\",CONSOLIDADO_2017!AD12,IF(H9=\"09 Nº DE AIDS < 5 ANOS\",CONSOLIDADO_2017!AG12,IF(H9=\"10 %ANÁLISE AMOSTRA ÁGUA CONS HUM\",CONSOLIDADO_2017!AJ12,IF(H9=\"11 RAZÃO CITO 25 A 64\",CONSOLIDADO_2017!AN12,IF(H9=\"12 RAZÃO MAMOGRAFIA BILATERAL 50 A 69\",CONSOLIDADO_2017!AR12,IF(H9=\"13 %PARTO NORMAL SUS/SAÚDE SUPLEMENTAR\",CONSOLIDADO_2017!AV12,IF(H9=\"14 %GRAVIDEZ ADOLESC 10 A 19\",CONSOLIDADO_2017!AZ12,IF(H9=\"15 OBITOS < ANO\",CONSOLIDADO_2017!BD12,IF(H9=\"16 ÓBITOS MATERNOS\",CONSOLIDADO_2017!BG12,IF(H9=\"17 %COB AB\",CONSOLIDADO_2017!BJ12,IF(H9=\"18 %COB Acomp BF\",CONSOLIDADO_2017!BN12,IF(H9=\"19 %COB SAUDE BUCAL\",CONSOLIDADO_2017!BQ12,IF(H9=\"20 %MUN REALIZ AÇÕES VIGILANCIA\",CONSOLIDADO_2017!BT12,IF(H9=\"21 %AÇÕES DE MATRICIAMENTO CAPS\",CONSOLIDADO_2017!BX12,IF(H9=\"22 NÚM CICLOS ATING 80% COB IMV DENGUE\",CONSOLIDADO_2017!CA12,IF(H9=\"23 %PREENCHIMENTO OCUP NOTIF AGRAVO\",CONSOLIDADO_2017!CD12))))))))))))))))))))))","v":"NÃO ATINGIU"}]
[]
[]
[]
[]
[]
[]
[]
[]
[]
[]
[]
[]
[]
[]
[]
[]
[]
[]
[]
[]
[]
[]
[]
[]
[]
[]
[]
[]
[]
[]
[]
[]
[]
[]
[]
[]
[]
[]
[]
[]
[]
[]
[]
[]
[]
[]
[]
[]
[]
[]
[]
[]
[]
[]
[]
[]
[]
[]
[]
[]
[]
[]
[]
[]
[]
[]
[]
[]
[]
[]
[]
[]
[]
[]
[]
[]
[]
[]
[]
[]
[]
[]
[]
[]
[]
[]
[]
[]
["POPULAÇÃO 2015",{"$f":"INDEX(CONSOLIDADO_2017!A1:CG77,MATCH(CONSOLIDADO_2017!C12,CONSOLIDADO_2017!C1:C77,0),4)","v":28279}]

{"sheet":"POÇO_REDONDO_MUN","index":37,"n_rows":100,"n_cols":8,"rows_kept":100,"cut":false,"hidden":true,"merged":[]}
[]
[]
[]
[]
[]
[]
[]
[]
[null,null,null,null,null,null,{"$f":"IF($H$9=\"01 OBITO PREMATURO 30 A 69 DCNT\",MENU!$G$3,IF($H$9=\"02 %OBITOS EM MUL IDADE FERTIL INV\",MENU!$G$4,IF($H$9=\"03 %OBITOS CAUSAS BAS DEFINIDAS\",MENU!$G$5,IF($H$9=\"04 %VACINAS < 2 ANOS\",MENU!$G$6,IF($H$9=\"05 %DE CASOS DOENÇAS NOT COMP IMEDIATA\",MENU!$G$7,IF($H$9=\"06 %CURA CASOS NOVOS HANSEN\",MENU!$G$8,IF($H$9=\"08 CASOS NOVOS SÍFILIS CONG < ANO\",MENU!$G$9,IF($H$9=\"09 Nº DE AIDS < 5 ANOS\",MENU!$G$10,IF($H$9=\"10 %ANÁLISE AMOSTRA ÁGUA CONS HUM\",MENU!$G$11,IF($H$9=\"11 RAZÃO CITO 25 A 64\",MENU!$G$12,IF($H$9=\"12 RAZÃO MAMOGRAFIA BILATERAL 50 A 69\",MENU!$G$13,IF($H$9=\"13 %PARTO NORMAL SUS/SAÚDE SUPLEMENTAR\",MENU!$G$14,IF($H$9=\"14 %GRAVIDEZ ADOLESC 10 A 19\",MENU!$G$15,IF($H$9=\"15 OBITOS < ANO\",MENU!$G$16,IF($H$9=\"16 ÓBITOS MATERNOS\",MENU!$G$17,IF($H$9=\"17 %COB AB\",MENU!$G$18,IF($H$9=\"18 %COB Acomp BF\",MENU!$G$19,IF($H$9=\"19 %COB SAUDE BUCAL\",MENU!$G$20,IF($H$9=\"20 %MUN REALIZ AÇÕES VIGILANCIA\",MENU!$G$21,IF($H$9=\"21 %AÇÕES DE MATRICIAMENTO CAPS\",MENU!$G$22,IF($H$9=\"22 NÚM CICLOS ATING 80% COB IMV DENGUE\",MENU!$G$23,IF($H$9=\"23 %PREENCHIMENTO OCUP NOTIF AGRAVO\",MENU!$G$24))))))))))))))))))))))","v":"META INDICADOR 02"},"02 %OBITOS EM MUL IDADE FERTIL INV"]
[null,null,null,null,null,null,{"$f":"INDEX(CONSOLIDADO_2017!A1:CG77,MATCH(CONSOLIDADO_2017!C54,CONSOLIDADO_2017!C1:C77,0),MATCH(POÇO_REDONDO_MUN!G9,Tabela13[#Headers],0))","v":1},{"$f":"INDEX(CONSOLIDADO_2017!A1:CG77,MATCH(CONSOLIDADO_2017!C54,CONSOLIDADO_2017!C1:C77,0),MATCH(POÇO_REDONDO_MUN!H9,Tabela13[#Headers],0))","v":0.5}]
[null,null,null,null,null,null,null,{"$f":"IF(H9=\"01 OBITO PREMATURO 30 A 69 DCNT\",CONSOLIDADO_2017!H54,IF(H9=\"02 %OBITOS EM MUL IDADE FERTIL INV\",CONSOLIDADO_2017!M54,IF(H9=\"03 %OBITOS CAUSAS BAS DEFINIDAS\",CONSOLIDADO_2017!Q54,IF(H9=\"04 %VACINAS < 2 ANOS\",CONSOLIDADO_2017!T54,IF(H9=\"05 %DE CASOS DOENÇAS NOT COMP IMEDIATA\",CONSOLIDADO_2017!W54,IF(H9=\"06 %CURA CASOS NOVOS HANSEN\",CONSOLIDADO_2017!AA54,IF(H9=\"08 CASOS NOVOS SÍFILIS CONG < ANO\",CONSOLIDADO_2017!AD54,IF(H9=\"09 Nº DE AIDS < 5 ANOS\",CONSOLIDADO_2017!AG54,IF(H9=\"10 %ANÁLISE AMOSTRA ÁGUA CONS HUM\",CONSOLIDADO_2017!AJ54,IF(H9=\"11 RAZÃO CITO 25 A 64\",CONSOLIDADO_2017!AN54,IF(H9=\"12 RAZÃO MAMOGRAFIA BILATERAL 50 A 69\",CONSOLIDADO_2017!AR54,IF(H9=\"13 %PARTO NORMAL SUS/SAÚDE SUPLEMENTAR\",CONSOLIDADO_2017!AV54,IF(H9=\"14 %GRAVIDEZ ADOLESC 10 A 19\",CONSOLIDADO_2017!AZ54,IF(H9=\"15 OBITOS < ANO\",CONSOLIDADO_2017!BD54,IF(H9=\"16 ÓBITOS MATERNOS\",CONSOLIDADO_2017!BG54,IF(H9=\"17 %COB AB\",CONSOLIDADO_2017!BJ54,IF(H9=\"18 %COB Acomp BF\",CONSOLIDADO_2017!BN54,IF(H9=\"19 %COB SAUDE BUCAL\",CONSOLIDADO_2017!BQ54,IF(H9=\"20 %MUN REALIZ AÇÕES VIGILANCIA\",CONSOLIDADO_2017!BT54,IF(H9=\"21 %AÇÕES DE MATRICIAMENTO CAPS\",CONSOLIDADO_2017!BX54,IF(H9=\"22 NÚM CICLOS ATING 80% COB IMV DENGUE\",CONSOLIDADO_2017!CA54,IF(H9=\"23 %PREENCHIMENTO OCUP NOTIF AGRAVO\",CONSOLIDADO_2017!CD54))))))))))))))))))))))","v":"NÃO ATINGIU"}]
[]
[]
[]
[]
[]
[]
[]
[]
[]
[]
[]
[]
[]
[]
[]
[]
[]
[]
[]
[]
[]
[]
[]
[]
[]
[]
[]
[]
[]
[]
[]
[]
[]
[]
[]
[]
[]
[]
[]
[]
[]
[]
[]
[]
[]
[]
[]
[]
[]
[]
[]
[]
[]
[]
[]
[]
[]
[]
[]
[]
[]
[]
[]
[]
[]
[]
[]
[]
[]
[]
[]
[]
[]
[]
[]
[]
[]
[]
[]
[]
[]
[]
[]
[]
[]
[]
[]
[]
["POPULAÇÃO 2015",{"$f":"INDEX(CONSOLIDADO_2017!A1:CG77,MATCH(CONSOLIDADO_2017!C54,CONSOLIDADO_2017!C1:C77,0),4)","v":33756}]

{"sheet":"MONTE_ALEGRE_MUN","index":38,"n_rows":100,"n_cols":8,"rows_kept":100,"cut":false,"hidden":true,"merged":[]}
[]
[]
[]
[]
[]
[]
[]
[]
[null,null,null,null,null,null,{"$f":"IF($H$9=\"01 OBITO PREMATURO 30 A 69 DCNT\",MENU!$G$3,IF($H$9=\"02 %OBITOS EM MUL IDADE FERTIL INV\",MENU!$G$4,IF($H$9=\"03 %OBITOS CAUSAS BAS DEFINIDAS\",MENU!$G$5,IF($H$9=\"04 %VACINAS < 2 ANOS\",MENU!$G$6,IF($H$9=\"05 %DE CASOS DOENÇAS NOT COMP IMEDIATA\",MENU!$G$7,IF($H$9=\"06 %CURA CASOS NOVOS HANSEN\",MENU!$G$8,IF($H$9=\"08 CASOS NOVOS SÍFILIS CONG < ANO\",MENU!$G$9,IF($H$9=\"09 Nº DE AIDS < 5 ANOS\",MENU!$G$10,IF($H$9=\"10 %ANÁLISE AMOSTRA ÁGUA CONS HUM\",MENU!$G$11,IF($H$9=\"11 RAZÃO CITO 25 A 64\",MENU!$G$12,IF($H$9=\"12 RAZÃO MAMOGRAFIA BILATERAL 50 A 69\",MENU!$G$13,IF($H$9=\"13 %PARTO NORMAL SUS/SAÚDE SUPLEMENTAR\",MENU!$G$14,IF($H$9=\"14 %GRAVIDEZ ADOLESC 10 A 19\",MENU!$G$15,IF($H$9=\"15 OBITOS < ANO\",MENU!$G$16,IF($H$9=\"16 ÓBITOS MATERNOS\",MENU!$G$17,IF($H$9=\"17 %COB AB\",MENU!$G$18,IF($H$9=\"18 %COB Acomp BF\",MENU!$G$19,IF($H$9=\"19 %COB SAUDE BUCAL\",MENU!$G$20,IF($H$9=\"20 %MUN REALIZ AÇÕES VIGILANCIA\",MENU!$G$21,IF($H$9=\"21 %AÇÕES DE MATRICIAMENTO CAPS\",MENU!$G$22,IF($H$9=\"22 NÚM CICLOS ATING 80% COB IMV DENGUE\",MENU!$G$23,IF($H$9=\"23 %PREENCHIMENTO OCUP NOTIF AGRAVO\",MENU!$G$24))))))))))))))))))))))","v":"META INDICADOR 01"},"01 OBITO PREMATURO 30 A 69 DCNT"]
[null,null,null,null,null,null,{"$f":"INDEX(CONSOLIDADO_2017!A1:CG77,MATCH(CONSOLIDADO_2017!C41,CONSOLIDADO_2017!C1:C77,0),MATCH(MONTE_ALEGRE_MUN!G9,Tabela13[#Headers],0))","v":6},{"$f":"INDEX(CONSOLIDADO_2017!A1:CG77,MATCH(CONSOLIDADO_2017!C41,CONSOLIDADO_2017!C1:C77,0),MATCH(MONTE_ALEGRE_MUN!H9,Tabela13[#Headers],0))","v":15}]
[null,null,null,null,null,null,null,{"$f":"IF(H9=\"01 OBITO PREMATURO 30 A 69 DCNT\",CONSOLIDADO_2017!H41,IF(H9=\"02 %OBITOS EM MUL IDADE FERTIL INV\",CONSOLIDADO_2017!M41,IF(H9=\"03 %OBITOS CAUSAS BAS DEFINIDAS\",CONSOLIDADO_2017!Q41,IF(H9=\"04 %VACINAS < 2 ANOS\",CONSOLIDADO_2017!T41,IF(H9=\"05 %DE CASOS DOENÇAS NOT COMP IMEDIATA\",CONSOLIDADO_2017!W41,IF(H9=\"06 %CURA CASOS NOVOS HANSEN\",CONSOLIDADO_2017!AA41,IF(H9=\"08 CASOS NOVOS SÍFILIS CONG < ANO\",CONSOLIDADO_2017!AD41,IF(H9=\"09 Nº DE AIDS < 5 ANOS\",CONSOLIDADO_2017!AG41,IF(H9=\"10 %ANÁLISE AMOSTRA ÁGUA CONS HUM\",CONSOLIDADO_2017!AJ41,IF(H9=\"11 RAZÃO CITO 25 A 64\",CONSOLIDADO_2017!AN41,IF(H9=\"12 RAZÃO MAMOGRAFIA BILATERAL 50 A 69\",CONSOLIDADO_2017!AR41,IF(H9=\"13 %PARTO NORMAL SUS/SAÚDE SUPLEMENTAR\",CONSOLIDADO_2017!AV41,IF(H9=\"14 %GRAVIDEZ ADOLESC 10 A 19\",CONSOLIDADO_2017!AZ41,IF(H9=\"15 OBITOS < ANO\",CONSOLIDADO_2017!BD41,IF(H9=\"16 ÓBITOS MATERNOS\",CONSOLIDADO_2017!BG41,IF(H9=\"17 %COB AB\",CONSOLIDADO_2017!BJ41,IF(H9=\"18 %COB Acomp BF\",CONSOLIDADO_2017!BN41,IF(H9=\"19 %COB SAUDE BUCAL\",CONSOLIDADO_2017!BQ41,IF(H9=\"20 %MUN REALIZ AÇÕES VIGILANCIA\",CONSOLIDADO_2017!BT41,IF(H9=\"21 %AÇÕES DE MATRICIAMENTO CAPS\",CONSOLIDADO_2017!BX41,IF(H9=\"22 NÚM CICLOS ATING 80% COB IMV DENGUE\",CONSOLIDADO_2017!CA41,IF(H9=\"23 %PREENCHIMENTO OCUP NOTIF AGRAVO\",CONSOLIDADO_2017!CD41))))))))))))))))))))))","v":"NÃO ATINGIU"}]
[]
[]
[]
[]
[]
[]
[]
[]
[]
[]
[]
[]
[]
[]
[]
[]
[]
[]
[]
[]
[]
[]
[]
[]
[]
[]
[]
[]
[]
[]
[]
[]
[]
[]
[]
[]
[]
[]
[]
[]
[]
[]
[]
[]
[]
[]
[]
[]
[]
[]
[]
[]
[]
[]
[]
[]
[]
[]
[]
[]
[]
[]
[]
[]
[]
[]
[]
[]
[]
[]
[]
[]
[]
[]
[]
[]
[]
[]
[]
[]
[]
[]
[]
[]
[]
[]
[]
[]
["POPULAÇÃO 2015",{"$f":"INDEX(CONSOLIDADO_2017!A1:CG77,MATCH(CONSOLIDADO_2017!C41,CONSOLIDADO_2017!C1:C77,0),4)","v":14853}]

{"sheet":"PORTO_FOLHA_MUN","index":39,"n_rows":100,"n_cols":8,"rows_kept":100,"cut":false,"hidden":true,"merged":[]}
[]
[]
[]
[]
[]
[]
[]
[]
[null,null,null,null,null,null,{"$f":"IF($H$9=\"01 OBITO PREMATURO 30 A 69 DCNT\",MENU!$G$3,IF($H$9=\"02 %OBITOS EM MUL IDADE FERTIL INV\",MENU!$G$4,IF($H$9=\"03 %OBITOS CAUSAS BAS DEFINIDAS\",MENU!$G$5,IF($H$9=\"04 %VACINAS < 2 ANOS\",MENU!$G$6,IF($H$9=\"05 %DE CASOS DOENÇAS NOT COMP IMEDIATA\",MENU!$G$7,IF($H$9=\"06 %CURA CASOS NOVOS HANSEN\",MENU!$G$8,IF($H$9=\"08 CASOS NOVOS SÍFILIS CONG < ANO\",MENU!$G$9,IF($H$9=\"09 Nº DE AIDS < 5 ANOS\",MENU!$G$10,IF($H$9=\"10 %ANÁLISE AMOSTRA ÁGUA CONS HUM\",MENU!$G$11,IF($H$9=\"11 RAZÃO CITO 25 A 64\",MENU!$G$12,IF($H$9=\"12 RAZÃO MAMOGRAFIA BILATERAL 50 A 69\",MENU!$G$13,IF($H$9=\"13 %PARTO NORMAL SUS/SAÚDE SUPLEMENTAR\",MENU!$G$14,IF($H$9=\"14 %GRAVIDEZ ADOLESC 10 A 19\",MENU!$G$15,IF($H$9=\"15 OBITOS < ANO\",MENU!$G$16,IF($H$9=\"16 ÓBITOS MATERNOS\",MENU!$G$17,IF($H$9=\"17 %COB AB\",MENU!$G$18,IF($H$9=\"18 %COB Acomp BF\",MENU!$G$19,IF($H$9=\"19 %COB SAUDE BUCAL\",MENU!$G$20,IF($H$9=\"20 %MUN REALIZ AÇÕES VIGILANCIA\",MENU!$G$21,IF($H$9=\"21 %AÇÕES DE MATRICIAMENTO CAPS\",MENU!$G$22,IF($H$9=\"22 NÚM CICLOS ATING 80% COB IMV DENGUE\",MENU!$G$23,IF($H$9=\"23 %PREENCHIMENTO OCUP NOTIF AGRAVO\",MENU!$G$24))))))))))))))))))))))","v":"META INDICADOR 01"},"01 OBITO PREMATURO 30 A 69 DCNT"]
[null,null,null,null,null,null,{"$f":"INDEX(CONSOLIDADO_2017!A1:CG77,MATCH(CONSOLIDADO_2017!C56,CONSOLIDADO_2017!C1:C77,0),MATCH(PORTO_FOLHA_MUN!G9,Tabela13[#Headers],0))","v":16},{"$f":"INDEX(CONSOLIDADO_2017!A1:CG77,MATCH(CONSOLIDADO_2017!C56,CONSOLIDADO_2017!C1:C77,0),MATCH(PORTO_FOLHA_MUN!H9,Tabela13[#Headers],0))","v":22}]
[null,null,null,null,null,null,null,{"$f":"IF(H9=\"01 OBITO PREMATURO 30 A 69 DCNT\",CONSOLIDADO_2017!H56,IF(H9=\"02 %OBITOS EM MUL IDADE FERTIL INV\",CONSOLIDADO_2017!M56,IF(H9=\"03 %OBITOS CAUSAS BAS DEFINIDAS\",CONSOLIDADO_2017!Q56,IF(H9=\"04 %VACINAS < 2 ANOS\",CONSOLIDADO_2017!T56,IF(H9=\"05 %DE CASOS DOENÇAS NOT COMP IMEDIATA\",CONSOLIDADO_2017!W56,IF(H9=\"06 %CURA CASOS NOVOS HANSEN\",CONSOLIDADO_2017!AA56,IF(H9=\"08 CASOS NOVOS SÍFILIS CONG < ANO\",CONSOLIDADO_2017!AD56,IF(H9=\"09 Nº DE AIDS < 5 ANOS\",CONSOLIDADO_2017!AG56,IF(H9=\"10 %ANÁLISE AMOSTRA ÁGUA CONS HUM\",CONSOLIDADO_2017!AJ56,IF(H9=\"11 RAZÃO CITO 25 A 64\",CONSOLIDADO_2017!AN56,IF(H9=\"12 RAZÃO MAMOGRAFIA BILATERAL 50 A 69\",CONSOLIDADO_2017!AR56,IF(H9=\"13 %PARTO NORMAL SUS/SAÚDE SUPLEMENTAR\",CONSOLIDADO_2017!AV56,IF(H9=\"14 %GRAVIDEZ ADOLESC 10 A 19\",CONSOLIDADO_2017!AZ56,IF(H9=\"15 OBITOS < ANO\",CONSOLIDADO_2017!BD56,IF(H9=\"16 ÓBITOS MATERNOS\",CONSOLIDADO_2017!BG56,IF(H9=\"17 %COB AB\",CONSOLIDADO_2017!BJ56,IF(H9=\"18 %COB Acomp BF\",CONSOLIDADO_2017!BN56,IF(H9=\"19 %COB SAUDE BUCAL\",CONSOLIDADO_2017!BQ56,IF(H9=\"20 %MUN REALIZ AÇÕES VIGILANCIA\",CONSOLIDADO_2017!BT56,IF(H9=\"21 %AÇÕES DE MATRICIAMENTO CAPS\",CONSOLIDADO_2017!BX56,IF(H9=\"22 NÚM CICLOS ATING 80% COB IMV DENGUE\",CONSOLIDADO_2017!CA56,IF(H9=\"23 %PREENCHIMENTO OCUP NOTIF AGRAVO\",CONSOLIDADO_2017!CD56))))))))))))))))))))))","v":"NÃO ATINGIU"}]
[]
[]
[]
[]
[]
[]
[]
[]
[]
[]
[]
[]
[]
[]
[]
[]
[]
[]
[]
[]
[]
[]
[]
[]
[]
[]
[]
[]
[]
[]
[]
[]
[]
[]
[]
[]
[]
[]
[]
[]
[]
[]
[]
[]
[]
[]
[]
[]
[]
[]
[]
[]
[]
[]
[]
[]
[]
[]
[]
[]
[]
[]
[]
[]
[]
[]
[]
[]
[]
[]
[]
[]
[]
[]
[]
[]
[]
[]
[]
[]
[]
[]
[]
[]
[]
[]
[]
[]
["POPULAÇÃO 2015",{"$f":"INDEX(CONSOLIDADO_2017!A1:CG77,MATCH(CONSOLIDADO_2017!C56,CONSOLIDADO_2017!C1:C77,0),4)","v":28497}]

{"sheet":"GARARU_MUN","index":40,"n_rows":100,"n_cols":8,"rows_kept":100,"cut":false,"hidden":true,"merged":[]}
[]
[]
[]
[]
[]
[]
[]
[]
[null,null,null,null,null,null,{"$f":"IF($H$9=\"01 OBITO PREMATURO 30 A 69 DCNT\",MENU!$G$3,IF($H$9=\"02 %OBITOS EM MUL IDADE FERTIL INV\",MENU!$G$4,IF($H$9=\"03 %OBITOS CAUSAS BAS DEFINIDAS\",MENU!$G$5,IF($H$9=\"04 %VACINAS < 2 ANOS\",MENU!$G$6,IF($H$9=\"05 %DE CASOS DOENÇAS NOT COMP IMEDIATA\",MENU!$G$7,IF($H$9=\"06 %CURA CASOS NOVOS HANSEN\",MENU!$G$8,IF($H$9=\"08 CASOS NOVOS SÍFILIS CONG < ANO\",MENU!$G$9,IF($H$9=\"09 Nº DE AIDS < 5 ANOS\",MENU!$G$10,IF($H$9=\"10 %ANÁLISE AMOSTRA ÁGUA CONS HUM\",MENU!$G$11,IF($H$9=\"11 RAZÃO CITO 25 A 64\",MENU!$G$12,IF($H$9=\"12 RAZÃO MAMOGRAFIA BILATERAL 50 A 69\",MENU!$G$13,IF($H$9=\"13 %PARTO NORMAL SUS/SAÚDE SUPLEMENTAR\",MENU!$G$14,IF($H$9=\"14 %GRAVIDEZ ADOLESC 10 A 19\",MENU!$G$15,IF($H$9=\"15 OBITOS < ANO\",MENU!$G$16,IF($H$9=\"16 ÓBITOS MATERNOS\",MENU!$G$17,IF($H$9=\"17 %COB AB\",MENU!$G$18,IF($H$9=\"18 %COB Acomp BF\",MENU!$G$19,IF($H$9=\"19 %COB SAUDE BUCAL\",MENU!$G$20,IF($H$9=\"20 %MUN REALIZ AÇÕES VIGILANCIA\",MENU!$G$21,IF($H$9=\"21 %AÇÕES DE MATRICIAMENTO CAPS\",MENU!$G$22,IF($H$9=\"22 NÚM CICLOS ATING 80% COB IMV DENGUE\",MENU!$G$23,IF($H$9=\"23 %PREENCHIMENTO OCUP NOTIF AGRAVO\",MENU!$G$24))))))))))))))))))))))","v":"META INDICADOR 01"},"01 OBITO PREMATURO 30 A 69 DCNT"]
[null,null,null,null,null,null,{"$f":"INDEX(CONSOLIDADO_2017!A1:CG77,MATCH(CONSOLIDADO_2017!C23,CONSOLIDADO_2017!C1:C77,0),MATCH(GARARU_MUN!G9,Tabela13[#Headers],0))","v":9},{"$f":"INDEX(CONSOLIDADO_2017!A1:CG77,MATCH(CONSOLIDADO_2017!C23,CONSOLIDADO_2017!C1:C77,0),MATCH(GARARU_MUN!H9,Tabela13[#Headers],0))","v":17}]
[null,null,null,null,null,null,null,{"$f":"IF(H9=\"01 OBITO PREMATURO 30 A 69 DCNT\",CONSOLIDADO_2017!H23,IF(H9=\"02 %OBITOS EM MUL IDADE FERTIL INV\",CONSOLIDADO_2017!M23,IF(H9=\"03 %OBITOS CAUSAS BAS DEFINIDAS\",CONSOLIDADO_2017!Q23,IF(H9=\"04 %VACINAS < 2 ANOS\",CONSOLIDADO_2017!T23,IF(H9=\"05 %DE CASOS DOENÇAS NOT COMP IMEDIATA\",CONSOLIDADO_2017!W23,IF(H9=\"06 %CURA CASOS NOVOS HANSEN\",CONSOLIDADO_2017!AA23,IF(H9=\"08 CASOS NOVOS SÍFILIS CONG < ANO\",CONSOLIDADO_2017!AD23,IF(H9=\"09 Nº DE AIDS < 5 ANOS\",CONSOLIDADO_2017!AG23,IF(H9=\"10 %ANÁLISE AMOSTRA ÁGUA CONS HUM\",CONSOLIDADO_2017!AJ23,IF(H9=\"11 RAZÃO CITO 25 A 64\",CONSOLIDADO_2017!AN23,IF(H9=\"12 RAZÃO MAMOGRAFIA BILATERAL 50 A 69\",CONSOLIDADO_2017!AR23,IF(H9=\"13 %PARTO NORMAL SUS/SAÚDE SUPLEMENTAR\",CONSOLIDADO_2017!AV23,IF(H9=\"14 %GRAVIDEZ ADOLESC 10 A 19\",CONSOLIDADO_2017!AZ23,IF(H9=\"15 OBITOS < ANO\",CONSOLIDADO_2017!BD23,IF(H9=\"16 ÓBITOS MATERNOS\",CONSOLIDADO_2017!BG23,IF(H9=\"17 %COB AB\",CONSOLIDADO_2017!BJ23,IF(H9=\"18 %COB Acomp BF\",CONSOLIDADO_2017!BN23,IF(H9=\"19 %COB SAUDE BUCAL\",CONSOLIDADO_2017!BQ23,IF(H9=\"20 %MUN REALIZ AÇÕES VIGILANCIA\",CONSOLIDADO_2017!BT23,IF(H9=\"21 %AÇÕES DE MATRICIAMENTO CAPS\",CONSOLIDADO_2017!BX23,IF(H9=\"22 NÚM CICLOS ATING 80% COB IMV DENGUE\",CONSOLIDADO_2017!CA23,IF(H9=\"23 %PREENCHIMENTO OCUP NOTIF AGRAVO\",CONSOLIDADO_2017!CD23))))))))))))))))))))))","v":"NÃO ATINGIU"}]
[]
[]
[]
[]
[]
[]
[]
[]
[]
[]
[]
[]
[]
[]
[]
[]
[]
[]
[]
[]
[]
[]
[]
[]
[]
[]
[]
[]
[]
[]
[]
[]
[]
[]
[]
[]
[]
[]
[]
[]
[]
[]
[]
[]
[]
[]
[]
[]
[]
[]
[]
[]
[]
[]
[]
[]
[]
[]
[]
[]
[]
[]
[]
[]
[]
[]
[]
[]
[]
[]
[]
[]
[]
[]
[]
[]
[]
[]
[]
[]
[]
[]
[]
[]
[]
[]
[]
[]
["POPULAÇÃO 2015",{"$f":"INDEX(CONSOLIDADO_2017!A1:CG77,MATCH(CONSOLIDADO_2017!C23,CONSOLIDADO_2017!C1:C77,0),4)","v":11724}]

{"sheet":"LAGARTO_REG","index":41,"n_rows":100,"n_cols":12,"rows_kept":100,"cut":false,"hidden":true,"merged":[]}
[]
[]
[]
[]
[]
[]
[]
[]
[null,null,null,null,null,null,{"$f":"IF($H$9=\"01 TAXA OBITO PREMATURO 30 A 69 DCNT\",MENU!$G$3,IF($H$9=\"02 %OBITOS EM MUL IDADE FERTIL INV\",MENU!$G$4,IF($H$9=\"03 %OBITOS CAUSAS BAS DEFINIDAS\",MENU!$G$5,IF($H$9=\"04 %VACINAS < 2 ANOS\",MENU!$G$6,IF($H$9=\"05 %DE CASOS DOENÇAS NOT COMP IMEDIATA\",MENU!$G$7,IF($H$9=\"06 %CURA CASOS NOVOS HANSEN\",MENU!$G$8,IF($H$9=\"08 CASOS NOVOS SÍFILIS CONG < ANO\",MENU!$G$9,IF($H$9=\"09 Nº DE AIDS < 5 ANOS\",MENU!$G$10,IF($H$9=\"10 %ANÁLISE AMOSTRA ÁGUA CONS HUM\",MENU!$G$11,IF($H$9=\"11 RAZÃO CITO 25 A 64\",MENU!$G$12,IF($H$9=\"12 RAZÃO MAMOGRAFIA BILATERAL 50 A 69\",MENU!$G$13,IF($H$9=\"13 %PARTO NORMAL SUS/SAÚDE SUPLEMENTAR\",MENU!$G$14,IF($H$9=\"14 %GRAVIDEZ ADOLESC 10 A 19\",MENU!$G$15,IF($H$9=\"15 TAXA MORTALIDADE INFANTIL\",MENU!$G$16,IF($H$9=\"16 ÓBITOS MATERNOS\",MENU!$G$17,IF($H$9=\"17 COB AB\",MENU!$G$18,IF($H$9=\"18 COB Acomp BF\",MENU!$G$19,IF($H$9=\"19 COB SAUDE BUCAL\",MENU!$G$20,IF($H$9=\"20 %MUN REALIZ AÇÕES VIGILANCIA\",MENU!$G$21,IF($H$9=\"21 AÇÕES DE MATRICIAMENTO CAPS\",MENU!$G$22,IF($H$9=\"22 NÚM CICLOS ATING 80% COB IMV DENGUE\",MENU!$G$23,IF($H$9=\"23 %PREENCHIMENTO OCUP NOTIF AGRAVO\",MENU!$G$24))))))))))))))))))))))","v":"META INDICADOR 01"},"01 TAXA OBITO PREMATURO 30 A 69 DCNT"]
[null,null,null,null,null,null,{"$f":"INDEX(TBDADOSREG,MATCH(CONSOLIDADO_REG!B6,CONSOLIDADO_REG!B1:B9,0),MATCH(LAGARTO_REG!G9,CONSOLIDADO_REG!A1:CE1,0))","v":278.08999999999997},{"$f":"INDEX(TBDADOSREG,MATCH(CONSOLIDADO_REG!B6,CONSOLIDADO_REG!B1:B9,0),MATCH(LAGARTO_REG!H9,CONSOLIDADO_REG!A1:CE1,0))","v":242.88061830723947}]
[null,null,null,null,null,null,null,{"$f":"IF(H9=\"01 TAXA OBITO PREMATURO 30 A 69 DCNT\",CONSOLIDADO_REG!G6,IF(H9=\"02 %OBITOS EM MUL IDADE FERTIL INV\",CONSOLIDADO_REG!L6,IF(H9=\"03 %OBITOS CAUSAS BAS DEFINIDAS\",CONSOLIDADO_REG!P6,IF(H9=\"04 %VACINAS < 2 ANOS\",CONSOLIDADO_REG!S6,IF(H9=\"05 %DE CASOS DOENÇAS NOT COMP IMEDIATA\",CONSOLIDADO_REG!V6,IF(H9=\"06 %CURA CASOS NOVOS HANSEN\",CONSOLIDADO_REG!Z6,IF(H9=\"08 CASOS NOVOS SÍFILIS CONG < ANO\",CONSOLIDADO_REG!AC6,IF(H9=\"09 Nº DE AIDS < 5 ANOS\",CONSOLIDADO_REG!AF6,IF(H9=\"10 %ANÁLISE AMOSTRA ÁGUA CONS HUM\",CONSOLIDADO_REG!AI6,IF(H9=\"11 RAZÃO CITO 25 A 64\",CONSOLIDADO_REG!AM6,IF(H9=\"12 RAZÃO MAMOGRAFIA BILATERAL 50 A 69\",CONSOLIDADO_REG!AQ6,IF(H9=\"13 %PARTO NORMAL SUS/SAÚDE SUPLEMENTAR\",CONSOLIDADO_REG!AU6,IF(H9=\"14 %GRAVIDEZ ADOLESC 10 A 19\",CONSOLIDADO_REG!AY6,IF(H9=\"15 TAXA MORTALIDADE INFANTIL\",CONSOLIDADO_REG!BC6,IF(H9=\"16 ÓBITOS MATERNOS\",CONSOLIDADO_REG!BF6,IF(H9=\"17 COB AB\",CONSOLIDADO_REG!BI6,IF(H9=\"18 COB Acomp BF\",CONSOLIDADO_REG!BM6,IF(H9=\"19 COB SAUDE BUCAL\",CONSOLIDADO_REG!BP6,IF(H9=\"20 %MUN REALIZ AÇÕES VIGILANCIA\",CONSOLIDADO_REG!BS6,IF(H9=\"21 AÇÕES DE MATRICIAMENTO CAPS\",CONSOLIDADO_REG!BV6,IF(H9=\"22 NÚM CICLOS ATING 80% COB IMV DENGUE\",CONSOLIDADO_REG!BY6,IF(H9=\"23 %PREENCHIMENTO OCUP NOTIF AGRAVO\",CONSOLIDADO_REG!CB6))))))))))))))))))))))","v":"ATINGIU"}]
[]
[]
[]
[null,null,null,null,null,null,null,null,null,null,null,"     "]
[]
[]
[]
[]
[]
[]
[]
[]
[]
[]
[]
[]
[]
[]
[]
[]
[]
[]
[]
[]
[]
[]
[]
[]
[]
[]
[]
[]
[]
[]
[]
[]
[]
[]
[]
[]
[]
[]
[]
[]
[]
[]
[]
[]
[]
[]
[]
[]
[]
[]
[]
[]
[]
[]
[]
[]
[]
[]
[]
[]
["COD","REGIÃO","MUNICIPIOS","PROPORÇÃO DE METAS ALCANÇADAS POR MUNICÍPIO NO SISPACTO"]
[280350,"LAGARTO","LAGARTO",{"$f":"INDEX(CONSOLIDADO_2017!A34:CG74,MATCH(LAGARTO_REG!C77,CONSOLIDADO_2017!C34:C74,0),85)","v":0.5}]
[280550,"LAGARTO","POCO VERDE",{"$f":"INDEX(CONSOLIDADO_2017!A35:CG75,MATCH(LAGARTO_REG!C78,CONSOLIDADO_2017!C35:C75,0),85)","v":0.5714285714285714}]
[280580,"LAGARTO","RIACHAO DO DANTAS",{"$f":"INDEX(CONSOLIDADO_2017!A36:CG76,MATCH(LAGARTO_REG!C79,CONSOLIDADO_2017!C36:C76,0),85)","v":0.5}]
[280620,"LAGARTO","SALGADO",{"$f":"INDEX(CONSOLIDADO_2017!A37:CG77,MATCH(LAGARTO_REG!C80,CONSOLIDADO_2017!C37:C77,0),85)","v":0.35}]
[280710,"LAGARTO","SIMÃO DIAS",{"$f":"INDEX(CONSOLIDADO_2017!A38:CG78,MATCH(LAGARTO_REG!C81,CONSOLIDADO_2017!C38:C78,0),85)","v":0.54545454545454541}]
[280740,"LAGARTO","TOBIAS BARRETO",{"$f":"INDEX(CONSOLIDADO_2017!A39:CG79,MATCH(LAGARTO_REG!C82,CONSOLIDADO_2017!C39:C79,0),85)","v":0.38095238095238093}]
[]
[]
[]
[]
[]
[]
[]
[]
[]
[]
[]
[]
[]
[]
[]
[]
[]
["POPULAÇÃO 2015",{"$f":"INDEX(TBDADOSREG,MATCH(CONSOLIDADO_REG!F6,CONSOLIDADO_REG!F1:F9,0),3)","v":257634}]

{"sheet":"PROPRIA_REG","index":42,"n_rows":100,"n_cols":12,"rows_kept":100,"cut":false,"hidden":true,"merged":[]}
[]
[]
[]
[]
[]
[]
[]
[]
[null,null,null,null,null,null,{"$f":"IF($H$9=\"01 TAXA OBITO PREMATURO 30 A 69 DCNT\",MENU!$G$3,IF($H$9=\"02 %OBITOS EM MUL IDADE FERTIL INV\",MENU!$G$4,IF($H$9=\"03 %OBITOS CAUSAS BAS DEFINIDAS\",MENU!$G$5,IF($H$9=\"04 %VACINAS < 2 ANOS\",MENU!$G$6,IF($H$9=\"05 %DE CASOS DOENÇAS NOT COMP IMEDIATA\",MENU!$G$7,IF($H$9=\"06 %CURA CASOS NOVOS HANSEN\",MENU!$G$8,IF($H$9=\"08 CASOS NOVOS SÍFILIS CONG < ANO\",MENU!$G$9,IF($H$9=\"09 Nº DE AIDS < 5 ANOS\",MENU!$G$10,IF($H$9=\"10 %ANÁLISE AMOSTRA ÁGUA CONS HUM\",MENU!$G$11,IF($H$9=\"11 RAZÃO CITO 25 A 64\",MENU!$G$12,IF($H$9=\"12 RAZÃO MAMOGRAFIA BILATERAL 50 A 69\",MENU!$G$13,IF($H$9=\"13 %PARTO NORMAL SUS/SAÚDE SUPLEMENTAR\",MENU!$G$14,IF($H$9=\"14 %GRAVIDEZ ADOLESC 10 A 19\",MENU!$G$15,IF($H$9=\"15 TAXA MORTALIDADE INFANTIL\",MENU!$G$16,IF($H$9=\"16 ÓBITOS MATERNOS\",MENU!$G$17,IF($H$9=\"17 %COB AB\",MENU!$G$18,IF($H$9=\"18 %COB Acomp BF\",MENU!$G$19,IF($H$9=\"19 %COB SAUDE BUCAL\",MENU!$G$20,IF($H$9=\"20 %MUN REALIZ AÇÕES VIGILANCIA\",MENU!$G$21,IF($H$9=\"21 %AÇÕES DE MATRICIAMENTO CAPS\",MENU!$G$22,IF($H$9=\"22 NÚM CICLOS ATING 80% COB IMV DENGUE\",MENU!$G$23,IF($H$9=\"23 %PREENCHIMENTO OCUP NOTIF AGRAVO\",MENU!$G$24))))))))))))))))))))))","v":"META INDICADOR 17"},"17 %COB AB"]
[null,null,null,null,null,null,{"$f":"INDEX(TBDADOSREG,MATCH(CONSOLIDADO_REG!B7,CONSOLIDADO_REG!B1:B9,0),MATCH(PROPRIA_REG!G9,CONSOLIDADO_REG!A1:CE1,0))","v":0.97530000000000006},{"$f":"INDEX(TBDADOSREG,MATCH(CONSOLIDADO_REG!B7,CONSOLIDADO_REG!B1:B9,0),MATCH(PROPRIA_REG!H9,CONSOLIDADO_REG!A1:CE1,0))","v":0.99707934040726276}]
[null,null,null,null,null,null,null,{"$f":"IF(H9=\"01 TAXA OBITO PREMATURO 30 A 69 DCNT\",CONSOLIDADO_REG!G8,IF(H9=\"02 %OBITOS EM MUL IDADE FERTIL INV\",CONSOLIDADO_REG!L8,IF(H9=\"03 %OBITOS CAUSAS BAS DEFINIDAS\",CONSOLIDADO_REG!P8,IF(H9=\"04 %VACINAS < 2 ANOS\",CONSOLIDADO_REG!S8,IF(H9=\"05 %DE CASOS DOENÇAS NOT COMP IMEDIATA\",CONSOLIDADO_REG!V8,IF(H9=\"06 %CURA CASOS NOVOS HANSEN\",CONSOLIDADO_REG!Z8,IF(H9=\"08 CASOS NOVOS SÍFILIS CONG < ANO\",CONSOLIDADO_REG!AC8,IF(H9=\"09 Nº DE AIDS < 5 ANOS\",CONSOLIDADO_REG!AF8,IF(H9=\"10 %ANÁLISE AMOSTRA ÁGUA CONS HUM\",CONSOLIDADO_REG!AI8,IF(H9=\"11 RAZÃO CITO 25 A 64\",CONSOLIDADO_REG!AM8,IF(H9=\"12 RAZÃO MAMOGRAFIA BILATERAL 50 A 69\",CONSOLIDADO_REG!AQ8,IF(H9=\"13 %PARTO NORMAL SUS/SAÚDE SUPLEMENTAR\",CONSOLIDADO_REG!AU8,IF(H9=\"14 %GRAVIDEZ ADOLESC 10 A 19\",CONSOLIDADO_REG!AY8,IF(H9=\"15 TAXA MORTALIDADE INFANTIL\",CONSOLIDADO_REG!BC8,IF(H9=\"16 ÓBITOS MATERNOS\",CONSOLIDADO_REG!BF8,IF(H9=\"17 %COB AB\",CONSOLIDADO_REG!BI8,IF(H9=\"18 %COB Acomp BF\",CONSOLIDADO_REG!BM8,IF(H9=\"19 %COB SAUDE BUCAL\",CONSOLIDADO_REG!BP8,IF(H9=\"20 %MUN REALIZ AÇÕES VIGILANCIA\",CONSOLIDADO_REG!BS8,IF(H9=\"21 %AÇÕES DE MATRICIAMENTO CAPS\",CONSOLIDADO_REG!BV8,IF(H9=\"22 NÚM CICLOS ATING 80% COB IMV DENGUE\",CONSOLIDADO_REG!BY8,IF(H9=\"23 %PREENCHIMENTO OCUP NOTIF AGRAVO\",CONSOLIDADO_REG!CB8))))))))))))))))))))))","v":"NÃO ATINGIU"}]
[]
[]
[]
[]
[]
[null,null,null,null,null,null,null,null,null,null,null,"     "]
[]
[]
[]
[]
[]
[]
[]
[]
[]
[]
[]
[]
[]
[]
[]
[]
[]
[]
[]
[]
[]
[]
[]
[]
[]
[]
[]
[]
[]
[]
[]
[]
[]
[]
[]
[]
[]
[]
[]
[]
[]
[]
[]
[]
[]
[]
[]
[]
[]
[]
[]
[]
[]
[]
[]
[]
[]
[]
[]
["COD","REGIÃO","MUNICIPIOS","PROPORÇÃO DE METAS ALCANÇADAS POR MUNICÍPIO NO SISPACTO"]
[280010,"PROPRIA","AMPARO DE SÃO FRANCISCO",{"$f":"INDEX(CONSOLIDADO_2017!$A$2:$CG$77,MATCH(PROPRIA_REG!C78,CONSOLIDADO_2017!$C$2:$C$77,),85)","v":0.61111111111111116}]
[280020,"PROPRIA","AQUIDABA",{"$f":"INDEX(CONSOLIDADO_2017!$A$2:$CG$77,MATCH(PROPRIA_REG!C79,CONSOLIDADO_2017!$C$2:$C$77,),85)","v":0.5}]
[280070,"PROPRIA","BREJO GRANDE",{"$f":"INDEX(CONSOLIDADO_2017!$A$2:$CG$77,MATCH(PROPRIA_REG!C80,CONSOLIDADO_2017!$C$2:$C$77,),85)","v":0.52631578947368418}]
[280110,"PROPRIA","CANHOBA",{"$f":"INDEX(CONSOLIDADO_2017!$A$2:$CG$77,MATCH(PROPRIA_REG!C81,CONSOLIDADO_2017!$C$2:$C$77,),85)","v":0.55000000000000004}]
[280160,"PROPRIA","CEDRO DE SÃO JOAO",{"$f":"INDEX(CONSOLIDADO_2017!$A$2:$CG$77,MATCH(PROPRIA_REG!C82,CONSOLIDADO_2017!$C$2:$C$77,),85)","v":0.4}]
[280270,"PROPRIA","ILHA DAS FLORES",{"$f":"INDEX(CONSOLIDADO_2017!$A$2:$CG$77,MATCH(PROPRIA_REG!C83,CONSOLIDADO_2017!$C$2:$C$77,),85)","v":0.42105263157894735}]
[280340,"PROPRIA","JAPOATÃ",{"$f":"INDEX(CONSOLIDADO_2017!$A$2:$CG$77,MATCH(PROPRIA_REG!C85,CONSOLIDADO_2017!$C$2:$C$77,),85)","v":0.57894736842105265}]
[280380,"PROPRIA","MALHADA DOS BOIS",{"$f":"INDEX(CONSOLIDADO_2017!$A$2:$CG$77,MATCH(PROPRIA_REG!C85,CONSOLIDADO_2017!$C$2:$C$77,),85)","v":0.57894736842105265}]
[280430,"PROPRIA","MURIBECA",{"$f":"INDEX(CONSOLIDADO_2017!$A$2:$CG$77,MATCH(PROPRIA_REG!C86,CONSOLIDADO_2017!$C$2:$C$77,),85)","v":0.45}]
[280440,"PROPRIA","NEOPOLIS",{"$f":"INDEX(CONSOLIDADO_2017!$A$2:$CG$77,MATCH(PROPRIA_REG!C87,CONSOLIDADO_2017!$C$2:$C$77,),85)","v":0.33333333333333331}]
[280470,"PROPRIA","NOSSA SENHORA DE LOURDES",{"$f":"INDEX(CONSOLIDADO_2017!$A$2:$CG$77,MATCH(PROPRIA_REG!C88,CONSOLIDADO_2017!$C$2:$C$77,),85)","v":0.55000000000000004}]
[280490,"PROPRIA","PACATUBA",{"$f":"INDEX(CONSOLIDADO_2017!$A$2:$CG$77,MATCH(PROPRIA_REG!C89,CONSOLIDADO_2017!$C$2:$C$77,),85)","v":0.33333333333333331}]
[280570,"PROPRIA","PROPRIA",{"$f":"INDEX(CONSOLIDADO_2017!$A$2:$CG$77,MATCH(PROPRIA_REG!C90,CONSOLIDADO_2017!$C$2:$C$77,),85)","v":0.40909090909090912}]
[280640,"PROPRIA","SANTANA DO SÃO FRANCISCO",{"$f":"INDEX(CONSOLIDADO_2017!$A$2:$CG$77,MATCH(PROPRIA_REG!C91,CONSOLIDADO_2017!$C$2:$C$77,),85)","v":0.68421052631578949}]
[280690,"PROPRIA","SÃO FRANCISCO",{"$f":"INDEX(CONSOLIDADO_2017!$A$2:$CG$77,MATCH(PROPRIA_REG!C92,CONSOLIDADO_2017!$C$2:$C$77,),85)","v":0.4}]
[280730,"PROPRIA","TELHA",{"$f":"INDEX(CONSOLIDADO_2017!$A$2:$CG$77,MATCH(PROPRIA_REG!C93,CONSOLIDADO_2017!$C$2:$C$77,),85)","v":0.44444444444444442}]
[]
[]
[]
[]
[]
[]
["POPULAÇÃO 2015",{"$f":"INDEX(TBDADOSREG,MATCH(CONSOLIDADO_REG!B7,CONSOLIDADO_REG!B1:B9,0),3)","v":158896}]

{"sheet":"LARANJEIRAS_MUN","index":43,"n_rows":100,"n_cols":9,"rows_kept":100,"cut":false,"hidden":true,"merged":[]}
[]
[]
[]
[]
[]
[]
[]
[]
[null,null,null,null,null,null,{"$f":"IF($H$9=\"01 OBITO PREMATURO 30 A 69 DCNT\",MENU!$G$3,IF($H$9=\"02 %OBITOS EM MUL IDADE FERTIL INV\",MENU!$G$4,IF($H$9=\"03 %OBITOS CAUSAS BAS DEFINIDAS\",MENU!$G$5,IF($H$9=\"04 %VACINAS < 2 ANOS\",MENU!$G$6,IF($H$9=\"05 %DE CASOS DOENÇAS NOT COMP IMEDIATA\",MENU!$G$7,IF($H$9=\"06 %CURA CASOS NOVOS HANSEN\",MENU!$G$8,IF($H$9=\"08 CASOS NOVOS SÍFILIS CONG < ANO\",MENU!$G$9,IF($H$9=\"09 Nº DE AIDS < 5 ANOS\",MENU!$G$10,IF($H$9=\"10 %ANÁLISE AMOSTRA ÁGUA CONS HUM\",MENU!$G$11,IF($H$9=\"11 RAZÃO CITO 25 A 64\",MENU!$G$12,IF($H$9=\"12 RAZÃO MAMOGRAFIA BILATERAL 50 A 69\",MENU!$G$13,IF($H$9=\"13 %PARTO NORMAL SUS/SAÚDE SUPLEMENTAR\",MENU!$G$14,IF($H$9=\"14 %GRAVIDEZ ADOLESC 10 A 19\",MENU!$G$15,IF($H$9=\"15 OBITOS < ANO\",MENU!$G$16,IF($H$9=\"16 ÓBITOS MATERNOS\",MENU!$G$17,IF($H$9=\"17 %COB AB\",MENU!$G$18,IF($H$9=\"18 %COB Acomp BF\",MENU!$G$19,IF($H$9=\"19 %COB SAUDE BUCAL\",MENU!$G$20,IF($H$9=\"20 %MUN REALIZ AÇÕES VIGILANCIA\",MENU!$G$21,IF($H$9=\"21 %AÇÕES DE MATRICIAMENTO CAPS\",MENU!$G$22,IF($H$9=\"22 NÚM CICLOS ATING 80% COB IMV DENGUE\",MENU!$G$23,IF($H$9=\"23 %PREENCHIMENTO OCUP NOTIF AGRAVO\",MENU!$G$24))))))))))))))))))))))","v":"META INDICADOR 01"},"01 OBITO PREMATURO 30 A 69 DCNT"]
[null,null,null,null,null,null,{"$f":"INDEX(CONSOLIDADO_2017!A1:CG77,MATCH(CONSOLIDADO_2017!C35,CONSOLIDADO_2017!C1:C77,0),MATCH(LARANJEIRAS_MUN!G9,Tabela13[#Headers],0))","v":27},{"$f":"INDEX(CONSOLIDADO_2017!A1:CG77,MATCH(CONSOLIDADO_2017!C35,CONSOLIDADO_2017!C1:C77,0),MATCH(LARANJEIRAS_MUN!H9,Tabela13[#Headers],0))","v":25}]
[null,null,null,null,null,null,null,{"$f":"IF(H9=\"01 OBITO PREMATURO 30 A 69 DCNT\",CONSOLIDADO_2017!H35,IF(H9=\"02 %OBITOS EM MUL IDADE FERTIL INV\",CONSOLIDADO_2017!M35,IF(H9=\"03 %OBITOS CAUSAS BAS DEFINIDAS\",CONSOLIDADO_2017!Q35,IF(H9=\"04 %VACINAS < 2 ANOS\",CONSOLIDADO_2017!T35,IF(H9=\"05 %DE CASOS DOENÇAS NOT COMP IMEDIATA\",CONSOLIDADO_2017!W35,IF(H9=\"06 %CURA CASOS NOVOS HANSEN\",CONSOLIDADO_2017!AA35,IF(H9=\"08 CASOS NOVOS SÍFILIS CONG < ANO\",CONSOLIDADO_2017!AD35,IF(H9=\"09 Nº DE AIDS < 5 ANOS\",CONSOLIDADO_2017!AG35,IF(H9=\"10 %ANÁLISE AMOSTRA ÁGUA CONS HUM\",CONSOLIDADO_2017!AJ35,IF(H9=\"11 RAZÃO CITO 25 A 64\",CONSOLIDADO_2017!AN35,IF(H9=\"12 RAZÃO MAMOGRAFIA BILATERAL 50 A 69\",CONSOLIDADO_2017!AR35,IF(H9=\"13 %PARTO NORMAL SUS/SAÚDE SUPLEMENTAR\",CONSOLIDADO_2017!AV35,IF(H9=\"14 %GRAVIDEZ ADOLESC 10 A 19\",CONSOLIDADO_2017!AZ35,IF(H9=\"15 OBITOS < ANO\",CONSOLIDADO_2017!BD35,IF(H9=\"16 ÓBITOS MATERNOS\",CONSOLIDADO_2017!BG35,IF(H9=\"135 %COB AB\",CONSOLIDADO_2017!BJ35,IF(H9=\"18 %COB Acomp BF\",CONSOLIDADO_2017!BN35,IF(H9=\"19 %COB SAUDE BUCAL\",CONSOLIDADO_2017!BQ35,IF(H9=\"20 %MUN REALIZ AÇÕES VIGILANCIA\",CONSOLIDADO_2017!BT35,IF(H9=\"21 %AÇÕES DE MATRICIAMENTO CAPS\",CONSOLIDADO_2017!BX35,IF(H9=\"22 NÚM CICLOS ATING 80% COB IMV DENGUE\",CONSOLIDADO_2017!CA35,IF(H9=\"23 %PREENCHIMENTO OCUP NOTIF AGRAVO\",CONSOLIDADO_2017!CD35))))))))))))))))))))))","v":"ATINGIU"}]
[]
[]
[null,null,null,null,null,null,null,null,{"$f":"G10*1.4","v":37.799999999999997}]
[]
[]
[]
[]
[]
[]
[]
[]
[]
[]
[]
[]
[]
[]
[]
[]
[]
[]
[]
[]
[]
[]
[]
[]
[]
[]
[]
[]
[]
[]
[]
[]
[]
[]
[]
[]
[]
[]
[]
[]
[]
[]
[]
[]
[]
[]
[]
[]
[]
[]
[]
[]
[]
[]
[]
[]
[]
[]
[]
[]
[]
[]
[]
[]
[]
[]
[]
[]
[]
[]
[]
[]
[]
[]
[]
[]
[null,null,null,null,null,null,213.89459274469542,"Atingiu"]
[]
[]
[]
[]
[]
[]
[]
[]
["POPULAÇÃO 2015",{"$f":"INDEX(CONSOLIDADO_2017!A1:CG77,MATCH(CONSOLIDADO_2017!C35,CONSOLIDADO_2017!C1:C77,0),4)","v":29127}]

{"sheet":"DIVINA_MUN","index":44,"n_rows":100,"n_cols":8,"rows_kept":100,"cut":false,"hidden":true,"merged":[]}
[]
[]
[]
[]
[]
[]
[]
[]
[null,null,null,null,null,null,{"$f":"IF($H$9=\"01 OBITO PREMATURO 30 A 69 DCNT\",MENU!$G$3,IF($H$9=\"02 %OBITOS EM MUL IDADE FERTIL INV\",MENU!$G$4,IF($H$9=\"03 %OBITOS CAUSAS BAS DEFINIDAS\",MENU!$G$5,IF($H$9=\"04 %VACINAS < 2 ANOS\",MENU!$G$6,IF($H$9=\"05 %DE CASOS DOENÇAS NOT COMP IMEDIATA\",MENU!$G$7,IF($H$9=\"06 %CURA CASOS NOVOS HANSEN\",MENU!$G$8,IF($H$9=\"08 CASOS NOVOS SÍFILIS CONG < ANO\",MENU!$G$9,IF($H$9=\"09 Nº DE AIDS < 5 ANOS\",MENU!$G$10,IF($H$9=\"10 %ANÁLISE AMOSTRA ÁGUA CONS HUM\",MENU!$G$11,IF($H$9=\"11 RAZÃO CITO 25 A 64\",MENU!$G$12,IF($H$9=\"12 RAZÃO MAMOGRAFIA BILATERAL 50 A 69\",MENU!$G$13,IF($H$9=\"13 %PARTO NORMAL SUS/SAÚDE SUPLEMENTAR\",MENU!$G$14,IF($H$9=\"14 %GRAVIDEZ ADOLESC 10 A 19\",MENU!$G$15,IF($H$9=\"15 OBITOS < ANO\",MENU!$G$16,IF($H$9=\"16 ÓBITOS MATERNOS\",MENU!$G$17,IF($H$9=\"17 %COB AB\",MENU!$G$18,IF($H$9=\"18 %COB Acomp BF\",MENU!$G$19,IF($H$9=\"19 %COB SAUDE BUCAL\",MENU!$G$20,IF($H$9=\"20 %MUN REALIZ AÇÕES VIGILANCIA\",MENU!$G$21,IF($H$9=\"21 %AÇÕES DE MATRICIAMENTO CAPS\",MENU!$G$22,IF($H$9=\"22 NÚM CICLOS ATING 80% COB IMV DENGUE\",MENU!$G$23,IF($H$9=\"23 %PREENCHIMENTO OCUP NOTIF AGRAVO\",MENU!$G$24))))))))))))))))))))))","v":"META INDICADOR 01"},"01 OBITO PREMATURO 30 A 69 DCNT"]
[null,null,null,null,null,null,{"$f":"INDEX(CONSOLIDADO_2017!A1:CG77,MATCH(CONSOLIDADO_2017!C19,CONSOLIDADO_2017!C1:C77,0),MATCH(DIVINA_MUN!G9,Tabela13[#Headers],0))","v":6},{"$f":"INDEX(CONSOLIDADO_2017!A1:CG77,MATCH(CONSOLIDADO_2017!C19,CONSOLIDADO_2017!C1:C77,0),MATCH(DIVINA_MUN!H9,Tabela13[#Headers],0))","v":6}]
[null,null,null,null,null,null,null,{"$f":"IF(H9=\"01 OBITO PREMATURO 30 A 69 DCNT\",CONSOLIDADO_2017!H19,IF(H9=\"02 %OBITOS EM MUL IDADE FERTIL INV\",CONSOLIDADO_2017!M19,IF(H9=\"03 %OBITOS CAUSAS BAS DEFINIDAS\",CONSOLIDADO_2017!Q19,IF(H9=\"04 %VACINAS < 2 ANOS\",CONSOLIDADO_2017!T19,IF(H9=\"05 %DE CASOS DOENÇAS NOT COMP IMEDIATA\",CONSOLIDADO_2017!W19,IF(H9=\"06 %CURA CASOS NOVOS HANSEN\",CONSOLIDADO_2017!AA19,IF(H9=\"08 CASOS NOVOS SÍFILIS CONG < ANO\",CONSOLIDADO_2017!AD19,IF(H9=\"09 Nº DE AIDS < 5 ANOS\",CONSOLIDADO_2017!AG19,IF(H9=\"10 %ANÁLISE AMOSTRA ÁGUA CONS HUM\",CONSOLIDADO_2017!AJ19,IF(H9=\"11 RAZÃO CITO 25 A 64\",CONSOLIDADO_2017!AN19,IF(H9=\"12 RAZÃO MAMOGRAFIA BILATERAL 50 A 69\",CONSOLIDADO_2017!AR19,IF(H9=\"13 %PARTO NORMAL SUS/SAÚDE SUPLEMENTAR\",CONSOLIDADO_2017!AV19,IF(H9=\"14 %GRAVIDEZ ADOLESC 10 A 19\",CONSOLIDADO_2017!AZ19,IF(H9=\"15 OBITOS < ANO\",CONSOLIDADO_2017!BD19,IF(H9=\"16 ÓBITOS MATERNOS\",CONSOLIDADO_2017!BG19,IF(H9=\"119 %COB AB\",CONSOLIDADO_2017!BJ19,IF(H9=\"18 %COB Acomp BF\",CONSOLIDADO_2017!BN19,IF(H9=\"19 %COB SAUDE BUCAL\",CONSOLIDADO_2017!BQ19,IF(H9=\"20 %MUN REALIZ AÇÕES VIGILANCIA\",CONSOLIDADO_2017!BT19,IF(H9=\"21 %AÇÕES DE MATRICIAMENTO CAPS\",CONSOLIDADO_2017!BX19,IF(H9=\"22 NÚM CICLOS ATING 80% COB IMV DENGUE\",CONSOLIDADO_2017!CA19,IF(H9=\"23 %PREENCHIMENTO OCUP NOTIF AGRAVO\",CONSOLIDADO_2017!CD19))))))))))))))))))))))","v":"ATINGIU"}]
[]
[]
[]
[]
[]
[]
[]
[]
[]
[]
[]
[]
[]
[]
[]
[]
[]
[]
[]
[]
[]
[]
[]
[]
[]
[]
[]
[]
[]
[]
[]
[]
[]
[]
[]
[]
[]
[]
[]
[]
[]
[]
[]
[]
[]
[]
[]
[]
[]
[]
[]
[]
[]
[]
[]
[]
[]
[]
[]
[]
[]
[]
[]
[]
[]
[]
[]
[]
[]
[]
[]
[]
[]
[]
[]
[]
[]
[]
[]
[]
[]
[]
[]
[]
[]
[]
[]
[]
["POPULAÇÃO 2015",{"$f":"INDEX(CONSOLIDADO_2017!A1:CG77,MATCH(CONSOLIDADO_2017!C19,CONSOLIDADO_2017!C1:C77,0),4)","v":4889}]

{"sheet":"ITAPORANGA_MUN","index":45,"n_rows":100,"n_cols":8,"rows_kept":100,"cut":false,"hidden":true,"merged":[]}
[]
[]
[]
[]
[]
[]
[]
[]
[null,null,null,null,null,null,{"$f":"IF($H$9=\"01 OBITO PREMATURO 30 A 69 DCNT\",MENU!$G$3,IF($H$9=\"02 %OBITOS EM MUL IDADE FERTIL INV\",MENU!$G$4,IF($H$9=\"03 %OBITOS CAUSAS BAS DEFINIDAS\",MENU!$G$5,IF($H$9=\"04 %VACINAS < 2 ANOS\",MENU!$G$6,IF($H$9=\"05 %DE CASOS DOENÇAS NOT COMP IMEDIATA\",MENU!$G$7,IF($H$9=\"06 %CURA CASOS NOVOS HANSEN\",MENU!$G$8,IF($H$9=\"08 CASOS NOVOS SÍFILIS CONG < ANO\",MENU!$G$9,IF($H$9=\"09 Nº DE AIDS < 5 ANOS\",MENU!$G$10,IF($H$9=\"10 %ANÁLISE AMOSTRA ÁGUA CONS HUM\",MENU!$G$11,IF($H$9=\"11 RAZÃO CITO 25 A 64\",MENU!$G$12,IF($H$9=\"12 RAZÃO MAMOGRAFIA BILATERAL 50 A 69\",MENU!$G$13,IF($H$9=\"13 %PARTO NORMAL SUS/SAÚDE SUPLEMENTAR\",MENU!$G$14,IF($H$9=\"14 %GRAVIDEZ ADOLESC 10 A 19\",MENU!$G$15,IF($H$9=\"15 OBITOS < ANO\",MENU!$G$16,IF($H$9=\"16 ÓBITOS MATERNOS\",MENU!$G$17,IF($H$9=\"17 %COB AB\",MENU!$G$18,IF($H$9=\"18 %COB Acomp BF\",MENU!$G$19,IF($H$9=\"19 %COB SAUDE BUCAL\",MENU!$G$20,IF($H$9=\"20 %MUN REALIZ AÇÕES VIGILANCIA\",MENU!$G$21,IF($H$9=\"21 %AÇÕES DE MATRICIAMENTO CAPS\",MENU!$G$22,IF($H$9=\"22 NÚM CICLOS ATING 80% COB IMV DENGUE\",MENU!$G$23,IF($H$9=\"23 %PREENCHIMENTO OCUP NOTIF AGRAVO\",MENU!$G$24))))))))))))))))))))))","v":"META INDICADOR 04"},"04 %VACINAS < 2 ANOS"]
[null,null,null,null,null,null,{"$f":"INDEX(CONSOLIDADO_2017!A1:CG77,MATCH(CONSOLIDADO_2017!C31,CONSOLIDADO_2017!C1:C77,0),MATCH(ITAPORANGA_MUN!G9,Tabela13[#Headers],0))","v":1},{"$f":"INDEX(CONSOLIDADO_2017!A1:CG77,MATCH(CONSOLIDADO_2017!C31,CONSOLIDADO_2017!C1:C77,0),MATCH(ITAPORANGA_MUN!H9,Tabela13[#Headers],0))","v":0}]
[null,null,null,null,null,null,null,{"$f":"IF(H9=\"01 OBITO PREMATURO 30 A 69 DCNT\",CONSOLIDADO_2017!H31,IF(H9=\"02 %OBITOS EM MUL IDADE FERTIL INV\",CONSOLIDADO_2017!M31,IF(H9=\"03 %OBITOS CAUSAS BAS DEFINIDAS\",CONSOLIDADO_2017!Q31,IF(H9=\"04 %VACINAS < 2 ANOS\",CONSOLIDADO_2017!T31,IF(H9=\"05 %DE CASOS DOENÇAS NOT COMP IMEDIATA\",CONSOLIDADO_2017!W31,IF(H9=\"06 %CURA CASOS NOVOS HANSEN\",CONSOLIDADO_2017!AA31,IF(H9=\"08 CASOS NOVOS SÍFILIS CONG < ANO\",CONSOLIDADO_2017!AD31,IF(H9=\"09 Nº DE AIDS < 5 ANOS\",CONSOLIDADO_2017!AG31,IF(H9=\"10 %ANÁLISE AMOSTRA ÁGUA CONS HUM\",CONSOLIDADO_2017!AJ31,IF(H9=\"11 RAZÃO CITO 25 A 64\",CONSOLIDADO_2017!AN31,IF(H9=\"12 RAZÃO MAMOGRAFIA BILATERAL 50 A 69\",CONSOLIDADO_2017!AR31,IF(H9=\"13 %PARTO NORMAL SUS/SAÚDE SUPLEMENTAR\",CONSOLIDADO_2017!AV31,IF(H9=\"14 %GRAVIDEZ ADOLESC 10 A 19\",CONSOLIDADO_2017!AZ31,IF(H9=\"15 OBITOS < ANO\",CONSOLIDADO_2017!BD31,IF(H9=\"16 ÓBITOS MATERNOS\",CONSOLIDADO_2017!BG31,IF(H9=\"17 %COB AB\",CONSOLIDADO_2017!BJ31,IF(H9=\"18 %COB Acomp BF\",CONSOLIDADO_2017!BN31,IF(H9=\"19 %COB SAUDE BUCAL\",CONSOLIDADO_2017!BQ31,IF(H9=\"20 %MUN REALIZ AÇÕES VIGILANCIA\",CONSOLIDADO_2017!BT31,IF(H9=\"21 %AÇÕES DE MATRICIAMENTO CAPS\",CONSOLIDADO_2017!BX31,IF(H9=\"22 NÚM CICLOS ATING 80% COB IMV DENGUE\",CONSOLIDADO_2017!CA31,IF(H9=\"23 %PREENCHIMENTO OCUP NOTIF AGRAVO\",CONSOLIDADO_2017!CD31))))))))))))))))))))))","v":"NÃO ATINGIU"}]
[]
[]
[]
[]
[]
[]
[]
[]
[]
[]
[]
[]
[]
[]
[]
[]
[]
[]
[]
[]
[]
[]
[]
[]
[]
[]
[]
[]
[]
[]
[]
[]
[]
[]
[]
[]
[]
[]
[]
[]
[]
[]
[]
[]
[]
[]
[]
[]
[]
[]
[]
[]
[]
[]
[]
[]
[]
[]
[]
[]
[]
[]
[]
[]
[]
[]
[]
[]
[]
[]
[]
[]
[]
[]
[]
[]
[]
[]
[]
[null,null,null,null,null,null,311.5495883094726,"Não atingiu"]
[]
[]
[]
[]
[]
[]
[]
[]
["POPULAÇÃO 2015",{"$f":"INDEX(CONSOLIDADO_2017!A1:CG77,MATCH(CONSOLIDADO_2017!C31,CONSOLIDADO_2017!C1:C77,0),4)","v":33320}]

{"sheet":"RIACHUELO_MUN","index":46,"n_rows":100,"n_cols":8,"rows_kept":100,"cut":false,"hidden":true,"merged":[]}
[]
[]
[]
[]
[]
[]
[]
[]
[null,null,null,null,null,null,{"$f":"IF($H$9=\"01 OBITO PREMATURO 30 A 69 DCNT\",MENU!$G$3,IF($H$9=\"02 %OBITOS EM MUL IDADE FERTIL INV\",MENU!$G$4,IF($H$9=\"03 %OBITOS CAUSAS BAS DEFINIDAS\",MENU!$G$5,IF($H$9=\"04 %VACINAS < 2 ANOS\",MENU!$G$6,IF($H$9=\"05 %DE CASOS DOENÇAS NOT COMP IMEDIATA\",MENU!$G$7,IF($H$9=\"06 %CURA CASOS NOVOS HANSEN\",MENU!$G$8,IF($H$9=\"08 CASOS NOVOS SÍFILIS CONG < ANO\",MENU!$G$9,IF($H$9=\"09 Nº DE AIDS < 5 ANOS\",MENU!$G$10,IF($H$9=\"10 %ANÁLISE AMOSTRA ÁGUA CONS HUM\",MENU!$G$11,IF($H$9=\"11 RAZÃO CITO 25 A 64\",MENU!$G$12,IF($H$9=\"12 RAZÃO MAMOGRAFIA BILATERAL 50 A 69\",MENU!$G$13,IF($H$9=\"13 %PARTO NORMAL SUS/SAÚDE SUPLEMENTAR\",MENU!$G$14,IF($H$9=\"14 %GRAVIDEZ ADOLESC 10 A 19\",MENU!$G$15,IF($H$9=\"15 OBITOS < ANO\",MENU!$G$16,IF($H$9=\"16 ÓBITOS MATERNOS\",MENU!$G$17,IF($H$9=\"17 %COB AB\",MENU!$G$18,IF($H$9=\"18 %COB Acomp BF\",MENU!$G$19,IF($H$9=\"19 %COB SAUDE BUCAL\",MENU!$G$20,IF($H$9=\"20 %MUN REALIZ AÇÕES VIGILANCIA\",MENU!$G$21,IF($H$9=\"21 %AÇÕES DE MATRICIAMENTO CAPS\",MENU!$G$22,IF($H$9=\"22 NÚM CICLOS ATING 80% COB IMV DENGUE\",MENU!$G$23,IF($H$9=\"23 %PREENCHIMENTO OCUP NOTIF AGRAVO\",MENU!$G$24))))))))))))))))))))))","v":"META INDICADOR 01"},"01 OBITO PREMATURO 30 A 69 DCNT"]
[null,null,null,null,null,null,{"$f":"INDEX(CONSOLIDADO_2017!A1:CG77,MATCH(CONSOLIDADO_2017!C59,CONSOLIDADO_2017!C1:C77,0),MATCH(RIACHUELO_MUN!G9,Tabela13[#Headers],0))","v":15},{"$f":"INDEX(CONSOLIDADO_2017!A1:CG77,MATCH(CONSOLIDADO_2017!C59,CONSOLIDADO_2017!C1:C77,0),MATCH(RIACHUELO_MUN!H9,Tabela13[#Headers],0))","v":9}]
[null,null,null,null,null,null,null,{"$f":"IF(H9=\"01 OBITO PREMATURO 30 A 69 DCNT\",CONSOLIDADO_2017!H59,IF(H9=\"02 %OBITOS EM MUL IDADE FERTIL INV\",CONSOLIDADO_2017!M59,IF(H9=\"03 %OBITOS CAUSAS BAS DEFINIDAS\",CONSOLIDADO_2017!Q59,IF(H9=\"04 %VACINAS < 2 ANOS\",CONSOLIDADO_2017!T59,IF(H9=\"05 %DE CASOS DOENÇAS NOT COMP IMEDIATA\",CONSOLIDADO_2017!W59,IF(H9=\"06 %CURA CASOS NOVOS HANSEN\",CONSOLIDADO_2017!AA59,IF(H9=\"08 CASOS NOVOS SÍFILIS CONG < ANO\",CONSOLIDADO_2017!AD59,IF(H9=\"09 Nº DE AIDS < 5 ANOS\",CONSOLIDADO_2017!AG59,IF(H9=\"10 %ANÁLISE AMOSTRA ÁGUA CONS HUM\",CONSOLIDADO_2017!AJ59,IF(H9=\"11 RAZÃO CITO 25 A 64\",CONSOLIDADO_2017!AN59,IF(H9=\"12 RAZÃO MAMOGRAFIA BILATERAL 50 A 69\",CONSOLIDADO_2017!AR59,IF(H9=\"13 %PARTO NORMAL SUS/SAÚDE SUPLEMENTAR\",CONSOLIDADO_2017!AV59,IF(H9=\"14 %GRAVIDEZ ADOLESC 10 A 19\",CONSOLIDADO_2017!AZ59,IF(H9=\"15 OBITOS < ANO\",CONSOLIDADO_2017!BD59,IF(H9=\"16 ÓBITOS MATERNOS\",CONSOLIDADO_2017!BG59,IF(H9=\"159 %COB AB\",CONSOLIDADO_2017!BJ59,IF(H9=\"18 %COB Acomp BF\",CONSOLIDADO_2017!BN59,IF(H9=\"19 %COB SAUDE BUCAL\",CONSOLIDADO_2017!BQ59,IF(H9=\"20 %MUN REALIZ AÇÕES VIGILANCIA\",CONSOLIDADO_2017!BT59,IF(H9=\"21 %AÇÕES DE MATRICIAMENTO CAPS\",CONSOLIDADO_2017!BX59,IF(H9=\"22 NÚM CICLOS ATING 80% COB IMV DENGUE\",CONSOLIDADO_2017!CA59,IF(H9=\"23 %PREENCHIMENTO OCUP NOTIF AGRAVO\",CONSOLIDADO_2017!CD59))))))))))))))))))))))","v":"ATINGIU"}]
[]
[]
[]
[]
[]
[]
[]
[]
[]
[]
[]
[]
[]
[]
[]
[]
[]
[]
[]
[]
[]
[]
[]
[]
[]
[]
[]
[]
[]
[]
[]
[]
[]
[]
[]
[]
[]
[]
[]
[]
[]
[]
[]
[]
[]
[]
[]
[]
[]
[]
[]
[]
[]
[]
[]
[]
[]
[]
[]
[]
[]
[]
[]
[]
[]
[]
[]
[]
[]
[]
[]
[]
[]
[]
[]
[]
[]
[]
[]
[]
[]
[]
[]
[]
[]
[]
[]
[]
["POPULAÇÃO 2015",{"$f":"INDEX(CONSOLIDADO_2017!A1:CG77,MATCH(CONSOLIDADO_2017!C59,CONSOLIDADO_2017!C1:C77,0),4)","v":10033}]

{"sheet":"SANTA_ROSA_MUN","index":47,"n_rows":100,"n_cols":8,"rows_kept":100,"cut":false,"hidden":true,"merged":[]}
[]
[]
[]
[]
[]
[]
[]
[]
[null,null,null,null,null,null,{"$f":"IF($H$9=\"01 OBITO PREMATURO 30 A 69 DCNT\",MENU!$G$3,IF($H$9=\"02 %OBITOS EM MUL IDADE FERTIL INV\",MENU!$G$4,IF($H$9=\"03 %OBITOS CAUSAS BAS DEFINIDAS\",MENU!$G$5,IF($H$9=\"04 %VACINAS < 2 ANOS\",MENU!$G$6,IF($H$9=\"05 %DE CASOS DOENÇAS NOT COMP IMEDIATA\",MENU!$G$7,IF($H$9=\"06 %CURA CASOS NOVOS HANSEN\",MENU!$G$8,IF($H$9=\"08 CASOS NOVOS SÍFILIS CONG < ANO\",MENU!$G$9,IF($H$9=\"09 Nº DE AIDS < 5 ANOS\",MENU!$G$10,IF($H$9=\"10 %ANÁLISE AMOSTRA ÁGUA CONS HUM\",MENU!$G$11,IF($H$9=\"11 RAZÃO CITO 25 A 64\",MENU!$G$12,IF($H$9=\"12 RAZÃO MAMOGRAFIA BILATERAL 50 A 69\",MENU!$G$13,IF($H$9=\"13 %PARTO NORMAL SUS/SAÚDE SUPLEMENTAR\",MENU!$G$14,IF($H$9=\"14 %GRAVIDEZ ADOLESC 10 A 19\",MENU!$G$15,IF($H$9=\"15 OBITOS < ANO\",MENU!$G$16,IF($H$9=\"16 ÓBITOS MATERNOS\",MENU!$G$17,IF($H$9=\"17 %COB AB\",MENU!$G$18,IF($H$9=\"18 %COB Acomp BF\",MENU!$G$19,IF($H$9=\"19 %COB SAUDE BUCAL\",MENU!$G$20,IF($H$9=\"20 %MUN REALIZ AÇÕES VIGILANCIA\",MENU!$G$21,IF($H$9=\"21 %AÇÕES DE MATRICIAMENTO CAPS\",MENU!$G$22,IF($H$9=\"22 NÚM CICLOS ATING 80% COB IMV DENGUE\",MENU!$G$23,IF($H$9=\"23 %PREENCHIMENTO OCUP NOTIF AGRAVO\",MENU!$G$24))))))))))))))))))))))","v":"META INDICADOR 01"},"01 OBITO PREMATURO 30 A 69 DCNT"]
[null,null,null,null,null,null,{"$f":"INDEX(CONSOLIDADO_2017!A1:CG77,MATCH(CONSOLIDADO_2017!C65,CONSOLIDADO_2017!C1:C77,0),MATCH(SANTA_ROSA_MUN!G9,Tabela13[#Headers],0))","v":4},{"$f":"INDEX(CONSOLIDADO_2017!A1:CG77,MATCH(CONSOLIDADO_2017!C65,CONSOLIDADO_2017!C1:C77,0),MATCH(SANTA_ROSA_MUN!H9,Tabela13[#Headers],0))","v":1}]
[null,null,null,null,null,null,null,{"$f":"IF(H9=\"01 OBITO PREMATURO 30 A 69 DCNT\",CONSOLIDADO_2017!H65,IF(H9=\"02 %OBITOS EM MUL IDADE FERTIL INV\",CONSOLIDADO_2017!M65,IF(H9=\"03 %OBITOS CAUSAS BAS DEFINIDAS\",CONSOLIDADO_2017!Q65,IF(H9=\"04 %VACINAS < 2 ANOS\",CONSOLIDADO_2017!T65,IF(H9=\"05 %DE CASOS DOENÇAS NOT COMP IMEDIATA\",CONSOLIDADO_2017!W65,IF(H9=\"06 %CURA CASOS NOVOS HANSEN\",CONSOLIDADO_2017!AA65,IF(H9=\"08 CASOS NOVOS SÍFILIS CONG < ANO\",CONSOLIDADO_2017!AD65,IF(H9=\"09 Nº DE AIDS < 5 ANOS\",CONSOLIDADO_2017!AG65,IF(H9=\"10 %ANÁLISE AMOSTRA ÁGUA CONS HUM\",CONSOLIDADO_2017!AJ65,IF(H9=\"11 RAZÃO CITO 25 A 64\",CONSOLIDADO_2017!AN65,IF(H9=\"12 RAZÃO MAMOGRAFIA BILATERAL 50 A 69\",CONSOLIDADO_2017!AR65,IF(H9=\"13 %PARTO NORMAL SUS/SAÚDE SUPLEMENTAR\",CONSOLIDADO_2017!AV65,IF(H9=\"14 %GRAVIDEZ ADOLESC 10 A 19\",CONSOLIDADO_2017!AZ65,IF(H9=\"15 OBITOS < ANO\",CONSOLIDADO_2017!BD65,IF(H9=\"16 ÓBITOS MATERNOS\",CONSOLIDADO_2017!BG65,IF(H9=\"17 %COB AB\",CONSOLIDADO_2017!BJ65,IF(H9=\"18 %COB Acomp BF\",CONSOLIDADO_2017!BN65,IF(H9=\"19 %COB SAUDE BUCAL\",CONSOLIDADO_2017!BQ65,IF(H9=\"20 %MUN REALIZ AÇÕES VIGILANCIA\",CONSOLIDADO_2017!BT65,IF(H9=\"21 %AÇÕES DE MATRICIAMENTO CAPS\",CONSOLIDADO_2017!BX65,IF(H9=\"22 NÚM CICLOS ATING 80% COB IMV DENGUE\",CONSOLIDADO_2017!CA65,IF(H9=\"23 %PREENCHIMENTO OCUP NOTIF AGRAVO\",CONSOLIDADO_2017!CD65))))))))))))))))))))))","v":"ATINGIU"}]
[]
[]
[]
[]
[]
[]
[]
[]
[]
[]
[]
[]
[]
[]
[]
[]
[]
[]
[]
[]
[]
[]
[]
[]
[]
[]
[]
[]
[]
[]
[]
[]
[]
[]
[]
[]
[]
[]
[]
[]
[]
[]
[]
[]
[]
[]
[]
[]
[]
[]
[]
[]
[]
[]
[]
[]
[]
[]
[]
[]
[]
[]
[]
[]
[]
[]
[]
[]
[]
[]
[]
[]
[]
[]
[]
[]
[]
[]
[]
[null,null,null,null,null,null,62.656641604010019,"Atingiu"]
[]
[]
[]
[]
[]
[]
[]
[]
["POPULAÇÃO 2015",{"$f":"INDEX(CONSOLIDADO_2017!A1:CG77,MATCH(CONSOLIDADO_2017!C65,CONSOLIDADO_2017!C1:C77,0),4)","v":3912}]

{"sheet":"CUMBE_MUN","index":48,"n_rows":100,"n_cols":8,"rows_kept":100,"cut":false,"hidden":true,"merged":[]}
[]
[]
[]
[]
[]
[]
[]
[]
[null,null,null,null,null,null,{"$f":"IF($H$9=\"01 OBITO PREMATURO 30 A 69 DCNT\",MENU!$G$3,IF($H$9=\"02 %OBITOS EM MUL IDADE FERTIL INV\",MENU!$G$4,IF($H$9=\"03 %OBITOS CAUSAS BAS DEFINIDAS\",MENU!$G$5,IF($H$9=\"04 %VACINAS < 2 ANOS\",MENU!$G$6,IF($H$9=\"05 %DE CASOS DOENÇAS NOT COMP IMEDIATA\",MENU!$G$7,IF($H$9=\"06 %CURA CASOS NOVOS HANSEN\",MENU!$G$8,IF($H$9=\"08 CASOS NOVOS SÍFILIS CONG < ANO\",MENU!$G$9,IF($H$9=\"09 Nº DE AIDS < 5 ANOS\",MENU!$G$10,IF($H$9=\"10 %ANÁLISE AMOSTRA ÁGUA CONS HUM\",MENU!$G$11,IF($H$9=\"11 RAZÃO CITO 25 A 64\",MENU!$G$12,IF($H$9=\"12 RAZÃO MAMOGRAFIA BILATERAL 50 A 69\",MENU!$G$13,IF($H$9=\"13 %PARTO NORMAL SUS/SAÚDE SUPLEMENTAR\",MENU!$G$14,IF($H$9=\"14 %GRAVIDEZ ADOLESC 10 A 19\",MENU!$G$15,IF($H$9=\"15 OBITOS < ANO\",MENU!$G$16,IF($H$9=\"16 ÓBITOS MATERNOS\",MENU!$G$17,IF($H$9=\"17 %COB AB\",MENU!$G$18,IF($H$9=\"18 %COB Acomp BF\",MENU!$G$19,IF($H$9=\"19 %COB SAUDE BUCAL\",MENU!$G$20,IF($H$9=\"20 %MUN REALIZ AÇÕES VIGILANCIA\",MENU!$G$21,IF($H$9=\"21 %AÇÕES DE MATRICIAMENTO CAPS\",MENU!$G$22,IF($H$9=\"22 NÚM CICLOS ATING 80% COB IMV DENGUE\",MENU!$G$23,IF($H$9=\"23 %PREENCHIMENTO OCUP NOTIF AGRAVO\",MENU!$G$24))))))))))))))))))))))","v":"META INDICADOR 01"},"01 OBITO PREMATURO 30 A 69 DCNT"]
[null,null,null,null,null,null,{"$f":"INDEX(CONSOLIDADO_2017!A1:CG77,MATCH(CONSOLIDADO_2017!C18,CONSOLIDADO_2017!C1:C77,0),MATCH(CUMBE_MUN!G9,Tabela13[#Headers],0))","v":3},{"$f":"INDEX(CONSOLIDADO_2017!A1:CG77,MATCH(CONSOLIDADO_2017!C18,CONSOLIDADO_2017!C1:C77,0),MATCH(CUMBE_MUN!H9,Tabela13[#Headers],0))","v":3}]
[null,null,null,null,null,null,null,{"$f":"IF(H9=\"01 OBITO PREMATURO 30 A 69 DCNT\",CONSOLIDADO_2017!H18,IF(H9=\"02 %OBITOS EM MUL IDADE FERTIL INV\",CONSOLIDADO_2017!M18,IF(H9=\"03 %OBITOS CAUSAS BAS DEFINIDAS\",CONSOLIDADO_2017!Q18,IF(H9=\"04 %VACINAS < 2 ANOS\",CONSOLIDADO_2017!T18,IF(H9=\"05 %DE CASOS DOENÇAS NOT COMP IMEDIATA\",CONSOLIDADO_2017!W18,IF(H9=\"06 %CURA CASOS NOVOS HANSEN\",CONSOLIDADO_2017!AA18,IF(H9=\"08 CASOS NOVOS SÍFILIS CONG < ANO\",CONSOLIDADO_2017!AD18,IF(H9=\"09 Nº DE AIDS < 5 ANOS\",CONSOLIDADO_2017!AG18,IF(H9=\"10 %ANÁLISE AMOSTRA ÁGUA CONS HUM\",CONSOLIDADO_2017!AJ18,IF(H9=\"11 RAZÃO CITO 25 A 64\",CONSOLIDADO_2017!AN18,IF(H9=\"12 RAZÃO MAMOGRAFIA BILATERAL 50 A 69\",CONSOLIDADO_2017!AR18,IF(H9=\"13 %PARTO NORMAL SUS/SAÚDE SUPLEMENTAR\",CONSOLIDADO_2017!AV18,IF(H9=\"14 %GRAVIDEZ ADOLESC 10 A 19\",CONSOLIDADO_2017!AZ18,IF(H9=\"15 OBITOS < ANO\",CONSOLIDADO_2017!BD18,IF(H9=\"16 ÓBITOS MATERNOS\",CONSOLIDADO_2017!BG18,IF(H9=\"17 %COB AB\",CONSOLIDADO_2017!BJ18,IF(H9=\"18 %COB Acomp BF\",CONSOLIDADO_2017!BN18,IF(H9=\"19 %COB SAUDE BUCAL\",CONSOLIDADO_2017!BQ18,IF(H9=\"20 %MUN REALIZ AÇÕES VIGILANCIA\",CONSOLIDADO_2017!BT18,IF(H9=\"21 %AÇÕES DE MATRICIAMENTO CAPS\",CONSOLIDADO_2017!BX18,IF(H9=\"22 NÚM CICLOS ATING 80% COB IMV DENGUE\",CONSOLIDADO_2017!CA18,IF(H9=\"23 %PREENCHIMENTO OCUP NOTIF AGRAVO\",CONSOLIDADO_2017!CD18))))))))))))))))))))))","v":"ATINGIU"}]
[]
[]
[]
[]
[]
[]
[]
[]
[]
[]
[]
[]
[]
[]
[]
[]
[]
[]
[]
[]
[]
[]
[]
[]
[]
[]
[]
[]
[]
[]
[]
[]
[]
[]
[]
[]
[]
[]
[]
[]
[]
[]
[]
[]
[]
[]
[]
[]
[]
[]
[]
[]
[]
[]
[]
[]
[]
[]
[]
[]
[]
[]
[]
[]
[]
[]
[]
[]
[]
[]
[]
[]
[]
[]
[]
[]
[]
[]
[]
[]
[]
[]
[]
[]
[]
[]
[]
[]
["POPULAÇÃO 2015",{"$f":"INDEX(CONSOLIDADO_2017!A1:CG77,MATCH(CONSOLIDADO_2017!C18,CONSOLIDADO_2017!C1:C77,0),4)","v":3986}]

{"sheet":"SOCORRO_REG","index":49,"n_rows":100,"n_cols":12,"rows_kept":100,"cut":false,"hidden":true,"merged":[]}
[]
[]
[]
[]
[]
[]
[]
[]
[null,null,null,null,null,null,{"$f":"IF($H$9=\"01 TAXA OBITO PREMATURO 30 A 69 DCNT\",MENU!$G$3,IF($H$9=\"02 %OBITOS EM MUL IDADE FERTIL INV\",MENU!$G$4,IF($H$9=\"03 %OBITOS CAUSAS BAS DEFINIDAS\",MENU!$G$5,IF($H$9=\"04 %VACINAS < 2 ANOS\",MENU!$G$6,IF($H$9=\"05 %DE CASOS DOENÇAS NOT COMP IMEDIATA\",MENU!$G$7,IF($H$9=\"06 %CURA CASOS NOVOS HANSEN\",MENU!$G$8,IF($H$9=\"08 CASOS NOVOS SÍFILIS CONG < ANO\",MENU!$G$9,IF($H$9=\"09 Nº DE AIDS < 5 ANOS\",MENU!$G$10,IF($H$9=\"10 %ANÁLISE AMOSTRA ÁGUA CONS HUM\",MENU!$G$11,IF($H$9=\"11 RAZÃO CITO 25 A 64\",MENU!$G$12,IF($H$9=\"12 RAZÃO MAMOGRAFIA BILATERAL 50 A 69\",MENU!$G$13,IF($H$9=\"13 %PARTO NORMAL SUS/SAÚDE SUPLEMENTAR\",MENU!$G$14,IF($H$9=\"14 %GRAVIDEZ ADOLESC 10 A 19\",MENU!$G$15,IF($H$9=\"15 TAXA MORTALIDADE INFANTIL\",MENU!$G$16,IF($H$9=\"16 ÓBITOS MATERNOS\",MENU!$G$17,IF($H$9=\"17 %COB AB\",MENU!$G$18,IF($H$9=\"18 %COB Acomp BF\",MENU!$G$19,IF($H$9=\"19 %COB SAUDE BUCAL\",MENU!$G$20,IF($H$9=\"20 %MUN REALIZ AÇÕES VIGILANCIA\",MENU!$G$21,IF($H$9=\"21 AÇÕES DE MATRICIAMENTO CAPS\",MENU!$G$22,IF($H$9=\"22 NÚM CICLOS ATING 80% COB IMV DENGUE\",MENU!$G$23,IF($H$9=\"23 %PREENCHIMENTO OCUP NOTIF AGRAVO\",MENU!$G$24))))))))))))))))))))))","v":"META INDICADOR 01"},"01 TAXA OBITO PREMATURO 30 A 69 DCNT"]
[null,null,null,null,null,null,{"$f":"INDEX(TBDADOSREG,MATCH(CONSOLIDADO_REG!B8,CONSOLIDADO_REG!B1:B9,0),MATCH(SOCORRO_REG!G9,CONSOLIDADO_REG!A1:CE1,0))","v":276.68},{"$f":"INDEX(TBDADOSREG,MATCH(CONSOLIDADO_REG!B8,CONSOLIDADO_REG!B1:B9,0),MATCH(SOCORRO_REG!H9,CONSOLIDADO_REG!A1:CE1,0))","v":296.90310556314068}]
[null,null,null,null,null,null,null,{"$f":"IF(H9=\"01 TAXA OBITO PREMATURO 30 A 69 DCNT\",CONSOLIDADO_REG!G8,IF(H9=\"02 %OBITOS EM MUL IDADE FERTIL INV\",CONSOLIDADO_REG!L8,IF(H9=\"03 %OBITOS CAUSAS BAS DEFINIDAS\",CONSOLIDADO_REG!P8,IF(H9=\"04 %VACINAS < 2 ANOS\",CONSOLIDADO_REG!S8,IF(H9=\"05 %DE CASOS DOENÇAS NOT COMP IMEDIATA\",CONSOLIDADO_REG!V8,IF(H9=\"06 %CURA CASOS NOVOS HANSEN\",CONSOLIDADO_REG!Z8,IF(H9=\"08 CASOS NOVOS SÍFILIS CONG < ANO\",CONSOLIDADO_REG!AC8,IF(H9=\"09 Nº DE AIDS < 5 ANOS\",CONSOLIDADO_REG!AF8,IF(H9=\"10 %ANÁLISE AMOSTRA ÁGUA CONS HUM\",CONSOLIDADO_REG!AI8,IF(H9=\"11 RAZÃO CITO 25 A 64\",CONSOLIDADO_REG!AM8,IF(H9=\"12 RAZÃO MAMOGRAFIA BILATERAL 50 A 69\",CONSOLIDADO_REG!AQ8,IF(H9=\"13 %PARTO NORMAL SUS/SAÚDE SUPLEMENTAR\",CONSOLIDADO_REG!AU8,IF(H9=\"14 %GRAVIDEZ ADOLESC 10 A 19\",CONSOLIDADO_REG!AY8,IF(H9=\"15 TAXA MORTALIDADE INFANTIL\",CONSOLIDADO_REG!BC8,IF(H9=\"16 ÓBITOS MATERNOS\",CONSOLIDADO_REG!BF8,IF(H9=\"17 %COB AB\",CONSOLIDADO_REG!BI8,IF(H9=\"18 %COB Acomp BF\",CONSOLIDADO_REG!BM8,IF(H9=\"19 %COB SAUDE BUCAL\",CONSOLIDADO_REG!BP8,IF(H9=\"20 %MUN REALIZ AÇÕES VIGILANCIA\",CONSOLIDADO_REG!BS8,IF(H9=\"21 AÇÕES DE MATRICIAMENTO CAPS\",CONSOLIDADO_REG!BV8,IF(H9=\"22 NÚM CICLOS ATING 80% COB IMV DENGUE\",CONSOLIDADO_REG!BY8,IF(H9=\"23 %PREENCHIMENTO OCUP NOTIF AGRAVO\",CONSOLIDADO_REG!CB8))))))))))))))))))))))","v":"NÃO ATINGIU"}]
[]
[]
[]
[]
[]
[null,null,null,null,null,null,null,null,null,null,null,"     "]
[]
[]
[]
[]
[]
[]
[]
[]
[]
[]
[]
[]
[]
[]
[]
[]
[]
[]
[]
[]
[]
[]
[]
[]
[]
[]
[]
[]
[]
[]
[]
[]
[]
[]
[]
[]
[]
[]
[]
[]
[]
[]
[]
[]
[]
[]
[]
[]
[]
[]
[]
[]
[]
[]
[]
[]
[]
[]
[]
[]
[]
["COD","REGIÃO","MUNICIPIOS","PROPORÇÃO DE METAS ALCANÇADAS POR MUNICÍPIO NO SISPACTO"]
[280130,"SOCORRO","CAPELA",{"$f":"CONSOLIDADO_2017!CG13","v":0.45}]
[280150,"SOCORRO","CARMOPOLIS",{"$f":"CONSOLIDADO_2017!CG15","v":0.47368421052631576}]
[280190,"SOCORRO","CUMBE",{"$f":"CONSOLIDADO_2017!CG18","v":0.66666666666666663}]
[280250,"SOCORRO","GENERAL MAYNARD",{"$f":"CONSOLIDADO_2017!CG24","v":0.72222222222222221}]
[280330,"SOCORRO","JAPARATUBA",{"$f":"CONSOLIDADO_2017!CG32","v":0.35}]
[280400,"SOCORRO","MARUIM",{"$f":"CONSOLIDADO_2017!CG39","v":0.2857142857142857}]
[280460,"SOCORRO","NOSSA SENHORA DAS DORES",{"$f":"CONSOLIDADO_2017!CG46","v":0.52380952380952384}]
[280480,"SOCORRO","NOSSA SENHORA DO SOCORRO",{"$f":"CONSOLIDADO_2017!CG48","v":0.45454545454545453}]
[280530,"SOCORRO","PIRAMBU",{"$f":"CONSOLIDADO_2017!CG53","v":0.4}]
[280610,"SOCORRO","ROSARIO DO CATETE",{"$f":"CONSOLIDADO_2017!CG61","v":0.4}]
[280660,"SOCORRO","SANTO AMARO DAS BROTAS",{"$f":"CONSOLIDADO_2017!CG66","v":0.31578947368421051}]
[280720,"SOCORRO","SIRIRI",{"$f":"CONSOLIDADO_2017!CG72","v":0.52631578947368418}]
[]
[]
[]
[]
[]
[]
[]
[]
["POPULAÇÃO",{"$f":"INDEX(TBDADOSREG,MATCH(CONSOLIDADO_REG!B8,CONSOLIDADO_REG!B1:B9,0),3)","v":335353}]

{"sheet":"SALGADO_MUN","index":50,"n_rows":100,"n_cols":8,"rows_kept":100,"cut":false,"hidden":true,"merged":[]}
[]
[]
[]
[]
[]
[]
[]
[]
[null,null,null,null,null,null,{"$f":"IF($H$9=\"01 OBITO PREMATURO 30 A 69 DCNT\",MENU!$G$3,IF($H$9=\"02 %OBITOS EM MUL IDADE FERTIL INV\",MENU!$G$4,IF($H$9=\"03 %OBITOS CAUSAS BAS DEFINIDAS\",MENU!$G$5,IF($H$9=\"04 %VACINAS < 2 ANOS\",MENU!$G$6,IF($H$9=\"05 %DE CASOS DOENÇAS NOT COMP IMEDIATA\",MENU!$G$7,IF($H$9=\"06 %CURA CASOS NOVOS HANSEN\",MENU!$G$8,IF($H$9=\"08 CASOS NOVOS SÍFILIS CONG < ANO\",MENU!$G$9,IF($H$9=\"09 Nº DE AIDS < 5 ANOS\",MENU!$G$10,IF($H$9=\"10 %ANÁLISE AMOSTRA ÁGUA CONS HUM\",MENU!$G$11,IF($H$9=\"11 RAZÃO CITO 25 A 64\",MENU!$G$12,IF($H$9=\"12 RAZÃO MAMOGRAFIA BILATERAL 50 A 69\",MENU!$G$13,IF($H$9=\"13 %PARTO NORMAL SUS/SAÚDE SUPLEMENTAR\",MENU!$G$14,IF($H$9=\"14 %GRAVIDEZ ADOLESC 10 A 19\",MENU!$G$15,IF($H$9=\"15 OBITOS < ANO\",MENU!$G$16,IF($H$9=\"16 ÓBITOS MATERNOS\",MENU!$G$17,IF($H$9=\"17 %COB AB\",MENU!$G$18,IF($H$9=\"18 %COB Acomp BF\",MENU!$G$19,IF($H$9=\"19 %COB SAUDE BUCAL\",MENU!$G$20,IF($H$9=\"20 %MUN REALIZ AÇÕES VIGILANCIA\",MENU!$G$21,IF($H$9=\"21 %AÇÕES DE MATRICIAMENTO CAPS\",MENU!$G$22,IF($H$9=\"22 NÚM CICLOS ATING 80% COB IMV DENGUE\",MENU!$G$23,IF($H$9=\"23 %PREENCHIMENTO OCUP NOTIF AGRAVO\",MENU!$G$24))))))))))))))))))))))","v":"META INDICADOR 23"},"23 %PREENCHIMENTO OCUP NOTIF AGRAVO"]
[null,null,null,null,null,null,{"$f":"INDEX(CONSOLIDADO_2017!A1:CG77,MATCH(CONSOLIDADO_2017!C62,CONSOLIDADO_2017!C1:C77,0),MATCH(SALGADO_MUN!G9,Tabela13[#Headers],0))","v":0.95},{"$f":"INDEX(CONSOLIDADO_2017!A1:CG77,MATCH(CONSOLIDADO_2017!C62,CONSOLIDADO_2017!C1:C77,0),MATCH(SALGADO_MUN!H9,Tabela13[#Headers],0))","v":0.5}]
[null,null,null,null,null,null,null,{"$f":"IF(H9=\"01 OBITO PREMATURO 30 A 69 DCNT\",CONSOLIDADO_2017!H62,IF(H9=\"02 %OBITOS EM MUL IDADE FERTIL INV\",CONSOLIDADO_2017!M62,IF(H9=\"03 %OBITOS CAUSAS BAS DEFINIDAS\",CONSOLIDADO_2017!Q62,IF(H9=\"04 %VACINAS < 2 ANOS\",CONSOLIDADO_2017!T62,IF(H9=\"05 %DE CASOS DOENÇAS NOT COMP IMEDIATA\",CONSOLIDADO_2017!W62,IF(H9=\"06 %CURA CASOS NOVOS HANSEN\",CONSOLIDADO_2017!AA62,IF(H9=\"08 CASOS NOVOS SÍFILIS CONG < ANO\",CONSOLIDADO_2017!AD62,IF(H9=\"09 Nº DE AIDS < 5 ANOS\",CONSOLIDADO_2017!AG62,IF(H9=\"10 %ANÁLISE AMOSTRA ÁGUA CONS HUM\",CONSOLIDADO_2017!AJ62,IF(H9=\"11 RAZÃO CITO 25 A 64\",CONSOLIDADO_2017!AN62,IF(H9=\"12 RAZÃO MAMOGRAFIA BILATERAL 50 A 69\",CONSOLIDADO_2017!AR62,IF(H9=\"13 %PARTO NORMAL SUS/SAÚDE SUPLEMENTAR\",CONSOLIDADO_2017!AV62,IF(H9=\"14 %GRAVIDEZ ADOLESC 10 A 19\",CONSOLIDADO_2017!AZ62,IF(H9=\"15 OBITOS < ANO\",CONSOLIDADO_2017!BD62,IF(H9=\"16 ÓBITOS MATERNOS\",CONSOLIDADO_2017!BG62,IF(H9=\"17 %COB AB\",CONSOLIDADO_2017!BJ62,IF(H9=\"18 %COB Acomp BF\",CONSOLIDADO_2017!BN62,IF(H9=\"19 %COB SAUDE BUCAL\",CONSOLIDADO_2017!BQ62,IF(H9=\"20 %MUN REALIZ AÇÕES VIGILANCIA\",CONSOLIDADO_2017!BT62,IF(H9=\"21 %AÇÕES DE MATRICIAMENTO CAPS\",CONSOLIDADO_2017!BX62,IF(H9=\"22 NÚM CICLOS ATING 80% COB IMV DENGUE\",CONSOLIDADO_2017!CA62,IF(H9=\"23 %PREENCHIMENTO OCUP NOTIF AGRAVO\",CONSOLIDADO_2017!CD62))))))))))))))))))))))","v":"NÃO ATINGIU"}]
[]
[]
[]
[]
[]
[]
[]
[]
[]
[]
[]
[]
[]
[]
[]
[]
[]
[]
[]
[]
[]
[]
[]
[]
[]
[]
[]
[]
[]
[]
[]
[]
[]
[]
[]
[]
[]
[]
[]
[]
[]
[]
[]
[]
[]
[]
[]
[]
[]
[]
[]
[]
[]
[]
[]
[]
[]
[]
[]
[]
[]
[]
[]
[]
[]
[]
[]
[]
[]
[]
[]
[]
[]
[]
[]
[]
[]
[]
[]
[]
[]
[]
[]
[]
[]
[]
[]
[]
["POPULAÇÃO 2015",{"$f":"INDEX(CONSOLIDADO_2017!A1:CG77,MATCH(CONSOLIDADO_2017!C62,CONSOLIDADO_2017!C1:C77,0),4)","v":20082}]

{"sheet":"RIACHAO_MUN","index":51,"n_rows":100,"n_cols":8,"rows_kept":100,"cut":false,"hidden":true,"merged":[]}
[]
[]
[]
[]
[]
[]
[]
[]
[null,null,null,null,null,null,{"$f":"IF($H$9=\"01 OBITO PREMATURO 30 A 69 DCNT\",MENU!$G$3,IF($H$9=\"02 %OBITOS EM MUL IDADE FERTIL INV\",MENU!$G$4,IF($H$9=\"03 %OBITOS CAUSAS BAS DEFINIDAS\",MENU!$G$5,IF($H$9=\"04 %VACINAS < 2 ANOS\",MENU!$G$6,IF($H$9=\"05 %DE CASOS DOENÇAS NOT COMP IMEDIATA\",MENU!$G$7,IF($H$9=\"06 %CURA CASOS NOVOS HANSEN\",MENU!$G$8,IF($H$9=\"08 CASOS NOVOS SÍFILIS CONG < ANO\",MENU!$G$9,IF($H$9=\"09 Nº DE AIDS < 5 ANOS\",MENU!$G$10,IF($H$9=\"10 %ANÁLISE AMOSTRA ÁGUA CONS HUM\",MENU!$G$11,IF($H$9=\"11 RAZÃO CITO 25 A 64\",MENU!$G$12,IF($H$9=\"12 RAZÃO MAMOGRAFIA BILATERAL 50 A 69\",MENU!$G$13,IF($H$9=\"13 %PARTO NORMAL SUS/SAÚDE SUPLEMENTAR\",MENU!$G$14,IF($H$9=\"14 %GRAVIDEZ ADOLESC 10 A 19\",MENU!$G$15,IF($H$9=\"15 OBITOS < ANO\",MENU!$G$16,IF($H$9=\"16 ÓBITOS MATERNOS\",MENU!$G$17,IF($H$9=\"17 %COB AB\",MENU!$G$18,IF($H$9=\"18 %COB Acomp BF\",MENU!$G$19,IF($H$9=\"19 %COB SAUDE BUCAL\",MENU!$G$20,IF($H$9=\"20 %MUN REALIZ AÇÕES VIGILANCIA\",MENU!$G$21,IF($H$9=\"21 %AÇÕES DE MATRICIAMENTO CAPS\",MENU!$G$22,IF($H$9=\"22 NÚM CICLOS ATING 80% COB IMV DENGUE\",MENU!$G$23,IF($H$9=\"23 %PREENCHIMENTO OCUP NOTIF AGRAVO\",MENU!$G$24))))))))))))))))))))))","v":"META INDICADOR 01"},"01 OBITO PREMATURO 30 A 69 DCNT"]
[null,null,null,null,null,null,{"$f":"INDEX(CONSOLIDADO_2017!A1:CG77,MATCH(CONSOLIDADO_2017!C58,CONSOLIDADO_2017!C1:C77,0),MATCH(RIACHAO_MUN!G9,Tabela13[#Headers],0))","v":18},{"$f":"INDEX(CONSOLIDADO_2017!A1:CG77,MATCH(CONSOLIDADO_2017!C58,CONSOLIDADO_2017!C1:C77,0),MATCH(RIACHAO_MUN!H9,Tabela13[#Headers],0))","v":14}]
[null,null,null,null,null,null,null,{"$f":"IF(H9=\"01 OBITO PREMATURO 30 A 69 DCNT\",CONSOLIDADO_2017!H58,IF(H9=\"02 %OBITOS EM MUL IDADE FERTIL INV\",CONSOLIDADO_2017!M58,IF(H9=\"03 %OBITOS CAUSAS BAS DEFINIDAS\",CONSOLIDADO_2017!Q58,IF(H9=\"04 %VACINAS < 2 ANOS\",CONSOLIDADO_2017!T58,IF(H9=\"05 %DE CASOS DOENÇAS NOT COMP IMEDIATA\",CONSOLIDADO_2017!W58,IF(H9=\"06 %CURA CASOS NOVOS HANSEN\",CONSOLIDADO_2017!AA58,IF(H9=\"08 CASOS NOVOS SÍFILIS CONG < ANO\",CONSOLIDADO_2017!AD58,IF(H9=\"09 Nº DE AIDS < 5 ANOS\",CONSOLIDADO_2017!AG58,IF(H9=\"10 %ANÁLISE AMOSTRA ÁGUA CONS HUM\",CONSOLIDADO_2017!AJ58,IF(H9=\"11 RAZÃO CITO 25 A 64\",CONSOLIDADO_2017!AN58,IF(H9=\"12 RAZÃO MAMOGRAFIA BILATERAL 50 A 69\",CONSOLIDADO_2017!AR58,IF(H9=\"13 %PARTO NORMAL SUS/SAÚDE SUPLEMENTAR\",CONSOLIDADO_2017!AV58,IF(H9=\"14 %GRAVIDEZ ADOLESC 10 A 19\",CONSOLIDADO_2017!AZ58,IF(H9=\"15 OBITOS < ANO\",CONSOLIDADO_2017!BD58,IF(H9=\"16 ÓBITOS MATERNOS\",CONSOLIDADO_2017!BG58,IF(H9=\"17 %COB AB\",CONSOLIDADO_2017!BJ58,IF(H9=\"18 %COB Acomp BF\",CONSOLIDADO_2017!BN58,IF(H9=\"19 %COB SAUDE BUCAL\",CONSOLIDADO_2017!BQ58,IF(H9=\"20 %MUN REALIZ AÇÕES VIGILANCIA\",CONSOLIDADO_2017!BT58,IF(H9=\"21 %AÇÕES DE MATRICIAMENTO CAPS\",CONSOLIDADO_2017!BX58,IF(H9=\"22 NÚM CICLOS ATING 80% COB IMV DENGUE\",CONSOLIDADO_2017!CA58,IF(H9=\"23 %PREENCHIMENTO OCUP NOTIF AGRAVO\",CONSOLIDADO_2017!CD58))))))))))))))))))))))","v":"ATINGIU"}]
[]
[]
[]
[]
[]
[]
[]
[]
[]
[]
[]
[]
[]
[]
[]
[]
[]
[]
[]
[]
[]
[]
[]
[]
[]
[]
[]
[]
[]
[]
[]
[]
[]
[]
[]
[]
[]
[]
[]
[]
[]
[]
[]
[]
[]
[]
[]
[]
[]
[]
[]
[]
[]
[]
[]
[]
[]
[]
[]
[]
[]
[]
[]
[]
[]
[]
[]
[]
[]
[]
[]
[]
[]
[]
[]
[]
[]
[]
[]
[]
[]
[]
[]
[]
[]
[]
[]
[]
["POPULAÇÃO 2015",{"$f":"INDEX(CONSOLIDADO_2017!A1:CG77,MATCH(CONSOLIDADO_2017!C58,CONSOLIDADO_2017!C1:C77,0),4)","v":19976}]

{"sheet":"SIMÃO_DIAS_MUN","index":52,"n_rows":100,"n_cols":8,"rows_kept":100,"cut":false,"hidden":true,"merged":[]}
[]
[]
[]
[]
[]
[]
[]
[]
[null,null,null,null,null,null,{"$f":"IF($H$9=\"01 OBITO PREMATURO 30 A 69 DCNT\",MENU!$G$3,IF($H$9=\"02 %OBITOS EM MUL IDADE FERTIL INV\",MENU!$G$4,IF($H$9=\"03 %OBITOS CAUSAS BAS DEFINIDAS\",MENU!$G$5,IF($H$9=\"04 %VACINAS < 2 ANOS\",MENU!$G$6,IF($H$9=\"05 %DE CASOS DOENÇAS NOT COMP IMEDIATA\",MENU!$G$7,IF($H$9=\"06 %CURA CASOS NOVOS HANSEN\",MENU!$G$8,IF($H$9=\"08 CASOS NOVOS SÍFILIS CONG < ANO\",MENU!$G$9,IF($H$9=\"09 Nº DE AIDS < 5 ANOS\",MENU!$G$10,IF($H$9=\"10 %ANÁLISE AMOSTRA ÁGUA CONS HUM\",MENU!$G$11,IF($H$9=\"11 RAZÃO CITO 25 A 64\",MENU!$G$12,IF($H$9=\"12 RAZÃO MAMOGRAFIA BILATERAL 50 A 69\",MENU!$G$13,IF($H$9=\"13 %PARTO NORMAL SUS/SAÚDE SUPLEMENTAR\",MENU!$G$14,IF($H$9=\"14 %GRAVIDEZ ADOLESC 10 A 19\",MENU!$G$15,IF($H$9=\"15 OBITOS < ANO\",MENU!$G$16,IF($H$9=\"16 ÓBITOS MATERNOS\",MENU!$G$17,IF($H$9=\"17 %COB AB\",MENU!$G$18,IF($H$9=\"18 %COB Acomp BF\",MENU!$G$19,IF($H$9=\"19 %COB SAUDE BUCAL\",MENU!$G$20,IF($H$9=\"20 %MUN REALIZ AÇÕES VIGILANCIA\",MENU!$G$21,IF($H$9=\"21 %AÇÕES DE MATRICIAMENTO CAPS\",MENU!$G$22,IF($H$9=\"22 NÚM CICLOS ATING 80% COB IMV DENGUE\",MENU!$G$23,IF($H$9=\"23 %PREENCHIMENTO OCUP NOTIF AGRAVO\",MENU!$G$24))))))))))))))))))))))","v":"META INDICADOR 01"},"01 OBITO PREMATURO 30 A 69 DCNT"]
[null,null,null,null,null,null,{"$f":"INDEX(CONSOLIDADO_2017!A1:CG77,MATCH(CONSOLIDADO_2017!C71,CONSOLIDADO_2017!C1:C77,0),MATCH(SIMÃO_DIAS_MUN!G9,Tabela13[#Headers],0))","v":47},{"$f":"INDEX(CONSOLIDADO_2017!A1:CG77,MATCH(CONSOLIDADO_2017!C71,CONSOLIDADO_2017!C1:C77,0),MATCH(SIMÃO_DIAS_MUN!H9,Tabela13[#Headers],0))","v":44}]
[null,null,null,null,null,null,null,{"$f":"IF(H9=\"01 OBITO PREMATURO 30 A 69 DCNT\",CONSOLIDADO_2017!H71,IF(H9=\"02 %OBITOS EM MUL IDADE FERTIL INV\",CONSOLIDADO_2017!M71,IF(H9=\"03 %OBITOS CAUSAS BAS DEFINIDAS\",CONSOLIDADO_2017!Q71,IF(H9=\"04 %VACINAS < 2 ANOS\",CONSOLIDADO_2017!T71,IF(H9=\"05 %DE CASOS DOENÇAS NOT COMP IMEDIATA\",CONSOLIDADO_2017!W71,IF(H9=\"06 %CURA CASOS NOVOS HANSEN\",CONSOLIDADO_2017!AA71,IF(H9=\"08 CASOS NOVOS SÍFILIS CONG < ANO\",CONSOLIDADO_2017!AD71,IF(H9=\"09 Nº DE AIDS < 5 ANOS\",CONSOLIDADO_2017!AG71,IF(H9=\"10 %ANÁLISE AMOSTRA ÁGUA CONS HUM\",CONSOLIDADO_2017!AJ71,IF(H9=\"11 RAZÃO CITO 25 A 64\",CONSOLIDADO_2017!AN71,IF(H9=\"12 RAZÃO MAMOGRAFIA BILATERAL 50 A 69\",CONSOLIDADO_2017!AR71,IF(H9=\"13 %PARTO NORMAL SUS/SAÚDE SUPLEMENTAR\",CONSOLIDADO_2017!AV71,IF(H9=\"14 %GRAVIDEZ ADOLESC 10 A 19\",CONSOLIDADO_2017!AZ71,IF(H9=\"15 OBITOS < ANO\",CONSOLIDADO_2017!BD71,IF(H9=\"16 ÓBITOS MATERNOS\",CONSOLIDADO_2017!BG71,IF(H9=\"17 %COB AB\",CONSOLIDADO_2017!BJ71,IF(H9=\"18 %COB Acomp BF\",CONSOLIDADO_2017!BN71,IF(H9=\"19 %COB SAUDE BUCAL\",CONSOLIDADO_2017!BQ71,IF(H9=\"20 %MUN REALIZ AÇÕES VIGILANCIA\",CONSOLIDADO_2017!BT71,IF(H9=\"21 %AÇÕES DE MATRICIAMENTO CAPS\",CONSOLIDADO_2017!BX71,IF(H9=\"22 NÚM CICLOS ATING 80% COB IMV DENGUE\",CONSOLIDADO_2017!CA71,IF(H9=\"23 %PREENCHIMENTO OCUP NOTIF AGRAVO\",CONSOLIDADO_2017!CD71))))))))))))))))))))))","v":"ATINGIU"}]
[]
[]
[]
[]
[]
[]
[]
[]
[]
[]
[]
[]
[]
[]
[]
[]
[]
[]
[]
[]
[]
[]
[]
[]
[]
[]
[]
[]
[]
[]
[]
[]
[]
[]
[]
[]
[]
[]
[]
[]
[]
[]
[]
[]
[]
[]
[]
[]
[]
[]
[]
[]
[]
[]
[]
[]
[]
[]
[]
[]
[]
[]
[]
[]
[]
[]
[]
[]
[]
[]
[]
[]
[]
[]
[]
[]
[]
[]
[]
[]
[]
[]
[]
[]
[]
[]
[]
[]
["POPULAÇÃO 2015",{"$f":"INDEX(CONSOLIDADO_2017!A1:CG77,MATCH(CONSOLIDADO_2017!C71,CONSOLIDADO_2017!C1:C77,0),4)","v":40530}]

{"sheet":"TOBIAS_MUN","index":53,"n_rows":100,"n_cols":8,"rows_kept":100,"cut":false,"hidden":true,"merged":[]}
[]
[]
[]
[]
[]
[]
[]
[]
[null,null,null,null,null,null,{"$f":"IF($H$9=\"01 OBITO PREMATURO 30 A 69 DCNT\",MENU!$G$3,IF($H$9=\"02 %OBITOS EM MUL IDADE FERTIL INV\",MENU!$G$4,IF($H$9=\"03 %OBITOS CAUSAS BAS DEFINIDAS\",MENU!$G$5,IF($H$9=\"04 %VACINAS < 2 ANOS\",MENU!$G$6,IF($H$9=\"05 %DE CASOS DOENÇAS NOT COMP IMEDIATA\",MENU!$G$7,IF($H$9=\"06 %CURA CASOS NOVOS HANSEN\",MENU!$G$8,IF($H$9=\"08 CASOS NOVOS SÍFILIS CONG < ANO\",MENU!$G$9,IF($H$9=\"09 Nº DE AIDS < 5 ANOS\",MENU!$G$10,IF($H$9=\"10 %ANÁLISE AMOSTRA ÁGUA CONS HUM\",MENU!$G$11,IF($H$9=\"11 RAZÃO CITO 25 A 64\",MENU!$G$12,IF($H$9=\"12 RAZÃO MAMOGRAFIA BILATERAL 50 A 69\",MENU!$G$13,IF($H$9=\"13 %PARTO NORMAL SUS/SAÚDE SUPLEMENTAR\",MENU!$G$14,IF($H$9=\"14 %GRAVIDEZ ADOLESC 10 A 19\",MENU!$G$15,IF($H$9=\"15 OBITOS < ANO\",MENU!$G$16,IF($H$9=\"16 ÓBITOS MATERNOS\",MENU!$G$17,IF($H$9=\"17 %COB AB\",MENU!$G$18,IF($H$9=\"18 %COB Acomp BF\",MENU!$G$19,IF($H$9=\"19 %COB SAUDE BUCAL\",MENU!$G$20,IF($H$9=\"20 %MUN REALIZ AÇÕES VIGILANCIA\",MENU!$G$21,IF($H$9=\"21 %AÇÕES DE MATRICIAMENTO CAPS\",MENU!$G$22,IF($H$9=\"22 NÚM CICLOS ATING 80% COB IMV DENGUE\",MENU!$G$23,IF($H$9=\"23 %PREENCHIMENTO OCUP NOTIF AGRAVO\",MENU!$G$24))))))))))))))))))))))","v":"META INDICADOR 04"},"04 %VACINAS < 2 ANOS"]
[null,null,null,null,null,null,{"$f":"INDEX(CONSOLIDADO_2017!A1:CG77,MATCH(CONSOLIDADO_2017!C74,CONSOLIDADO_2017!C1:C77,0),MATCH(TOBIAS_MUN!G9,Tabela13[#Headers],0))","v":1},{"$f":"INDEX(CONSOLIDADO_2017!A1:CG77,MATCH(CONSOLIDADO_2017!C74,CONSOLIDADO_2017!C1:C77,0),MATCH(TOBIAS_MUN!H9,Tabela13[#Headers],0))","v":0}]
[null,null,null,null,null,null,null,{"$f":"IF(H9=\"01 OBITO PREMATURO 30 A 69 DCNT\",CONSOLIDADO_2017!H74,IF(H9=\"02 %OBITOS EM MUL IDADE FERTIL INV\",CONSOLIDADO_2017!M74,IF(H9=\"03 %OBITOS CAUSAS BAS DEFINIDAS\",CONSOLIDADO_2017!Q74,IF(H9=\"04 %VACINAS < 2 ANOS\",CONSOLIDADO_2017!T74,IF(H9=\"05 %DE CASOS DOENÇAS NOT COMP IMEDIATA\",CONSOLIDADO_2017!W74,IF(H9=\"06 %CURA CASOS NOVOS HANSEN\",CONSOLIDADO_2017!AA74,IF(H9=\"08 CASOS NOVOS SÍFILIS CONG < ANO\",CONSOLIDADO_2017!AD74,IF(H9=\"09 Nº DE AIDS < 5 ANOS\",CONSOLIDADO_2017!AG74,IF(H9=\"10 %ANÁLISE AMOSTRA ÁGUA CONS HUM\",CONSOLIDADO_2017!AJ74,IF(H9=\"11 RAZÃO CITO 25 A 64\",CONSOLIDADO_2017!AN74,IF(H9=\"12 RAZÃO MAMOGRAFIA BILATERAL 50 A 69\",CONSOLIDADO_2017!AR74,IF(H9=\"13 %PARTO NORMAL SUS/SAÚDE SUPLEMENTAR\",CONSOLIDADO_2017!AV74,IF(H9=\"14 %GRAVIDEZ ADOLESC 10 A 19\",CONSOLIDADO_2017!AZ74,IF(H9=\"15 OBITOS < ANO\",CONSOLIDADO_2017!BD74,IF(H9=\"16 ÓBITOS MATERNOS\",CONSOLIDADO_2017!BG74,IF(H9=\"17 %COB AB\",CONSOLIDADO_2017!BJ74,IF(H9=\"18 %COB Acomp BF\",CONSOLIDADO_2017!BN74,IF(H9=\"19 %COB SAUDE BUCAL\",CONSOLIDADO_2017!BQ74,IF(H9=\"20 %MUN REALIZ AÇÕES VIGILANCIA\",CONSOLIDADO_2017!BT74,IF(H9=\"21 %AÇÕES DE MATRICIAMENTO CAPS\",CONSOLIDADO_2017!BX74,IF(H9=\"22 NÚM CICLOS ATING 80% COB IMV DENGUE\",CONSOLIDADO_2017!CA74,IF(H9=\"23 %PREENCHIMENTO OCUP NOTIF AGRAVO\",CONSOLIDADO_2017!CD74))))))))))))))))))))))","v":"NÃO ATINGIU"}]
[]
[]
[]
[]
[]
[]
[]
[]
[]
[]
[]
[]
[]
[]
[]
[]
[]
[]
[]
[]
[]
[]
[]
[]
[]
[]
[]
[]
[]
[]
[]
[]
[]
[]
[]
[]
[]
[]
[]
[]
[]
[]
[]
[]
[]
[]
[]
[]
[]
[]
[]
[]
[]
[]
[]
[]
[]
[]
[]
[]
[]
[]
[]
[]
[]
[]
[]
[]
[]
[]
[]
[]
[]
[]
[]
[]
[]
[]
[]
[]
[]
[]
[]
[]
[]
[]
[]
[]
["POPULAÇÃO 2015",{"$f":"INDEX(CONSOLIDADO_2017!A1:CG77,MATCH(CONSOLIDADO_2017!C74,CONSOLIDADO_2017!C1:C77,0),4)","v":51374}]

{"sheet":"POCO_VERDE_MUN","index":54,"n_rows":100,"n_cols":8,"rows_kept":100,"cut":false,"hidden":true,"merged":[]}
[]
[]
[]
[]
[]
[]
[]
[]
[null,null,null,null,null,null,{"$f":"IF($H$9=\"01 OBITO PREMATURO 30 A 69 DCNT\",MENU!$G$3,IF($H$9=\"02 %OBITOS EM MUL IDADE FERTIL INV\",MENU!$G$4,IF($H$9=\"03 %OBITOS CAUSAS BAS DEFINIDAS\",MENU!$G$5,IF($H$9=\"04 %VACINAS < 2 ANOS\",MENU!$G$6,IF($H$9=\"05 %DE CASOS DOENÇAS NOT COMP IMEDIATA\",MENU!$G$7,IF($H$9=\"06 %CURA CASOS NOVOS HANSEN\",MENU!$G$8,IF($H$9=\"08 CASOS NOVOS SÍFILIS CONG < ANO\",MENU!$G$9,IF($H$9=\"09 Nº DE AIDS < 5 ANOS\",MENU!$G$10,IF($H$9=\"10 %ANÁLISE AMOSTRA ÁGUA CONS HUM\",MENU!$G$11,IF($H$9=\"11 RAZÃO CITO 25 A 64\",MENU!$G$12,IF($H$9=\"12 RAZÃO MAMOGRAFIA BILATERAL 50 A 69\",MENU!$G$13,IF($H$9=\"13 %PARTO NORMAL SUS/SAÚDE SUPLEMENTAR\",MENU!$G$14,IF($H$9=\"14 %GRAVIDEZ ADOLESC 10 A 19\",MENU!$G$15,IF($H$9=\"15 OBITOS < ANO\",MENU!$G$16,IF($H$9=\"16 ÓBITOS MATERNOS\",MENU!$G$17,IF($H$9=\"17 %COB AB\",MENU!$G$18,IF($H$9=\"18 %COB Acomp BF\",MENU!$G$19,IF($H$9=\"19 %COB SAUDE BUCAL\",MENU!$G$20,IF($H$9=\"20 %MUN REALIZ AÇÕES VIGILANCIA\",MENU!$G$21,IF($H$9=\"21 %AÇÕES DE MATRICIAMENTO CAPS\",MENU!$G$22,IF($H$9=\"22 NÚM CICLOS ATING 80% COB IMV DENGUE\",MENU!$G$23,IF($H$9=\"23 %PREENCHIMENTO OCUP NOTIF AGRAVO\",MENU!$G$24))))))))))))))))))))))","v":"META INDICADOR 01"},"01 OBITO PREMATURO 30 A 69 DCNT"]
[null,null,null,null,null,null,{"$f":"INDEX(CONSOLIDADO_2017!A1:CG77,MATCH(CONSOLIDADO_2017!C55,CONSOLIDADO_2017!C1:C77,0),MATCH(POCO_VERDE_MUN!G9,Tabela13[#Headers],0))","v":17},{"$f":"INDEX(CONSOLIDADO_2017!A1:CG77,MATCH(CONSOLIDADO_2017!C55,CONSOLIDADO_2017!C1:C77,0),MATCH(POCO_VERDE_MUN!H9,Tabela13[#Headers],0))","v":12}]
[null,null,null,null,null,null,null,{"$f":"IF(H9=\"01 OBITO PREMATURO 30 A 69 DCNT\",CONSOLIDADO_2017!H55,IF(H9=\"02 %OBITOS EM MUL IDADE FERTIL INV\",CONSOLIDADO_2017!M55,IF(H9=\"03 %OBITOS CAUSAS BAS DEFINIDAS\",CONSOLIDADO_2017!Q55,IF(H9=\"04 %VACINAS < 2 ANOS\",CONSOLIDADO_2017!T55,IF(H9=\"05 %DE CASOS DOENÇAS NOT COMP IMEDIATA\",CONSOLIDADO_2017!W55,IF(H9=\"06 %CURA CASOS NOVOS HANSEN\",CONSOLIDADO_2017!AA55,IF(H9=\"08 CASOS NOVOS SÍFILIS CONG < ANO\",CONSOLIDADO_2017!AD55,IF(H9=\"09 Nº DE AIDS < 5 ANOS\",CONSOLIDADO_2017!AG55,IF(H9=\"10 %ANÁLISE AMOSTRA ÁGUA CONS HUM\",CONSOLIDADO_2017!AJ55,IF(H9=\"11 RAZÃO CITO 25 A 64\",CONSOLIDADO_2017!AN55,IF(H9=\"12 RAZÃO MAMOGRAFIA BILATERAL 50 A 69\",CONSOLIDADO_2017!AR55,IF(H9=\"13 %PARTO NORMAL SUS/SAÚDE SUPLEMENTAR\",CONSOLIDADO_2017!AV55,IF(H9=\"14 %GRAVIDEZ ADOLESC 10 A 19\",CONSOLIDADO_2017!AZ55,IF(H9=\"15 OBITOS < ANO\",CONSOLIDADO_2017!BD55,IF(H9=\"16 ÓBITOS MATERNOS\",CONSOLIDADO_2017!BG55,IF(H9=\"17 %COB AB\",CONSOLIDADO_2017!BJ55,IF(H9=\"18 %COB Acomp BF\",CONSOLIDADO_2017!BN55,IF(H9=\"19 %COB SAUDE BUCAL\",CONSOLIDADO_2017!BQ55,IF(H9=\"20 %MUN REALIZ AÇÕES VIGILANCIA\",CONSOLIDADO_2017!BT55,IF(H9=\"21 %AÇÕES DE MATRICIAMENTO CAPS\",CONSOLIDADO_2017!BX55,IF(H9=\"22 NÚM CICLOS ATING 80% COB IMV DENGUE\",CONSOLIDADO_2017!CA55,IF(H9=\"23 %PREENCHIMENTO OCUP NOTIF AGRAVO\",CONSOLIDADO_2017!CD55))))))))))))))))))))))","v":"ATINGIU"}]
[]
[]
[]
[]
[]
[]
[]
[]
[]
[]
[]
[]
[]
[]
[]
[]
[]
[]
[]
[]
[]
[]
[]
[]
[]
[]
[]
[]
[]
[]
[]
[]
[]
[]
[]
[]
[]
[]
[]
[]
[]
[]
[]
[]
[]
[]
[]
[]
[]
[]
[]
[]
[]
[]
[]
[]
[]
[]
[]
[]
[]
[]
[]
[]
[]
[]
[]
[]
[]
[]
[]
[]
[]
[]
[]
[]
[]
[]
[]
[]
[]
[]
[]
[]
[]
[]
[]
[]
["POPULAÇÃO 2015",{"$f":"INDEX(CONSOLIDADO_2017!A1:CG77,MATCH(CONSOLIDADO_2017!C55,CONSOLIDADO_2017!C1:C77,0),4)","v":23413}]

{"sheet":"CARIRA_MUN","index":55,"n_rows":100,"n_cols":12,"rows_kept":100,"cut":false,"hidden":true,"merged":[]}
[]
[]
[]
[]
[]
[]
[]
[]
[null,null,null,null,null,null,{"$f":"IF($H$9=\"01 OBITO PREMATURO 30 A 69 DCNT\",MENU!$G$3,IF($H$9=\"02 %OBITOS EM MUL IDADE FERTIL INV\",MENU!$G$4,IF($H$9=\"03 %OBITOS CAUSAS BAS DEFINIDAS\",MENU!$G$5,IF($H$9=\"04 %VACINAS < 2 ANOS\",MENU!$G$6,IF($H$9=\"05 %DE CASOS DOENÇAS NOT COMP IMEDIATA\",MENU!$G$7,IF($H$9=\"06 %CURA CASOS NOVOS HANSEN\",MENU!$G$8,IF($H$9=\"08 CASOS NOVOS SÍFILIS CONG < ANO\",MENU!$G$9,IF($H$9=\"09 Nº DE AIDS < 5 ANOS\",MENU!$G$10,IF($H$9=\"10 %ANÁLISE AMOSTRA ÁGUA CONS HUM\",MENU!$G$11,IF($H$9=\"11 RAZÃO CITO 25 A 64\",MENU!$G$12,IF($H$9=\"12 RAZÃO MAMOGRAFIA BILATERAL 50 A 69\",MENU!$G$13,IF($H$9=\"13 %PARTO NORMAL SUS/SAÚDE SUPLEMENTAR\",MENU!$G$14,IF($H$9=\"14 %GRAVIDEZ ADOLESC 10 A 19\",MENU!$G$15,IF($H$9=\"15 OBITOS < ANO\",MENU!$G$16,IF($H$9=\"16 ÓBITOS MATERNOS\",MENU!$G$17,IF($H$9=\"17 %COB AB\",MENU!$G$18,IF($H$9=\"18 %COB Acomp BF\",MENU!$G$19,IF($H$9=\"19 %COB SAUDE BUCAL\",MENU!$G$20,IF($H$9=\"20 %MUN REALIZ AÇÕES VIGILANCIA\",MENU!$G$21,IF($H$9=\"21 AÇÕES DE MATRICIAMENTO CAPS\",MENU!$G$22,IF($H$9=\"22 NÚM CICLOS ATING 80% COB IMV DENGUE\",MENU!$G$23,IF($H$9=\"23 %PREENCHIMENTO OCUP NOTIF AGRAVO\",MENU!$G$24))))))))))))))))))))))","v":"META INDICADOR 01"},"01 OBITO PREMATURO 30 A 69 DCNT"]
[null,null,null,null,null,null,{"$f":"INDEX(CONSOLIDADO_2017!$A$1:$CG$77,14,MATCH($G$9,CONSOLIDADO_2017!$A$1:$CG$1,0))","v":24},{"$f":"INDEX(CONSOLIDADO_2017!$A$1:$CG$77,14,MATCH(H9,CONSOLIDADO_2017!$A$1:$CG$1,0))","v":15}]
[null,null,null,null,null,null,null,{"$f":"IF(H9=\"01 OBITO PREMATURO 30 A 69 DCNT\",CONSOLIDADO_2017!H14,IF(H9=\"02 %OBITOS EM MUL IDADE FERTIL INV\",CONSOLIDADO_2017!M14,IF(H9=\"03 %OBITOS CAUSAS BAS DEFINIDAS\",CONSOLIDADO_2017!Q14,IF(H9=\"04 %VACINAS < 2 ANOS\",CONSOLIDADO_2017!T14,IF(H9=\"05 %DE CASOS DOENÇAS NOT COMP IMEDIATA\",CONSOLIDADO_2017!W14,IF(H9=\"06 %CURA CASOS NOVOS HANSEN\",CONSOLIDADO_2017!AA14,IF(H9=\"08 CASOS NOVOS SÍFILIS CONG < ANO\",CONSOLIDADO_2017!AD14,IF(H9=\"09 Nº DE AIDS < 5 ANOS\",CONSOLIDADO_2017!AG14,IF(H9=\"10 %ANÁLISE AMOSTRA ÁGUA CONS HUM\",CONSOLIDADO_2017!AJ14,IF(H9=\"11 RAZÃO CITO 25 A 64\",CONSOLIDADO_2017!AN14,IF(H9=\"12 RAZÃO MAMOGRAFIA BILATERAL 50 A 69\",CONSOLIDADO_2017!AR14,IF(H9=\"13 %PARTO NORMAL SUS/SAÚDE SUPLEMENTAR\",CONSOLIDADO_2017!AV14,IF(H9=\"14 %GRAVIDEZ ADOLESC 10 A 19\",CONSOLIDADO_2017!AZ14,IF(H9=\"15 OBITOS < ANO\",CONSOLIDADO_2017!BD14,IF(H9=\"16 ÓBITOS MATERNOS\",CONSOLIDADO_2017!BG14,IF(H9=\"17 %COB AB\",CONSOLIDADO_2017!BJ14,IF(H9=\"18 %COB Acomp BF\",CONSOLIDADO_2017!BN14,IF(H9=\"19 %COB SAUDE BUCAL\",CONSOLIDADO_2017!BQ14,IF(H9=\"20 %MUN REALIZ AÇÕES VIGILANCIA\",CONSOLIDADO_2017!BT14,IF(H9=\"21 AÇÕES DE MATRICIAMENTO CAPS\",CONSOLIDADO_2017!BX14,IF(H9=\"22 NÚM CICLOS ATING 80% COB IMV DENGUE\",CONSOLIDADO_2017!CA14,IF(H9=\"23 %PREENCHIMENTO OCUP NOTIF AGRAVO\",CONSOLIDADO_2017!CD14))))))))))))))))))))))","v":"ATINGIU"}]
[]
[]
[]
[]
[]
[null,null,null,null,null,null,null,null,null,null,null,"     "]
[]
[]
[]
[]
[]
[]
[]
[]
[]
[]
[]
[]
[]
[]
[]
[]
[]
[]
[]
[]
[]
[]
[]
[]
[]
[]
[]
[]
[]
[]
[]
[]
[]
[]
[]
[]
[]
[]
[]
[]
[]
[]
[]
[]
[]
[]
[]
[]
[]
[]
[]
[]
[]
[]
[]
[]
[]
[]
[]
[]
[]
[]
[]
[]
[]
[]
[]
[]
[]
[]
[]
[]
[]
[]
[]
[]
[]
[]
[]
[]
[]
[]
["POPULAÇÃO 2015",{"$f":"INDEX(CONSOLIDADO_2017!A1:CG77,MATCH(CONSOLIDADO_2017!C14,CONSOLIDADO_2017!C1:C77,0),4)","v":21487}]

{"sheet":"LAGARTO_MUN","index":56,"n_rows":100,"n_cols":12,"rows_kept":100,"cut":false,"hidden":true,"merged":[]}
[]
[]
[]
[]
[]
[]
[]
[]
[null,null,null,null,null,null,{"$f":"IF($H$9=\"01 TAXA OBITO PREMATURO 30 A 69 DCNT\",MENU!$G$3,IF($H$9=\"02 %OBITOS EM MUL IDADE FERTIL INV\",MENU!$G$4,IF($H$9=\"03 %OBITOS CAUSAS BAS DEFINIDAS\",MENU!$G$5,IF($H$9=\"04 %VACINAS < 2 ANOS\",MENU!$G$6,IF($H$9=\"05 %DE CASOS DOENÇAS NOT COMP IMEDIATA\",MENU!$G$7,IF($H$9=\"06 %CURA CASOS NOVOS HANSEN\",MENU!$G$8,IF($H$9=\"08 CASOS NOVOS SÍFILIS CONG < ANO\",MENU!$G$9,IF($H$9=\"09 Nº DE AIDS < 5 ANOS\",MENU!$G$10,IF($H$9=\"10 %ANÁLISE AMOSTRA ÁGUA CONS HUM\",MENU!$G$11,IF($H$9=\"11 RAZÃO CITO 25 A 64\",MENU!$G$12,IF($H$9=\"12 RAZÃO MAMOGRAFIA BILATERAL 50 A 69\",MENU!$G$13,IF($H$9=\"13 %PARTO NORMAL SUS/SAÚDE SUPLEMENTAR\",MENU!$G$14,IF($H$9=\"14 %GRAVIDEZ ADOLESC 10 A 19\",MENU!$G$15,IF($H$9=\"15 TAXA MORTALIDADE INFANTIL\",MENU!$G$16,IF($H$9=\"16 ÓBITOS MATERNOS\",MENU!$G$17,IF($H$9=\"17 %COB AB\",MENU!$G$18,IF($H$9=\"18 %COB Acomp BF\",MENU!$G$19,IF($H$9=\"19 %COB SAUDE BUCAL\",MENU!$G$20,IF($H$9=\"20 %MUN REALIZ AÇÕES VIGILANCIA\",MENU!$G$21,IF($H$9=\"21 %AÇÕES DE MATRICIAMENTO CAPS\",MENU!$G$22,IF($H$9=\"22 NÚM CICLOS ATING 80% COB IMV DENGUE\",MENU!$G$23,IF($H$9=\"23 %PREENCHIMENTO OCUP NOTIF AGRAVO\",MENU!$G$24))))))))))))))))))))))","v":"META INDICADOR 03"},"03 %OBITOS CAUSAS BAS DEFINIDAS"]
[null,null,null,null,null,null,{"$f":"INDEX(CONSOLIDADO_2017!A1:CG77,MATCH(CONSOLIDADO_2017!C34,CONSOLIDADO_2017!C1:C77,0),MATCH(LAGARTO_MUN!G9,Tabela13[#Headers],0))","v":0.95},{"$f":"INDEX(CONSOLIDADO_2017!A1:CG77,MATCH(CONSOLIDADO_2017!C34,CONSOLIDADO_2017!C1:C77,0),MATCH(LAGARTO_MUN!H9,Tabela13[#Headers],0))","v":0.96405228758169936}]
[null,null,null,null,null,null,null,{"$f":"IF(H9=\"01 TAXA OBITO PREMATURO 30 A 69 DCNT\",CONSOLIDADO_2017!H34,IF(H9=\"02 %OBITOS EM MUL IDADE FERTIL INV\",CONSOLIDADO_2017!M34,IF(H9=\"03 %OBITOS CAUSAS BAS DEFINIDAS\",CONSOLIDADO_2017!Q34,IF(H9=\"04 %VACINAS < 2 ANOS\",CONSOLIDADO_2017!T34,IF(H9=\"05 %DE CASOS DOENÇAS NOT COMP IMEDIATA\",CONSOLIDADO_2017!W34,IF(H9=\"06 %CURA CASOS NOVOS HANSEN\",CONSOLIDADO_2017!AA34,IF(H9=\"08 CASOS NOVOS SÍFILIS CONG < ANO\",CONSOLIDADO_2017!AD34,IF(H9=\"09 Nº DE AIDS < 5 ANOS\",CONSOLIDADO_2017!AG34,IF(H9=\"10 %ANÁLISE AMOSTRA ÁGUA CONS HUM\",CONSOLIDADO_2017!AJ34,IF(H9=\"11 RAZÃO CITO 25 A 64\",CONSOLIDADO_2017!AN34,IF(H9=\"12 RAZÃO MAMOGRAFIA BILATERAL 50 A 69\",CONSOLIDADO_2017!AR34,IF(H9=\"13 %PARTO NORMAL SUS/SAÚDE SUPLEMENTAR\",CONSOLIDADO_2017!AV34,IF(H9=\"14 %GRAVIDEZ ADOLESC 10 A 19\",CONSOLIDADO_2017!AZ34,IF(H9=\"15 TAXA MORTALIDADE INFANTIL\",CONSOLIDADO_2017!BD34,IF(H9=\"16 ÓBITOS MATERNOS\",CONSOLIDADO_2017!BG34,IF(H9=\"17 %COB AB\",CONSOLIDADO_2017!BJ34,IF(H9=\"18 %COB Acomp BF\",CONSOLIDADO_2017!BN34,IF(H9=\"19 %COB SAUDE BUCAL\",CONSOLIDADO_2017!BQ34,IF(H9=\"20 %MUN REALIZ AÇÕES VIGILANCIA\",CONSOLIDADO_2017!BT34,IF(H9=\"21 %AÇÕES DE MATRICIAMENTO CAPS\",CONSOLIDADO_2017!BX34,IF(H9=\"22 NÚM CICLOS ATING 80% COB IMV DENGUE\",CONSOLIDADO_2017!CA34,IF(H9=\"23 %PREENCHIMENTO OCUP NOTIF AGRAVO\",CONSOLIDADO_2017!CD34))))))))))))))))))))))","v":"ATINGIU"}]
[]
[]
[]
[]
[]
[null,null,null,null,null,null,null,null,null,null,null,"     "]
[]
[]
[]
[]
[]
[]
[]
[]
[]
[]
[]
[]
[]
[]
[]
[]
[]
[]
[]
[]
[]
[]
[]
[]
[]
[]
[]
[]
[]
[]
[]
[]
[]
[]
[]
[]
[]
[]
[]
[]
[]
[]
[]
[]
[]
[]
[]
[]
[]
[]
[]
[]
[]
[]
[]
[]
[]
[]
[]
[]
[]
[]
[]
[]
[]
[]
[]
[]
[]
[]
[]
[]
[]
[]
[]
[]
[]
[]
[]
[]
[]
[]
["POPULAÇÃO 2015",{"$f":"INDEX(CONSOLIDADO_2017!A1:CG77,MATCH(CONSOLIDADO_2017!C34,CONSOLIDADO_2017!C1:C77,0),4)","v":102259}]

{"sheet":"APARECIDA_MUN","index":57,"n_rows":100,"n_cols":8,"rows_kept":100,"cut":false,"hidden":true,"merged":[]}
[]
[]
[]
[]
[]
[]
[]
[]
[null,null,null,null,null,null,{"$f":"IF($H$9=\"01 OBITO PREMATURO 30 A 69 DCNT\",MENU!$G$3,IF($H$9=\"02 %OBITOS EM MUL IDADE FERTIL INV\",MENU!$G$4,IF($H$9=\"03 %OBITOS CAUSAS BAS DEFINIDAS\",MENU!$G$5,IF($H$9=\"04 %VACINAS < 2 ANOS\",MENU!$G$6,IF($H$9=\"05 %DE CASOS DOENÇAS NOT COMP IMEDIATA\",MENU!$G$7,IF($H$9=\"06 %CURA CASOS NOVOS HANSEN\",MENU!$G$8,IF($H$9=\"08 CASOS NOVOS SÍFILIS CONG < ANO\",MENU!$G$9,IF($H$9=\"09 Nº DE AIDS < 5 ANOS\",MENU!$G$10,IF($H$9=\"10 %ANÁLISE AMOSTRA ÁGUA CONS HUM\",MENU!$G$11,IF($H$9=\"11 RAZÃO CITO 25 A 64\",MENU!$G$12,IF($H$9=\"12 RAZÃO MAMOGRAFIA BILATERAL 50 A 69\",MENU!$G$13,IF($H$9=\"13 %PARTO NORMAL SUS/SAÚDE SUPLEMENTAR\",MENU!$G$14,IF($H$9=\"14 %GRAVIDEZ ADOLESC 10 A 19\",MENU!$G$15,IF($H$9=\"15 OBITOS < ANO\",MENU!$G$16,IF($H$9=\"16 ÓBITOS MATERNOS\",MENU!$G$17,IF($H$9=\"17 %COB AB\",MENU!$G$18,IF($H$9=\"18 %COB Acomp BF\",MENU!$G$19,IF($H$9=\"19 %COB SAUDE BUCAL\",MENU!$G$20,IF($H$9=\"20 %MUN REALIZ AÇÕES VIGILANCIA\",MENU!$G$21,IF($H$9=\"21 AÇÕES DE MATRICIAMENTO CAPS\",MENU!$G$22,IF($H$9=\"22 NÚM CICLOS ATING 80% COB IMV DENGUE\",MENU!$G$23,IF($H$9=\"23 %PREENCHIMENTO OCUP NOTIF AGRAVO\",MENU!$G$24))))))))))))))))))))))","v":"META INDICADOR 01"},"01 OBITO PREMATURO 30 A 69 DCNT"]
[null,null,null,null,null,null,{"$f":"INDEX(CONSOLIDADO_2017!$A$1:$CG$77,MATCH(CONSOLIDADO_2017!C44,CONSOLIDADO_2017!C1:C77,0),MATCH(APARECIDA_MUN!G9,CONSOLIDADO_2017!$A$1:$CG$1,0))","v":8},{"$f":"INDEX(CONSOLIDADO_2017!$A$1:$CG$77,MATCH(CONSOLIDADO_2017!C44,CONSOLIDADO_2017!C1:C77,0),MATCH(APARECIDA_MUN!H9,CONSOLIDADO_2017!$A$1:$CG$1,0))","v":13}]
[null,null,null,null,null,null,null,{"$f":"IF(H9=\"01 OBITO PREMATURO 30 A 69 DCNT\",CONSOLIDADO_2017!H44,IF(H9=\"02 %OBITOS EM MUL IDADE FERTIL INV\",CONSOLIDADO_2017!M44,IF(H9=\"03 %OBITOS CAUSAS BAS DEFINIDAS\",CONSOLIDADO_2017!Q44,IF(H9=\"04 %VACINAS < 2 ANOS\",CONSOLIDADO_2017!T44,IF(H9=\"05 %DE CASOS DOENÇAS NOT COMP IMEDIATA\",CONSOLIDADO_2017!W44,IF(H9=\"06 %CURA CASOS NOVOS HANSEN\",CONSOLIDADO_2017!AA44,IF(H9=\"08 CASOS NOVOS SÍFILIS CONG < ANO\",CONSOLIDADO_2017!AD44,IF(H9=\"09 Nº DE AIDS < 5 ANOS\",CONSOLIDADO_2017!AG44,IF(H9=\"10 %ANÁLISE AMOSTRA ÁGUA CONS HUM\",CONSOLIDADO_2017!AJ44,IF(H9=\"11 RAZÃO CITO 25 A 64\",CONSOLIDADO_2017!AN44,IF(H9=\"12 RAZÃO MAMOGRAFIA BILATERAL 50 A 69\",CONSOLIDADO_2017!AR44,IF(H9=\"13 %PARTO NORMAL SUS/SAÚDE SUPLEMENTAR\",CONSOLIDADO_2017!AV44,IF(H9=\"14 %GRAVIDEZ ADOLESC 10 A 19\",CONSOLIDADO_2017!AZ44,IF(H9=\"15 OBITOS < ANO\",CONSOLIDADO_2017!BD44,IF(H9=\"16 ÓBITOS MATERNOS\",CONSOLIDADO_2017!BG44,IF(H9=\"17 %COB AB\",CONSOLIDADO_2017!BJ44,IF(H9=\"18 %COB Acomp BF\",CONSOLIDADO_2017!BN44,IF(H9=\"19 %COB SAUDE BUCAL\",CONSOLIDADO_2017!BQ44,IF(H9=\"20 %MUN REALIZ AÇÕES VIGILANCIA\",CONSOLIDADO_2017!BT44,IF(H9=\"21 AÇÕES DE MATRICIAMENTO CAPS\",CONSOLIDADO_2017!BX70,IF(H9=\"22 NÚM CICLOS ATING 80% COB IMV DENGUE\",CONSOLIDADO_2017!CA70,IF(H9=\"23 %PREENCHIMENTO OCUP NOTIF AGRAVO\",CONSOLIDADO_2017!CD44))))))))))))))))))))))","v":"NÃO ATINGIU"}]
[]
[]
[]
[]
[]
[]
[]
[]
[]
[]
[]
[]
[]
[]
[]
[]
[]
[]
[]
[]
[]
[]
[]
[]
[]
[]
[]
[]
[]
[]
[]
[]
[]
[]
[]
[]
[]
[]
[]
[]
[]
[]
[]
[]
[]
[]
[]
[]
[]
[]
[]
[]
[]
[]
[]
[]
[]
[]
[]
[]
[]
[]
[]
[]
[]
[]
[]
[]
[]
[]
[]
[]
[]
[]
[]
[]
[]
[]
[]
[]
[]
[]
[]
[]
[]
[]
[]
[]
["POPULAÇÃO 2015",{"$f":"INDEX(CONSOLIDADO_2017!A1:CG77,MATCH(CONSOLIDADO_2017!C44,CONSOLIDADO_2017!C1:C77,0),4)","v":8830}]

{"sheet":"TAB_GRAFICOS","index":58,"n_rows":0,"n_cols":0,"rows_kept":0,"cut":false,"hidden":true,"merged":[]}

{"sheet":"CARMOPOLIS_MUN","index":59,"n_rows":100,"n_cols":8,"rows_kept":100,"cut":false,"hidden":true,"merged":[]}
[]
[]
[]
[]
[]
[]
[]
[]
[null,null,null,null,null,null,{"$f":"IF($H$9=\"01 OBITO PREMATURO 30 A 69 DCNT\",MENU!$G$3,IF($H$9=\"02 %OBITOS EM MUL IDADE FERTIL INV\",MENU!$G$4,IF($H$9=\"03 %OBITOS CAUSAS BAS DEFINIDAS\",MENU!$G$5,IF($H$9=\"04 %VACINAS < 2 ANOS\",MENU!$G$6,IF($H$9=\"05 %DE CASOS DOENÇAS NOT COMP IMEDIATA\",MENU!$G$7,IF($H$9=\"06 %CURA CASOS NOVOS HANSEN\",MENU!$G$8,IF($H$9=\"08 CASOS NOVOS SÍFILIS CONG < ANO\",MENU!$G$9,IF($H$9=\"09 Nº DE AIDS < 5 ANOS\",MENU!$G$10,IF($H$9=\"10 %ANÁLISE AMOSTRA ÁGUA CONS HUM\",MENU!$G$11,IF($H$9=\"11 RAZÃO CITO 25 A 64\",MENU!$G$12,IF($H$9=\"12 RAZÃO MAMOGRAFIA BILATERAL 50 A 69\",MENU!$G$13,IF($H$9=\"13 %PARTO NORMAL SUS/SAÚDE SUPLEMENTAR\",MENU!$G$14,IF($H$9=\"14 %GRAVIDEZ ADOLESC 10 A 19\",MENU!$G$15,IF($H$9=\"15 OBITOS < ANO\",MENU!$G$16,IF($H$9=\"16 ÓBITOS MATERNOS\",MENU!$G$17,IF($H$9=\"17 %COB AB\",MENU!$G$18,IF($H$9=\"18 %COB Acomp BF\",MENU!$G$19,IF($H$9=\"19 %COB SAUDE BUCAL\",MENU!$G$20,IF($H$9=\"20 %MUN REALIZ AÇÕES VIGILANCIA\",MENU!$G$21,IF($H$9=\"21 %AÇÕES DE MATRICIAMENTO CAPS\",MENU!$G$22,IF($H$9=\"22 NÚM CICLOS ATING 80% COB IMV DENGUE\",MENU!$G$23,IF($H$9=\"23 %PREENCHIMENTO OCUP NOTIF AGRAVO\",MENU!$G$24))))))))))))))))))))))","v":"META INDICADOR 01"},"01 OBITO PREMATURO 30 A 69 DCNT"]
[null,null,null,null,null,null,{"$f":"INDEX(CONSOLIDADO_2017!A1:CG77,MATCH(CONSOLIDADO_2017!C15,CONSOLIDADO_2017!C1:C77,0),MATCH(CARMOPOLIS_MUN!G9,Tabela13[#Headers],0))","v":20},{"$f":"INDEX(CONSOLIDADO_2017!A1:CG77,MATCH(CONSOLIDADO_2017!C15,CONSOLIDADO_2017!C1:C77,0),MATCH(CARMOPOLIS_MUN!H9,Tabela13[#Headers],0))","v":15}]
[null,null,null,null,null,null,null,{"$f":"IF(H9=\"01 OBITO PREMATURO 30 A 69 DCNT\",CONSOLIDADO_2017!H15,IF(H9=\"02 %OBITOS EM MUL IDADE FERTIL INV\",CONSOLIDADO_2017!M15,IF(H9=\"03 %OBITOS CAUSAS BAS DEFINIDAS\",CONSOLIDADO_2017!Q15,IF(H9=\"04 %VACINAS < 2 ANOS\",CONSOLIDADO_2017!T15,IF(H9=\"05 %DE CASOS DOENÇAS NOT COMP IMEDIATA\",CONSOLIDADO_2017!W15,IF(H9=\"06 %CURA CASOS NOVOS HANSEN\",CONSOLIDADO_2017!AA15,IF(H9=\"08 CASOS NOVOS SÍFILIS CONG < ANO\",CONSOLIDADO_2017!AD15,IF(H9=\"09 Nº DE AIDS < 5 ANOS\",CONSOLIDADO_2017!AG15,IF(H9=\"10 %ANÁLISE AMOSTRA ÁGUA CONS HUM\",CONSOLIDADO_2017!AJ15,IF(H9=\"11 RAZÃO CITO 25 A 64\",CONSOLIDADO_2017!AN15,IF(H9=\"12 RAZÃO MAMOGRAFIA BILATERAL 50 A 69\",CONSOLIDADO_2017!AR15,IF(H9=\"13 %PARTO NORMAL SUS/SAÚDE SUPLEMENTAR\",CONSOLIDADO_2017!AV15,IF(H9=\"14 %GRAVIDEZ ADOLESC 10 A 19\",CONSOLIDADO_2017!AZ15,IF(H9=\"15 OBITOS < ANO\",CONSOLIDADO_2017!BD15,IF(H9=\"16 ÓBITOS MATERNOS\",CONSOLIDADO_2017!BG15,IF(H9=\"17 %COB AB\",CONSOLIDADO_2017!BJ15,IF(H9=\"18 %COB Acomp BF\",CONSOLIDADO_2017!BN15,IF(H9=\"19 %COB SAUDE BUCAL\",CONSOLIDADO_2017!BQ15,IF(H9=\"20 %MUN REALIZ AÇÕES VIGILANCIA\",CONSOLIDADO_2017!BT15,IF(H9=\"21 %AÇÕES DE MATRICIAMENTO CAPS\",CONSOLIDADO_2017!BX15,IF(H9=\"22 NÚM CICLOS ATING 80% COB IMV DENGUE\",CONSOLIDADO_2017!CA15,IF(H9=\"23 %PREENCHIMENTO OCUP NOTIF AGRAVO\",CONSOLIDADO_2017!CD15))))))))))))))))))))))","v":"ATINGIU"}]
[]
[]
[]
[]
[]
[]
[]
[]
[]
[]
[]
[]
[]
[]
[]
[]
[]
[]
[]
[]
[]
[]
[]
[]
[]
[]
[]
[]
[]
[]
[]
[]
[]
[]
[]
[]
[]
[]
[]
[]
[]
[]
[]
[]
[]
[]
[]
[]
[]
[]
[]
[]
[]
[]
[]
[]
[]
[]
[]
[]
[]
[]
[]
[]
[]
[]
[]
[]
[]
[]
[]
[]
[]
[]
[]
[]
[]
[]
[]
[]
[]
[]
[]
[]
[]
[]
[]
[]
["POPULAÇÃO 2015",{"$f":"INDEX(CONSOLIDADO_2017!A1:CG77,MATCH(CONSOLIDADO_2017!C15,CONSOLIDADO_2017!C1:C77,0),4)","v":15621}]

{"sheet":"ROSARIO_MUN","index":60,"n_rows":100,"n_cols":8,"rows_kept":100,"cut":false,"hidden":true,"merged":[]}
[]
[]
[]
[]
[]
[]
[]
[]
[null,null,null,null,null,null,{"$f":"IF($H$9=\"01 OBITO PREMATURO 30 A 69 DCNT\",MENU!$G$3,IF($H$9=\"02 %OBITOS EM MUL IDADE FERTIL INV\",MENU!$G$4,IF($H$9=\"03 %OBITOS CAUSAS BAS DEFINIDAS\",MENU!$G$5,IF($H$9=\"04 %VACINAS < 2 ANOS\",MENU!$G$6,IF($H$9=\"05 %DE CASOS DOENÇAS NOT COMP IMEDIATA\",MENU!$G$7,IF($H$9=\"06 %CURA CASOS NOVOS HANSEN\",MENU!$G$8,IF($H$9=\"08 CASOS NOVOS SÍFILIS CONG < ANO\",MENU!$G$9,IF($H$9=\"09 Nº DE AIDS < 5 ANOS\",MENU!$G$10,IF($H$9=\"10 %ANÁLISE AMOSTRA ÁGUA CONS HUM\",MENU!$G$11,IF($H$9=\"11 RAZÃO CITO 25 A 64\",MENU!$G$12,IF($H$9=\"12 RAZÃO MAMOGRAFIA BILATERAL 50 A 69\",MENU!$G$13,IF($H$9=\"13 %PARTO NORMAL SUS/SAÚDE SUPLEMENTAR\",MENU!$G$14,IF($H$9=\"14 %GRAVIDEZ ADOLESC 10 A 19\",MENU!$G$15,IF($H$9=\"15 OBITOS < ANO\",MENU!$G$16,IF($H$9=\"16 ÓBITOS MATERNOS\",MENU!$G$17,IF($H$9=\"17 %COB AB\",MENU!$G$18,IF($H$9=\"18 %COB Acomp BF\",MENU!$G$19,IF($H$9=\"19 %COB SAUDE BUCAL\",MENU!$G$20,IF($H$9=\"20 %MUN REALIZ AÇÕES VIGILANCIA\",MENU!$G$21,IF($H$9=\"21 %AÇÕES DE MATRICIAMENTO CAPS\",MENU!$G$22,IF($H$9=\"22 NÚM CICLOS ATING 80% COB IMV DENGUE\",MENU!$G$23,IF($H$9=\"23 %PREENCHIMENTO OCUP NOTIF AGRAVO\",MENU!$G$24))))))))))))))))))))))","v":"META INDICADOR 01"},"01 OBITO PREMATURO 30 A 69 DCNT"]
[null,null,null,null,null,null,{"$f":"INDEX(CONSOLIDADO_2017!A1:CG77,MATCH(CONSOLIDADO_2017!C61,CONSOLIDADO_2017!C1:C77,0),MATCH(ROSARIO_MUN!G9,Tabela13[#Headers],0))","v":8},{"$f":"INDEX(CONSOLIDADO_2017!A1:CG77,MATCH(CONSOLIDADO_2017!C61,CONSOLIDADO_2017!C1:C77,0),MATCH(ROSARIO_MUN!H9,Tabela13[#Headers],0))","v":14}]
[null,null,null,null,null,null,null,{"$f":"IF(H9=\"01 OBITO PREMATURO 30 A 69 DCNT\",CONSOLIDADO_2017!H61,IF(H9=\"02 %OBITOS EM MUL IDADE FERTIL INV\",CONSOLIDADO_2017!M61,IF(H9=\"03 %OBITOS CAUSAS BAS DEFINIDAS\",CONSOLIDADO_2017!Q61,IF(H9=\"04 %VACINAS < 2 ANOS\",CONSOLIDADO_2017!T61,IF(H9=\"05 %DE CASOS DOENÇAS NOT COMP IMEDIATA\",CONSOLIDADO_2017!W61,IF(H9=\"06 %CURA CASOS NOVOS HANSEN\",CONSOLIDADO_2017!AA61,IF(H9=\"08 CASOS NOVOS SÍFILIS CONG < ANO\",CONSOLIDADO_2017!AD61,IF(H9=\"09 Nº DE AIDS < 5 ANOS\",CONSOLIDADO_2017!AG61,IF(H9=\"10 %ANÁLISE AMOSTRA ÁGUA CONS HUM\",CONSOLIDADO_2017!AJ61,IF(H9=\"11 RAZÃO CITO 25 A 64\",CONSOLIDADO_2017!AN61,IF(H9=\"12 RAZÃO MAMOGRAFIA BILATERAL 50 A 69\",CONSOLIDADO_2017!AR61,IF(H9=\"13 %PARTO NORMAL SUS/SAÚDE SUPLEMENTAR\",CONSOLIDADO_2017!AV61,IF(H9=\"14 %GRAVIDEZ ADOLESC 10 A 19\",CONSOLIDADO_2017!AZ61,IF(H9=\"15 OBITOS < ANO\",CONSOLIDADO_2017!BD61,IF(H9=\"16 ÓBITOS MATERNOS\",CONSOLIDADO_2017!BG61,IF(H9=\"17 %COB AB\",CONSOLIDADO_2017!BJ61,IF(H9=\"18 %COB Acomp BF\",CONSOLIDADO_2017!BN61,IF(H9=\"19 %COB SAUDE BUCAL\",CONSOLIDADO_2017!BQ61,IF(H9=\"20 %MUN REALIZ AÇÕES VIGILANCIA\",CONSOLIDADO_2017!BT61,IF(H9=\"21 %AÇÕES DE MATRICIAMENTO CAPS\",CONSOLIDADO_2017!BX61,IF(H9=\"22 NÚM CICLOS ATING 80% COB IMV DENGUE\",CONSOLIDADO_2017!CA61,IF(H9=\"23 %PREENCHIMENTO OCUP NOTIF AGRAVO\",CONSOLIDADO_2017!CD61))))))))))))))))))))))","v":"NÃO ATINGIU"}]
[]
[]
[]
[]
[]
[]
[]
[]
[]
[]
[]
[]
[]
[]
[]
[]
[]
[]
[]
[]
[]
[]
[]
[]
[]
[]
[]
[]
[]
[]
[]
[]
[]
[]
[]
[]
[]
[]
[]
[]
[]
[]
[]
[]
[]
[]
[]
[]
[]
[]
[]
[]
[]
[]
[]
[]
[]
[]
[]
[]
[]
[]
[]
[]
[]
[]
[]
[]
[]
[]
[]
[]
[]
[]
[]
[]
[]
[]
[]
[]
[]
[]
[]
[]
[]
[]
[]
[]
["POPULAÇÃO 2015",{"$f":"INDEX(CONSOLIDADO_2017!A1:CG77,MATCH(CONSOLIDADO_2017!C61,CONSOLIDADO_2017!C1:C77,0),4)","v":10367}]

{"sheet":"AMPARO_MUN","index":61,"n_rows":100,"n_cols":8,"rows_kept":100,"cut":false,"hidden":true,"merged":[]}
[]
[]
[]
[]
[]
[]
[]
[]
[null,null,null,null,null,null,{"$f":"IF($H$9=\"01 OBITO PREMATURO 30 A 69 DCNT\",MENU!$G$3,IF($H$9=\"02 %OBITOS EM MUL IDADE FERTIL INV\",MENU!$G$4,IF($H$9=\"03 %OBITOS CAUSAS BAS DEFINIDAS\",MENU!$G$5,IF($H$9=\"04 %VACINAS < 2 ANOS\",MENU!$G$6,IF($H$9=\"05 %DE CASOS DOENÇAS NOT COMP IMEDIATA\",MENU!$G$7,IF($H$9=\"06 %CURA CASOS NOVOS HANSEN\",MENU!$G$8,IF($H$9=\"08 CASOS NOVOS SÍFILIS CONG < ANO\",MENU!$G$9,IF($H$9=\"09 Nº DE AIDS < 5 ANOS\",MENU!$G$10,IF($H$9=\"10 %ANÁLISE AMOSTRA ÁGUA CONS HUM\",MENU!$G$11,IF($H$9=\"11 RAZÃO CITO 25 A 64\",MENU!$G$12,IF($H$9=\"12 RAZÃO MAMOGRAFIA BILATERAL 50 A 69\",MENU!$G$13,IF($H$9=\"13 %PARTO NORMAL SUS/SAÚDE SUPLEMENTAR\",MENU!$G$14,IF($H$9=\"14 %GRAVIDEZ ADOLESC 10 A 19\",MENU!$G$15,IF($H$9=\"15 OBITOS < ANO\",MENU!$G$16,IF($H$9=\"16 ÓBITOS MATERNOS\",MENU!$G$17,IF($H$9=\"17 %COB AB\",MENU!$G$18,IF($H$9=\"18 %COB Acomp BF\",MENU!$G$19,IF($H$9=\"19 %COB SAUDE BUCAL\",MENU!$G$20,IF($H$9=\"20 %MUN REALIZ AÇÕES VIGILANCIA\",MENU!$G$21,IF($H$9=\"21 %AÇÕES DE MATRICIAMENTO CAPS\",MENU!$G$22,IF($H$9=\"22 NÚM CICLOS ATING 80% COB IMV DENGUE\",MENU!$G$23,IF($H$9=\"23 %PREENCHIMENTO OCUP NOTIF AGRAVO\",MENU!$G$24))))))))))))))))))))))","v":"META INDICADOR 01"},"01 OBITO PREMATURO 30 A 69 DCNT"]
[null,null,null,null,null,null,{"$f":"INDEX(CONSOLIDADO_2017!A1:CG77,MATCH(CONSOLIDADO_2017!C2,CONSOLIDADO_2017!C1:C77,0),MATCH(AMPARO_MUN!G9,Tabela13[#Headers],0))","v":2},{"$f":"INDEX(CONSOLIDADO_2017!A1:CG77,MATCH(CONSOLIDADO_2017!C2,CONSOLIDADO_2017!C1:C77,0),MATCH(AMPARO_MUN!H9,Tabela13[#Headers],0))","v":5}]
[null,null,null,null,null,null,null,{"$f":"IF(H9=\"01 OBITO PREMATURO 30 A 69 DCNT\",CONSOLIDADO_2017!H2,IF(H9=\"02 %OBITOS EM MUL IDADE FERTIL INV\",CONSOLIDADO_2017!M2,IF(H9=\"03 %OBITOS CAUSAS BAS DEFINIDAS\",CONSOLIDADO_2017!Q2,IF(H9=\"04 %VACINAS < 2 ANOS\",CONSOLIDADO_2017!T2,IF(H9=\"05 %DE CASOS DOENÇAS NOT COMP IMEDIATA\",CONSOLIDADO_2017!W2,IF(H9=\"06 %CURA CASOS NOVOS HANSEN\",CONSOLIDADO_2017!AA2,IF(H9=\"08 CASOS NOVOS SÍFILIS CONG < ANO\",CONSOLIDADO_2017!AD2,IF(H9=\"09 Nº DE AIDS < 5 ANOS\",CONSOLIDADO_2017!AG2,IF(H9=\"10 %ANÁLISE AMOSTRA ÁGUA CONS HUM\",CONSOLIDADO_2017!AJ2,IF(H9=\"11 RAZÃO CITO 25 A 64\",CONSOLIDADO_2017!AN2,IF(H9=\"12 RAZÃO MAMOGRAFIA BILATERAL 50 A 69\",CONSOLIDADO_2017!AR2,IF(H9=\"13 %PARTO NORMAL SUS/SAÚDE SUPLEMENTAR\",CONSOLIDADO_2017!AV2,IF(H9=\"14 %GRAVIDEZ ADOLESC 10 A 19\",CONSOLIDADO_2017!AZ2,IF(H9=\"15 OBITOS < ANO\",CONSOLIDADO_2017!BD2,IF(H9=\"16 ÓBITOS MATERNOS\",CONSOLIDADO_2017!BG2,IF(H9=\"17 %COB AB\",CONSOLIDADO_2017!BJ2,IF(H9=\"18 %COB Acomp BF\",CONSOLIDADO_2017!BN2,IF(H9=\"19 %COB SAUDE BUCAL\",CONSOLIDADO_2017!BQ2,IF(H9=\"20 %MUN REALIZ AÇÕES VIGILANCIA\",CONSOLIDADO_2017!BT2,IF(H9=\"21 %AÇÕES DE MATRICIAMENTO CAPS\",CONSOLIDADO_2017!BX2,IF(H9=\"22 NÚM CICLOS ATING 80% COB IMV DENGUE\",CONSOLIDADO_2017!CA2,IF(H9=\"23 %PREENCHIMENTO OCUP NOTIF AGRAVO\",CONSOLIDADO_2017!CD2))))))))))))))))))))))","v":"NÃO ATINGIU"}]
[]
[]
[]
[]
[]
[]
[]
[]
[]
[]
[]
[]
[]
[]
[]
[]
[]
[]
[]
[]
[]
[]
[]
[]
[]
[]
[]
[]
[]
[]
[]
[]
[]
[]
[]
[]
[]
[]
[]
[]
[]
[]
[]
[]
[]
[]
[]
[]
[]
[]
[]
[]
[]
[]
[]
[]
[]
[]
[]
[]
[]
[]
[]
[]
[]
[]
[]
[]
[]
[]
[]
[]
[]
[]
[]
[]
[]
[]
[]
[]
[]
[]
[]
[]
[]
[]
[]
[]
["POPULAÇÃO 2015",{"$f":"INDEX(CONSOLIDADO_2017!A1:CG77,MATCH(CONSOLIDADO_2017!C2,CONSOLIDADO_2017!C1:C77,0),4)","v":2374}]

{"sheet":"PIRAMBU_MUN","index":62,"n_rows":100,"n_cols":8,"rows_kept":100,"cut":false,"hidden":true,"merged":[]}
[]
[]
[]
[]
[]
[]
[]
[]
[null,null,null,null,null,null,{"$f":"IF($H$9=\"01 OBITO PREMATURO 30 A 69 DCNT\",MENU!$G$3,IF($H$9=\"02 %OBITOS EM MUL IDADE FERTIL INV\",MENU!$G$4,IF($H$9=\"03 %OBITOS CAUSAS BAS DEFINIDAS\",MENU!$G$5,IF($H$9=\"04 %VACINAS < 2 ANOS\",MENU!$G$6,IF($H$9=\"05 %DE CASOS DOENÇAS NOT COMP IMEDIATA\",MENU!$G$7,IF($H$9=\"06 %CURA CASOS NOVOS HANSEN\",MENU!$G$8,IF($H$9=\"08 CASOS NOVOS SÍFILIS CONG < ANO\",MENU!$G$9,IF($H$9=\"09 Nº DE AIDS < 5 ANOS\",MENU!$G$10,IF($H$9=\"10 %ANÁLISE AMOSTRA ÁGUA CONS HUM\",MENU!$G$11,IF($H$9=\"11 RAZÃO CITO 25 A 64\",MENU!$G$12,IF($H$9=\"12 RAZÃO MAMOGRAFIA BILATERAL 50 A 69\",MENU!$G$13,IF($H$9=\"13 %PARTO NORMAL SUS/SAÚDE SUPLEMENTAR\",MENU!$G$14,IF($H$9=\"14 %GRAVIDEZ ADOLESC 10 A 19\",MENU!$G$15,IF($H$9=\"15 OBITOS < ANO\",MENU!$G$16,IF($H$9=\"16 ÓBITOS MATERNOS\",MENU!$G$17,IF($H$9=\"17 %COB AB\",MENU!$G$18,IF($H$9=\"18 %COB Acomp BF\",MENU!$G$19,IF($H$9=\"19 %COB SAUDE BUCAL\",MENU!$G$20,IF($H$9=\"20 %MUN REALIZ AÇÕES VIGILANCIA\",MENU!$G$21,IF($H$9=\"21 %AÇÕES DE MATRICIAMENTO CAPS\",MENU!$G$22,IF($H$9=\"22 NÚM CICLOS ATING 80% COB IMV DENGUE\",MENU!$G$23,IF($H$9=\"23 %PREENCHIMENTO OCUP NOTIF AGRAVO\",MENU!$G$24))))))))))))))))))))))","v":"META INDICADOR 02"},"02 %OBITOS EM MUL IDADE FERTIL INV"]
[null,null,null,null,null,null,{"$f":"INDEX(CONSOLIDADO_2017!A1:CG77,MATCH(CONSOLIDADO_2017!C53,CONSOLIDADO_2017!C1:C77,0),MATCH(PIRAMBU_MUN!G9,Tabela13[#Headers],0))","v":0.9},{"$f":"INDEX(CONSOLIDADO_2017!A1:CG77,MATCH(CONSOLIDADO_2017!C53,CONSOLIDADO_2017!C1:C77,0),MATCH(PIRAMBU_MUN!H9,Tabela13[#Headers],0))","v":0}]
[null,null,null,null,null,null,null,{"$f":"IF(H9=\"01 OBITO PREMATURO 30 A 69 DCNT\",CONSOLIDADO_2017!H53,IF(H9=\"02 %OBITOS EM MUL IDADE FERTIL INV\",CONSOLIDADO_2017!M53,IF(H9=\"03 %OBITOS CAUSAS BAS DEFINIDAS\",CONSOLIDADO_2017!Q53,IF(H9=\"04 %VACINAS < 2 ANOS\",CONSOLIDADO_2017!T53,IF(H9=\"05 %DE CASOS DOENÇAS NOT COMP IMEDIATA\",CONSOLIDADO_2017!W53,IF(H9=\"06 %CURA CASOS NOVOS HANSEN\",CONSOLIDADO_2017!AA53,IF(H9=\"08 CASOS NOVOS SÍFILIS CONG < ANO\",CONSOLIDADO_2017!AD53,IF(H9=\"09 Nº DE AIDS < 5 ANOS\",CONSOLIDADO_2017!AG53,IF(H9=\"10 %ANÁLISE AMOSTRA ÁGUA CONS HUM\",CONSOLIDADO_2017!AJ53,IF(H9=\"11 RAZÃO CITO 25 A 64\",CONSOLIDADO_2017!AN53,IF(H9=\"12 RAZÃO MAMOGRAFIA BILATERAL 50 A 69\",CONSOLIDADO_2017!AR53,IF(H9=\"13 %PARTO NORMAL SUS/SAÚDE SUPLEMENTAR\",CONSOLIDADO_2017!AV53,IF(H9=\"14 %GRAVIDEZ ADOLESC 10 A 19\",CONSOLIDADO_2017!AZ53,IF(H9=\"15 OBITOS < ANO\",CONSOLIDADO_2017!BD53,IF(H9=\"16 ÓBITOS MATERNOS\",CONSOLIDADO_2017!BG53,IF(H9=\"17 %COB AB\",CONSOLIDADO_2017!BJ53,IF(H9=\"18 %COB Acomp BF\",CONSOLIDADO_2017!BN53,IF(H9=\"19 %COB SAUDE BUCAL\",CONSOLIDADO_2017!BQ53,IF(H9=\"20 %MUN REALIZ AÇÕES VIGILANCIA\",CONSOLIDADO_2017!BT53,IF(H9=\"21 %AÇÕES DE MATRICIAMENTO CAPS\",CONSOLIDADO_2017!BX53,IF(H9=\"22 NÚM CICLOS ATING 80% COB IMV DENGUE\",CONSOLIDADO_2017!CA53,IF(H9=\"23 %PREENCHIMENTO OCUP NOTIF AGRAVO\",CONSOLIDADO_2017!CD53))))))))))))))))))))))","v":"NÃO ATINGIU"}]
[]
[]
[]
[]
[]
[]
[]
[]
[]
[]
[]
[]
[]
[]
[]
[]
[]
[]
[]
[]
[]
[]
[]
[]
[]
[]
[]
[]
[]
[]
[]
[]
[]
[]
[]
[]
[]
[]
[]
[]
[]
[]
[]
[]
[]
[]
[]
[]
[]
[]
[]
[]
[]
[]
[]
[]
[]
[]
[]
[]
[]
[]
[]
[]
[]
[]
[]
[]
[]
[]
[]
[]
[]
[]
[]
[]
[]
[]
[]
[]
[]
[]
[]
[]
[]
[]
[]
[]
["POPULAÇÃO 2015",{"$f":"INDEX(CONSOLIDADO_2017!A1:CG77,MATCH(CONSOLIDADO_2017!C53,CONSOLIDADO_2017!C1:C77,0),4)","v":9058}]

{"sheet":"SANTO_AMARO_MUN","index":63,"n_rows":100,"n_cols":8,"rows_kept":100,"cut":false,"hidden":true,"merged":[]}
[]
[]
[]
[]
[]
[]
[]
[]
[null,null,null,null,null,null,{"$f":"IF($H$9=\"01 OBITO PREMATURO 30 A 69 DCNT\",MENU!$G$3,IF($H$9=\"02 %OBITOS EM MUL IDADE FERTIL INV\",MENU!$G$4,IF($H$9=\"03 %OBITOS CAUSAS BAS DEFINIDAS\",MENU!$G$5,IF($H$9=\"04 %VACINAS < 2 ANOS\",MENU!$G$6,IF($H$9=\"05 %DE CASOS DOENÇAS NOT COMP IMEDIATA\",MENU!$G$7,IF($H$9=\"06 %CURA CASOS NOVOS HANSEN\",MENU!$G$8,IF($H$9=\"08 CASOS NOVOS SÍFILIS CONG < ANO\",MENU!$G$9,IF($H$9=\"09 Nº DE AIDS < 5 ANOS\",MENU!$G$10,IF($H$9=\"10 %ANÁLISE AMOSTRA ÁGUA CONS HUM\",MENU!$G$11,IF($H$9=\"11 RAZÃO CITO 25 A 64\",MENU!$G$12,IF($H$9=\"12 RAZÃO MAMOGRAFIA BILATERAL 50 A 69\",MENU!$G$13,IF($H$9=\"13 %PARTO NORMAL SUS/SAÚDE SUPLEMENTAR\",MENU!$G$14,IF($H$9=\"14 %GRAVIDEZ ADOLESC 10 A 19\",MENU!$G$15,IF($H$9=\"15 OBITOS < ANO\",MENU!$G$16,IF($H$9=\"16 ÓBITOS MATERNOS\",MENU!$G$17,IF($H$9=\"17 %COB AB\",MENU!$G$18,IF($H$9=\"18 %COB Acomp BF\",MENU!$G$19,IF($H$9=\"19 %COB SAUDE BUCAL\",MENU!$G$20,IF($H$9=\"20 %MUN REALIZ AÇÕES VIGILANCIA\",MENU!$G$21,IF($H$9=\"21 %AÇÕES DE MATRICIAMENTO CAPS\",MENU!$G$22,IF($H$9=\"22 NÚM CICLOS ATING 80% COB IMV DENGUE\",MENU!$G$23,IF($H$9=\"23 %PREENCHIMENTO OCUP NOTIF AGRAVO\",MENU!$G$24))))))))))))))))))))))","v":"META INDICADOR 01"},"01 OBITO PREMATURO 30 A 69 DCNT"]
[null,null,null,null,null,null,{"$f":"INDEX(CONSOLIDADO_2017!A1:CG77,MATCH(CONSOLIDADO_2017!C66,CONSOLIDADO_2017!C1:C77,0),MATCH(SANTO_AMARO_MUN!G9,Tabela13[#Headers],0))","v":3},{"$f":"INDEX(CONSOLIDADO_2017!A1:CG77,MATCH(CONSOLIDADO_2017!C66,CONSOLIDADO_2017!C1:C77,0),MATCH(SANTO_AMARO_MUN!H9,Tabela13[#Headers],0))","v":8}]
[null,null,null,null,null,null,null,{"$f":"IF(H9=\"01 OBITO PREMATURO 30 A 69 DCNT\",CONSOLIDADO_2017!H66,IF(H9=\"02 %OBITOS EM MUL IDADE FERTIL INV\",CONSOLIDADO_2017!M66,IF(H9=\"03 %OBITOS CAUSAS BAS DEFINIDAS\",CONSOLIDADO_2017!Q66,IF(H9=\"04 %VACINAS < 2 ANOS\",CONSOLIDADO_2017!T66,IF(H9=\"05 %DE CASOS DOENÇAS NOT COMP IMEDIATA\",CONSOLIDADO_2017!W66,IF(H9=\"06 %CURA CASOS NOVOS HANSEN\",CONSOLIDADO_2017!AA66,IF(H9=\"08 CASOS NOVOS SÍFILIS CONG < ANO\",CONSOLIDADO_2017!AD66,IF(H9=\"09 Nº DE AIDS < 5 ANOS\",CONSOLIDADO_2017!AG66,IF(H9=\"10 %ANÁLISE AMOSTRA ÁGUA CONS HUM\",CONSOLIDADO_2017!AJ66,IF(H9=\"11 RAZÃO CITO 25 A 64\",CONSOLIDADO_2017!AN66,IF(H9=\"12 RAZÃO MAMOGRAFIA BILATERAL 50 A 69\",CONSOLIDADO_2017!AR66,IF(H9=\"13 %PARTO NORMAL SUS/SAÚDE SUPLEMENTAR\",CONSOLIDADO_2017!AV66,IF(H9=\"14 %GRAVIDEZ ADOLESC 10 A 19\",CONSOLIDADO_2017!AZ66,IF(H9=\"15 OBITOS < ANO\",CONSOLIDADO_2017!BD66,IF(H9=\"16 ÓBITOS MATERNOS\",CONSOLIDADO_2017!BG66,IF(H9=\"17 %COB AB\",CONSOLIDADO_2017!BJ66,IF(H9=\"18 %COB Acomp BF\",CONSOLIDADO_2017!BN66,IF(H9=\"19 %COB SAUDE BUCAL\",CONSOLIDADO_2017!BQ66,IF(H9=\"20 %MUN REALIZ AÇÕES VIGILANCIA\",CONSOLIDADO_2017!BT66,IF(H9=\"21 %AÇÕES DE MATRICIAMENTO CAPS\",CONSOLIDADO_2017!BX66,IF(H9=\"22 NÚM CICLOS ATING 80% COB IMV DENGUE\",CONSOLIDADO_2017!CA66,IF(H9=\"23 %PREENCHIMENTO OCUP NOTIF AGRAVO\",CONSOLIDADO_2017!CD66))))))))))))))))))))))","v":"NÃO ATINGIU"}]
[]
[]
[]
[]
[]
[]
[]
[]
[]
[]
[]
[]
[]
[]
[]
[]
[]
[]
[]
[]
[]
[]
[]
[]
[]
[]
[]
[]
[]
[]
[]
[]
[]
[]
[]
[]
[]
[]
[]
[]
[]
[]
[]
[]
[]
[]
[]
[]
[]
[]
[]
[]
[]
[]
[]
[]
[]
[]
[]
[]
[]
[]
[]
[]
[]
[]
[]
[]
[]
[]
[]
[]
[]
[]
[]
[]
[]
[]
[]
[]
[]
[]
[]
[]
[]
[]
[]
[]
["POPULAÇÃO 2015",{"$f":"INDEX(CONSOLIDADO_2017!A1:CG77,MATCH(CONSOLIDADO_2017!C66,CONSOLIDADO_2017!C1:C77,0),4)","v":12024}]

{"sheet":"MARUIM_MUN","index":64,"n_rows":100,"n_cols":8,"rows_kept":100,"cut":false,"hidden":true,"merged":[]}
[]
[]
[]
[]
[]
[]
[]
[]
[null,null,null,null,null,null,{"$f":"IF($H$9=\"01 OBITO PREMATURO 30 A 69 DCNT\",MENU!$G$3,IF($H$9=\"02 %OBITOS EM MUL IDADE FERTIL INV\",MENU!$G$4,IF($H$9=\"03 %OBITOS CAUSAS BAS DEFINIDAS\",MENU!$G$5,IF($H$9=\"04 %VACINAS < 2 ANOS\",MENU!$G$6,IF($H$9=\"05 %DE CASOS DOENÇAS NOT COMP IMEDIATA\",MENU!$G$7,IF($H$9=\"06 %CURA CASOS NOVOS HANSEN\",MENU!$G$8,IF($H$9=\"08 CASOS NOVOS SÍFILIS CONG < ANO\",MENU!$G$9,IF($H$9=\"09 Nº DE AIDS < 5 ANOS\",MENU!$G$10,IF($H$9=\"10 %ANÁLISE AMOSTRA ÁGUA CONS HUM\",MENU!$G$11,IF($H$9=\"11 RAZÃO CITO 25 A 64\",MENU!$G$12,IF($H$9=\"12 RAZÃO MAMOGRAFIA BILATERAL 50 A 69\",MENU!$G$13,IF($H$9=\"13 %PARTO NORMAL SUS/SAÚDE SUPLEMENTAR\",MENU!$G$14,IF($H$9=\"14 %GRAVIDEZ ADOLESC 10 A 19\",MENU!$G$15,IF($H$9=\"15 OBITOS < ANO\",MENU!$G$16,IF($H$9=\"16 ÓBITOS MATERNOS\",MENU!$G$17,IF($H$9=\"17 %COB AB\",MENU!$G$18,IF($H$9=\"18 %COB Acomp BF\",MENU!$G$19,IF($H$9=\"19 %COB SAUDE BUCAL\",MENU!$G$20,IF($H$9=\"20 %MUN REALIZ AÇÕES VIGILANCIA\",MENU!$G$21,IF($H$9=\"21 %AÇÕES DE MATRICIAMENTO CAPS\",MENU!$G$22,IF($H$9=\"22 NÚM CICLOS ATING 80% COB IMV DENGUE\",MENU!$G$23,IF($H$9=\"23 %PREENCHIMENTO OCUP NOTIF AGRAVO\",MENU!$G$24))))))))))))))))))))))","v":"META INDICADOR 01"},"01 OBITO PREMATURO 30 A 69 DCNT"]
[null,null,null,null,null,null,{"$f":"INDEX(CONSOLIDADO_2017!A1:CG77,MATCH(CONSOLIDADO_2017!C39,CONSOLIDADO_2017!C1:C77,0),MATCH(MARUIM_MUN!G9,Tabela13[#Headers],0))","v":15},{"$f":"INDEX(CONSOLIDADO_2017!A1:CG77,MATCH(CONSOLIDADO_2017!C39,CONSOLIDADO_2017!C1:C77,0),MATCH(MARUIM_MUN!H9,Tabela13[#Headers],0))","v":19}]
[null,null,null,null,null,null,null,{"$f":"IF(H9=\"01 OBITO PREMATURO 30 A 69 DCNT\",CONSOLIDADO_2017!H39,IF(H9=\"02 %OBITOS EM MUL IDADE FERTIL INV\",CONSOLIDADO_2017!M39,IF(H9=\"03 %OBITOS CAUSAS BAS DEFINIDAS\",CONSOLIDADO_2017!Q39,IF(H9=\"04 %VACINAS < 2 ANOS\",CONSOLIDADO_2017!T39,IF(H9=\"05 %DE CASOS DOENÇAS NOT COMP IMEDIATA\",CONSOLIDADO_2017!W39,IF(H9=\"06 %CURA CASOS NOVOS HANSEN\",CONSOLIDADO_2017!AA39,IF(H9=\"08 CASOS NOVOS SÍFILIS CONG < ANO\",CONSOLIDADO_2017!AD39,IF(H9=\"09 Nº DE AIDS < 5 ANOS\",CONSOLIDADO_2017!AG39,IF(H9=\"10 %ANÁLISE AMOSTRA ÁGUA CONS HUM\",CONSOLIDADO_2017!AJ39,IF(H9=\"11 RAZÃO CITO 25 A 64\",CONSOLIDADO_2017!AN39,IF(H9=\"12 RAZÃO MAMOGRAFIA BILATERAL 50 A 69\",CONSOLIDADO_2017!AR39,IF(H9=\"13 %PARTO NORMAL SUS/SAÚDE SUPLEMENTAR\",CONSOLIDADO_2017!AV39,IF(H9=\"14 %GRAVIDEZ ADOLESC 10 A 19\",CONSOLIDADO_2017!AZ39,IF(H9=\"15 OBITOS < ANO\",CONSOLIDADO_2017!BD39,IF(H9=\"16 ÓBITOS MATERNOS\",CONSOLIDADO_2017!BG39,IF(H9=\"17 %COB AB\",CONSOLIDADO_2017!BJ39,IF(H9=\"18 %COB Acomp BF\",CONSOLIDADO_2017!BN39,IF(H9=\"19 %COB SAUDE BUCAL\",CONSOLIDADO_2017!BQ39,IF(H9=\"20 %MUN REALIZ AÇÕES VIGILANCIA\",CONSOLIDADO_2017!BT39,IF(H9=\"21 %AÇÕES DE MATRICIAMENTO CAPS\",CONSOLIDADO_2017!BX39,IF(H9=\"22 NÚM CICLOS ATING 80% COB IMV DENGUE\",CONSOLIDADO_2017!CA39,IF(H9=\"23 %PREENCHIMENTO OCUP NOTIF AGRAVO\",CONSOLIDADO_2017!CD39))))))))))))))))))))))","v":"NÃO ATINGIU"}]
[]
[]
[]
[]
[]
[]
[]
[]
[]
[]
[]
[]
[]
[]
[]
[]
[]
[]
[]
[]
[]
[]
[]
[]
[]
[]
[]
[]
[]
[]
[]
[]
[]
[]
[]
[]
[]
[]
[]
[]
[]
[]
[]
[]
[]
[]
[]
[]
[]
[]
[]
[]
[]
[]
[]
[]
[]
[]
[]
[]
[]
[]
[]
[]
[]
[]
[]
[]
[]
[]
[]
[]
[]
[]
[]
[]
[]
[]
[]
[]
[]
[]
[]
[]
[]
[]
[]
[]
["POPULAÇÃO 2015",{"$f":"INDEX(CONSOLIDADO_2017!A1:CG77,MATCH(CONSOLIDADO_2017!C39,CONSOLIDADO_2017!C1:C77,0),4)","v":17151}]

{"sheet":"SOCORRO_MUN","index":65,"n_rows":100,"n_cols":8,"rows_kept":100,"cut":false,"hidden":true,"merged":[]}
[]
[]
[]
[]
[]
[]
[]
[]
[null,null,null,null,null,null,{"$f":"IF($H$9=\"01 OBITO PREMATURO 30 A 69 DCNT\",MENU!$G$3,IF($H$9=\"02 %OBITOS EM MUL IDADE FERTIL INV\",MENU!$G$4,IF($H$9=\"03 %OBITOS CAUSAS BAS DEFINIDAS\",MENU!$G$5,IF($H$9=\"04 %VACINAS < 2 ANOS\",MENU!$G$6,IF($H$9=\"05 %DE CASOS DOENÇAS NOT COMP IMEDIATA\",MENU!$G$7,IF($H$9=\"06 %CURA CASOS NOVOS HANSEN\",MENU!$G$8,IF($H$9=\"08 CASOS NOVOS SÍFILIS CONG < ANO\",MENU!$G$9,IF($H$9=\"09 Nº DE AIDS < 5 ANOS\",MENU!$G$10,IF($H$9=\"10 %ANÁLISE AMOSTRA ÁGUA CONS HUM\",MENU!$G$11,IF($H$9=\"11 RAZÃO CITO 25 A 64\",MENU!$G$12,IF($H$9=\"12 RAZÃO MAMOGRAFIA BILATERAL 50 A 69\",MENU!$G$13,IF($H$9=\"13 %PARTO NORMAL SUS/SAÚDE SUPLEMENTAR\",MENU!$G$14,IF($H$9=\"14 %GRAVIDEZ ADOLESC 10 A 19\",MENU!$G$15,IF($H$9=\"15 OBITOS < ANO\",MENU!$G$16,IF($H$9=\"16 ÓBITOS MATERNOS\",MENU!$G$17,IF($H$9=\"17 %COB AB\",MENU!$G$18,IF($H$9=\"18 %COB Acomp BF\",MENU!$G$19,IF($H$9=\"19 %COB SAUDE BUCAL\",MENU!$G$20,IF($H$9=\"20 %MUN REALIZ AÇÕES VIGILANCIA\",MENU!$G$21,IF($H$9=\"21 %AÇÕES DE MATRICIAMENTO CAPS\",MENU!$G$22,IF($H$9=\"22 NÚM CICLOS ATING 80% COB IMV DENGUE\",MENU!$G$23,IF($H$9=\"23 %PREENCHIMENTO OCUP NOTIF AGRAVO\",MENU!$G$24))))))))))))))))))))))","v":"META INDICADOR 01"},"01 OBITO PREMATURO 30 A 69 DCNT"]
[null,null,null,null,null,null,{"$f":"INDEX(CONSOLIDADO_2017!A1:CG77,MATCH(CONSOLIDADO_2017!C48,CONSOLIDADO_2017!C1:C77,0),MATCH(SOCORRO_MUN!G9,Tabela13[#Headers],0))","v":280},{"$f":"INDEX(CONSOLIDADO_2017!A1:CG77,MATCH(CONSOLIDADO_2017!C48,CONSOLIDADO_2017!C1:C77,0),MATCH(SOCORRO_MUN!H9,Tabela13[#Headers],0))","v":231}]
[null,null,null,null,null,null,null,{"$f":"IF(H9=\"01 OBITO PREMATURO 30 A 69 DCNT\",CONSOLIDADO_2017!H48,IF(H9=\"02 %OBITOS EM MUL IDADE FERTIL INV\",CONSOLIDADO_2017!M48,IF(H9=\"03 %OBITOS CAUSAS BAS DEFINIDAS\",CONSOLIDADO_2017!Q48,IF(H9=\"04 %VACINAS < 2 ANOS\",CONSOLIDADO_2017!T48,IF(H9=\"05 %DE CASOS DOENÇAS NOT COMP IMEDIATA\",CONSOLIDADO_2017!W48,IF(H9=\"06 %CURA CASOS NOVOS HANSEN\",CONSOLIDADO_2017!AA48,IF(H9=\"08 CASOS NOVOS SÍFILIS CONG < ANO\",CONSOLIDADO_2017!AD48,IF(H9=\"09 Nº DE AIDS < 5 ANOS\",CONSOLIDADO_2017!AG48,IF(H9=\"10 %ANÁLISE AMOSTRA ÁGUA CONS HUM\",CONSOLIDADO_2017!AJ48,IF(H9=\"11 RAZÃO CITO 25 A 64\",CONSOLIDADO_2017!AN48,IF(H9=\"12 RAZÃO MAMOGRAFIA BILATERAL 50 A 69\",CONSOLIDADO_2017!AR48,IF(H9=\"13 %PARTO NORMAL SUS/SAÚDE SUPLEMENTAR\",CONSOLIDADO_2017!AV48,IF(H9=\"14 %GRAVIDEZ ADOLESC 10 A 19\",CONSOLIDADO_2017!AZ48,IF(H9=\"15 OBITOS < ANO\",CONSOLIDADO_2017!BD48,IF(H9=\"16 ÓBITOS MATERNOS\",CONSOLIDADO_2017!BG48,IF(H9=\"17 %COB AB\",CONSOLIDADO_2017!BJ48,IF(H9=\"18 %COB Acomp BF\",CONSOLIDADO_2017!BN48,IF(H9=\"19 %COB SAUDE BUCAL\",CONSOLIDADO_2017!BQ48,IF(H9=\"20 %MUN REALIZ AÇÕES VIGILANCIA\",CONSOLIDADO_2017!BT48,IF(H9=\"21 %AÇÕES DE MATRICIAMENTO CAPS\",CONSOLIDADO_2017!BX48,IF(H9=\"22 NÚM CICLOS ATING 80% COB IMV DENGUE\",CONSOLIDADO_2017!CA48,IF(H9=\"23 %PREENCHIMENTO OCUP NOTIF AGRAVO\",CONSOLIDADO_2017!CD48))))))))))))))))))))))","v":"NÃO ATINGIU"}]
[]
[]
[]
[]
[]
[]
[]
[]
[]
[]
[]
[]
[]
[]
[]
[]
[]
[]
[]
[]
[]
[]
[]
[]
[]
[]
[]
[]
[]
[]
[]
[]
[]
[]
[]
[]
[]
[]
[]
[]
[]
[]
[]
[]
[]
[]
[]
[]
[]
[]
[]
[]
[]
[]
[]
[]
[]
[]
[]
[]
[]
[]
[]
[]
[]
[]
[]
[]
[]
[]
[]
[]
[]
[]
[]
[]
[]
[]
[]
[]
[]
[]
[]
[]
[]
[]
[]
[]
["POPULAÇÃO 2015",{"$f":"INDEX(CONSOLIDADO_2017!A1:CG77,MATCH(CONSOLIDADO_2017!C48,CONSOLIDADO_2017!C1:C77,0),4)","v":177340}]

{"sheet":"JAPARATUBA_MUN","index":66,"n_rows":100,"n_cols":8,"rows_kept":100,"cut":false,"hidden":true,"merged":[]}
[]
[]
[]
[]
[]
[]
[]
[]
[null,null,null,null,null,null,{"$f":"IF($H$9=\"01 OBITO PREMATURO 30 A 69 DCNT\",MENU!$G$3,IF($H$9=\"02 %OBITOS EM MUL IDADE FERTIL INV\",MENU!$G$4,IF($H$9=\"03 %OBITOS CAUSAS BAS DEFINIDAS\",MENU!$G$5,IF($H$9=\"04 %VACINAS < 2 ANOS\",MENU!$G$6,IF($H$9=\"05 %DE CASOS DOENÇAS NOT COMP IMEDIATA\",MENU!$G$7,IF($H$9=\"06 %CURA CASOS NOVOS HANSEN\",MENU!$G$8,IF($H$9=\"08 CASOS NOVOS SÍFILIS CONG < ANO\",MENU!$G$9,IF($H$9=\"09 Nº DE AIDS < 5 ANOS\",MENU!$G$10,IF($H$9=\"10 %ANÁLISE AMOSTRA ÁGUA CONS HUM\",MENU!$G$11,IF($H$9=\"11 RAZÃO CITO 25 A 64\",MENU!$G$12,IF($H$9=\"12 RAZÃO MAMOGRAFIA BILATERAL 50 A 69\",MENU!$G$13,IF($H$9=\"13 %PARTO NORMAL SUS/SAÚDE SUPLEMENTAR\",MENU!$G$14,IF($H$9=\"14 %GRAVIDEZ ADOLESC 10 A 19\",MENU!$G$15,IF($H$9=\"15 OBITOS < ANO\",MENU!$G$16,IF($H$9=\"16 ÓBITOS MATERNOS\",MENU!$G$17,IF($H$9=\"17 %COB AB\",MENU!$G$18,IF($H$9=\"18 %COB Acomp BF\",MENU!$G$19,IF($H$9=\"19 %COB SAUDE BUCAL\",MENU!$G$20,IF($H$9=\"20 %MUN REALIZ AÇÕES VIGILANCIA\",MENU!$G$21,IF($H$9=\"21 %AÇÕES DE MATRICIAMENTO CAPS\",MENU!$G$22,IF($H$9=\"22 NÚM CICLOS ATING 80% COB IMV DENGUE\",MENU!$G$23,IF($H$9=\"23 %PREENCHIMENTO OCUP NOTIF AGRAVO\",MENU!$G$24))))))))))))))))))))))","v":"META INDICADOR 01"},"01 OBITO PREMATURO 30 A 69 DCNT"]
[null,null,null,null,null,null,{"$f":"INDEX(CONSOLIDADO_2017!A1:CG77,MATCH(CONSOLIDADO_2017!C32,CONSOLIDADO_2017!C1:C77,0),MATCH(JAPARATUBA_MUN!G9,Tabela13[#Headers],0))","v":18},{"$f":"INDEX(CONSOLIDADO_2017!A1:CG77,MATCH(CONSOLIDADO_2017!C32,CONSOLIDADO_2017!C1:C77,0),MATCH(JAPARATUBA_MUN!H9,Tabela13[#Headers],0))","v":25}]
[null,null,null,null,null,null,null,{"$f":"IF(H9=\"01 OBITO PREMATURO 30 A 69 DCNT\",CONSOLIDADO_2017!H32,IF(H9=\"02 %OBITOS EM MUL IDADE FERTIL INV\",CONSOLIDADO_2017!M32,IF(H9=\"03 %OBITOS CAUSAS BAS DEFINIDAS\",CONSOLIDADO_2017!Q32,IF(H9=\"04 %VACINAS < 2 ANOS\",CONSOLIDADO_2017!T32,IF(H9=\"05 %DE CASOS DOENÇAS NOT COMP IMEDIATA\",CONSOLIDADO_2017!W32,IF(H9=\"06 %CURA CASOS NOVOS HANSEN\",CONSOLIDADO_2017!AA32,IF(H9=\"08 CASOS NOVOS SÍFILIS CONG < ANO\",CONSOLIDADO_2017!AD32,IF(H9=\"09 Nº DE AIDS < 5 ANOS\",CONSOLIDADO_2017!AG32,IF(H9=\"10 %ANÁLISE AMOSTRA ÁGUA CONS HUM\",CONSOLIDADO_2017!AJ32,IF(H9=\"11 RAZÃO CITO 25 A 64\",CONSOLIDADO_2017!AN32,IF(H9=\"12 RAZÃO MAMOGRAFIA BILATERAL 50 A 69\",CONSOLIDADO_2017!AR32,IF(H9=\"13 %PARTO NORMAL SUS/SAÚDE SUPLEMENTAR\",CONSOLIDADO_2017!AV32,IF(H9=\"14 %GRAVIDEZ ADOLESC 10 A 19\",CONSOLIDADO_2017!AZ32,IF(H9=\"15 OBITOS < ANO\",CONSOLIDADO_2017!BD32,IF(H9=\"16 ÓBITOS MATERNOS\",CONSOLIDADO_2017!BG32,IF(H9=\"17 %COB AB\",CONSOLIDADO_2017!BJ32,IF(H9=\"18 %COB Acomp BF\",CONSOLIDADO_2017!BN32,IF(H9=\"19 %COB SAUDE BUCAL\",CONSOLIDADO_2017!BQ32,IF(H9=\"20 %MUN REALIZ AÇÕES VIGILANCIA\",CONSOLIDADO_2017!BT32,IF(H9=\"21 %AÇÕES DE MATRICIAMENTO CAPS\",CONSOLIDADO_2017!BX32,IF(H9=\"22 NÚM CICLOS ATING 80% COB IMV DENGUE\",CONSOLIDADO_2017!CA32,IF(H9=\"23 %PREENCHIMENTO OCUP NOTIF AGRAVO\",CONSOLIDADO_2017!CD32))))))))))))))))))))))","v":"NÃO ATINGIU"}]
[]
[]
[]
[]
[]
[]
[]
[]
[]
[]
[]
[]
[]
[]
[]
[]
[]
[]
[]
[]
[]
[]
[]
[]
[]
[]
[]
[]
[]
[]
[]
[]
[]
[]
[]
[]
[]
[]
[]
[]
[]
[]
[]
[]
[]
[]
[]
[]
[]
[]
[]
[]
[]
[]
[]
[]
[]
[]
[]
[]
[]
[]
[]
[]
[]
[]
[]
[]
[]
[]
[]
[]
[]
[]
[]
[]
[]
[]
[]
[]
[]
[]
[]
[]
[]
[]
[]
[]
["POPULAÇÃO 2015",{"$f":"INDEX(CONSOLIDADO_2017!A1:CG77,MATCH(CONSOLIDADO_2017!C32,CONSOLIDADO_2017!C1:C77,0),4)","v":18286}]

{"sheet":"GENERAL_MUN","index":67,"n_rows":100,"n_cols":8,"rows_kept":100,"cut":false,"hidden":true,"merged":[]}
[]
[]
[]
[]
[]
[]
[]
[]
[null,null,null,null,null,null,{"$f":"IF($H$9=\"01 OBITO PREMATURO 30 A 69 DCNT\",MENU!$G$3,IF($H$9=\"02 %OBITOS EM MUL IDADE FERTIL INV\",MENU!$G$4,IF($H$9=\"03 %OBITOS CAUSAS BAS DEFINIDAS\",MENU!$G$5,IF($H$9=\"04 %VACINAS < 2 ANOS\",MENU!$G$6,IF($H$9=\"05 %DE CASOS DOENÇAS NOT COMP IMEDIATA\",MENU!$G$7,IF($H$9=\"06 %CURA CASOS NOVOS HANSEN\",MENU!$G$8,IF($H$9=\"08 CASOS NOVOS SÍFILIS CONG < ANO\",MENU!$G$9,IF($H$9=\"09 Nº DE AIDS < 5 ANOS\",MENU!$G$10,IF($H$9=\"10 %ANÁLISE AMOSTRA ÁGUA CONS HUM\",MENU!$G$11,IF($H$9=\"11 RAZÃO CITO 25 A 64\",MENU!$G$12,IF($H$9=\"12 RAZÃO MAMOGRAFIA BILATERAL 50 A 69\",MENU!$G$13,IF($H$9=\"13 %PARTO NORMAL SUS/SAÚDE SUPLEMENTAR\",MENU!$G$14,IF($H$9=\"14 %GRAVIDEZ ADOLESC 10 A 19\",MENU!$G$15,IF($H$9=\"15 OBITOS < ANO\",MENU!$G$16,IF($H$9=\"16 ÓBITOS MATERNOS\",MENU!$G$17,IF($H$9=\"17 %COB AB\",MENU!$G$18,IF($H$9=\"18 %COB Acomp BF\",MENU!$G$19,IF($H$9=\"19 %COB SAUDE BUCAL\",MENU!$G$20,IF($H$9=\"20 %MUN REALIZ AÇÕES VIGILANCIA\",MENU!$G$21,IF($H$9=\"21 %AÇÕES DE MATRICIAMENTO CAPS\",MENU!$G$22,IF($H$9=\"22 NÚM CICLOS ATING 80% COB IMV DENGUE\",MENU!$G$23,IF($H$9=\"23 %PREENCHIMENTO OCUP NOTIF AGRAVO\",MENU!$G$24))))))))))))))))))))))","v":"META INDICADOR 01"},"01 OBITO PREMATURO 30 A 69 DCNT"]
[null,null,null,null,null,null,{"$f":"INDEX(CONSOLIDADO_2017!A1:CG77,MATCH(CONSOLIDADO_2017!C24,CONSOLIDADO_2017!C1:C77,0),MATCH(GENERAL_MUN!G9,Tabela13[#Headers],0))","v":1},{"$f":"INDEX(CONSOLIDADO_2017!A1:CG77,MATCH(CONSOLIDADO_2017!C24,CONSOLIDADO_2017!C1:C77,0),MATCH(GENERAL_MUN!H9,Tabela13[#Headers],0))","v":4}]
[null,null,null,null,null,null,null,{"$f":"IF(H9=\"01 OBITO PREMATURO 30 A 69 DCNT\",CONSOLIDADO_2017!H24,IF(H9=\"02 %OBITOS EM MUL IDADE FERTIL INV\",CONSOLIDADO_2017!M24,IF(H9=\"03 %OBITOS CAUSAS BAS DEFINIDAS\",CONSOLIDADO_2017!Q24,IF(H9=\"04 %VACINAS < 2 ANOS\",CONSOLIDADO_2017!T24,IF(H9=\"05 %DE CASOS DOENÇAS NOT COMP IMEDIATA\",CONSOLIDADO_2017!W24,IF(H9=\"06 %CURA CASOS NOVOS HANSEN\",CONSOLIDADO_2017!AA24,IF(H9=\"08 CASOS NOVOS SÍFILIS CONG < ANO\",CONSOLIDADO_2017!AD24,IF(H9=\"09 Nº DE AIDS < 5 ANOS\",CONSOLIDADO_2017!AG24,IF(H9=\"10 %ANÁLISE AMOSTRA ÁGUA CONS HUM\",CONSOLIDADO_2017!AJ24,IF(H9=\"11 RAZÃO CITO 25 A 64\",CONSOLIDADO_2017!AN24,IF(H9=\"12 RAZÃO MAMOGRAFIA BILATERAL 50 A 69\",CONSOLIDADO_2017!AR24,IF(H9=\"13 %PARTO NORMAL SUS/SAÚDE SUPLEMENTAR\",CONSOLIDADO_2017!AV24,IF(H9=\"14 %GRAVIDEZ ADOLESC 10 A 19\",CONSOLIDADO_2017!AZ24,IF(H9=\"15 OBITOS < ANO\",CONSOLIDADO_2017!BD24,IF(H9=\"16 ÓBITOS MATERNOS\",CONSOLIDADO_2017!BG24,IF(H9=\"17 %COB AB\",CONSOLIDADO_2017!BJ24,IF(H9=\"18 %COB Acomp BF\",CONSOLIDADO_2017!BN24,IF(H9=\"19 %COB SAUDE BUCAL\",CONSOLIDADO_2017!BQ24,IF(H9=\"20 %MUN REALIZ AÇÕES VIGILANCIA\",CONSOLIDADO_2017!BT24,IF(H9=\"21 %AÇÕES DE MATRICIAMENTO CAPS\",CONSOLIDADO_2017!BX24,IF(H9=\"22 NÚM CICLOS ATING 80% COB IMV DENGUE\",CONSOLIDADO_2017!CA24,IF(H9=\"23 %PREENCHIMENTO OCUP NOTIF AGRAVO\",CONSOLIDADO_2017!CD24))))))))))))))))))))))","v":"NÃO ATINGIU"}]
[]
[]
[]
[]
[]
[]
[]
[]
[]
[]
[]
[]
[]
[]
[]
[]
[]
[]
[]
[]
[]
[]
[]
[]
[]
[]
[]
[]
[]
[]
[]
[]
[]
[]
[]
[]
[]
[]
[]
[]
[]
[]
[]
[]
[]
[]
[]
[]
[]
[]
[]
[]
[]
[]
[]
[]
[]
[]
[]
[]
[]
[]
[]
[]
[]
[]
[]
[]
[]
[]
[]
[]
[]
[]
[]
[]
[]
[]
[]
[]
[]
[]
[]
[]
[]
[]
[]
[]
["POPULAÇÃO 2015",{"$f":"INDEX(CONSOLIDADO_2017!A1:CG77,MATCH(CONSOLIDADO_2017!C24,CONSOLIDADO_2017!C1:C77,0),4)","v":3230}]

{"sheet":"CAPELA_MUN","index":68,"n_rows":100,"n_cols":8,"rows_kept":100,"cut":false,"hidden":true,"merged":[]}
[]
[]
[]
[]
[]
[]
[]
[]
[null,null,null,null,null,null,{"$f":"IF($H$9=\"01 OBITO PREMATURO 30 A 69 DCNT\",MENU!$G$3,IF($H$9=\"02 %OBITOS EM MUL IDADE FERTIL INV\",MENU!$G$4,IF($H$9=\"03 %OBITOS CAUSAS BAS DEFINIDAS\",MENU!$G$5,IF($H$9=\"04 %VACINAS < 2 ANOS\",MENU!$G$6,IF($H$9=\"05 %DE CASOS DOENÇAS NOT COMP IMEDIATA\",MENU!$G$7,IF($H$9=\"06 %CURA CASOS NOVOS HANSEN\",MENU!$G$8,IF($H$9=\"08 CASOS NOVOS SÍFILIS CONG < ANO\",MENU!$G$9,IF($H$9=\"09 Nº DE AIDS < 5 ANOS\",MENU!$G$10,IF($H$9=\"10 %ANÁLISE AMOSTRA ÁGUA CONS HUM\",MENU!$G$11,IF($H$9=\"11 RAZÃO CITO 25 A 64\",MENU!$G$12,IF($H$9=\"12 RAZÃO MAMOGRAFIA BILATERAL 50 A 69\",MENU!$G$13,IF($H$9=\"13 %PARTO NORMAL SUS/SAÚDE SUPLEMENTAR\",MENU!$G$14,IF($H$9=\"14 %GRAVIDEZ ADOLESC 10 A 19\",MENU!$G$15,IF($H$9=\"15 OBITOS < ANO\",MENU!$G$16,IF($H$9=\"16 ÓBITOS MATERNOS\",MENU!$G$17,IF($H$9=\"17 %COB AB\",MENU!$G$18,IF($H$9=\"18 %COB Acomp BF\",MENU!$G$19,IF($H$9=\"19 %COB SAUDE BUCAL\",MENU!$G$20,IF($H$9=\"20 %MUN REALIZ AÇÕES VIGILANCIA\",MENU!$G$21,IF($H$9=\"21 %AÇÕES DE MATRICIAMENTO CAPS\",MENU!$G$22,IF($H$9=\"22 NÚM CICLOS ATING 80% COB IMV DENGUE\",MENU!$G$23,IF($H$9=\"23 %PREENCHIMENTO OCUP NOTIF AGRAVO\",MENU!$G$24))))))))))))))))))))))","v":"META INDICADOR 01"},"01 OBITO PREMATURO 30 A 69 DCNT"]
[null,null,null,null,null,null,{"$f":"INDEX(CONSOLIDADO_2017!A1:CG77,MATCH(CONSOLIDADO_2017!C13,CONSOLIDADO_2017!C1:C77,0),MATCH(CAPELA_MUN!G9,Tabela13[#Headers],0))","v":36},{"$f":"INDEX(CONSOLIDADO_2017!A1:CG77,MATCH(CONSOLIDADO_2017!C13,CONSOLIDADO_2017!C1:C77,0),MATCH(CAPELA_MUN!H9,Tabela13[#Headers],0))","v":43}]
[null,null,null,null,null,null,null,{"$f":"IF(H9=\"01 OBITO PREMATURO 30 A 69 DCNT\",CONSOLIDADO_2017!H13,IF(H9=\"02 %OBITOS EM MUL IDADE FERTIL INV\",CONSOLIDADO_2017!M13,IF(H9=\"03 %OBITOS CAUSAS BAS DEFINIDAS\",CONSOLIDADO_2017!Q13,IF(H9=\"04 %VACINAS < 2 ANOS\",CONSOLIDADO_2017!T13,IF(H9=\"05 %DE CASOS DOENÇAS NOT COMP IMEDIATA\",CONSOLIDADO_2017!W13,IF(H9=\"06 %CURA CASOS NOVOS HANSEN\",CONSOLIDADO_2017!AA13,IF(H9=\"08 CASOS NOVOS SÍFILIS CONG < ANO\",CONSOLIDADO_2017!AD13,IF(H9=\"09 Nº DE AIDS < 5 ANOS\",CONSOLIDADO_2017!AG13,IF(H9=\"10 %ANÁLISE AMOSTRA ÁGUA CONS HUM\",CONSOLIDADO_2017!AJ13,IF(H9=\"11 RAZÃO CITO 25 A 64\",CONSOLIDADO_2017!AN13,IF(H9=\"12 RAZÃO MAMOGRAFIA BILATERAL 50 A 69\",CONSOLIDADO_2017!AR13,IF(H9=\"13 %PARTO NORMAL SUS/SAÚDE SUPLEMENTAR\",CONSOLIDADO_2017!AV13,IF(H9=\"14 %GRAVIDEZ ADOLESC 10 A 19\",CONSOLIDADO_2017!AZ13,IF(H9=\"15 OBITOS < ANO\",CONSOLIDADO_2017!BD13,IF(H9=\"16 ÓBITOS MATERNOS\",CONSOLIDADO_2017!BG13,IF(H9=\"17 %COB AB\",CONSOLIDADO_2017!BJ13,IF(H9=\"18 %COB Acomp BF\",CONSOLIDADO_2017!BN13,IF(H9=\"19 %COB SAUDE BUCAL\",CONSOLIDADO_2017!BQ13,IF(H9=\"20 %MUN REALIZ AÇÕES VIGILANCIA\",CONSOLIDADO_2017!BT13,IF(H9=\"21 %AÇÕES DE MATRICIAMENTO CAPS\",CONSOLIDADO_2017!BX13,IF(H9=\"22 NÚM CICLOS ATING 80% COB IMV DENGUE\",CONSOLIDADO_2017!CA13,IF(H9=\"23 %PREENCHIMENTO OCUP NOTIF AGRAVO\",CONSOLIDADO_2017!CD13))))))))))))))))))))))","v":"NÃO ATINGIU"}]
[]
[]
[]
[]
[]
[]
[]
[]
[]
[]
[]
[]
[]
[]
[]
[]
[]
[]
[]
[]
[]
[]
[]
[]
[]
[]
[]
[]
[]
[]
[]
[]
[]
[]
[]
[]
[]
[]
[]
[]
[]
[]
[]
[]
[]
[]
[]
[]
[]
[]
[]
[]
[]
[]
[]
[]
[]
[]
[]
[]
[]
[]
[]
[]
[]
[]
[]
[]
[]
[]
[]
[]
[]
[]
[]
[]
[]
[]
[]
[]
[]
[]
[]
[]
[]
[]
[]
[]
["POPULAÇÃO 2015",{"$f":"INDEX(CONSOLIDADO_2017!A1:CG77,MATCH(CONSOLIDADO_2017!C13,CONSOLIDADO_2017!C1:C77,0),4)","v":33378}]

{"sheet":"DORES_MUN","index":69,"n_rows":100,"n_cols":8,"rows_kept":100,"cut":false,"hidden":true,"merged":[]}
[]
[]
[]
[]
[]
[]
[]
[]
[null,null,null,null,null,null,{"$f":"IF($H$9=\"01 OBITO PREMATURO 30 A 69 DCNT\",MENU!$G$3,IF($H$9=\"02 %OBITOS EM MUL IDADE FERTIL INV\",MENU!$G$4,IF($H$9=\"03 %OBITOS CAUSAS BAS DEFINIDAS\",MENU!$G$5,IF($H$9=\"04 %VACINAS < 2 ANOS\",MENU!$G$6,IF($H$9=\"05 %DE CASOS DOENÇAS NOT COMP IMEDIATA\",MENU!$G$7,IF($H$9=\"06 %CURA CASOS NOVOS HANSEN\",MENU!$G$8,IF($H$9=\"08 CASOS NOVOS SÍFILIS CONG < ANO\",MENU!$G$9,IF($H$9=\"09 Nº DE AIDS < 5 ANOS\",MENU!$G$10,IF($H$9=\"10 %ANÁLISE AMOSTRA ÁGUA CONS HUM\",MENU!$G$11,IF($H$9=\"11 RAZÃO CITO 25 A 64\",MENU!$G$12,IF($H$9=\"12 RAZÃO MAMOGRAFIA BILATERAL 50 A 69\",MENU!$G$13,IF($H$9=\"13 %PARTO NORMAL SUS/SAÚDE SUPLEMENTAR\",MENU!$G$14,IF($H$9=\"14 %GRAVIDEZ ADOLESC 10 A 19\",MENU!$G$15,IF($H$9=\"15 OBITOS < ANO\",MENU!$G$16,IF($H$9=\"16 ÓBITOS MATERNOS\",MENU!$G$17,IF($H$9=\"17 %COB AB\",MENU!$G$18,IF($H$9=\"18 %COB Acomp BF\",MENU!$G$19,IF($H$9=\"19 %COB SAUDE BUCAL\",MENU!$G$20,IF($H$9=\"20 %MUN REALIZ AÇÕES VIGILANCIA\",MENU!$G$21,IF($H$9=\"21 %AÇÕES DE MATRICIAMENTO CAPS\",MENU!$G$22,IF($H$9=\"22 NÚM CICLOS ATING 80% COB IMV DENGUE\",MENU!$G$23,IF($H$9=\"23 %PREENCHIMENTO OCUP NOTIF AGRAVO\",MENU!$G$24))))))))))))))))))))))","v":"META INDICADOR 01"},"01 OBITO PREMATURO 30 A 69 DCNT"]
[null,null,null,null,null,null,{"$f":"INDEX(CONSOLIDADO_2017!A1:CG77,MATCH(CONSOLIDADO_2017!C46,CONSOLIDADO_2017!C1:C77,0),MATCH(DORES_MUN!G9,Tabela13[#Headers],0))","v":33},{"$f":"INDEX(CONSOLIDADO_2017!A1:CG77,MATCH(CONSOLIDADO_2017!C46,CONSOLIDADO_2017!C1:C77,0),MATCH(DORES_MUN!H9,Tabela13[#Headers],0))","v":30}]
[null,null,null,null,null,null,null,{"$f":"IF(H9=\"01 OBITO PREMATURO 30 A 69 DCNT\",CONSOLIDADO_2017!H46,IF(H9=\"02 %OBITOS EM MUL IDADE FERTIL INV\",CONSOLIDADO_2017!M46,IF(H9=\"03 %OBITOS CAUSAS BAS DEFINIDAS\",CONSOLIDADO_2017!Q46,IF(H9=\"04 %VACINAS < 2 ANOS\",CONSOLIDADO_2017!T46,IF(H9=\"05 %DE CASOS DOENÇAS NOT COMP IMEDIATA\",CONSOLIDADO_2017!W46,IF(H9=\"06 %CURA CASOS NOVOS HANSEN\",CONSOLIDADO_2017!AA46,IF(H9=\"08 CASOS NOVOS SÍFILIS CONG < ANO\",CONSOLIDADO_2017!AD46,IF(H9=\"09 Nº DE AIDS < 5 ANOS\",CONSOLIDADO_2017!AG46,IF(H9=\"10 %ANÁLISE AMOSTRA ÁGUA CONS HUM\",CONSOLIDADO_2017!AJ46,IF(H9=\"11 RAZÃO CITO 25 A 64\",CONSOLIDADO_2017!AN46,IF(H9=\"12 RAZÃO MAMOGRAFIA BILATERAL 50 A 69\",CONSOLIDADO_2017!AR46,IF(H9=\"13 %PARTO NORMAL SUS/SAÚDE SUPLEMENTAR\",CONSOLIDADO_2017!AV46,IF(H9=\"14 %GRAVIDEZ ADOLESC 10 A 19\",CONSOLIDADO_2017!AZ46,IF(H9=\"15 OBITOS < ANO\",CONSOLIDADO_2017!BD46,IF(H9=\"16 ÓBITOS MATERNOS\",CONSOLIDADO_2017!BG46,IF(H9=\"17 %COB AB\",CONSOLIDADO_2017!BJ46,IF(H9=\"18 %COB Acomp BF\",CONSOLIDADO_2017!BN46,IF(H9=\"19 %COB SAUDE BUCAL\",CONSOLIDADO_2017!BQ46,IF(H9=\"20 %MUN REALIZ AÇÕES VIGILANCIA\",CONSOLIDADO_2017!BT46,IF(H9=\"21 %AÇÕES DE MATRICIAMENTO CAPS\",CONSOLIDADO_2017!BX46,IF(H9=\"22 NÚM CICLOS ATING 80% COB IMV DENGUE\",CONSOLIDADO_2017!CA46,IF(H9=\"23 %PREENCHIMENTO OCUP NOTIF AGRAVO\",CONSOLIDADO_2017!CD46))))))))))))))))))))))","v":"ATINGIU"}]
[]
[]
[]
[]
[]
[]
[]
[]
[]
[]
[]
[]
[]
[]
[]
[]
[]
[]
[]
[]
[]
[]
[]
[]
[]
[]
[]
[]
[]
[]
[]
[]
[]
[]
[]
[]
[]
[]
[]
[]
[]
[]
[]
[]
[]
[]
[]
[]
[]
[]
[]
[]
[]
[]
[]
[]
[]
[]
[]
[]
[]
[]
[]
[]
[]
[]
[]
[]
[]
[]
[]
[]
[]
[]
[]
[]
[]
[]
[]
[]
[]
[]
[]
[]
[]
[]
[]
[]
["POPULAÇÃO 2015",{"$f":"INDEX(CONSOLIDADO_2017!A1:CG77,MATCH(CONSOLIDADO_2017!C46,CONSOLIDADO_2017!C1:C77,0),4)","v":26237}]

{"sheet":"LOURDES_MUN","index":70,"n_rows":100,"n_cols":8,"rows_kept":100,"cut":false,"hidden":true,"merged":[]}
[]
[]
[]
[]
[]
[]
[]
[]
[null,null,null,null,null,null,{"$f":"IF($H$9=\"01 OBITO PREMATURO 30 A 69 DCNT\",MENU!$G$3,IF($H$9=\"02 %OBITOS EM MUL IDADE FERTIL INV\",MENU!$G$4,IF($H$9=\"03 %OBITOS CAUSAS BAS DEFINIDAS\",MENU!$G$5,IF($H$9=\"04 %VACINAS < 2 ANOS\",MENU!$G$6,IF($H$9=\"05 %DE CASOS DOENÇAS NOT COMP IMEDIATA\",MENU!$G$7,IF($H$9=\"06 %CURA CASOS NOVOS HANSEN\",MENU!$G$8,IF($H$9=\"08 CASOS NOVOS SÍFILIS CONG < ANO\",MENU!$G$9,IF($H$9=\"09 Nº DE AIDS < 5 ANOS\",MENU!$G$10,IF($H$9=\"10 %ANÁLISE AMOSTRA ÁGUA CONS HUM\",MENU!$G$11,IF($H$9=\"11 RAZÃO CITO 25 A 64\",MENU!$G$12,IF($H$9=\"12 RAZÃO MAMOGRAFIA BILATERAL 50 A 69\",MENU!$G$13,IF($H$9=\"13 %PARTO NORMAL SUS/SAÚDE SUPLEMENTAR\",MENU!$G$14,IF($H$9=\"14 %GRAVIDEZ ADOLESC 10 A 19\",MENU!$G$15,IF($H$9=\"15 OBITOS < ANO\",MENU!$G$16,IF($H$9=\"16 ÓBITOS MATERNOS\",MENU!$G$17,IF($H$9=\"17 %COB AB\",MENU!$G$18,IF($H$9=\"18 %COB Acomp BF\",MENU!$G$19,IF($H$9=\"19 %COB SAUDE BUCAL\",MENU!$G$20,IF($H$9=\"20 %MUN REALIZ AÇÕES VIGILANCIA\",MENU!$G$21,IF($H$9=\"21 %AÇÕES DE MATRICIAMENTO CAPS\",MENU!$G$22,IF($H$9=\"22 NÚM CICLOS ATING 80% COB IMV DENGUE\",MENU!$G$23,IF($H$9=\"23 %PREENCHIMENTO OCUP NOTIF AGRAVO\",MENU!$G$24))))))))))))))))))))))","v":"META INDICADOR 01"},"01 OBITO PREMATURO 30 A 69 DCNT"]
[null,null,null,null,null,null,{"$f":"INDEX(CONSOLIDADO_2017!A1:CG77,MATCH(CONSOLIDADO_2017!C47,CONSOLIDADO_2017!C1:C77,0),MATCH(LOURDES_MUN!G9,Tabela13[#Headers],0))","v":5},{"$f":"INDEX(CONSOLIDADO_2017!A1:CG77,MATCH(CONSOLIDADO_2017!C47,CONSOLIDADO_2017!C1:C77,0),MATCH(LOURDES_MUN!H9,Tabela13[#Headers],0))","v":7}]
[null,null,null,null,null,null,null,{"$f":"IF(H9=\"01 OBITO PREMATURO 30 A 69 DCNT\",CONSOLIDADO_2017!H47,IF(H9=\"02 %OBITOS EM MUL IDADE FERTIL INV\",CONSOLIDADO_2017!M47,IF(H9=\"03 %OBITOS CAUSAS BAS DEFINIDAS\",CONSOLIDADO_2017!Q47,IF(H9=\"04 %VACINAS < 47 ANOS\",CONSOLIDADO_2017!T47,IF(H9=\"05 %DE CASOS DOENÇAS NOT COMP IMEDIATA\",CONSOLIDADO_2017!W47,IF(H9=\"06 %CURA CASOS NOVOS HANSEN\",CONSOLIDADO_2017!AA47,IF(H9=\"08 CASOS NOVOS SÍFILIS CONG < ANO\",CONSOLIDADO_2017!AD47,IF(H9=\"09 Nº DE AIDS < 5 ANOS\",CONSOLIDADO_2017!AG47,IF(H9=\"10 %ANÁLISE AMOSTRA ÁGUA CONS HUM\",CONSOLIDADO_2017!AJ47,IF(H9=\"11 RAZÃO CITO 25 A 64\",CONSOLIDADO_2017!AN47,IF(H9=\"12 RAZÃO MAMOGRAFIA BILATERAL 50 A 69\",CONSOLIDADO_2017!AR47,IF(H9=\"13 %PARTO NORMAL SUS/SAÚDE SUPLEMENTAR\",CONSOLIDADO_2017!AV47,IF(H9=\"14 %GRAVIDEZ ADOLESC 10 A 19\",CONSOLIDADO_2017!AZ47,IF(H9=\"15 OBITOS < ANO\",CONSOLIDADO_2017!BD47,IF(H9=\"16 ÓBITOS MATERNOS\",CONSOLIDADO_2017!BG47,IF(H9=\"17 %COB AB\",CONSOLIDADO_2017!BJ47,IF(H9=\"18 %COB Acomp BF\",CONSOLIDADO_2017!BN47,IF(H9=\"19 %COB SAUDE BUCAL\",CONSOLIDADO_2017!BQ47,IF(H9=\"20 %MUN REALIZ AÇÕES VIGILANCIA\",CONSOLIDADO_2017!BT47,IF(H9=\"21 %AÇÕES DE MATRICIAMENTO CAPS\",CONSOLIDADO_2017!BX47,IF(H9=\"4747 NÚM CICLOS ATING 80% COB IMV DENGUE\",CONSOLIDADO_2017!CA47,IF(H9=\"23 %PREENCHIMENTO OCUP NOTIF AGRAVO\",CONSOLIDADO_2017!CD47))))))))))))))))))))))","v":"NÃO ATINGIU"}]
[]
[]
[]
[]
[]
[]
[]
[]
[]
[]
[]
[]
[]
[]
[]
[]
[]
[]
[]
[]
[]
[]
[]
[]
[]
[]
[]
[]
[]
[]
[]
[]
[]
[]
[]
[]
[]
[]
[]
[]
[]
[]
[]
[]
[]
[]
[]
[]
[]
[]
[]
[]
[]
[]
[]
[]
[]
[]
[]
[]
[]
[]
[]
[]
[]
[]
[]
[]
[]
[]
[]
[]
[]
[]
[]
[]
[]
[]
[]
[]
[]
[]
[]
[]
[]
[]
[]
[]
["POPULAÇÃO 2015",{"$f":"INDEX(CONSOLIDADO_2017!A1:CG77,MATCH(CONSOLIDADO_2017!C47,CONSOLIDADO_2017!C1:C77,0),4)","v":6494}]

{"sheet":"AQUIDABA_MUN","index":71,"n_rows":100,"n_cols":8,"rows_kept":100,"cut":false,"hidden":true,"merged":[]}
[]
[]
[]
[]
[]
[]
[]
[]
[null,null,null,null,null,null,{"$f":"IF($H$9=\"01 OBITO PREMATURO 30 A 69 DCNT\",MENU!$G$3,IF($H$9=\"02 %OBITOS EM MUL IDADE FERTIL INV\",MENU!$G$4,IF($H$9=\"03 %OBITOS CAUSAS BAS DEFINIDAS\",MENU!$G$5,IF($H$9=\"04 %VACINAS < 2 ANOS\",MENU!$G$6,IF($H$9=\"05 %DE CASOS DOENÇAS NOT COMP IMEDIATA\",MENU!$G$7,IF($H$9=\"06 %CURA CASOS NOVOS HANSEN\",MENU!$G$8,IF($H$9=\"08 CASOS NOVOS SÍFILIS CONG < ANO\",MENU!$G$9,IF($H$9=\"09 Nº DE AIDS < 5 ANOS\",MENU!$G$10,IF($H$9=\"10 %ANÁLISE AMOSTRA ÁGUA CONS HUM\",MENU!$G$11,IF($H$9=\"11 RAZÃO CITO 25 A 64\",MENU!$G$12,IF($H$9=\"12 RAZÃO MAMOGRAFIA BILATERAL 50 A 69\",MENU!$G$13,IF($H$9=\"13 %PARTO NORMAL SUS/SAÚDE SUPLEMENTAR\",MENU!$G$14,IF($H$9=\"14 %GRAVIDEZ ADOLESC 10 A 19\",MENU!$G$15,IF($H$9=\"15 OBITOS < ANO\",MENU!$G$16,IF($H$9=\"16 ÓBITOS MATERNOS\",MENU!$G$17,IF($H$9=\"17 %COB AB\",MENU!$G$18,IF($H$9=\"18 %COB Acomp BF\",MENU!$G$19,IF($H$9=\"19 %COB SAUDE BUCAL\",MENU!$G$20,IF($H$9=\"20 %MUN REALIZ AÇÕES VIGILANCIA\",MENU!$G$21,IF($H$9=\"21 %AÇÕES DE MATRICIAMENTO CAPS\",MENU!$G$22,IF($H$9=\"22 NÚM CICLOS ATING 80% COB IMV DENGUE\",MENU!$G$23,IF($H$9=\"23 %PREENCHIMENTO OCUP NOTIF AGRAVO\",MENU!$G$24))))))))))))))))))))))","v":"META INDICADOR 01"},"01 OBITO PREMATURO 30 A 69 DCNT"]
[null,null,null,null,null,null,{"$f":"INDEX(CONSOLIDADO_2017!A1:CG77,MATCH(CONSOLIDADO_2017!C3,CONSOLIDADO_2017!C1:C77,0),MATCH(AQUIDABA_MUN!G9,Tabela13[#Headers],0))","v":26},{"$f":"INDEX(CONSOLIDADO_2017!A1:CG77,MATCH(CONSOLIDADO_2017!C3,CONSOLIDADO_2017!C1:C77,0),MATCH(AQUIDABA_MUN!H9,Tabela13[#Headers],0))","v":27}]
[null,null,null,null,null,null,null,{"$f":"IF(H9=\"01 OBITO PREMATURO 30 A 69 DCNT\",CONSOLIDADO_2017!H3,IF(H9=\"02 %OBITOS EM MUL IDADE FERTIL INV\",CONSOLIDADO_2017!M3,IF(H9=\"03 %OBITOS CAUSAS BAS DEFINIDAS\",CONSOLIDADO_2017!Q3,IF(H9=\"04 %VACINAS < 3 ANOS\",CONSOLIDADO_2017!T3,IF(H9=\"05 %DE CASOS DOENÇAS NOT COMP IMEDIATA\",CONSOLIDADO_2017!W3,IF(H9=\"06 %CURA CASOS NOVOS HANSEN\",CONSOLIDADO_2017!AA3,IF(H9=\"08 CASOS NOVOS SÍFILIS CONG < ANO\",CONSOLIDADO_2017!AD3,IF(H9=\"09 Nº DE AIDS < 5 ANOS\",CONSOLIDADO_2017!AG3,IF(H9=\"10 %ANÁLISE AMOSTRA ÁGUA CONS HUM\",CONSOLIDADO_2017!AJ3,IF(H9=\"11 RAZÃO CITO 25 A 64\",CONSOLIDADO_2017!AN3,IF(H9=\"12 RAZÃO MAMOGRAFIA BILATERAL 50 A 69\",CONSOLIDADO_2017!AR3,IF(H9=\"13 %PARTO NORMAL SUS/SAÚDE SUPLEMENTAR\",CONSOLIDADO_2017!AV3,IF(H9=\"14 %GRAVIDEZ ADOLESC 10 A 19\",CONSOLIDADO_2017!AZ3,IF(H9=\"15 OBITOS < ANO\",CONSOLIDADO_2017!BD3,IF(H9=\"16 ÓBITOS MATERNOS\",CONSOLIDADO_2017!BG3,IF(H9=\"17 %COB AB\",CONSOLIDADO_2017!BJ3,IF(H9=\"18 %COB Acomp BF\",CONSOLIDADO_2017!BN3,IF(H9=\"19 %COB SAUDE BUCAL\",CONSOLIDADO_2017!BQ3,IF(H9=\"20 %MUN REALIZ AÇÕES VIGILANCIA\",CONSOLIDADO_2017!BT3,IF(H9=\"21 %AÇÕES DE MATRICIAMENTO CAPS\",CONSOLIDADO_2017!BX3,IF(H9=\"33 NÚM CICLOS ATING 80% COB IMV DENGUE\",CONSOLIDADO_2017!CA3,IF(H9=\"23 %PREENCHIMENTO OCUP NOTIF AGRAVO\",CONSOLIDADO_2017!CD3))))))))))))))))))))))","v":"NÃO ATINGIU"}]
[]
[]
[]
[]
[]
[]
[]
[]
[]
[]
[]
[]
[]
[]
[]
[]
[]
[]
[]
[]
[]
[]
[]
[]
[]
[]
[]
[]
[]
[]
[]
[]
[]
[]
[]
[]
[]
[]
[]
[]
[]
[]
[]
[]
[]
[]
[]
[]
[]
[]
[]
[]
[]
[]
[]
[]
[]
[]
[]
[]
[]
[]
[]
[]
[]
[]
[]
[]
[]
[]
[]
[]
[]
[]
[]
[]
[]
[]
[]
[]
[]
[]
[]
[]
[]
[]
[]
[]
["POPULAÇÃO 2015",{"$f":"INDEX(CONSOLIDADO_2017!A1:CG77,MATCH(CONSOLIDADO_2017!C3,CONSOLIDADO_2017!C1:C77,0),4)","v":21315}]

{"sheet":"CEDRO_MUN","index":72,"n_rows":100,"n_cols":8,"rows_kept":100,"cut":false,"hidden":true,"merged":[]}
[]
[]
[]
[]
[]
[]
[]
[]
[null,null,null,null,null,null,{"$f":"IF($H$9=\"01 OBITO PREMATURO 30 A 69 DCNT\",MENU!$G$3,IF($H$9=\"02 %OBITOS EM MUL IDADE FERTIL INV\",MENU!$G$4,IF($H$9=\"03 %OBITOS CAUSAS BAS DEFINIDAS\",MENU!$G$5,IF($H$9=\"04 %VACINAS < 2 ANOS\",MENU!$G$6,IF($H$9=\"05 %DE CASOS DOENÇAS NOT COMP IMEDIATA\",MENU!$G$7,IF($H$9=\"06 %CURA CASOS NOVOS HANSEN\",MENU!$G$8,IF($H$9=\"08 CASOS NOVOS SÍFILIS CONG < ANO\",MENU!$G$9,IF($H$9=\"09 Nº DE AIDS < 5 ANOS\",MENU!$G$10,IF($H$9=\"10 %ANÁLISE AMOSTRA ÁGUA CONS HUM\",MENU!$G$11,IF($H$9=\"11 RAZÃO CITO 25 A 64\",MENU!$G$12,IF($H$9=\"12 RAZÃO MAMOGRAFIA BILATERAL 50 A 69\",MENU!$G$13,IF($H$9=\"13 %PARTO NORMAL SUS/SAÚDE SUPLEMENTAR\",MENU!$G$14,IF($H$9=\"14 %GRAVIDEZ ADOLESC 10 A 19\",MENU!$G$15,IF($H$9=\"15 OBITOS < ANO\",MENU!$G$16,IF($H$9=\"16 ÓBITOS MATERNOS\",MENU!$G$17,IF($H$9=\"17 %COB AB\",MENU!$G$18,IF($H$9=\"18 %COB Acomp BF\",MENU!$G$19,IF($H$9=\"19 %COB SAUDE BUCAL\",MENU!$G$20,IF($H$9=\"20 %MUN REALIZ AÇÕES VIGILANCIA\",MENU!$G$21,IF($H$9=\"21 %AÇÕES DE MATRICIAMENTO CAPS\",MENU!$G$22,IF($H$9=\"22 NÚM CICLOS ATING 80% COB IMV DENGUE\",MENU!$G$23,IF($H$9=\"23 %PREENCHIMENTO OCUP NOTIF AGRAVO\",MENU!$G$24))))))))))))))))))))))","v":"META INDICADOR 01"},"01 OBITO PREMATURO 30 A 69 DCNT"]
[null,null,null,null,null,null,{"$f":"INDEX(CONSOLIDADO_2017!A1:CG77,MATCH(CONSOLIDADO_2017!C16,CONSOLIDADO_2017!C1:C77,0),MATCH(CEDRO_MUN!G9,Tabela13[#Headers],0))","v":9},{"$f":"INDEX(CONSOLIDADO_2017!A1:CG77,MATCH(CONSOLIDADO_2017!C16,CONSOLIDADO_2017!C1:C77,0),MATCH(CEDRO_MUN!H9,Tabela13[#Headers],0))","v":13}]
[null,null,null,null,null,null,null,{"$f":"IF(H9=\"01 OBITO PREMATURO 30 A 69 DCNT\",CONSOLIDADO_2017!H16,IF(H9=\"02 %OBITOS EM MUL IDADE FERTIL INV\",CONSOLIDADO_2017!M16,IF(H9=\"03 %OBITOS CAUSAS BAS DEFINIDAS\",CONSOLIDADO_2017!Q16,IF(H9=\"04 %VACINAS < 16 ANOS\",CONSOLIDADO_2017!T16,IF(H9=\"05 %DE CASOS DOENÇAS NOT COMP IMEDIATA\",CONSOLIDADO_2017!W16,IF(H9=\"06 %CURA CASOS NOVOS HANSEN\",CONSOLIDADO_2017!AA16,IF(H9=\"08 CASOS NOVOS SÍFILIS CONG < ANO\",CONSOLIDADO_2017!AD16,IF(H9=\"09 Nº DE AIDS < 5 ANOS\",CONSOLIDADO_2017!AG16,IF(H9=\"10 %ANÁLISE AMOSTRA ÁGUA CONS HUM\",CONSOLIDADO_2017!AJ16,IF(H9=\"11 RAZÃO CITO 25 A 64\",CONSOLIDADO_2017!AN16,IF(H9=\"12 RAZÃO MAMOGRAFIA BILATERAL 50 A 69\",CONSOLIDADO_2017!AR16,IF(H9=\"13 %PARTO NORMAL SUS/SAÚDE SUPLEMENTAR\",CONSOLIDADO_2017!AV16,IF(H9=\"14 %GRAVIDEZ ADOLESC 10 A 19\",CONSOLIDADO_2017!AZ16,IF(H9=\"15 OBITOS < ANO\",CONSOLIDADO_2017!BD16,IF(H9=\"16 ÓBITOS MATERNOS\",CONSOLIDADO_2017!BG16,IF(H9=\"17 %COB AB\",CONSOLIDADO_2017!BJ16,IF(H9=\"18 %COB Acomp BF\",CONSOLIDADO_2017!BN16,IF(H9=\"19 %COB SAUDE BUCAL\",CONSOLIDADO_2017!BQ16,IF(H9=\"20 %MUN REALIZ AÇÕES VIGILANCIA\",CONSOLIDADO_2017!BT16,IF(H9=\"21 %AÇÕES DE MATRICIAMENTO CAPS\",CONSOLIDADO_2017!BX16,IF(H9=\"1616 NÚM CICLOS ATING 80% COB IMV DENGUE\",CONSOLIDADO_2017!CA16,IF(H9=\"23 %PREENCHIMENTO OCUP NOTIF AGRAVO\",CONSOLIDADO_2017!CD16))))))))))))))))))))))","v":"NÃO ATINGIU"}]
[]
[]
[]
[]
[]
[]
[]
[]
[]
[]
[]
[]
[]
[]
[]
[]
[]
[]
[]
[]
[]
[]
[]
[]
[]
[]
[]
[]
[]
[]
[]
[]
[]
[]
[]
[]
[]
[]
[]
[]
[]
[]
[]
[]
[]
[]
[]
[]
[]
[]
[]
[]
[]
[]
[]
[]
[]
[]
[]
[]
[]
[]
[]
[]
[]
[]
[]
[]
[]
[]
[]
[]
[]
[]
[]
[]
[]
[]
[]
[]
[]
[]
[]
[]
[]
[]
[]
[]
["POPULAÇÃO 2015",{"$f":"INDEX(CONSOLIDADO_2017!A1:CG77,MATCH(CONSOLIDADO_2017!C16,CONSOLIDADO_2017!C1:C77,0),4)","v":5890}]

{"sheet":"MALHADA_MUN","index":73,"n_rows":100,"n_cols":8,"rows_kept":100,"cut":false,"hidden":true,"merged":[]}
[]
[]
[]
[]
[]
[]
[]
[]
[null,null,null,null,null,null,{"$f":"IF($H$9=\"01 OBITO PREMATURO 30 A 69 DCNT\",MENU!$G$3,IF($H$9=\"02 %OBITOS EM MUL IDADE FERTIL INV\",MENU!$G$4,IF($H$9=\"03 %OBITOS CAUSAS BAS DEFINIDAS\",MENU!$G$5,IF($H$9=\"04 %VACINAS < 2 ANOS\",MENU!$G$6,IF($H$9=\"05 %DE CASOS DOENÇAS NOT COMP IMEDIATA\",MENU!$G$7,IF($H$9=\"06 %CURA CASOS NOVOS HANSEN\",MENU!$G$8,IF($H$9=\"08 CASOS NOVOS SÍFILIS CONG < ANO\",MENU!$G$9,IF($H$9=\"09 Nº DE AIDS < 5 ANOS\",MENU!$G$10,IF($H$9=\"10 %ANÁLISE AMOSTRA ÁGUA CONS HUM\",MENU!$G$11,IF($H$9=\"11 RAZÃO CITO 25 A 64\",MENU!$G$12,IF($H$9=\"12 RAZÃO MAMOGRAFIA BILATERAL 50 A 69\",MENU!$G$13,IF($H$9=\"13 %PARTO NORMAL SUS/SAÚDE SUPLEMENTAR\",MENU!$G$14,IF($H$9=\"14 %GRAVIDEZ ADOLESC 10 A 19\",MENU!$G$15,IF($H$9=\"15 OBITOS < ANO\",MENU!$G$16,IF($H$9=\"16 ÓBITOS MATERNOS\",MENU!$G$17,IF($H$9=\"17 %COB AB\",MENU!$G$18,IF($H$9=\"18 %COB Acomp BF\",MENU!$G$19,IF($H$9=\"19 %COB SAUDE BUCAL\",MENU!$G$20,IF($H$9=\"20 %MUN REALIZ AÇÕES VIGILANCIA\",MENU!$G$21,IF($H$9=\"21 %AÇÕES DE MATRICIAMENTO CAPS\",MENU!$G$22,IF($H$9=\"22 NÚM CICLOS ATING 80% COB IMV DENGUE\",MENU!$G$23,IF($H$9=\"23 %PREENCHIMENTO OCUP NOTIF AGRAVO\",MENU!$G$24))))))))))))))))))))))","v":"META INDICADOR 01"},"01 OBITO PREMATURO 30 A 69 DCNT"]
[null,null,null,null,null,null,{"$f":"INDEX(CONSOLIDADO_2017!A1:CG77,MATCH(CONSOLIDADO_2017!C37,CONSOLIDADO_2017!C1:C77,0),MATCH(MALHADA_MUN!G9,Tabela13[#Headers],0))","v":6},{"$f":"INDEX(CONSOLIDADO_2017!A1:CG77,MATCH(CONSOLIDADO_2017!C37,CONSOLIDADO_2017!C1:C77,0),MATCH(MALHADA_MUN!H9,Tabela13[#Headers],0))","v":5}]
[null,null,null,null,null,null,null,{"$f":"IF(H9=\"01 OBITO PREMATURO 30 A 69 DCNT\",CONSOLIDADO_2017!H37,IF(H9=\"02 %OBITOS EM MUL IDADE FERTIL INV\",CONSOLIDADO_2017!M37,IF(H9=\"03 %OBITOS CAUSAS BAS DEFINIDAS\",CONSOLIDADO_2017!Q37,IF(H9=\"04 %VACINAS < 37 ANOS\",CONSOLIDADO_2017!T37,IF(H9=\"05 %DE CASOS DOENÇAS NOT COMP IMEDIATA\",CONSOLIDADO_2017!W37,IF(H9=\"06 %CURA CASOS NOVOS HANSEN\",CONSOLIDADO_2017!AA37,IF(H9=\"08 CASOS NOVOS SÍFILIS CONG < ANO\",CONSOLIDADO_2017!AD37,IF(H9=\"09 Nº DE AIDS < 5 ANOS\",CONSOLIDADO_2017!AG37,IF(H9=\"10 %ANÁLISE AMOSTRA ÁGUA CONS HUM\",CONSOLIDADO_2017!AJ37,IF(H9=\"11 RAZÃO CITO 25 A 64\",CONSOLIDADO_2017!AN37,IF(H9=\"12 RAZÃO MAMOGRAFIA BILATERAL 50 A 69\",CONSOLIDADO_2017!AR37,IF(H9=\"13 %PARTO NORMAL SUS/SAÚDE SUPLEMENTAR\",CONSOLIDADO_2017!AV37,IF(H9=\"14 %GRAVIDEZ ADOLESC 10 A 19\",CONSOLIDADO_2017!AZ37,IF(H9=\"15 OBITOS < ANO\",CONSOLIDADO_2017!BD37,IF(H9=\"16 ÓBITOS MATERNOS\",CONSOLIDADO_2017!BG37,IF(H9=\"17 %COB AB\",CONSOLIDADO_2017!BJ37,IF(H9=\"18 %COB Acomp BF\",CONSOLIDADO_2017!BN37,IF(H9=\"19 %COB SAUDE BUCAL\",CONSOLIDADO_2017!BQ37,IF(H9=\"20 %MUN REALIZ AÇÕES VIGILANCIA\",CONSOLIDADO_2017!BT37,IF(H9=\"21 %AÇÕES DE MATRICIAMENTO CAPS\",CONSOLIDADO_2017!BX37,IF(H9=\"3737 NÚM CICLOS ATING 80% COB IMV DENGUE\",CONSOLIDADO_2017!CA37,IF(H9=\"23 %PREENCHIMENTO OCUP NOTIF AGRAVO\",CONSOLIDADO_2017!CD37))))))))))))))))))))))","v":"ATINGIU"}]
[]
[]
[]
[]
[]
[]
[]
[]
[]
[]
[]
[]
[]
[]
[]
[]
[]
[]
[]
[]
[]
[]
[]
[]
[]
[]
[]
[]
[]
[]
[]
[]
[]
[]
[]
[]
[]
[]
[]
[]
[]
[]
[]
[]
[]
[]
[]
[]
[]
[]
[]
[]
[]
[]
[]
[]
[]
[]
[]
[]
[]
[]
[]
[]
[]
[]
[]
[]
[]
[]
[]
[]
[]
[]
[]
[]
[]
[]
[]
[]
[]
[]
[]
[]
[]
[]
[]
[]
["POPULAÇÃO 2015",{"$f":"INDEX(CONSOLIDADO_2017!A1:CG77,MATCH(CONSOLIDADO_2017!C37,CONSOLIDADO_2017!C1:C77,0),4)","v":3652}]

{"sheet":"SAO_FRANCISCO_MUN","index":74,"n_rows":100,"n_cols":8,"rows_kept":100,"cut":false,"hidden":true,"merged":[]}
[]
[]
[]
[]
[]
[]
[]
[]
[null,null,null,null,null,null,{"$f":"IF($H$9=\"01 OBITO PREMATURO 30 A 69 DCNT\",MENU!$G$3,IF($H$9=\"02 %OBITOS EM MUL IDADE FERTIL INV\",MENU!$G$4,IF($H$9=\"03 %OBITOS CAUSAS BAS DEFINIDAS\",MENU!$G$5,IF($H$9=\"04 %VACINAS < 2 ANOS\",MENU!$G$6,IF($H$9=\"05 %DE CASOS DOENÇAS NOT COMP IMEDIATA\",MENU!$G$7,IF($H$9=\"06 %CURA CASOS NOVOS HANSEN\",MENU!$G$8,IF($H$9=\"08 CASOS NOVOS SÍFILIS CONG < ANO\",MENU!$G$9,IF($H$9=\"09 Nº DE AIDS < 5 ANOS\",MENU!$G$10,IF($H$9=\"10 %ANÁLISE AMOSTRA ÁGUA CONS HUM\",MENU!$G$11,IF($H$9=\"11 RAZÃO CITO 25 A 64\",MENU!$G$12,IF($H$9=\"12 RAZÃO MAMOGRAFIA BILATERAL 50 A 69\",MENU!$G$13,IF($H$9=\"13 %PARTO NORMAL SUS/SAÚDE SUPLEMENTAR\",MENU!$G$14,IF($H$9=\"14 %GRAVIDEZ ADOLESC 10 A 19\",MENU!$G$15,IF($H$9=\"15 OBITOS < ANO\",MENU!$G$16,IF($H$9=\"16 ÓBITOS MATERNOS\",MENU!$G$17,IF($H$9=\"17 %COB AB\",MENU!$G$18,IF($H$9=\"18 %COB Acomp BF\",MENU!$G$19,IF($H$9=\"19 %COB SAUDE BUCAL\",MENU!$G$20,IF($H$9=\"20 %MUN REALIZ AÇÕES VIGILANCIA\",MENU!$G$21,IF($H$9=\"21 %AÇÕES DE MATRICIAMENTO CAPS\",MENU!$G$22,IF($H$9=\"22 NÚM CICLOS ATING 80% COB IMV DENGUE\",MENU!$G$23,IF($H$9=\"23 %PREENCHIMENTO OCUP NOTIF AGRAVO\",MENU!$G$24))))))))))))))))))))))","v":"META INDICADOR 01"},"01 OBITO PREMATURO 30 A 69 DCNT"]
[null,null,null,null,null,null,{"$f":"INDEX(CONSOLIDADO_2017!A1:CG77,MATCH(CONSOLIDADO_2017!C69,CONSOLIDADO_2017!C1:C77,0),MATCH(SAO_FRANCISCO_MUN!G9,Tabela13[#Headers],0))","v":5},{"$f":"INDEX(CONSOLIDADO_2017!A1:CG77,MATCH(CONSOLIDADO_2017!C69,CONSOLIDADO_2017!C1:C77,0),MATCH(SAO_FRANCISCO_MUN!H9,Tabela13[#Headers],0))","v":8}]
[null,null,null,null,null,null,null,{"$f":"IF(H9=\"01 OBITO PREMATURO 30 A 69 DCNT\",CONSOLIDADO_2017!H69,IF(H9=\"02 %OBITOS EM MUL IDADE FERTIL INV\",CONSOLIDADO_2017!M69,IF(H9=\"03 %OBITOS CAUSAS BAS DEFINIDAS\",CONSOLIDADO_2017!Q69,IF(H9=\"04 %VACINAS < 69 ANOS\",CONSOLIDADO_2017!T69,IF(H9=\"05 %DE CASOS DOENÇAS NOT COMP IMEDIATA\",CONSOLIDADO_2017!W69,IF(H9=\"06 %CURA CASOS NOVOS HANSEN\",CONSOLIDADO_2017!AA69,IF(H9=\"08 CASOS NOVOS SÍFILIS CONG < ANO\",CONSOLIDADO_2017!AD69,IF(H9=\"09 Nº DE AIDS < 5 ANOS\",CONSOLIDADO_2017!AG69,IF(H9=\"10 %ANÁLISE AMOSTRA ÁGUA CONS HUM\",CONSOLIDADO_2017!AJ69,IF(H9=\"11 RAZÃO CITO 25 A 64\",CONSOLIDADO_2017!AN69,IF(H9=\"12 RAZÃO MAMOGRAFIA BILATERAL 50 A 69\",CONSOLIDADO_2017!AR69,IF(H9=\"13 %PARTO NORMAL SUS/SAÚDE SUPLEMENTAR\",CONSOLIDADO_2017!AV69,IF(H9=\"14 %GRAVIDEZ ADOLESC 10 A 19\",CONSOLIDADO_2017!AZ69,IF(H9=\"15 OBITOS < ANO\",CONSOLIDADO_2017!BD69,IF(H9=\"16 ÓBITOS MATERNOS\",CONSOLIDADO_2017!BG69,IF(H9=\"17 %COB AB\",CONSOLIDADO_2017!BJ69,IF(H9=\"18 %COB Acomp BF\",CONSOLIDADO_2017!BN69,IF(H9=\"19 %COB SAUDE BUCAL\",CONSOLIDADO_2017!BQ69,IF(H9=\"20 %MUN REALIZ AÇÕES VIGILANCIA\",CONSOLIDADO_2017!BT69,IF(H9=\"21 %AÇÕES DE MATRICIAMENTO CAPS\",CONSOLIDADO_2017!BX69,IF(H9=\"6969 NÚM CICLOS ATING 80% COB IMV DENGUE\",CONSOLIDADO_2017!CA69,IF(H9=\"23 %PREENCHIMENTO OCUP NOTIF AGRAVO\",CONSOLIDADO_2017!CD69))))))))))))))))))))))","v":"NÃO ATINGIU"}]
[]
[]
[]
[]
[]
[]
[]
[]
[]
[]
[]
[]
[]
[]
[]
[]
[]
[]
[]
[]
[]
[]
[]
[]
[]
[]
[]
[]
[]
[]
[]
[]
[]
[]
[]
[]
[]
[]
[]
[]
[]
[]
[]
[]
[]
[]
[]
[]
[]
[]
[]
[]
[]
[]
[]
[]
[]
[]
[]
[]
[]
[]
[]
[]
[]
[]
[]
[]
[]
[]
[]
[]
[]
[]
[]
[]
[]
[]
[]
[]
[]
[]
[]
[]
[]
[]
[]
[]
["POPULAÇÃO 2015",{"$f":"INDEX(CONSOLIDADO_2017!A1:CG77,MATCH(CONSOLIDADO_2017!C69,CONSOLIDADO_2017!C1:C77,0),4)","v":3851}]

{"sheet":"JAPOATA_MUN","index":75,"n_rows":100,"n_cols":8,"rows_kept":100,"cut":false,"hidden":true,"merged":[]}
[]
[]
[]
[]
[]
[]
[]
[]
[null,null,null,null,null,null,{"$f":"IF($H$9=\"01 OBITO PREMATURO 30 A 69 DCNT\",MENU!$G$3,IF($H$9=\"02 %OBITOS EM MUL IDADE FERTIL INV\",MENU!$G$4,IF($H$9=\"03 %OBITOS CAUSAS BAS DEFINIDAS\",MENU!$G$5,IF($H$9=\"04 %VACINAS < 2 ANOS\",MENU!$G$6,IF($H$9=\"05 %DE CASOS DOENÇAS NOT COMP IMEDIATA\",MENU!$G$7,IF($H$9=\"06 %CURA CASOS NOVOS HANSEN\",MENU!$G$8,IF($H$9=\"08 CASOS NOVOS SÍFILIS CONG < ANO\",MENU!$G$9,IF($H$9=\"09 Nº DE AIDS < 5 ANOS\",MENU!$G$10,IF($H$9=\"10 %ANÁLISE AMOSTRA ÁGUA CONS HUM\",MENU!$G$11,IF($H$9=\"11 RAZÃO CITO 25 A 64\",MENU!$G$12,IF($H$9=\"12 RAZÃO MAMOGRAFIA BILATERAL 50 A 69\",MENU!$G$13,IF($H$9=\"13 %PARTO NORMAL SUS/SAÚDE SUPLEMENTAR\",MENU!$G$14,IF($H$9=\"14 %GRAVIDEZ ADOLESC 10 A 19\",MENU!$G$15,IF($H$9=\"15 OBITOS < ANO\",MENU!$G$16,IF($H$9=\"16 ÓBITOS MATERNOS\",MENU!$G$17,IF($H$9=\"17 %COB AB\",MENU!$G$18,IF($H$9=\"18 %COB Acomp BF\",MENU!$G$19,IF($H$9=\"19 %COB SAUDE BUCAL\",MENU!$G$20,IF($H$9=\"20 %MUN REALIZ AÇÕES VIGILANCIA\",MENU!$G$21,IF($H$9=\"21 %AÇÕES DE MATRICIAMENTO CAPS\",MENU!$G$22,IF($H$9=\"22 NÚM CICLOS ATING 80% COB IMV DENGUE\",MENU!$G$23,IF($H$9=\"23 %PREENCHIMENTO OCUP NOTIF AGRAVO\",MENU!$G$24))))))))))))))))))))))","v":"META INDICADOR 01"},"01 OBITO PREMATURO 30 A 69 DCNT"]
[null,null,null,null,null,null,{"$f":"INDEX(CONSOLIDADO_2017!A1:CG77,MATCH(CONSOLIDADO_2017!C33,CONSOLIDADO_2017!C1:C77,0),MATCH(JAPOATA_MUN!G9,Tabela13[#Headers],0))","v":15},{"$f":"INDEX(CONSOLIDADO_2017!A1:CG77,MATCH(CONSOLIDADO_2017!C33,CONSOLIDADO_2017!C1:C77,0),MATCH(JAPOATA_MUN!H9,Tabela13[#Headers],0))","v":15}]
[null,null,null,null,null,null,null,{"$f":"IF(H9=\"01 OBITO PREMATURO 30 A 69 DCNT\",CONSOLIDADO_2017!H33,IF(H9=\"02 %OBITOS EM MUL IDADE FERTIL INV\",CONSOLIDADO_2017!M33,IF(H9=\"03 %OBITOS CAUSAS BAS DEFINIDAS\",CONSOLIDADO_2017!Q33,IF(H9=\"04 %VACINAS < 33 ANOS\",CONSOLIDADO_2017!T33,IF(H9=\"05 %DE CASOS DOENÇAS NOT COMP IMEDIATA\",CONSOLIDADO_2017!W33,IF(H9=\"06 %CURA CASOS NOVOS HANSEN\",CONSOLIDADO_2017!AA33,IF(H9=\"08 CASOS NOVOS SÍFILIS CONG < ANO\",CONSOLIDADO_2017!AD33,IF(H9=\"09 Nº DE AIDS < 5 ANOS\",CONSOLIDADO_2017!AG33,IF(H9=\"10 %ANÁLISE AMOSTRA ÁGUA CONS HUM\",CONSOLIDADO_2017!AJ33,IF(H9=\"11 RAZÃO CITO 25 A 64\",CONSOLIDADO_2017!AN33,IF(H9=\"12 RAZÃO MAMOGRAFIA BILATERAL 50 A 69\",CONSOLIDADO_2017!AR33,IF(H9=\"13 %PARTO NORMAL SUS/SAÚDE SUPLEMENTAR\",CONSOLIDADO_2017!AV33,IF(H9=\"14 %GRAVIDEZ ADOLESC 10 A 19\",CONSOLIDADO_2017!AZ33,IF(H9=\"15 OBITOS < ANO\",CONSOLIDADO_2017!BD33,IF(H9=\"33 ÓBITOS MATERNOS\",CONSOLIDADO_2017!BG33,IF(H9=\"17 %COB AB\",CONSOLIDADO_2017!BJ33,IF(H9=\"18 %COB Acomp BF\",CONSOLIDADO_2017!BN33,IF(H9=\"19 %COB SAUDE BUCAL\",CONSOLIDADO_2017!BQ33,IF(H9=\"20 %MUN REALIZ AÇÕES VIGILANCIA\",CONSOLIDADO_2017!BT33,IF(H9=\"21 %AÇÕES DE MATRICIAMENTO CAPS\",CONSOLIDADO_2017!BX33,IF(H9=\"3333 NÚM CICLOS ATING 80% COB IMV DENGUE\",CONSOLIDADO_2017!CA33,IF(H9=\"23 %PREENCHIMENTO OCUP NOTIF AGRAVO\",CONSOLIDADO_2017!CD33))))))))))))))))))))))","v":"ATINGIU"}]
[]
[]
[]
[]
[]
[]
[]
[]
[]
[]
[]
[]
[]
[]
[]
[]
[]
[]
[]
[]
[]
[]
[]
[]
[]
[]
[]
[]
[]
[]
[]
[]
[]
[]
[]
[]
[]
[]
[]
[]
[]
[]
[]
[]
[]
[]
[]
[]
[]
[]
[]
[]
[]
[]
[]
[]
[]
[]
[]
[]
[]
[]
[]
[]
[]
[]
[]
[]
[]
[]
[]
[]
[]
[]
[]
[]
[]
[]
[]
[]
[]
[]
[]
[]
[]
[]
[]
[]
["POPULAÇÃO 2015",{"$f":"INDEX(CONSOLIDADO_2017!A1:CG77,MATCH(CONSOLIDADO_2017!C33,CONSOLIDADO_2017!C1:C77,0),4)","v":13245}]

{"sheet":"NEOPOLIS_MUN","index":76,"n_rows":100,"n_cols":8,"rows_kept":100,"cut":false,"hidden":true,"merged":[]}
[]
[]
[]
[]
[]
[]
[]
[]
[null,null,null,null,null,null,{"$f":"IF($H$9=\"01 OBITO PREMATURO 30 A 69 DCNT\",MENU!$G$3,IF($H$9=\"02 %OBITOS EM MUL IDADE FERTIL INV\",MENU!$G$4,IF($H$9=\"03 %OBITOS CAUSAS BAS DEFINIDAS\",MENU!$G$5,IF($H$9=\"04 %VACINAS < 2 ANOS\",MENU!$G$6,IF($H$9=\"05 %DE CASOS DOENÇAS NOT COMP IMEDIATA\",MENU!$G$7,IF($H$9=\"06 %CURA CASOS NOVOS HANSEN\",MENU!$G$8,IF($H$9=\"08 CASOS NOVOS SÍFILIS CONG < ANO\",MENU!$G$9,IF($H$9=\"09 Nº DE AIDS < 5 ANOS\",MENU!$G$10,IF($H$9=\"10 %ANÁLISE AMOSTRA ÁGUA CONS HUM\",MENU!$G$11,IF($H$9=\"11 RAZÃO CITO 25 A 64\",MENU!$G$12,IF($H$9=\"12 RAZÃO MAMOGRAFIA BILATERAL 50 A 69\",MENU!$G$13,IF($H$9=\"13 %PARTO NORMAL SUS/SAÚDE SUPLEMENTAR\",MENU!$G$14,IF($H$9=\"14 %GRAVIDEZ ADOLESC 10 A 19\",MENU!$G$15,IF($H$9=\"15 OBITOS < ANO\",MENU!$G$16,IF($H$9=\"16 ÓBITOS MATERNOS\",MENU!$G$17,IF($H$9=\"17 %COB AB\",MENU!$G$18,IF($H$9=\"18 %COB Acomp BF\",MENU!$G$19,IF($H$9=\"19 %COB SAUDE BUCAL\",MENU!$G$20,IF($H$9=\"20 %MUN REALIZ AÇÕES VIGILANCIA\",MENU!$G$21,IF($H$9=\"21 %AÇÕES DE MATRICIAMENTO CAPS\",MENU!$G$22,IF($H$9=\"22 NÚM CICLOS ATING 80% COB IMV DENGUE\",MENU!$G$23,IF($H$9=\"23 %PREENCHIMENTO OCUP NOTIF AGRAVO\",MENU!$G$24))))))))))))))))))))))","v":"META INDICADOR 01"},"01 OBITO PREMATURO 30 A 69 DCNT"]
[null,null,null,null,null,null,{"$f":"INDEX(CONSOLIDADO_2017!A1:CG77,MATCH(CONSOLIDADO_2017!C43,CONSOLIDADO_2017!C1:C77,0),MATCH(NEOPOLIS_MUN!G9,Tabela13[#Headers],0))","v":10},{"$f":"INDEX(CONSOLIDADO_2017!A1:CG77,MATCH(CONSOLIDADO_2017!C43,CONSOLIDADO_2017!C1:C77,0),MATCH(NEOPOLIS_MUN!H9,Tabela13[#Headers],0))","v":19}]
[null,null,null,null,null,null,null,{"$f":"IF(H9=\"01 OBITO PREMATURO 30 A 69 B100DCNT\",CONSOLIDADO_2017!H43,IF(H9=\"02 %OBITOS EM MUL IDADE FERTIL INV\",CONSOLIDADO_2017!M43,IF(H9=\"03 %OBITOS CAUSAS BAS DEFINIDAS\",CONSOLIDADO_2017!Q43,IF(H9=\"04 %VACINAS < 2 ANOS\",CONSOLIDADO_2017!T43,IF(H9=\"05 %DE CASOS DOENÇAS NOT COMP IMEDIATA\",CONSOLIDADO_2017!W43,IF(H9=\"06 %CURA CASOS NOVOS HANSEN\",CONSOLIDADO_2017!AA43,IF(H9=\"08 CASOS NOVOS SÍFILIS CONG < ANO\",CONSOLIDADO_2017!AD43,IF(H9=\"09 Nº DE AIDS < 5 ANOS\",CONSOLIDADO_2017!AG43,IF(H9=\"10 %ANÁLISE AMOSTRA ÁGUA CONS HUM\",CONSOLIDADO_2017!AJ43,IF(H9=\"11 RAZÃO CITO 25 A 64\",CONSOLIDADO_2017!AN43,IF(H9=\"12 RAZÃO MAMOGRAFIA BILATERAL 50 A 69\",CONSOLIDADO_2017!AR43,IF(H9=\"13 %PARTO NORMAL SUS/SAÚDE SUPLEMENTAR\",CONSOLIDADO_2017!AV43,IF(H9=\"14 %GRAVIDEZ ADOLESC 10 A 19\",CONSOLIDADO_2017!AZ43,IF(H9=\"15 OBITOS < ANO\",CONSOLIDADO_2017!BD43,IF(H9=\"43 ÓBITOS MATERNOS\",CONSOLIDADO_2017!BG43,IF(H9=\"17 %COB AB\",CONSOLIDADO_2017!BJ43,IF(H9=\"18 %COB Acomp BF\",CONSOLIDADO_2017!BN43,IF(H9=\"19 %COB SAUDE BUCAL\",CONSOLIDADO_2017!BQ43,IF(H9=\"20 %MUN REALIZ AÇÕES VIGILANCIA\",CONSOLIDADO_2017!BT43,IF(H9=\"21 %AÇÕES DE MATRICIAMENTO CAPS\",CONSOLIDADO_2017!BX43,IF(H9=\"4343 NÚM CICLOS ATING 80% COB IMV DENGUE\",CONSOLIDADO_2017!CA43,IF(H9=\"23 %PREENCHIMENTO OCUP NOTIF AGRAVO\",CONSOLIDADO_2017!CD43))))))))))))))))))))))","v":false}]
[]
[]
[]
[]
[]
[]
[]
[]
[]
[]
[]
[]
[]
[]
[]
[]
[]
[]
[]
[]
[]
[]
[]
[]
[]
[]
[]
[]
[]
[]
[]
[]
[]
[]
[]
[]
[]
[]
[]
[]
[]
[]
[]
[]
[]
[]
[]
[]
[]
[]
[]
[]
[]
[]
[]
[]
[]
[]
[]
[]
[]
[]
[]
[]
[]
[]
[]
[]
[]
[]
[]
[]
[]
[]
[]
[]
[]
[]
[]
[]
[]
[]
[]
[]
[]
[]
[]
[]
["POPULAÇÃO 2015",{"$f":"INDEX(CONSOLIDADO_2017!A1:CG77,MATCH(CONSOLIDADO_2017!C43,CONSOLIDADO_2017!C1:C77,0),4)","v":18958}]

{"sheet":"SANTANA_MUN","index":77,"n_rows":100,"n_cols":8,"rows_kept":100,"cut":false,"hidden":true,"merged":[]}
[]
[]
[]
[]
[]
[]
[]
[]
[null,null,null,null,null,null,{"$f":"IF($H$9=\"01 OBITO PREMATURO 30 A 69 DCNT\",MENU!$G$3,IF($H$9=\"02 %OBITOS EM MUL IDADE FERTIL INV\",MENU!$G$4,IF($H$9=\"03 %OBITOS CAUSAS BAS DEFINIDAS\",MENU!$G$5,IF($H$9=\"04 %VACINAS < 2 ANOS\",MENU!$G$6,IF($H$9=\"05 %DE CASOS DOENÇAS NOT COMP IMEDIATA\",MENU!$G$7,IF($H$9=\"06 %CURA CASOS NOVOS HANSEN\",MENU!$G$8,IF($H$9=\"08 CASOS NOVOS SÍFILIS CONG < ANO\",MENU!$G$9,IF($H$9=\"09 Nº DE AIDS < 5 ANOS\",MENU!$G$10,IF($H$9=\"10 %ANÁLISE AMOSTRA ÁGUA CONS HUM\",MENU!$G$11,IF($H$9=\"11 RAZÃO CITO 25 A 64\",MENU!$G$12,IF($H$9=\"12 RAZÃO MAMOGRAFIA BILATERAL 50 A 69\",MENU!$G$13,IF($H$9=\"13 %PARTO NORMAL SUS/SAÚDE SUPLEMENTAR\",MENU!$G$14,IF($H$9=\"14 %GRAVIDEZ ADOLESC 10 A 19\",MENU!$G$15,IF($H$9=\"15 OBITOS < ANO\",MENU!$G$16,IF($H$9=\"16 ÓBITOS MATERNOS\",MENU!$G$17,IF($H$9=\"17 %COB AB\",MENU!$G$18,IF($H$9=\"18 %COB Acomp BF\",MENU!$G$19,IF($H$9=\"19 %COB SAUDE BUCAL\",MENU!$G$20,IF($H$9=\"20 %MUN REALIZ AÇÕES VIGILANCIA\",MENU!$G$21,IF($H$9=\"21 %AÇÕES DE MATRICIAMENTO CAPS\",MENU!$G$22,IF($H$9=\"22 NÚM CICLOS ATING 80% COB IMV DENGUE\",MENU!$G$23,IF($H$9=\"23 %PREENCHIMENTO OCUP NOTIF AGRAVO\",MENU!$G$24))))))))))))))))))))))","v":"META INDICADOR 02"},"02 %OBITOS EM MUL IDADE FERTIL INV"]
[null,null,null,null,null,null,{"$f":"INDEX(CONSOLIDADO_2017!A1:CG77,MATCH(CONSOLIDADO_2017!C64,CONSOLIDADO_2017!C1:C77,0),MATCH(SANTANA_MUN!G9,Tabela13[#Headers],0))","v":1},{"$f":"INDEX(CONSOLIDADO_2017!A1:CG77,MATCH(CONSOLIDADO_2017!C64,CONSOLIDADO_2017!C1:C77,0),MATCH(SANTANA_MUN!H9,Tabela13[#Headers],0))","v":0.5}]
[null,null,null,null,null,null,null,{"$f":"IF(H9=\"01 OBITO PREMATURO 30 A 69 DCNT\",CONSOLIDADO_2017!H64,IF(H9=\"02 %OBITOS EM MUL IDADE FERTIL INV\",CONSOLIDADO_2017!M64,IF(H9=\"03 %OBITOS CAUSAS BAS DEFINIDAS\",CONSOLIDADO_2017!Q64,IF(H9=\"04 %VACINAS < 64 ANOS\",CONSOLIDADO_2017!T64,IF(H9=\"05 %DE CASOS DOENÇAS NOT COMP IMEDIATA\",CONSOLIDADO_2017!W64,IF(H9=\"06 %CURA CASOS NOVOS HANSEN\",CONSOLIDADO_2017!AA64,IF(H9=\"08 CASOS NOVOS SÍFILIS CONG < ANO\",CONSOLIDADO_2017!AD64,IF(H9=\"09 Nº DE AIDS < 5 ANOS\",CONSOLIDADO_2017!AG64,IF(H9=\"10 %ANÁLISE AMOSTRA ÁGUA CONS HUM\",CONSOLIDADO_2017!AJ64,IF(H9=\"11 RAZÃO CITO 25 A 64\",CONSOLIDADO_2017!AN64,IF(H9=\"12 RAZÃO MAMOGRAFIA BILATERAL 50 A 69\",CONSOLIDADO_2017!AR64,IF(H9=\"13 %PARTO NORMAL SUS/SAÚDE SUPLEMENTAR\",CONSOLIDADO_2017!AV64,IF(H9=\"14 %GRAVIDEZ ADOLESC 10 A 19\",CONSOLIDADO_2017!AZ64,IF(H9=\"15 OBITOS < ANO\",CONSOLIDADO_2017!BD64,IF(H9=\"16 ÓBITOS MATERNOS\",CONSOLIDADO_2017!BG64,IF(H9=\"17 %COB AB\",CONSOLIDADO_2017!BJ64,IF(H9=\"18 %COB Acomp BF\",CONSOLIDADO_2017!BN64,IF(H9=\"19 %COB SAUDE BUCAL\",CONSOLIDADO_2017!BQ64,IF(H9=\"20 %MUN REALIZ AÇÕES VIGILANCIA\",CONSOLIDADO_2017!BT64,IF(H9=\"21 %AÇÕES DE MATRICIAMENTO CAPS\",CONSOLIDADO_2017!BX64,IF(H9=\"6464 NÚM CICLOS ATING 80% COB IMV DENGUE\",CONSOLIDADO_2017!CA64,IF(H9=\"23 %PREENCHIMENTO OCUP NOTIF AGRAVO\",CONSOLIDADO_2017!CD64))))))))))))))))))))))","v":"NÃO ATINGIU"}]
[]
[]
[]
[]
[]
[]
[]
[]
[]
[]
[]
[]
[]
[]
[]
[]
[]
[]
[]
[]
[]
[]
[]
[]
[]
[]
[]
[]
[]
[]
[]
[]
[]
[]
[]
[]
[]
[]
[]
[]
[]
[]
[]
[]
[]
[]
[]
[]
[]
[]
[]
[]
[]
[]
[]
[]
[]
[]
[]
[]
[]
[]
[]
[]
[]
[]
[]
[]
[]
[]
[]
[]
[]
[]
[]
[]
[]
[]
[]
[]
[]
[]
[]
[]
[]
[]
[]
[]
["POPULAÇÃO 2015",{"$f":"INDEX(CONSOLIDADO_2017!A1:CG77,MATCH(CONSOLIDADO_2017!C64,CONSOLIDADO_2017!C1:C77,0),4)","v":7607}]

{"sheet":"BREJO_MUN","index":78,"n_rows":100,"n_cols":8,"rows_kept":100,"cut":false,"hidden":true,"merged":[]}
[]
[]
[]
[]
[]
[]
[]
[]
[null,null,null,null,null,null,{"$f":"IF($H$9=\"01 OBITO PREMATURO 30 A 69 DCNT\",MENU!$G$3,IF($H$9=\"02 %OBITOS EM MUL IDADE FERTIL INV\",MENU!$G$4,IF($H$9=\"03 %OBITOS CAUSAS BAS DEFINIDAS\",MENU!$G$5,IF($H$9=\"04 %VACINAS < 2 ANOS\",MENU!$G$6,IF($H$9=\"05 %DE CASOS DOENÇAS NOT COMP IMEDIATA\",MENU!$G$7,IF($H$9=\"06 %CURA CASOS NOVOS HANSEN\",MENU!$G$8,IF($H$9=\"08 CASOS NOVOS SÍFILIS CONG < ANO\",MENU!$G$9,IF($H$9=\"09 Nº DE AIDS < 5 ANOS\",MENU!$G$10,IF($H$9=\"10 %ANÁLISE AMOSTRA ÁGUA CONS HUM\",MENU!$G$11,IF($H$9=\"11 RAZÃO CITO 25 A 64\",MENU!$G$12,IF($H$9=\"12 RAZÃO MAMOGRAFIA BILATERAL 50 A 69\",MENU!$G$13,IF($H$9=\"13 %PARTO NORMAL SUS/SAÚDE SUPLEMENTAR\",MENU!$G$14,IF($H$9=\"14 %GRAVIDEZ ADOLESC 10 A 19\",MENU!$G$15,IF($H$9=\"15 OBITOS < ANO\",MENU!$G$16,IF($H$9=\"16 ÓBITOS MATERNOS\",MENU!$G$17,IF($H$9=\"17 %COB AB\",MENU!$G$18,IF($H$9=\"18 %COB Acomp BF\",MENU!$G$19,IF($H$9=\"19 %COB SAUDE BUCAL\",MENU!$G$20,IF($H$9=\"20 %MUN REALIZ AÇÕES VIGILANCIA\",MENU!$G$21,IF($H$9=\"21 %AÇÕES DE MATRICIAMENTO CAPS\",MENU!$G$22,IF($H$9=\"22 NÚM CICLOS ATING 80% COB IMV DENGUE\",MENU!$G$23,IF($H$9=\"23 %PREENCHIMENTO OCUP NOTIF AGRAVO\",MENU!$G$24))))))))))))))))))))))","v":"META INDICADOR 01"},"01 OBITO PREMATURO 30 A 69 DCNT"]
[null,null,null,null,null,null,{"$f":"INDEX(CONSOLIDADO_2017!A1:CG77,MATCH(CONSOLIDADO_2017!C9,CONSOLIDADO_2017!C1:C77,0),MATCH(BREJO_MUN!G9,Tabela13[#Headers],0))","v":7},{"$f":"INDEX(CONSOLIDADO_2017!A1:CG77,MATCH(CONSOLIDADO_2017!C9,CONSOLIDADO_2017!C1:C77,0),MATCH(BREJO_MUN!H9,Tabela13[#Headers],0))","v":4}]
[null,null,null,null,null,null,null,{"$f":"IF(H9=\"01 OBITO PREMATURO 30 A 69 DCNT\",CONSOLIDADO_2017!H9,IF(H9=\"02 %OBITOS EM MUL IDADE FERTIL INV\",CONSOLIDADO_2017!M9,IF(H9=\"03 %OBITOS CAUSAS BAS DEFINIDAS\",CONSOLIDADO_2017!Q9,IF(H9=\"04 %VACINAS < 9 ANOS\",CONSOLIDADO_2017!T9,IF(H9=\"05 %DE CASOS DOENÇAS NOT COMP IMEDIATA\",CONSOLIDADO_2017!W9,IF(H9=\"06 %CURA CASOS NOVOS HANSEN\",CONSOLIDADO_2017!AA9,IF(H9=\"08 CASOS NOVOS SÍFILIS CONG < ANO\",CONSOLIDADO_2017!AD9,IF(H9=\"09 Nº DE AIDS < 5 ANOS\",CONSOLIDADO_2017!AG9,IF(H9=\"10 %ANÁLISE AMOSTRA ÁGUA CONS HUM\",CONSOLIDADO_2017!AJ9,IF(H9=\"11 RAZÃO CITO 25 A 64\",CONSOLIDADO_2017!AN9,IF(H9=\"12 RAZÃO MAMOGRAFIA BILATERAL 50 A 69\",CONSOLIDADO_2017!AR9,IF(H9=\"13 %PARTO NORMAL SUS/SAÚDE SUPLEMENTAR\",CONSOLIDADO_2017!AV9,IF(H9=\"14 %GRAVIDEZ ADOLESC 10 A 19\",CONSOLIDADO_2017!AZ9,IF(H9=\"15 OBITOS < ANO\",CONSOLIDADO_2017!BD9,IF(H9=\"9 ÓBITOS MATERNOS\",CONSOLIDADO_2017!BG9,IF(H9=\"17 %COB AB\",CONSOLIDADO_2017!BJ9,IF(H9=\"18 %COB Acomp BF\",CONSOLIDADO_2017!BN9,IF(H9=\"19 %COB SAUDE BUCAL\",CONSOLIDADO_2017!BQ9,IF(H9=\"20 %MUN REALIZ AÇÕES VIGILANCIA\",CONSOLIDADO_2017!BT9,IF(H9=\"21 %AÇÕES DE MATRICIAMENTO CAPS\",CONSOLIDADO_2017!BX9,IF(H9=\"99 NÚM CICLOS ATING 80% COB IMV DENGUE\",CONSOLIDADO_2017!CA9,IF(H9=\"23 %PREENCHIMENTO OCUP NOTIF AGRAVO\",CONSOLIDADO_2017!CD9))))))))))))))))))))))","v":"ATINGIU"}]
[]
[]
[]
[]
[]
[]
[]
[]
[]
[]
[]
[]
[]
[]
[]
[]
[]
[]
[]
[]
[]
[]
[]
[]
[]
[]
[]
[]
[]
[]
[]
[]
[]
[]
[]
[]
[]
[]
[]
[]
[]
[]
[]
[]
[]
[]
[]
[]
[]
[]
[]
[]
[]
[]
[]
[]
[]
[]
[]
[]
[]
[]
[]
[]
[]
[]
[]
[]
[]
[]
[]
[]
[]
[]
[]
[]
[]
[]
[]
[]
[]
[]
[]
[]
[]
[]
[]
[]
["POPULAÇÃO 2015",{"$f":"INDEX(CONSOLIDADO_2017!A1:CG77,MATCH(CONSOLIDADO_2017!C9,CONSOLIDADO_2017!C1:C77,0),4)","v":8218}]

{"sheet":"ILHA_MUN","index":79,"n_rows":100,"n_cols":8,"rows_kept":100,"cut":false,"hidden":true,"merged":[]}
[]
[]
[]
[]
[]
[]
[]
[]
[null,null,null,null,null,null,{"$f":"IF($H$9=\"01 OBITO PREMATURO 30 A 69 DCNT\",MENU!$G$3,IF($H$9=\"02 %OBITOS EM MUL IDADE FERTIL INV\",MENU!$G$4,IF($H$9=\"03 %OBITOS CAUSAS BAS DEFINIDAS\",MENU!$G$5,IF($H$9=\"04 %VACINAS < 2 ANOS\",MENU!$G$6,IF($H$9=\"05 %DE CASOS DOENÇAS NOT COMP IMEDIATA\",MENU!$G$7,IF($H$9=\"06 %CURA CASOS NOVOS HANSEN\",MENU!$G$8,IF($H$9=\"08 CASOS NOVOS SÍFILIS CONG < ANO\",MENU!$G$9,IF($H$9=\"09 Nº DE AIDS < 5 ANOS\",MENU!$G$10,IF($H$9=\"10 %ANÁLISE AMOSTRA ÁGUA CONS HUM\",MENU!$G$11,IF($H$9=\"11 RAZÃO CITO 25 A 64\",MENU!$G$12,IF($H$9=\"12 RAZÃO MAMOGRAFIA BILATERAL 50 A 69\",MENU!$G$13,IF($H$9=\"13 %PARTO NORMAL SUS/SAÚDE SUPLEMENTAR\",MENU!$G$14,IF($H$9=\"14 %GRAVIDEZ ADOLESC 10 A 19\",MENU!$G$15,IF($H$9=\"15 OBITOS < ANO\",MENU!$G$16,IF($H$9=\"16 ÓBITOS MATERNOS\",MENU!$G$17,IF($H$9=\"17 %COB AB\",MENU!$G$18,IF($H$9=\"18 %COB Acomp BF\",MENU!$G$19,IF($H$9=\"19 %COB SAUDE BUCAL\",MENU!$G$20,IF($H$9=\"20 %MUN REALIZ AÇÕES VIGILANCIA\",MENU!$G$21,IF($H$9=\"21 %AÇÕES DE MATRICIAMENTO CAPS\",MENU!$G$22,IF($H$9=\"22 NÚM CICLOS ATING 80% COB IMV DENGUE\",MENU!$G$23,IF($H$9=\"23 %PREENCHIMENTO OCUP NOTIF AGRAVO\",MENU!$G$24))))))))))))))))))))))","v":"META INDICADOR 01"},"01 OBITO PREMATURO 30 A 69 DCNT"]
[null,null,null,null,null,null,{"$f":"INDEX(CONSOLIDADO_2017!A1:CG77,MATCH(CONSOLIDADO_2017!C26,CONSOLIDADO_2017!C1:C77,0),MATCH(ILHA_MUN!G9,Tabela13[#Headers],0))","v":7},{"$f":"INDEX(CONSOLIDADO_2017!A1:CG77,MATCH(CONSOLIDADO_2017!C26,CONSOLIDADO_2017!C1:C77,0),MATCH(ILHA_MUN!H9,Tabela13[#Headers],0))","v":9}]
[null,null,null,null,null,null,null,{"$f":"IF(H9=\"01 OBITO PREMATURO 30 A 69 DCNT\",CONSOLIDADO_2017!H26,IF(H9=\"02 %OBITOS EM MUL IDADE FERTIL INV\",CONSOLIDADO_2017!M26,IF(H9=\"03 %OBITOS CAUSAS BAS DEFINIDAS\",CONSOLIDADO_2017!Q26,IF(H9=\"04 %VACINAS < 26 ANOS\",CONSOLIDADO_2017!T26,IF(H9=\"05 %DE CASOS DOENÇAS NOT COMP IMEDIATA\",CONSOLIDADO_2017!W26,IF(H9=\"06 %CURA CASOS NOVOS HANSEN\",CONSOLIDADO_2017!AA26,IF(H9=\"08 CASOS NOVOS SÍFILIS CONG < ANO\",CONSOLIDADO_2017!AD26,IF(H9=\"09 Nº DE AIDS < 5 ANOS\",CONSOLIDADO_2017!AG26,IF(H9=\"10 %ANÁLISE AMOSTRA ÁGUA CONS HUM\",CONSOLIDADO_2017!AJ26,IF(H9=\"11 RAZÃO CITO 25 A 26\",CONSOLIDADO_2017!AN26,IF(H9=\"12 RAZÃO MAMOGRAFIA BILATERAL 50 A 69\",CONSOLIDADO_2017!AR26,IF(H9=\"13 %PARTO NORMAL SUS/SAÚDE SUPLEMENTAR\",CONSOLIDADO_2017!AV26,IF(H9=\"14 %GRAVIDEZ ADOLESC 10 A 19\",CONSOLIDADO_2017!AZ26,IF(H9=\"15 OBITOS < ANO\",CONSOLIDADO_2017!BD26,IF(H9=\"16 ÓBITOS MATERNOS\",CONSOLIDADO_2017!BG26,IF(H9=\"17 %COB AB\",CONSOLIDADO_2017!BJ26,IF(H9=\"18 %COB Acomp BF\",CONSOLIDADO_2017!BN26,IF(H9=\"19 %COB SAUDE BUCAL\",CONSOLIDADO_2017!BQ26,IF(H9=\"20 %MUN REALIZ AÇÕES VIGILANCIA\",CONSOLIDADO_2017!BT26,IF(H9=\"21 %AÇÕES DE MATRICIAMENTO CAPS\",CONSOLIDADO_2017!BX26,IF(H9=\"2626 NÚM CICLOS ATING 80% COB IMV DENGUE\",CONSOLIDADO_2017!CA26,IF(H9=\"23 %PREENCHIMENTO OCUP NOTIF AGRAVO\",CONSOLIDADO_2017!CD26))))))))))))))))))))))","v":"NÃO ATINGIU"}]
[]
[]
[]
[]
[]
[]
[]
[]
[]
[]
[]
[]
[]
[]
[]
[]
[]
[]
[]
[]
[]
[]
[]
[]
[]
[]
[]
[]
[]
[]
[]
[]
[]
[]
[]
[]
[]
[]
[]
[]
[]
[]
[]
[]
[]
[]
[]
[]
[]
[]
[]
[]
[]
[]
[]
[]
[]
[]
[]
[]
[]
[]
[]
[]
[]
[]
[]
[]
[]
[]
[]
[]
[]
[]
[]
[]
[]
[]
[]
[]
[]
[]
[]
[]
[]
[]
[]
[]
["POPULAÇÃO 2015",{"$f":"INDEX(CONSOLIDADO_2017!A1:CG77,MATCH(CONSOLIDADO_2017!C26,CONSOLIDADO_2017!C1:C77,0),4)","v":8597}]

{"sheet":"PACATUBA_MUN","index":80,"n_rows":100,"n_cols":8,"rows_kept":100,"cut":false,"hidden":true,"merged":[]}
[]
[]
[]
[]
[]
[]
[]
[]
[null,null,null,null,null,null,{"$f":"IF($H$9=\"01 OBITO PREMATURO 30 A 69 DCNT\",MENU!$G$3,IF($H$9=\"02 %OBITOS EM MUL IDADE FERTIL INV\",MENU!$G$4,IF($H$9=\"03 %OBITOS CAUSAS BAS DEFINIDAS\",MENU!$G$5,IF($H$9=\"04 %VACINAS < 2 ANOS\",MENU!$G$6,IF($H$9=\"05 %DE CASOS DOENÇAS NOT COMP IMEDIATA\",MENU!$G$7,IF($H$9=\"06 %CURA CASOS NOVOS HANSEN\",MENU!$G$8,IF($H$9=\"08 CASOS NOVOS SÍFILIS CONG < ANO\",MENU!$G$9,IF($H$9=\"09 Nº DE AIDS < 5 ANOS\",MENU!$G$10,IF($H$9=\"10 %ANÁLISE AMOSTRA ÁGUA CONS HUM\",MENU!$G$11,IF($H$9=\"11 RAZÃO CITO 25 A 64\",MENU!$G$12,IF($H$9=\"12 RAZÃO MAMOGRAFIA BILATERAL 50 A 69\",MENU!$G$13,IF($H$9=\"13 %PARTO NORMAL SUS/SAÚDE SUPLEMENTAR\",MENU!$G$14,IF($H$9=\"14 %GRAVIDEZ ADOLESC 10 A 19\",MENU!$G$15,IF($H$9=\"15 OBITOS < ANO\",MENU!$G$16,IF($H$9=\"16 ÓBITOS MATERNOS\",MENU!$G$17,IF($H$9=\"17 %COB AB\",MENU!$G$18,IF($H$9=\"18 %COB Acomp BF\",MENU!$G$19,IF($H$9=\"19 %COB SAUDE BUCAL\",MENU!$G$20,IF($H$9=\"20 %MUN REALIZ AÇÕES VIGILANCIA\",MENU!$G$21,IF($H$9=\"21 %AÇÕES DE MATRICIAMENTO CAPS\",MENU!$G$22,IF($H$9=\"22 NÚM CICLOS ATING 80% COB IMV DENGUE\",MENU!$G$23,IF($H$9=\"23 %PREENCHIMENTO OCUP NOTIF AGRAVO\",MENU!$G$24))))))))))))))))))))))","v":"META INDICADOR 01"},"01 OBITO PREMATURO 30 A 69 DCNT"]
[null,null,null,null,null,null,{"$f":"INDEX(CONSOLIDADO_2017!A1:CG77,MATCH(CONSOLIDADO_2017!C49,CONSOLIDADO_2017!C1:C77,0),MATCH(PACATUBA_MUN!G9,Tabela13[#Headers],0))","v":12},{"$f":"INDEX(CONSOLIDADO_2017!A1:CG77,MATCH(CONSOLIDADO_2017!C49,CONSOLIDADO_2017!C1:C77,0),MATCH(PACATUBA_MUN!H9,Tabela13[#Headers],0))","v":18}]
[null,null,null,null,null,null,null,{"$f":"IF(H9=\"01 OBITO PREMATURO 30 A 69 DCNT\",CONSOLIDADO_2017!H49,IF(H9=\"02 %OBITOS EM MUL IDADE FERTIL INV\",CONSOLIDADO_2017!M49,IF(H9=\"03 %OBITOS CAUSAS BAS DEFINIDAS\",CONSOLIDADO_2017!Q49,IF(H9=\"04 %VACINAS < 49 ANOS\",CONSOLIDADO_2017!T49,IF(H9=\"05 %DE CASOS DOENÇAS NOT COMP IMEDIATA\",CONSOLIDADO_2017!W49,IF(H9=\"06 %CURA CASOS NOVOS HANSEN\",CONSOLIDADO_2017!AA49,IF(H9=\"08 CASOS NOVOS SÍFILIS CONG < ANO\",CONSOLIDADO_2017!AD49,IF(H9=\"09 Nº DE AIDS < 5 ANOS\",CONSOLIDADO_2017!AG49,IF(H9=\"10 %ANÁLISE AMOSTRA ÁGUA CONS HUM\",CONSOLIDADO_2017!AJ49,IF(H9=\"11 RAZÃO CITO 25 A 64\",CONSOLIDADO_2017!AN49,IF(H9=\"12 RAZÃO MAMOGRAFIA BILATERAL 50 A 69\",CONSOLIDADO_2017!AR49,IF(H9=\"13 %PARTO NORMAL SUS/SAÚDE SUPLEMENTAR\",CONSOLIDADO_2017!AV49,IF(H9=\"14 %GRAVIDEZ ADOLESC 10 A 19\",CONSOLIDADO_2017!AZ49,IF(H9=\"15 OBITOS < ANO\",CONSOLIDADO_2017!BD49,IF(H9=\"16 ÓBITOS MATERNOS\",CONSOLIDADO_2017!BG49,IF(H9=\"17 %COB AB\",CONSOLIDADO_2017!BJ49,IF(H9=\"18 %COB Acomp BF\",CONSOLIDADO_2017!BN49,IF(H9=\"19 %COB SAUDE BUCAL\",CONSOLIDADO_2017!BQ49,IF(H9=\"20 %MUN REALIZ AÇÕES VIGILANCIA\",CONSOLIDADO_2017!BT49,IF(H9=\"21 %AÇÕES DE MATRICIAMENTO CAPS\",CONSOLIDADO_2017!BX49,IF(H9=\"4949 NÚM CICLOS ATING 80% COB IMV DENGUE\",CONSOLIDADO_2017!CA49,IF(H9=\"23 %PREENCHIMENTO OCUP NOTIF AGRAVO\",CONSOLIDADO_2017!CD49))))))))))))))))))))))","v":"NÃO ATINGIU"}]
[]
[]
[]
[]
[]
[]
[]
[]
[]
[]
[]
[]
[]
[]
[]
[]
[]
[]
[]
[]
[]
[]
[]
[]
[]
[]
[]
[]
[]
[]
[]
[]
[]
[]
[]
[]
[]
[]
[]
[]
[]
[]
[]
[]
[]
[]
[]
[]
[]
[]
[]
[]
[]
[]
[]
[]
[]
[]
[]
[]
[]
[]
[]
[]
[]
[]
[]
[]
[]
[]
[]
[]
[]
[]
[]
[]
[]
[]
[]
[]
[]
[]
[]
[]
[]
[]
[]
[]
["POPULAÇÃO 2015",{"$f":"INDEX(CONSOLIDADO_2017!A1:CG77,MATCH(CONSOLIDADO_2017!C49,CONSOLIDADO_2017!C1:C77,0),4)","v":14164}]

{"sheet":"MURIBECA_MUN","index":81,"n_rows":100,"n_cols":8,"rows_kept":100,"cut":false,"hidden":true,"merged":[]}
[]
[]
[]
[]
[]
[]
[]
[]
[null,null,null,null,null,null,{"$f":"IF($H$9=\"01 OBITO PREMATURO 30 A 69 DCNT\",MENU!$G$3,IF($H$9=\"02 %OBITOS EM MUL IDADE FERTIL INV\",MENU!$G$4,IF($H$9=\"03 %OBITOS CAUSAS BAS DEFINIDAS\",MENU!$G$5,IF($H$9=\"04 %VACINAS < 2 ANOS\",MENU!$G$6,IF($H$9=\"05 %DE CASOS DOENÇAS NOT COMP IMEDIATA\",MENU!$G$7,IF($H$9=\"06 %CURA CASOS NOVOS HANSEN\",MENU!$G$8,IF($H$9=\"08 CASOS NOVOS SÍFILIS CONG < ANO\",MENU!$G$9,IF($H$9=\"09 Nº DE AIDS < 5 ANOS\",MENU!$G$10,IF($H$9=\"10 %ANÁLISE AMOSTRA ÁGUA CONS HUM\",MENU!$G$11,IF($H$9=\"11 RAZÃO CITO 25 A 64\",MENU!$G$12,IF($H$9=\"12 RAZÃO MAMOGRAFIA BILATERAL 50 A 69\",MENU!$G$13,IF($H$9=\"13 %PARTO NORMAL SUS/SAÚDE SUPLEMENTAR\",MENU!$G$14,IF($H$9=\"14 %GRAVIDEZ ADOLESC 10 A 19\",MENU!$G$15,IF($H$9=\"15 OBITOS < ANO\",MENU!$G$16,IF($H$9=\"16 ÓBITOS MATERNOS\",MENU!$G$17,IF($H$9=\"17 %COB AB\",MENU!$G$18,IF($H$9=\"18 %COB Acomp BF\",MENU!$G$19,IF($H$9=\"19 %COB SAUDE BUCAL\",MENU!$G$20,IF($H$9=\"20 %MUN REALIZ AÇÕES VIGILANCIA\",MENU!$G$21,IF($H$9=\"21 %AÇÕES DE MATRICIAMENTO CAPS\",MENU!$G$22,IF($H$9=\"22 NÚM CICLOS ATING 80% COB IMV DENGUE\",MENU!$G$23,IF($H$9=\"23 %PREENCHIMENTO OCUP NOTIF AGRAVO\",MENU!$G$24))))))))))))))))))))))","v":"META INDICADOR 01"},"01 OBITO PREMATURO 30 A 69 DCNT"]
[null,null,null,null,null,null,{"$f":"INDEX(CONSOLIDADO_2017!A1:CG77,MATCH(CONSOLIDADO_2017!C42,CONSOLIDADO_2017!C1:C77,0),MATCH(MURIBECA_MUN!G9,Tabela13[#Headers],0))","v":9},{"$f":"INDEX(CONSOLIDADO_2017!A1:CG77,MATCH(CONSOLIDADO_2017!C42,CONSOLIDADO_2017!C1:C77,0),MATCH(MURIBECA_MUN!H9,Tabela13[#Headers],0))","v":4}]
[null,null,null,null,null,null,null,{"$f":"IF(H9=\"01 OBITO PREMATURO 30 A 69 DCNT\",CONSOLIDADO_2017!H42,IF(H9=\"02 %OBITOS EM MUL IDADE FERTIL INV\",CONSOLIDADO_2017!M42,IF(H9=\"03 %OBITOS CAUSAS BAS DEFINIDAS\",CONSOLIDADO_2017!Q42,IF(H9=\"04 %VACINAS < 42 ANOS\",CONSOLIDADO_2017!T42,IF(H9=\"05 %DE CASOS DOENÇAS NOT COMP IMEDIATA\",CONSOLIDADO_2017!W42,IF(H9=\"06 %CURA CASOS NOVOS HANSEN\",CONSOLIDADO_2017!AA42,IF(H9=\"08 CASOS NOVOS SÍFILIS CONG < ANO\",CONSOLIDADO_2017!AD42,IF(H9=\"09 Nº DE AIDS < 5 ANOS\",CONSOLIDADO_2017!AG42,IF(H9=\"10 %ANÁLISE AMOSTRA ÁGUA CONS HUM\",CONSOLIDADO_2017!AJ42,IF(H9=\"11 RAZÃO CITO 25 A 64\",CONSOLIDADO_2017!AN42,IF(H9=\"12 RAZÃO MAMOGRAFIA BILATERAL 50 A 69\",CONSOLIDADO_2017!AR42,IF(H9=\"13 %PARTO NORMAL SUS/SAÚDE SUPLEMENTAR\",CONSOLIDADO_2017!AV42,IF(H9=\"14 %GRAVIDEZ ADOLESC 10 A 19\",CONSOLIDADO_2017!AZ42,IF(H9=\"15 OBITOS < ANO\",CONSOLIDADO_2017!BD42,IF(H9=\"16 ÓBITOS MATERNOS\",CONSOLIDADO_2017!BG42,IF(H9=\"17 %COB AB\",CONSOLIDADO_2017!BJ42,IF(H9=\"18 %COB Acomp BF\",CONSOLIDADO_2017!BN42,IF(H9=\"19 %COB SAUDE BUCAL\",CONSOLIDADO_2017!BQ42,IF(H9=\"20 %MUN REALIZ AÇÕES VIGILANCIA\",CONSOLIDADO_2017!BT42,IF(H9=\"21 %AÇÕES DE MATRICIAMENTO CAPS\",CONSOLIDADO_2017!BX42,IF(H9=\"4242 NÚM CICLOS ATING 80% COB IMV DENGUE\",CONSOLIDADO_2017!CA42,IF(H9=\"23 %PREENCHIMENTO OCUP NOTIF AGRAVO\",CONSOLIDADO_2017!CD42))))))))))))))))))))))","v":"ATINGIU"}]
[]
[]
[]
[]
[]
[]
[]
[]
[]
[]
[]
[]
[]
[]
[]
[]
[]
[]
[]
[]
[]
[]
[]
[]
[]
[]
[]
[]
[]
[]
[]
[]
[]
[]
[]
[]
[]
[]
[]
[]
[]
[]
[]
[]
[]
[]
[]
[]
[]
[]
[]
[]
[]
[]
[]
[]
[]
[]
[]
[]
[]
[]
[]
[]
[]
[]
[]
[]
[]
[]
[]
[]
[]
[]
[]
[]
[]
[]
[]
[]
[]
[]
[]
[]
[]
[]
[]
[]
["POPULAÇÃO 2015",{"$f":"INDEX(CONSOLIDADO_2017!A1:CG77,MATCH(CONSOLIDADO_2017!C42,CONSOLIDADO_2017!C1:C77,0),4)","v":7644}]

{"sheet":"PROPRIA_MUN","index":82,"n_rows":100,"n_cols":8,"rows_kept":100,"cut":false,"hidden":true,"merged":[]}
[]
[]
[]
[]
[]
[]
[]
[]
[null,null,null,null,null,null,{"$f":"IF($H$9=\"01 OBITO PREMATURO 30 A 69 DCNT\",MENU!$G$3,IF($H$9=\"02 %OBITOS EM MUL IDADE FERTIL INV\",MENU!$G$4,IF($H$9=\"03 %OBITOS CAUSAS BAS DEFINIDAS\",MENU!$G$5,IF($H$9=\"04 %VACINAS < 2 ANOS\",MENU!$G$6,IF($H$9=\"05 %DE CASOS DOENÇAS NOT COMP IMEDIATA\",MENU!$G$7,IF($H$9=\"06 %CURA CASOS NOVOS HANSEN\",MENU!$G$8,IF($H$9=\"08 CASOS NOVOS SÍFILIS CONG < ANO\",MENU!$G$9,IF($H$9=\"09 Nº DE AIDS < 5 ANOS\",MENU!$G$10,IF($H$9=\"10 %ANÁLISE AMOSTRA ÁGUA CONS HUM\",MENU!$G$11,IF($H$9=\"11 RAZÃO CITO 25 A 64\",MENU!$G$12,IF($H$9=\"12 RAZÃO MAMOGRAFIA BILATERAL 50 A 69\",MENU!$G$13,IF($H$9=\"13 %PARTO NORMAL SUS/SAÚDE SUPLEMENTAR\",MENU!$G$14,IF($H$9=\"14 %GRAVIDEZ ADOLESC 10 A 19\",MENU!$G$15,IF($H$9=\"15 OBITOS < ANO\",MENU!$G$16,IF($H$9=\"16 ÓBITOS MATERNOS\",MENU!$G$17,IF($H$9=\"17 %COB AB\",MENU!$G$18,IF($H$9=\"18 %COB Acomp BF\",MENU!$G$19,IF($H$9=\"19 %COB SAUDE BUCAL\",MENU!$G$20,IF($H$9=\"20 %MUN REALIZ AÇÕES VIGILANCIA\",MENU!$G$21,IF($H$9=\"21 %AÇÕES DE MATRICIAMENTO CAPS\",MENU!$G$22,IF($H$9=\"22 NÚM CICLOS ATING 80% COB IMV DENGUE\",MENU!$G$23,IF($H$9=\"23 %PREENCHIMENTO OCUP NOTIF AGRAVO\",MENU!$G$24))))))))))))))))))))))","v":"META INDICADOR 01"},"01 OBITO PREMATURO 30 A 69 DCNT"]
[null,null,null,null,null,null,{"$f":"INDEX(CONSOLIDADO_2017!A1:CG77,MATCH(CONSOLIDADO_2017!C57,CONSOLIDADO_2017!C1:C77,0),MATCH(PROPRIA_MUN!G9,Tabela13[#Headers],0))","v":35},{"$f":"INDEX(CONSOLIDADO_2017!A1:CG77,MATCH(CONSOLIDADO_2017!C57,CONSOLIDADO_2017!C1:C77,0),MATCH(PROPRIA_MUN!H9,Tabela13[#Headers],0))","v":37}]
[null,null,null,null,null,null,null,{"$f":"IF(H9=\"01 OBITO PREMATURO 30 A 69 DCNT\",CONSOLIDADO_2017!H57,IF(H9=\"02 %OBITOS EM MUL IDADE FERTIL INV\",CONSOLIDADO_2017!M57,IF(H9=\"03 %OBITOS CAUSAS BAS DEFINIDAS\",CONSOLIDADO_2017!Q57,IF(H9=\"04 %VACINAS < 57 ANOS\",CONSOLIDADO_2017!T57,IF(H9=\"05 %DE CASOS DOENÇAS NOT COMP IMEDIATA\",CONSOLIDADO_2017!W57,IF(H9=\"06 %CURA CASOS NOVOS HANSEN\",CONSOLIDADO_2017!AA57,IF(H9=\"08 CASOS NOVOS SÍFILIS CONG < ANO\",CONSOLIDADO_2017!AD57,IF(H9=\"09 Nº DE AIDS < 5 ANOS\",CONSOLIDADO_2017!AG57,IF(H9=\"10 %ANÁLISE AMOSTRA ÁGUA CONS HUM\",CONSOLIDADO_2017!AJ57,IF(H9=\"11 RAZÃO CITO 25 A 64\",CONSOLIDADO_2017!AN57,IF(H9=\"12 RAZÃO MAMOGRAFIA BILATERAL 50 A 69\",CONSOLIDADO_2017!AR57,IF(H9=\"13 %PARTO NORMAL SUS/SAÚDE SUPLEMENTAR\",CONSOLIDADO_2017!AV57,IF(H9=\"14 %GRAVIDEZ ADOLESC 10 A 19\",CONSOLIDADO_2017!AZ57,IF(H9=\"15 OBITOS < ANO\",CONSOLIDADO_2017!BD57,IF(H9=\"16 ÓBITOS MATERNOS\",CONSOLIDADO_2017!BG57,IF(H9=\"17 %COB AB\",CONSOLIDADO_2017!BJ57,IF(H9=\"18 %COB Acomp BF\",CONSOLIDADO_2017!BN57,IF(H9=\"19 %COB SAUDE BUCAL\",CONSOLIDADO_2017!BQ57,IF(H9=\"20 %MUN REALIZ AÇÕES VIGILANCIA\",CONSOLIDADO_2017!BT57,IF(H9=\"21 %AÇÕES DE MATRICIAMENTO CAPS\",CONSOLIDADO_2017!BX57,IF(H9=\"5757 NÚM CICLOS ATING 80% COB IMV DENGUE\",CONSOLIDADO_2017!CA57,IF(H9=\"23 %PREENCHIMENTO OCUP NOTIF AGRAVO\",CONSOLIDADO_2017!CD57))))))))))))))))))))))","v":"NÃO ATINGIU"}]
[]
[]
[]
[]
[]
[]
[]
[]
[]
[]
[]
[]
[]
[]
[]
[]
[]
[]
[]
[]
[]
[]
[]
[]
[]
[]
[]
[]
[]
[]
[]
[]
[]
[]
[]
[]
[]
[]
[]
[]
[]
[]
[]
[]
[]
[]
[]
[]
[]
[]
[]
[]
[]
[]
[]
[]
[]
[]
[]
[]
[]
[]
[]
[]
[]
[]
[]
[]
[]
[]
[]
[]
[]
[]
[]
[]
[]
[]
[]
[]
[]
[]
[]
[]
[]
[]
[]
[]
["POPULAÇÃO 2015",{"$f":"INDEX(CONSOLIDADO_2017!A1:CG77,MATCH(CONSOLIDADO_2017!C57,CONSOLIDADO_2017!C1:C77,0),4)","v":29657}]

{"sheet":"TELHA_MUN","index":83,"n_rows":100,"n_cols":8,"rows_kept":100,"cut":false,"hidden":true,"merged":[]}
[]
[]
[]
[]
[]
[]
[]
[]
[null,null,null,null,null,null,{"$f":"IF($H$9=\"01 OBITO PREMATURO 30 A 69 DCNT\",MENU!$G$3,IF($H$9=\"02 %OBITOS EM MUL IDADE FERTIL INV\",MENU!$G$4,IF($H$9=\"03 %OBITOS CAUSAS BAS DEFINIDAS\",MENU!$G$5,IF($H$9=\"04 %VACINAS < 2 ANOS\",MENU!$G$6,IF($H$9=\"05 %DE CASOS DOENÇAS NOT COMP IMEDIATA\",MENU!$G$7,IF($H$9=\"06 %CURA CASOS NOVOS HANSEN\",MENU!$G$8,IF($H$9=\"08 CASOS NOVOS SÍFILIS CONG < ANO\",MENU!$G$9,IF($H$9=\"09 Nº DE AIDS < 5 ANOS\",MENU!$G$10,IF($H$9=\"10 %ANÁLISE AMOSTRA ÁGUA CONS HUM\",MENU!$G$11,IF($H$9=\"11 RAZÃO CITO 25 A 64\",MENU!$G$12,IF($H$9=\"12 RAZÃO MAMOGRAFIA BILATERAL 50 A 69\",MENU!$G$13,IF($H$9=\"13 %PARTO NORMAL SUS/SAÚDE SUPLEMENTAR\",MENU!$G$14,IF($H$9=\"14 %GRAVIDEZ ADOLESC 10 A 19\",MENU!$G$15,IF($H$9=\"15 OBITOS < ANO\",MENU!$G$16,IF($H$9=\"16 ÓBITOS MATERNOS\",MENU!$G$17,IF($H$9=\"17 %COB AB\",MENU!$G$18,IF($H$9=\"18 %COB Acomp BF\",MENU!$G$19,IF($H$9=\"19 %COB SAUDE BUCAL\",MENU!$G$20,IF($H$9=\"20 %MUN REALIZ AÇÕES VIGILANCIA\",MENU!$G$21,IF($H$9=\"21 %AÇÕES DE MATRICIAMENTO CAPS\",MENU!$G$22,IF($H$9=\"22 NÚM CICLOS ATING 80% COB IMV DENGUE\",MENU!$G$23,IF($H$9=\"23 %PREENCHIMENTO OCUP NOTIF AGRAVO\",MENU!$G$24))))))))))))))))))))))","v":"META INDICADOR 01"},"01 OBITO PREMATURO 30 A 69 DCNT"]
[null,null,null,null,null,null,{"$f":"INDEX(CONSOLIDADO_2017!A1:CG77,MATCH(CONSOLIDADO_2017!C73,CONSOLIDADO_2017!C1:C77,0),MATCH(TELHA_MUN!G9,Tabela13[#Headers],0))","v":2},{"$f":"INDEX(CONSOLIDADO_2017!A1:CG77,MATCH(CONSOLIDADO_2017!C73,CONSOLIDADO_2017!C1:C77,0),MATCH(TELHA_MUN!H9,Tabela13[#Headers],0))","v":6}]
[null,null,null,null,null,null,null,{"$f":"IF(H9=\"01 OBITO PREMATURO 30 A 69 DCNT\",CONSOLIDADO_2017!H73,IF(H9=\"02 %OBITOS EM MUL IDADE FERTIL INV\",CONSOLIDADO_2017!M73,IF(H9=\"03 %OBITOS CAUSAS BAS DEFINIDAS\",CONSOLIDADO_2017!Q73,IF(H9=\"04 %VACINAS < 73 ANOS\",CONSOLIDADO_2017!T73,IF(H9=\"05 %DE CASOS DOENÇAS NOT COMP IMEDIATA\",CONSOLIDADO_2017!W73,IF(H9=\"06 %CURA CASOS NOVOS HANSEN\",CONSOLIDADO_2017!AA73,IF(H9=\"08 CASOS NOVOS SÍFILIS CONG < ANO\",CONSOLIDADO_2017!AD73,IF(H9=\"09 Nº DE AIDS < 5 ANOS\",CONSOLIDADO_2017!AG73,IF(H9=\"10 %ANÁLISE AMOSTRA ÁGUA CONS HUM\",CONSOLIDADO_2017!AJ73,IF(H9=\"11 RAZÃO CITO 25 A 64\",CONSOLIDADO_2017!AN73,IF(H9=\"12 RAZÃO MAMOGRAFIA BILATERAL 50 A 69\",CONSOLIDADO_2017!AR73,IF(H9=\"13 %PARTO NORMAL SUS/SAÚDE SUPLEMENTAR\",CONSOLIDADO_2017!AV73,IF(H9=\"14 %GRAVIDEZ ADOLESC 10 A 19\",CONSOLIDADO_2017!AZ73,IF(H9=\"15 OBITOS < ANO\",CONSOLIDADO_2017!BD73,IF(H9=\"16 ÓBITOS MATERNOS\",CONSOLIDADO_2017!BG73,IF(H9=\"17 %COB AB\",CONSOLIDADO_2017!BJ73,IF(H9=\"18 %COB Acomp BF\",CONSOLIDADO_2017!BN73,IF(H9=\"19 %COB SAUDE BUCAL\",CONSOLIDADO_2017!BQ73,IF(H9=\"20 %MUN REALIZ AÇÕES VIGILANCIA\",CONSOLIDADO_2017!BT73,IF(H9=\"21 %AÇÕES DE MATRICIAMENTO CAPS\",CONSOLIDADO_2017!BX73,IF(H9=\"7373 NÚM CICLOS ATING 80% COB IMV DENGUE\",CONSOLIDADO_2017!CA73,IF(H9=\"23 %PREENCHIMENTO OCUP NOTIF AGRAVO\",CONSOLIDADO_2017!CD73))))))))))))))))))))))","v":"NÃO ATINGIU"}]
[]
[]
[]
[]
[]
[]
[]
[]
[]
[]
[]
[]
[]
[]
[]
[]
[]
[]
[]
[]
[]
[]
[]
[]
[]
[]
[]
[]
[]
[]
[]
[]
[]
[]
[]
[]
[]
[]
[]
[]
[]
[]
[]
[]
[]
[]
[]
[]
[]
[]
[]
[]
[]
[]
[]
[]
[]
[]
[]
[]
[]
[]
[]
[]
[]
[]
[]
[]
[]
[]
[]
[]
[]
[]
[]
[]
[]
[]
[]
[]
[]
[]
[]
[]
[]
[]
[]
[]
["POPULAÇÃO 2015",{"$f":"INDEX(CONSOLIDADO_2017!A1:CG77,MATCH(CONSOLIDADO_2017!C73,CONSOLIDADO_2017!C1:C77,0),4)","v":3171}]

{"sheet":"CANHOBA_MUN","index":84,"n_rows":100,"n_cols":8,"rows_kept":100,"cut":false,"hidden":true,"merged":[]}
[]
[]
[]
[]
[]
[]
[]
[]
[null,null,null,null,null,null,{"$f":"IF($H$9=\"01 OBITO PREMATURO 30 A 69 DCNT\",MENU!$G$3,IF($H$9=\"02 %OBITOS EM MUL IDADE FERTIL INV\",MENU!$G$4,IF($H$9=\"03 %OBITOS CAUSAS BAS DEFINIDAS\",MENU!$G$5,IF($H$9=\"04 %VACINAS < 2 ANOS\",MENU!$G$6,IF($H$9=\"05 %DE CASOS DOENÇAS NOT COMP IMEDIATA\",MENU!$G$7,IF($H$9=\"06 %CURA CASOS NOVOS HANSEN\",MENU!$G$8,IF($H$9=\"08 CASOS NOVOS SÍFILIS CONG < ANO\",MENU!$G$9,IF($H$9=\"09 Nº DE AIDS < 5 ANOS\",MENU!$G$10,IF($H$9=\"10 %ANÁLISE AMOSTRA ÁGUA CONS HUM\",MENU!$G$11,IF($H$9=\"11 RAZÃO CITO 25 A 64\",MENU!$G$12,IF($H$9=\"12 RAZÃO MAMOGRAFIA BILATERAL 50 A 69\",MENU!$G$13,IF($H$9=\"13 %PARTO NORMAL SUS/SAÚDE SUPLEMENTAR\",MENU!$G$14,IF($H$9=\"14 %GRAVIDEZ ADOLESC 10 A 19\",MENU!$G$15,IF($H$9=\"15 OBITOS < ANO\",MENU!$G$16,IF($H$9=\"16 ÓBITOS MATERNOS\",MENU!$G$17,IF($H$9=\"17 %COB AB\",MENU!$G$18,IF($H$9=\"18 %COB Acomp BF\",MENU!$G$19,IF($H$9=\"19 %COB SAUDE BUCAL\",MENU!$G$20,IF($H$9=\"20 %MUN REALIZ AÇÕES VIGILANCIA\",MENU!$G$21,IF($H$9=\"21 %AÇÕES DE MATRICIAMENTO CAPS\",MENU!$G$22,IF($H$9=\"22 NÚM CICLOS ATING 80% COB IMV DENGUE\",MENU!$G$23,IF($H$9=\"23 %PREENCHIMENTO OCUP NOTIF AGRAVO\",MENU!$G$24))))))))))))))))))))))","v":"META INDICADOR 01"},"01 OBITO PREMATURO 30 A 69 DCNT"]
[null,null,null,null,null,null,{"$f":"INDEX(CONSOLIDADO_2017!A1:CG77,MATCH(CONSOLIDADO_2017!C11,CONSOLIDADO_2017!C1:C77,0),MATCH(CANHOBA_MUN!G9,Tabela13[#Headers],0))","v":6},{"$f":"INDEX(CONSOLIDADO_2017!A1:CG77,MATCH(CONSOLIDADO_2017!C11,CONSOLIDADO_2017!C1:C77,0),MATCH(CANHOBA_MUN!H9,Tabela13[#Headers],0))","v":3}]
[null,null,null,null,null,null,null,{"$f":"IF(H9=\"01 OBITO PREMATURO 30 A 69 DCNT\",CONSOLIDADO_2017!H11,IF(H9=\"02 %OBITOS EM MUL IDADE FERTIL INV\",CONSOLIDADO_2017!M11,IF(H9=\"03 %OBITOS CAUSAS BAS DEFINIDAS\",CONSOLIDADO_2017!Q11,IF(H9=\"04 %VACINAS < 11 ANOS\",CONSOLIDADO_2017!T11,IF(H9=\"05 %DE CASOS DOENÇAS NOT COMP IMEDIATA\",CONSOLIDADO_2017!W11,IF(H9=\"06 %CURA CASOS NOVOS HANSEN\",CONSOLIDADO_2017!AA11,IF(H9=\"08 CASOS NOVOS SÍFILIS CONG < ANO\",CONSOLIDADO_2017!AD11,IF(H9=\"09 Nº DE AIDS < 5 ANOS\",CONSOLIDADO_2017!AG11,IF(H9=\"10 %ANÁLISE AMOSTRA ÁGUA CONS HUM\",CONSOLIDADO_2017!AJ11,IF(H9=\"11 RAZÃO CITO 25 A 64\",CONSOLIDADO_2017!AN11,IF(H9=\"12 RAZÃO MAMOGRAFIA BILATERAL 50 A 69\",CONSOLIDADO_2017!AR11,IF(H9=\"13 %PARTO NORMAL SUS/SAÚDE SUPLEMENTAR\",CONSOLIDADO_2017!AV11,IF(H9=\"14 %GRAVIDEZ ADOLESC 10 A 19\",CONSOLIDADO_2017!AZ11,IF(H9=\"15 OBITOS < ANO\",CONSOLIDADO_2017!BD11,IF(H9=\"16 ÓBITOS MATERNOS\",CONSOLIDADO_2017!BG11,IF(H9=\"17 %COB AB\",CONSOLIDADO_2017!BJ11,IF(H9=\"18 %COB Acomp BF\",CONSOLIDADO_2017!BN11,IF(H9=\"19 %COB SAUDE BUCAL\",CONSOLIDADO_2017!BQ11,IF(H9=\"20 %MUN REALIZ AÇÕES VIGILANCIA\",CONSOLIDADO_2017!BT11,IF(H9=\"21 %AÇÕES DE MATRICIAMENTO CAPS\",CONSOLIDADO_2017!BX11,IF(H9=\"1111 NÚM CICLOS ATING 80% COB IMV DENGUE\",CONSOLIDADO_2017!CA11,IF(H9=\"23 %PREENCHIMENTO OCUP NOTIF AGRAVO\",CONSOLIDADO_2017!CD11))))))))))))))))))))))","v":"ATINGIU"}]
[]
[]
[]
[]
[]
[]
[]
[]
[]
[]
[]
[]
[]
[]
[]
[]
[]
[]
[]
[]
[]
[]
[]
[]
[]
[]
[]
[]
[]
[]
[]
[]
[]
[]
[]
[]
[]
[]
[]
[]
[]
[]
[]
[]
[]
[]
[]
[]
[]
[]
[]
[]
[]
[]
[]
[]
[]
[]
[]
[]
[]
[]
[]
[]
[]
[]
[]
[]
[]
[]
[]
[]
[]
[]
[]
[]
[]
[]
[]
[]
[]
[]
[]
[]
[]
[]
[]
[]
["POPULAÇÃO 2015",{"$f":"INDEX(CONSOLIDADO_2017!A1:CG77,MATCH(CONSOLIDADO_2017!C11,CONSOLIDADO_2017!C1:C77,0),4)","v":4059}]

{"sheet":"SIRIRI_MUN","index":85,"n_rows":100,"n_cols":8,"rows_kept":100,"cut":false,"hidden":true,"merged":[]}
[]
[]
[]
[]
[]
[]
[]
[]
[null,null,null,null,null,null,{"$f":"IF($H$9=\"01 OBITO PREMATURO 30 A 69 DCNT\",MENU!$G$3,IF($H$9=\"02 %OBITOS EM MUL IDADE FERTIL INV\",MENU!$G$4,IF($H$9=\"03 %OBITOS CAUSAS BAS DEFINIDAS\",MENU!$G$5,IF($H$9=\"04 %VACINAS < 2 ANOS\",MENU!$G$6,IF($H$9=\"05 %DE CASOS DOENÇAS NOT COMP IMEDIATA\",MENU!$G$7,IF($H$9=\"06 %CURA CASOS NOVOS HANSEN\",MENU!$G$8,IF($H$9=\"08 CASOS NOVOS SÍFILIS CONG < ANO\",MENU!$G$9,IF($H$9=\"09 Nº DE AIDS < 5 ANOS\",MENU!$G$10,IF($H$9=\"10 %ANÁLISE AMOSTRA ÁGUA CONS HUM\",MENU!$G$11,IF($H$9=\"11 RAZÃO CITO 25 A 64\",MENU!$G$12,IF($H$9=\"12 RAZÃO MAMOGRAFIA BILATERAL 50 A 69\",MENU!$G$13,IF($H$9=\"13 %PARTO NORMAL SUS/SAÚDE SUPLEMENTAR\",MENU!$G$14,IF($H$9=\"14 %GRAVIDEZ ADOLESC 10 A 19\",MENU!$G$15,IF($H$9=\"15 OBITOS < ANO\",MENU!$G$16,IF($H$9=\"16 ÓBITOS MATERNOS\",MENU!$G$17,IF($H$9=\"17 %COB AB\",MENU!$G$18,IF($H$9=\"18 %COB Acomp BF\",MENU!$G$19,IF($H$9=\"19 %COB SAUDE BUCAL\",MENU!$G$20,IF($H$9=\"20 %MUN REALIZ AÇÕES VIGILANCIA\",MENU!$G$21,IF($H$9=\"21 %AÇÕES DE MATRICIAMENTO CAPS\",MENU!$G$22,IF($H$9=\"22 NÚM CICLOS ATING 80% COB IMV DENGUE\",MENU!$G$23,IF($H$9=\"23 %PREENCHIMENTO OCUP NOTIF AGRAVO\",MENU!$G$24))))))))))))))))))))))","v":"META INDICADOR 01"},"01 OBITO PREMATURO 30 A 69 DCNT"]
[null,null,null,null,null,null,{"$f":"INDEX(CONSOLIDADO_2017!A1:CG77,MATCH(CONSOLIDADO_2017!C72,CONSOLIDADO_2017!C1:C77,0),MATCH(SIRIRI_MUN!G9,Tabela13[#Headers],0))","v":4},{"$f":"INDEX(CONSOLIDADO_2017!A1:CG77,MATCH(CONSOLIDADO_2017!C72,CONSOLIDADO_2017!C1:C77,0),MATCH(SIRIRI_MUN!H9,Tabela13[#Headers],0))","v":8}]
[null,null,null,null,null,null,null,{"$f":"IF(H9=\"01 OBITO PREMATURO 30 A 69 DCNT\",CONSOLIDADO_2017!H72,IF(H9=\"02 %OBITOS EM MUL IDADE FERTIL INV\",CONSOLIDADO_2017!M72,IF(H9=\"03 %OBITOS CAUSAS BAS DEFINIDAS\",CONSOLIDADO_2017!Q72,IF(H9=\"04 %VACINAS < 2 ANOS\",CONSOLIDADO_2017!T72,IF(H9=\"05 %DE CASOS DOENÇAS NOT COMP IMEDIATA\",CONSOLIDADO_2017!W72,IF(H9=\"06 %CURA CASOS NOVOS HANSEN\",CONSOLIDADO_2017!AA72,IF(H9=\"08 CASOS NOVOS SÍFILIS CONG < ANO\",CONSOLIDADO_2017!AD72,IF(H9=\"09 Nº DE AIDS < 5 ANOS\",CONSOLIDADO_2017!AG72,IF(H9=\"10 %ANÁLISE AMOSTRA ÁGUA CONS HUM\",CONSOLIDADO_2017!AJ72,IF(H9=\"11 RAZÃO CITO 25 A 64\",CONSOLIDADO_2017!AN72,IF(H9=\"12 RAZÃO MAMOGRAFIA BILATERAL 50 A 69\",CONSOLIDADO_2017!AR72,IF(H9=\"13 %PARTO NORMAL SUS/SAÚDE SUPLEMENTAR\",CONSOLIDADO_2017!AV72,IF(H9=\"14 %GRAVIDEZ ADOLESC 10 A 19\",CONSOLIDADO_2017!AZ72,IF(H9=\"15 OBITOS < ANO\",CONSOLIDADO_2017!BD72,IF(H9=\"16 ÓBITOS MATERNOS\",CONSOLIDADO_2017!BG72,IF(H9=\"17 %COB AB\",CONSOLIDADO_2017!BJ72,IF(H9=\"18 %COB Acomp BF\",CONSOLIDADO_2017!BN72,IF(H9=\"19 %COB SAUDE BUCAL\",CONSOLIDADO_2017!BQ72,IF(H9=\"20 %MUN REALIZ AÇÕES VIGILANCIA\",CONSOLIDADO_2017!BT72,IF(H9=\"21 %AÇÕES DE MATRICIAMENTO CAPS\",CONSOLIDADO_2017!BX72,IF(H9=\"22 NÚM CICLOS ATING 80% COB IMV DENGUE\",CONSOLIDADO_2017!CA72,IF(H9=\"23 %PREENCHIMENTO OCUP NOTIF AGRAVO\",CONSOLIDADO_2017!CD72))))))))))))))))))))))","v":"NÃO ATINGIU"}]
[]
[]
[]
[]
[]
[]
[]
[]
[]
[]
[]
[]
[]
[]
[]
[]
[]
[]
[]
[]
[]
[]
[]
[]
[]
[]
[]
[]
[]
[]
[]
[]
[]
[]
[]
[]
[]
[]
[]
[]
[]
[]
[]
[]
[]
[]
[]
[]
[]
[]
[]
[]
[]
[]
[]
[]
[]
[]
[]
[]
[]
[]
[]
[]
[]
[]
[]
[]
[]
[]
[]
[]
[]
[]
[]
[]
[]
[]
[]
[]
[]
[]
[]
[]
[]
[]
[]
[]
["POPULAÇÃO 2015",{"$f":"INDEX(CONSOLIDADO_2017!A1:CG77,MATCH(CONSOLIDADO_2017!C72,CONSOLIDADO_2017!C1:C77,0),4)","v":8675}]

{"sheet":"RELATÓRIO_EST","index":86,"n_rows":41,"n_cols":13,"rows_kept":41,"cut":false,"hidden":true,"merged":[]}
[{"$f":"MATCH(F6,CONSOLIDADO_2017!C2:C77,0)","v":76}]
[null,null,null,null,null,"GOVERNO DE SERGIPE"]
[null,null,null,null,null,"SECRETARIA DE ESTADO DA SAÚDE"]
[null,null,null,null,null,"DIRETORIA DE PLANEJAMENTO"]
[null,null,null,null,null,"GERÊNCIA DE INFORMAÇÕES E ESTATÍSTICAS"]
[null,null,null,null,null,"SERGIPE"]
[null,null,null,null,null,2017]
[null,null,null,null,null,"Indicadores de Saúde - Pacto Interfederativo 2017 - 2021"]
[null,null,null,null,null,"POPULAÇÃO 2015",null,null,{"$f":"OFFSET(CONSOLIDADO_2017!D1,RELATÓRIO_EST!$A$1,0)","v":2242948},null,"RESULTADOS"]
[null,null,null,null,null,null,null,null,"Indicadores",null,"Meta proposta","Nº absoluto","Taxa/Propor ção/Razão"]
[null,null,null,null,null,"01 Óbito Prematuro 30 a 69 dcnt/taxa Óbito Prematuro 30 a 69 dcnt",null,null,null,null,{"$f":"OFFSET(CONSOLIDADO_2017!E$1,RELATÓRIO_EST!$A$1,0)","v":263.62},{"$f":"OFFSET(CONSOLIDADO_2017!F$1,RELATÓRIO_EST!$A$1,0)","v":2561},{"$f":"OFFSET(CONSOLIDADO_2017!G$1,RELATÓRIO_EST!$A$1,0)","v":263.92919566006003}]
[null,null,null,null,null,"02 Óbitos em Mulheres em Idade Fértil 10 a 49 Investigados/Proporção",null,null,null,null,{"$f":"OFFSET(CONSOLIDADO_2017!I$1,RELATÓRIO_EST!$A$1,0)","v":0.9},{"$f":"OFFSET(CONSOLIDADO_2017!K$1,RELATÓRIO_EST!$A$1,0)","v":481},{"$f":"OFFSET(CONSOLIDADO_2017!L$1,RELATÓRIO_EST!$A$1,0)","v":0.65531335149863756}]
[null,null,null,null,null,"Óbitos em Mulheres em Idade Fértil 10 a 49",null,null,null,null,{"$f":"OFFSET(CONSOLIDADO_2017!J$1,RELATÓRIO_EST!$A$1,0)","v":734}]
[null,null,null,null,null,"03 Óbitos Causas bas Definidas/Proporção",null,null,null,null,{"$f":"OFFSET(CONSOLIDADO_2017!N$1,RELATÓRIO_EST!$A$1,0)","v":0.95},{"$f":"OFFSET(CONSOLIDADO_2017!O$1,RELATÓRIO_EST!$A$1,0)","v":11873},{"$f":"OFFSET(CONSOLIDADO_2017!P$1,RELATÓRIO_EST!$A$1,0)","v":0.9140107775211701}]
[null,null,null,null,null,"04 Proporção de Vacinas para Crianças < 2 anos",null,null,null,null,{"$f":"OFFSET(CONSOLIDADO_2017!R$1,RELATÓRIO_EST!$A$1,0)","v":0.75},{"$f":"OFFSET(CONSOLIDADO_2017!S$1,RELATÓRIO_EST!$A$1,0)","v":0}]
[null,null,null,null,null,"05 Proporção de casos de Doenças Notificação Compulsória Imediata (DNCI)",null,null,null,null,{"$f":"OFFSET(Tabela13[[#Headers],[META INDICADOR 05]],RELATÓRIO_EST!$A$1,0)","v":0.85},{"$f":"OFFSET(Tabela13[[#Headers],[05 %DE CASOS DOENÇAS NOT COMP IMEDIATA]],RELATÓRIO_EST!$A$1,0)","v":0.86840000000000006}]
[null,null,null,null,null,"06 Proporção de Cura de Casos Novos de Hanseníase nos anos da Coorte",null,null,null,null,{"$f":"OFFSET(Tabela13[[#Headers],[META INDICADOR 06]],RELATÓRIO_EST!$A$1,0)","v":0.9},{"$f":"OFFSET(Tabela13[[#Headers],[Nº DE CURA DE CASOS NOVOS HANSEN ]],RELATÓRIO_EST!$A$1,0)","v":0},{"$f":"OFFSET(Tabela13[[#Headers],[06 %CURA CASOS NOVOS HANSEN]],RELATÓRIO_EST!$A$1,0)","v":0.8095}]
[null,null,null,null,null,"08 Nº de Casos Novos de Sífilis Congênita em < ano",null,null,null,null,{"$f":"OFFSET(Tabela13[[#Headers],[META INDICADOR 08]],RELATÓRIO_EST!$A$1,0)","v":300},{"$f":"OFFSET(Tabela13[[#Headers],[08 CASOS NOVOS SÍFILIS CONG < ANO]],RELATÓRIO_EST!$A$1,0)","v":296}]
[null,null,null,null,null,"09 Nº de Casos de Aids < 5 anos",null,null,null,null,{"$f":"OFFSET(Tabela13[[#Headers],[META INDICADOR 09]],RELATÓRIO_EST!$A$1,0)","v":3},{"$f":"OFFSET(Tabela13[[#Headers],[09 Nº DE AIDS < 5 ANOS]],RELATÓRIO_EST!$A$1,0)","v":2}]
[null,null,null,null,null,"10 Proporção de Análise Realizada de Amostras de água para Consumo Humano",null,null,null,null,{"$f":"OFFSET(Tabela13[[#Headers],[META INDICADOR 10]],RELATÓRIO_EST!$A$1,0)","v":0.6},{"$f":"OFFSET(Tabela13[[#Headers],[10 %ANÁLISE AMOSTRA ÁGUA CONS HUM]],RELATÓRIO_EST!$A$1,0)","v":0.73677933414535102}]
[null,null,null,null,null,"11 Exame Citopatológico do Colo do últero em Mulheres de  25 a 64 Anos/Razão",null,null,null,null,{"$f":"OFFSET(Tabela13[[#Headers],[META INDICADOR 11]],RELATÓRIO_EST!$A$1,0)","v":0.57999999999999996},{"$f":"OFFSET(Tabela13[[#Headers],[11 EXAME CITO 25 A 64]],RELATÓRIO_EST!$A$1,0)","v":62255},{"$f":"OFFSET(Tabela13[[#Headers],[11 RAZÃO CITO 25 A 64]],RELATÓRIO_EST!$A$1,0)","v":0.32396638305622771}]
[null,null,null,null,null,"12 Mamografia de Rastreamento em Mulheres de 50 a 69 Anos/Razão",null,null,null,null,{"$f":"OFFSET(Tabela13[[#Headers],[META INDICADOR 12]],RELATÓRIO_EST!$A$1,0)","v":0.22},{"$f":"OFFSET(Tabela13[[#Headers],[12 MAMOGRAFIA BILATERAL 50 A 69]],RELATÓRIO_EST!$A$1,0)","v":24594},{"$f":"OFFSET(Tabela13[[#Headers],[12 RAZÃO MAMOGRAFIA BILATERAL 50 A 69]],RELATÓRIO_EST!$A$1,0)","v":0.28999999999999998}]
[null,null,null,null,null,"13 Parto Normal no SUS e Saúde Suplementar/Proporção",null,null,null,null,{"$f":"OFFSET(Tabela13[[#Headers],[META INDICADOR 13]],RELATÓRIO_EST!$A$1,0)","v":0.65},{"$f":"OFFSET(Tabela13[[#Headers],[13 PARTO NORMAL SUS/SAÚDE SUPLEMENTAR]],RELATÓRIO_EST!$A$1,0)","v":18291},{"$f":"OFFSET(Tabela13[[#Headers],[13 %PARTO NORMAL SUS/SAÚDE SUPLEMENTAR]],RELATÓRIO_EST!$A$1,0)","v":0.56072961373390562}]
[null,null,null,null,null,"14 Gravidez na Adolesc entre a Faixa Etária de 10 a 19 Anos/Proporção",null,null,null,null,{"$f":"OFFSET(Tabela13[[#Headers],[META INDICADOR 14]],RELATÓRIO_EST!$A$1,0)","v":0.21100000000000002},{"$f":"OFFSET(Tabela13[[#Headers],[14 GRAVIDEZ ADOLESC 10 A 19]],RELATÓRIO_EST!$A$1,0)","v":6423},{"$f":"OFFSET(Tabela13[[#Headers],[14 %GRAVIDEZ ADOLESC 10 A 19]],RELATÓRIO_EST!$A$1,0)","v":0.19690374003678723}]
[null,null,null,null,null,"15 Óbitos Infantis/Taxa de Mortalidade Infantil",null,null,null,null,{"$f":"OFFSET(Tabela13[[#Headers],[META INDICADOR 15]],RELATÓRIO_EST!$A$1,0)","v":14.25},{"$f":"OFFSET(Tabela13[[#Headers],[15 OBITOS < ANO]],RELATÓRIO_EST!$A$1,0)","v":512},{"$f":"OFFSET(Tabela13[[#Headers],[15 TAXA MORTALIDADE INFANTIL]],RELATÓRIO_EST!$A$1,0)","v":15.695892090741875}]
[null,null,null,null,null,"16 Nº de Óbitos Maternos",null,null,null,null,{"$f":"OFFSET(Tabela13[[#Headers],[META INDICADOR 16]],RELATÓRIO_EST!$A$1,0)","v":0},{"$f":"OFFSET(Tabela13[[#Headers],[16 ÓBITOS MATERNOS]],RELATÓRIO_EST!$A$1,0)","v":11}]
[null,null,null,null,null,"17 Cobertura Populacional Estimada pelas Equipes de Atenção Básica",null,null,null,null,{"$f":"OFFSET(Tabela13[[#Headers],[META INDICADOR 17]],RELATÓRIO_EST!$A$1,0)","v":0.87450000000000006},{"$f":"OFFSET(Tabela13[[#Headers],[17 %COB AB]],RELATÓRIO_EST!$A$1,0)","v":0.87784819260836999}]
[null,null,null,null,null,"18 Famílias para Acomp/Cobertura de Acomp das Condicionalidade de Saúde PBF",null,null,null,null,{"$f":"OFFSET(Tabela13[[#Headers],[META INDICADOR 18]],RELATÓRIO_EST!$A$1,0)","v":0.78},{"$f":"OFFSET(Tabela13[[#Headers],[18 FAMILIAS PARA ACOMP]],RELATÓRIO_EST!$A$1,0)","v":182102},{"$f":"OFFSET(Tabela13[[#Headers],[18 %COB Acomp BF]],RELATÓRIO_EST!$A$1,0)","v":0.8232533748044738}]
[null,null,null,null,null,"19 Cobertura Populacional Estima de Saúde Bucal na Atenção Básica",null,null,null,null,{"$f":"OFFSET(Tabela13[[#Headers],[META INDICADOR 19]],RELATÓRIO_EST!$A$1,0)","v":0.71200000000000008},{"$f":"OFFSET(Tabela13[[#Headers],[19 %COB SAUDE BUCAL]],RELATÓRIO_EST!$A$1,0)","v":0.72411740068206121}]
[null,null,null,null,null,"20 Percentual de Municípios que Rrealizaram no Mínimo Seis Grupos de Ações vigilância",null,null,null,null,{"$f":"OFFSET(Tabela13[[#Headers],[META INDICADOR 20]],RELATÓRIO_EST!$A$1,0)","v":1},{"$f":"OFFSET(Tabela13[[#Headers],[20 %MUN REALIZ AÇÕES VIGILANCIA]],RELATÓRIO_EST!$A$1,0)","v":0.83333333333333337}]
[null,null,null,null,null,"21 Ações de Maticiamento Sistemático Realizadas por CAPS com Equipes de AB",null,null,null,null,{"$f":"OFFSET(Tabela13[[#Headers],[META INDICADOR 21]],RELATÓRIO_EST!$A$1,0)","v":1},{"$f":"OFFSET(Tabela13[[#Headers],[CAPS 12 AÇÕES 2017]],RELATÓRIO_EST!$A$1,0)","v":16},{"$f":"OFFSET(Tabela13[[#Headers],[21 %AÇÕES DE MATRICIAMENTO CAPS]],RELATÓRIO_EST!$A$1,0)","v":0.3902439024390244}]
[null,null,null,null,null,"22 Nº de Cíclos que Atingiram no Mínimo 80% Cob de Imóveis Visitados Controle dengue",null,null,null,null,{"$f":"OFFSET(Tabela13[[#Headers],[META INDICADOR 22]],RELATÓRIO_EST!$A$1,0)","v":"N/A"},{"$f":"OFFSET(Tabela13[[#Headers],[22 NÚM CICLOS ATING 80% COB IMV DENGUE]],RELATÓRIO_EST!$A$1,0)","v":"N/A"}]
[null,null,null,null,null,"23 Proporção de Preenchimento do Campo Ocupação nas Notificações de Agravos Trab",null,null,null,null,{"$f":"OFFSET(Tabela13[[#Headers],[META INDICADOR 23]],RELATÓRIO_EST!$A$1,0)","v":0},{"$f":"OFFSET(Tabela13[[#Headers],[23 %PREENCHIMENTO OCUP NOTIF AGRAVO]],RELATÓRIO_EST!$A$1,0)","v":0.63322884012539182}]
[null,null,null,null,null,"Nº METAS ALCANÇADAS"]
[null,null,null,null,null,"Nº METAS NÃO ALCANÇADAS"]
[null,null,null,null,null,"PROPORÇÃO DE METAS ALCANÇADAS"]
[null,null,null,null,null,"Fonte:DATASUS/SIASUS/ATUALIZAÇÃO DO BANCO EM 05/02/18. DADOS ATÉ DEZEMBRO 2017."]
[null,null,null,null,null,"Fonte:DVS/SIM/SINASC (Base de dados 10/01/2018), informação 2017, respectivamente."]
[null,null,null,null,null,"Fonte:VISA/Sisagua/banco de dados gerados em 02/02/2018. SINAN/Base de dados: 18/01/2018."]
[null,null,null,null,null,"Fonte:eGestor/Dab/Dado gerado em: 19 de Fevereiro de 2018 - 17:33h"]
[null,null,null,null,null,"Fonte: Bolsa Família, relatório 11/02/2018 - 21:20:47   Data da última consolidação 02/02/2018"]

{"sheet":"RELATÓRIO_MUN","index":87,"n_rows":41,"n_cols":13,"rows_kept":41,"cut":false,"hidden":true,"merged":[[5,8,5,10]]}
[{"$f":"MATCH(I6,MUNICIPIO,0)","v":74}]
[null,null,null,null,null,"GOVERNO DE SERGIPE"]
[null,null,null,null,null,"SECRETARIA DE ESTADO DA SAÚDE"]
[null,null,null,null,null,"DIRETORIA DE PLANEJAMENTO"]
[null,null,null,null,null,"GERÊNCIA DE INFORMAÇÕES E ESTATÍSTICAS"]
[null,null,null,null,null,null,null,null,"TOMAR DO GERU"]
[null,null,null,null,null,null,2017]
[null,null,null,null,null,"Indicadores de Saúde - Pacto Interfederativo 2017"]
[null,null,null,null,null,"POPULAÇÃO",null,null,{"$f":"OFFSET(Tabela13[[#Headers],[POP 2015]],RELATÓRIO_MUN!A1,0)","v":13200},{"$f":"\"REGIÃO\"&\" \" &OFFSET(CONSOLIDADO_2017!B1,RELATÓRIO_MUN!A1,0)","v":"REGIÃO ESTANCIA"},null,"RESULTADOS"]
[null,null,null,null,null,null,null,null,"Indicadores",null,"Meta Pactuada","Nº absoluto","Taxa/Propor ção/Razão"]
[null,null,null,null,null,"01 Óbito Prematuro 30 a 69 dcnt/taxa Óbito Prematuro 30 a 69 dcnt",null,null,null,null,{"$f":"OFFSET(CONSOLIDADO_2017!E1,RELATÓRIO_MUN!$A$1,0)","v":21},{"$f":"OFFSET(CONSOLIDADO_2017!F1,RELATÓRIO_MUN!$A$1,0)","v":16},{"$f":"OFFSET(CONSOLIDADO_2017!G1,RELATÓRIO_MUN!$A$1,0)","v":292.55805448893761}]
[null,null,null,null,null,"02 Óbitos em Mulheres em Idade Fértil 10 a 49 Investigados/Proporção",null,null,null,null,{"$f":"OFFSET(CONSOLIDADO_2017!I1,RELATÓRIO_MUN!$A$1,0)","v":0.9},{"$f":"OFFSET(CONSOLIDADO_2017!K1,RELATÓRIO_MUN!$A$1,0)","v":4},{"$f":"OFFSET(CONSOLIDADO_2017!L1,RELATÓRIO_MUN!$A$1,0)","v":1}]
[null,null,null,null,null,"Óbitos em Mulheres em Idade Fértil 10 a 49",null,null,null,null,{"$f":"OFFSET(CONSOLIDADO_2017!J1,RELATÓRIO_MUN!$A$1,0)","v":4}]
[null,null,null,null,null,"03 Óbitos Causas bas Definidas/Proporção",null,null,null,null,{"$f":"OFFSET(CONSOLIDADO_2017!N1,RELATÓRIO_MUN!$A$1,0)","v":0.95},{"$f":"OFFSET(CONSOLIDADO_2017!O1,RELATÓRIO_MUN!$A$1,0)","v":62},{"$f":"OFFSET(CONSOLIDADO_2017!P1,RELATÓRIO_MUN!$A$1,0)","v":0.83783783783783783}]
[null,null,null,null,null,"04 Proporção de Vacinas para Crianças < 2 anos",null,null,null,null,{"$f":"OFFSET(CONSOLIDADO_2017!R1,RELATÓRIO_MUN!$A$1,0)","v":1},{"$f":"OFFSET(CONSOLIDADO_2017!S1,RELATÓRIO_MUN!$A$1,0)","v":0}]
[null,null,null,null,null,"05 Proporção de casos de Doenças Notificação Compulsória Imediata (DCMCI)",null,null,null,null,{"$f":"OFFSET(CONSOLIDADO_2017!U1,RELATÓRIO_MUN!$A$1,0)","v":0.85},{"$f":"OFFSET(CONSOLIDADO_2017!V1,RELATÓRIO_MUN!$A$1,0)","v":"S/C"}]
[null,null,null,null,null,"06 Proporção de Cura de Casos Novos de Hanseníase nos anos da Coorte",null,null,null,null,{"$f":"OFFSET(CONSOLIDADO_2017!X1,RELATÓRIO_MUN!$A$1,0)","v":0.9},{"$f":"OFFSET(CONSOLIDADO_2017!Y1,RELATÓRIO_MUN!$A$1,0)","v":0},{"$f":"OFFSET(CONSOLIDADO_2017!Z1,RELATÓRIO_MUN!$A$1,0)","v":1}]
[null,null,null,null,null,"08 Nº de Casos Novos de Sífilis Congênita em < ano",null,null,null,null,{"$f":"OFFSET(CONSOLIDADO_2017!AB1,RELATÓRIO_MUN!$A$1,0)","v":2},{"$f":"OFFSET(CONSOLIDADO_2017!AC1,RELATÓRIO_MUN!$A$1,0)","v":0}]
[null,null,null,null,null,"09 Nº de Casos de Aids < 5 anos",null,null,null,null,{"$f":"OFFSET(CONSOLIDADO_2017!AE1,RELATÓRIO_MUN!$A$1,0)","v":0},{"$f":"OFFSET(CONSOLIDADO_2017!AF1,RELATÓRIO_MUN!$A$1,0)","v":0}]
[null,null,null,null,null,"10 Proporção de Análise Realizada de Amostras de água para Consumo Humano",null,null,null,null,{"$f":"OFFSET(CONSOLIDADO_2017!AH1,RELATÓRIO_MUN!$A$1,0)","v":1},{"$f":"OFFSET(CONSOLIDADO_2017!AI1,RELATÓRIO_MUN!$A$1,0)","v":0.87343749999999998}]
[null,null,null,null,null,"11 Exame Citopatológico do Colo do últero em Mulheres de  25 a 64 Anos/Razão",null,null,null,null,{"$f":"OFFSET(CONSOLIDADO_2017!AK1,RELATÓRIO_MUN!$A$1,0)","v":0.57999999999999996},{"$f":"OFFSET(CONSOLIDADO_2017!AL1,RELATÓRIO_MUN!$A$1,0)","v":484},{"$f":"OFFSET(CONSOLIDADO_2017!AM1,RELATÓRIO_MUN!$A$1,0)","v":0.48643216080402008}]
[null,null,null,null,null,"12 Mamografia de Rastreamento em Mulheres de 50 a 69 Anos/Razão",null,null,null,null,{"$f":"OFFSET(CONSOLIDADO_2017!AO1,RELATÓRIO_MUN!$A$1,0)","v":0.28000000000000003},{"$f":"OFFSET(CONSOLIDADO_2017!AP1,RELATÓRIO_MUN!$A$1,0)","v":87},{"$f":"OFFSET(CONSOLIDADO_2017!AQ1,RELATÓRIO_MUN!$A$1,0)","v":0.21}]
[null,null,null,null,null,"13 Parto Normal no SUS e Saúde Suplementar/Proporção",null,null,null,null,{"$f":"OFFSET(CONSOLIDADO_2017!AS1,RELATÓRIO_MUN!$A$1,0)","v":0.67},{"$f":"OFFSET(CONSOLIDADO_2017!AT1,RELATÓRIO_MUN!$A$1,0)","v":112},{"$f":"OFFSET(CONSOLIDADO_2017!AU1,RELATÓRIO_MUN!$A$1,0)","v":0.59259259259259256}]
[null,null,null,null,null,"14 Gravidez na Adolesc entre a Faixa Etária de 10 a 19 Anos/Proporção",null,null,null,null,{"$f":"OFFSET(CONSOLIDADO_2017!AW1,RELATÓRIO_MUN!$A$1,0)","v":0.26},{"$f":"OFFSET(CONSOLIDADO_2017!AX1,RELATÓRIO_MUN!$A$1,0)","v":31},{"$f":"OFFSET(CONSOLIDADO_2017!AY1,RELATÓRIO_MUN!$A$1,0)","v":0.16402116402116401}]
[null,null,null,null,null,"15 Óbitos Infantis/Taxa de Mortalidade Infantil",null,null,null,null,{"$f":"OFFSET(CONSOLIDADO_2017!BA1,RELATÓRIO_MUN!$A$1,0)","v":0},{"$f":"OFFSET(CONSOLIDADO_2017!BB1,RELATÓRIO_MUN!$A$1,0)","v":4},{"$f":"OFFSET(CONSOLIDADO_2017!BC1,RELATÓRIO_MUN!$A$1,0)","v":21.164021164021165}]
[null,null,null,null,null,"16 Nº de Óbitos Maternos",null,null,null,null,{"$f":"OFFSET(CONSOLIDADO_2017!BE1,RELATÓRIO_MUN!$A$1,0)","v":0},{"$f":"OFFSET(CONSOLIDADO_2017!BF1,RELATÓRIO_MUN!$A$1,0)","v":0}]
[null,null,null,null,null,"17 Cobertura Populacional Estimada pelas Equipes de Atenção Básica",null,null,null,null,{"$f":"OFFSET(CONSOLIDADO_2017!BH1,RELATÓRIO_MUN!$A$1,0)","v":1},{"$f":"OFFSET(CONSOLIDADO_2017!BI1,RELATÓRIO_MUN!$A$1,0)","v":1}]
[null,null,null,null,null,"18 Famílias para Acomp/Cobertura de Acomp das Condicionalidade de Saúde PBF",null,null,null,null,{"$f":"OFFSET(CONSOLIDADO_2017!BK1,RELATÓRIO_MUN!$A$1,0)","v":0.88},{"$f":"OFFSET(CONSOLIDADO_2017!BL1,RELATÓRIO_MUN!$A$1,0)","v":1719},{"$f":"OFFSET(CONSOLIDADO_2017!BM1,RELATÓRIO_MUN!$A$1,0)","v":0.88837209302325582}]
[null,null,null,null,null,"19 Cobertura Populacional Estima de Saúde Bucal na Atenção Básica",null,null,null,null,{"$f":"OFFSET(CONSOLIDADO_2017!BO1,RELATÓRIO_MUN!$A$1,0)","v":0.78410000000000002},{"$f":"OFFSET(CONSOLIDADO_2017!BP1,RELATÓRIO_MUN!$A$1,0)","v":1}]
[null,null,null,null,null,"20 Percentual de Municípios que Rrealizaram no Mínimo Seis Grupos de Ações vigilância",null,null,null,null,{"$f":"OFFSET(CONSOLIDADO_2017!BR1,RELATÓRIO_MUN!$A$1,0)","v":0.9},{"$f":"OFFSET(CONSOLIDADO_2017!BS1,RELATÓRIO_MUN!$A$1,0)","v":0.83333333333333337}]
[null,null,null,null,null,"21 Ações de Maticiamento Sistemático Realizadas por CAPS com Equipes de AB",null,null,null,null,{"$f":"OFFSET(CONSOLIDADO_2017!BU1,RELATÓRIO_MUN!$A$1,0)","v":"N/A"},{"$f":"OFFSET(CONSOLIDADO_2017!BV1,RELATÓRIO_MUN!$A$1,0)","v":"N/A"},{"$f":"OFFSET(CONSOLIDADO_2017!BW1,RELATÓRIO_MUN!$A$1,0)","v":"N/A"}]
[null,null,null,null,null,"22 Nº de Cíclos que Atingiram no Mínimo 80% Cob de Imóveis Visitados Controle dengue",null,null,null,null,{"$f":"OFFSET(CONSOLIDADO_2017!BY1,RELATÓRIO_MUN!$A$1,0)","v":4},{"$f":"OFFSET(CONSOLIDADO_2017!BZ1,RELATÓRIO_MUN!$A$1,0)","v":1}]
[null,null,null,null,null,"23 Proporção de Preenchimento do Campo Ocupação nas Notificações de Agravos Trab",null,null,null,null,{"$f":"OFFSET(CONSOLIDADO_2017!CB1,RELATÓRIO_MUN!$A$1,0)","v":0.95},{"$f":"OFFSET(CONSOLIDADO_2017!CC1,RELATÓRIO_MUN!$A$1,0)","v":0.88888888888888884}]
[null,null,null,null,null,"Nº METAS ALCANÇADAS",null,null,null,null,{"$f":"OFFSET(CONSOLIDADO_2017!CE1,RELATÓRIO_MUN!$A$1,0)","v":10}]
[null,null,null,null,null,"Nº METAS NÃO ALCANÇADAS",null,null,null,null,{"$f":"OFFSET(CONSOLIDADO_2017!CF1,RELATÓRIO_MUN!$A$1,0)","v":10}]
[null,null,null,null,null,"PROPORÇÃO DE METAS ALCANÇADAS",null,null,null,null,{"$f":"OFFSET(CONSOLIDADO_2017!CG1,RELATÓRIO_MUN!$A$1,0)","v":0.5}]
[null,null,null,null,null,"Fonte:DATASUS/SIASUS/ATUALIZAÇÃO DO BANCO EM 05/02/18. DADOS ATÉ DEZEMBRO 2017."]
[null,null,null,null,null,"Fonte:DVS/SIM/SINASC (Base de dados 10/01/2018), informação 2017, respectivamente. SINAN/Base de dados: 18/01/2018."]
[null,null,null,null,null,"Fonte:VISA/Sisagua/banco de dados gerados em 02/02/2018; Ações de vigilância dados 05/02/2018."]
[null,null,null,null,null,"Fonte:eGestor/Dab/Dado gerado em: 19 de Fevereiro de 2018 - 17:33h"]
[null,null,null,null,null,"Fonte: Bolsa Família, relatório 11/02/2018 - 21:20:47   Data da última consolidação 02/02/2018"]

{"sheet":"CONSOLIDADO_2017","index":88,"n_rows":86,"n_cols":85,"rows_kept":86,"cut":false,"hidden":true,"merged":[]}
["CÓD","REGIÃO","MUNICÍPIO","POP 2015","META INDICADOR 01","01 OBITO PREMATURO 30 A 69 DCNT","01 TAXA OBITO PREMATURO 30 A 69 DCNT","RESULTADO META 01","META INDICADOR 02"," 02 OBITOS EM MUL IDADE FERTIL 10 A 49","02 OBITOS EM MUL IDADE FERTIL INV","02 %OBITOS EM MUL IDADE FERTIL INV","RESULTADO META 02","META INDICADOR 03","03 OBITOS CAUSAS BAS DEFINIDAS","03 %OBITOS CAUSAS BAS DEFINIDAS","RESULTADO META 03","META INDICADOR 04","04 %VACINAS < 2 ANOS","RESULTADO META 04","META INDICADOR 05","05 %DE CASOS DOENÇAS NOT COMP IMEDIATA","RESULTADO META 05","META INDICADOR 06","Nº DE CURA DE CASOS NOVOS HANSEN ","06 %CURA CASOS NOVOS HANSEN","RESULTADO META 06","META INDICADOR 08","08 CASOS NOVOS SÍFILIS CONG < ANO","RESULTADO META 08","META INDICADOR 09","09 Nº DE AIDS < 5 ANOS","RESULTADO META 09","META INDICADOR 10","10 %ANÁLISE AMOSTRA ÁGUA CONS HUM","RESULTADO META 10","META INDICADOR 11","11 EXAME CITO 25 A 64","11 RAZÃO CITO 25 A 64","RESULTADO META 11","META INDICADOR 12","12 MAMOGRAFIA BILATERAL 50 A 69","12 RAZÃO MAMOGRAFIA BILATERAL 50 A 69","RESULTADO META 12","META INDICADOR 13","13 PARTO NORMAL SUS/SAÚDE SUPLEMENTAR","13 %PARTO NORMAL SUS/SAÚDE SUPLEMENTAR","RESULTADO META 13","META INDICADOR 14","14 GRAVIDEZ ADOLESC 10 A 19","14 %GRAVIDEZ ADOLESC 10 A 19","RESULTADO META 14","META INDICADOR 15","15 OBITOS < ANO","15 TAXA MORTALIDADE INFANTIL","RESULTADO META 15","META INDICADOR 16","16 ÓBITOS MATERNOS","RESULTADO META 16","META INDICADOR 17","17 %COB AB","RESULTADO META 17","META INDICADOR 18","18 FAMILIAS PARA ACOMP","18 %COB Acomp BF","RESULTADO META 18","META INDICADOR 19","19 %COB SAUDE BUCAL","RESULTADO META 19","META INDICADOR 20","20 %MUN REALIZ AÇÕES VIGILANCIA","RESULTADO META 20","META INDICADOR 21","CAPS 12 AÇÕES 2017","21 %AÇÕES DE MATRICIAMENTO CAPS","RESULTADO META 21","META INDICADOR 22","22 NÚM CICLOS ATING 80% COB IMV DENGUE","RESULTADO META 22","META INDICADOR 23","23 %PREENCHIMENTO OCUP NOTIF AGRAVO","RESULTADO META 23","Nº METAS ALCANÇADAS","Nº METAS NÃO ALCANÇADAS","PROPORÇÃO DE METAS ALCANÇADAS"]
[280010,"PROPRIA","AMPARO DE SÃO FRANCISCO",{"$f":"OBITOS_PREMATUROS!D2","v":2374},{"$f":"OBITOS_PREMATUROS!AH2","v":2},{"$f":"OBITOS_PREMATUROS!W2","v":5},{"$f":"OBITOS_PREMATUROS!AG2","v":517.06308169596696},{"$f":"OBITOS_PREMATUROS!AI2","v":"NÃO ATINGIU"},{"$f":"OBITOS_MIF!AI2","v":0.9},{"$f":"OBITOS_MIF!N2","v":0},{"$f":"OBITOS_MIF!X2","v":"S/C"},{"$f":"OBITOS_MIF!AH2","v":"S/C"},{"$f":"OBITOS_MIF!AJ2","v":"N/A"},{"$f":"OBITOS_CAUSAS!AI2","v":0.95},{"$f":"OBITOS_CAUSAS!N2","v":25},{"$f":"OBITOS_CAUSAS!AH2","v":1},{"$f":"OBITOS_CAUSAS!AJ2","v":"ATINGIU"},{"$f":"METAS!G2","v":1},0,{"$f":"IF(S2>=R2,\"ATINGIU\",\"NÃO ATINGIU\")","v":"NÃO ATINGIU"},{"$f":"METAS!H2","v":0.85},"S/C",{"$f":"IF(Tabela13[[#This Row],[05 %DE CASOS DOENÇAS NOT COMP IMEDIATA]]=\"S/C\",\"N/A\",IF(V2>=U2,\"ATINGIU\",\"NÃO ATINGIU\"))","v":"N/A"},{"$f":"CURA_CASOS_HANS!AI2","v":0.9},{"$f":"CURA_CASOS_HANS!N2","v":0},{"$f":"CURA_CASOS_HANS!AH2","v":"SC"},{"$f":"CURA_CASOS_HANS!AJ2","v":"N/A"},{"$f":"SIFILIS_CONG_1ANO!O4","v":0},{"$f":"SIFILIS_CONG_1ANO!N4","v":0},{"$f":"SIFILIS_CONG_1ANO!P4","v":"ATINGIU"},{"$f":"AIDS_MENOR5!P2","v":0},{"$f":"AIDS_MENOR5!O2","v":0},{"$f":"AIDS_MENOR5!Q2","v":"ATINGIU"},{"$f":"METAS!L2","v":0.5},{"$f":"ANALISE_AGUA_2017!J3","v":0.70746527777777768},{"$f":"ANALISE_AGUA_2017!L3","v":"ATINGIU"},{"$f":"CITOPATOLOGICO!AH2","v":0.78},{"$f":"CITOPATOLOGICO!W2","v":56},{"$f":"CITOPATOLOGICO!AG2","v":0.31168831168831168},{"$f":"CITOPATOLOGICO!AL2","v":"NÃO ATINGIU"},{"$f":"MAMOGRAFIA!AE2","v":0.15},{"$f":"MAMOGRAFIA!U2","v":70},{"$f":"MAMOGRAFIA!AD2","v":0.88},{"$f":"MAMOGRAFIA!AG2","v":"ATINGIU"},{"$f":"PARTO_NORMAL!AI2","v":0.65},{"$f":"PARTO_NORMAL!X2","v":15},{"$f":"PARTO_NORMAL!AH2","v":0.40540540540540543},{"$f":"PARTO_NORMAL!AJ2","v":"NÃO ATINGIU"},{"$f":"MAES_ADOLESC!AO2","v":0.16219999999999998},{"$f":"MAES_ADOLESC!AB2","v":9},{"$f":"MAES_ADOLESC!AN2","v":0.24324324324324326},{"$f":"MAES_ADOLESC!AP2","v":"NÃO ATINGIU"},{"$f":"MORT_INF!AI2","v":1},{"$f":"MORT_INF!X2","v":1},{"$f":"MORT_INF!AH2","v":27.027027027027028},{"$f":"MORT_INF!AJ2","v":"ATINGIU"},{"$f":"OBITOS_MATERNOS!AI2","v":0},{"$f":"OBITOS_MATERNOS!X2","v":0},{"$f":"OBITOS_MATERNOS!AJ2","v":"ATINGIU"},{"$f":"COBERTURA_AB!N9","v":1},{"$f":"COBERTURA_AB!M9","v":1},{"$f":"COBERTURA_AB!O9","v":"ATINGIU"},0.88,{"$f":"PBF_ACOMP_2017!F7","v":267},{"$f":"PBF_ACOMP_2017!G7","v":0.90202702702702697},{"$f":"PBF_ACOMP_2017!I7","v":"ATINGIU"},{"$f":"COBETURA_SB!M10","v":1},{"$f":"COBETURA_SB!L10","v":1},{"$f":"COBETURA_SB!N10","v":"ATINGIU"},{"$f":"AÇOES_VIGIL!N4","v":1},{"$f":"AÇOES_VIGIL!M4","v":0.83333333333333337},{"$f":"AÇOES_VIGIL!O4","v":"NÃO ATINGIU"},{"$f":"MATRICIAMENTO_CAPS!K2","v":"N/A"},{"$f":"MATRICIAMENTO_CAPS!H2","v":"N/A"},{"$f":"MATRICIAMENTO_CAPS!J2","v":"N/A"},{"$f":"MATRICIAMENTO_CAPS!L2","v":"N/A"},{"$f":"CICLO_DENGUE!H4","v":5},{"$f":"CICLO_DENGUE!G4","v":10},{"$f":"CICLO_DENGUE!I4","v":"ATINGIU"},{"$f":"NOT_AC_TRAB_OCUP!M2","v":0.95},{"$f":"NOT_AC_TRAB_OCUP!L2","v":0},{"$f":"NOT_AC_TRAB_OCUP!N2","v":"NÃO ATINGIU"},{"$f":"COUNTIF(E2:CD2,\"ATINGIU\")","v":11},{"$f":"COUNTIF(F2:CD2,\"NÃO ATINGIU\")","v":7},{"$f":"CE2/(CE2+CF2)","v":0.61111111111111116}]
[280020,"PROPRIA","AQUIDABA",{"$f":"OBITOS_PREMATUROS!D3","v":21315},{"$f":"OBITOS_PREMATUROS!AH3","v":26},{"$f":"OBITOS_PREMATUROS!W3","v":27},{"$f":"OBITOS_PREMATUROS!AG3","v":299.83342587451415},{"$f":"OBITOS_PREMATUROS!AI3","v":"NÃO ATINGIU"},{"$f":"OBITOS_MIF!AI3","v":0.9},{"$f":"OBITOS_MIF!N3","v":10},{"$f":"OBITOS_MIF!X3","v":2},{"$f":"OBITOS_MIF!AH3","v":0.2},{"$f":"OBITOS_MIF!AJ3","v":"NÃO ATINGIU"},{"$f":"OBITOS_CAUSAS!AI3","v":0.95},{"$f":"OBITOS_CAUSAS!N3","v":144},{"$f":"OBITOS_CAUSAS!AH3","v":0.8834355828220859},{"$f":"OBITOS_CAUSAS!AJ3","v":"NÃO ATINGIU"},{"$f":"METAS!G3","v":1},0,{"$f":"IF(S3>=R3,\"ATINGIU\",\"NÃO ATINGIU\")","v":"NÃO ATINGIU"},{"$f":"METAS!H3","v":0.85},"S/C",{"$f":"IF(Tabela13[[#This Row],[05 %DE CASOS DOENÇAS NOT COMP IMEDIATA]]=\"S/C\",\"N/A\",IF(V3>=U3,\"ATINGIU\",\"NÃO ATINGIU\"))","v":"N/A"},{"$f":"CURA_CASOS_HANS!AI3","v":0.9},{"$f":"CURA_CASOS_HANS!N3","v":0},{"$f":"CURA_CASOS_HANS!AH3","v":1},{"$f":"CURA_CASOS_HANS!AJ3","v":"ATINGIU"},{"$f":"SIFILIS_CONG_1ANO!O5","v":2},{"$f":"SIFILIS_CONG_1ANO!N5","v":2},{"$f":"SIFILIS_CONG_1ANO!P5","v":"ATINGIU"},{"$f":"AIDS_MENOR5!P3","v":0},{"$f":"AIDS_MENOR5!O3","v":0},{"$f":"AIDS_MENOR5!Q3","v":"ATINGIU"},{"$f":"METAS!L3","v":0.4},{"$f":"ANALISE_AGUA_2017!J4","v":0.68229166666666652},{"$f":"ANALISE_AGUA_2017!L4","v":"ATINGIU"},{"$f":"CITOPATOLOGICO!AH3","v":0.57999999999999996},{"$f":"CITOPATOLOGICO!W3","v":774},{"$f":"CITOPATOLOGICO!AG3","v":0.456547384978372},{"$f":"CITOPATOLOGICO!AL3","v":"NÃO ATINGIU"},{"$f":"MAMOGRAFIA!AE3","v":0.22},{"$f":"MAMOGRAFIA!U3","v":345},{"$f":"MAMOGRAFIA!AD3","v":0.42},{"$f":"MAMOGRAFIA!AG3","v":"ATINGIU"},{"$f":"PARTO_NORMAL!AI3","v":0.66},{"$f":"PARTO_NORMAL!X3","v":173},{"$f":"PARTO_NORMAL!AH3","v":0.62007168458781359},{"$f":"PARTO_NORMAL!AJ3","v":"NÃO ATINGIU"},{"$f":"MAES_ADOLESC!AO3","v":0.22},{"$f":"MAES_ADOLESC!AB3","v":63},{"$f":"MAES_ADOLESC!AN3","v":0.22580645161290322},{"$f":"MAES_ADOLESC!AP3","v":"NÃO ATINGIU"},{"$f":"MORT_INF!AI3","v":2},{"$f":"MORT_INF!X3","v":6},{"$f":"MORT_INF!AH3","v":21.505376344086024},{"$f":"MORT_INF!AJ3","v":"NÃO ATINGIU"},{"$f":"OBITOS_MATERNOS!AI3","v":0},{"$f":"OBITOS_MATERNOS!X3","v":0},{"$f":"OBITOS_MATERNOS!AJ3","v":"ATINGIU"},{"$f":"COBERTURA_AB!N10","v":0.8347},{"$f":"COBERTURA_AB!M10","v":1},{"$f":"COBERTURA_AB!O10","v":"ATINGIU"},0.85,{"$f":"PBF_ACOMP_2017!F8","v":2100},{"$f":"PBF_ACOMP_2017!G8","v":0.85679314565483478},{"$f":"PBF_ACOMP_2017!I8","v":"ATINGIU"},{"$f":"COBETURA_SB!M11","v":0.16190000000000002},{"$f":"COBETURA_SB!L11","v":0.48249999999999998},{"$f":"COBETURA_SB!N11","v":"ATINGIU"},{"$f":"AÇOES_VIGIL!N5","v":1},{"$f":"AÇOES_VIGIL!M5","v":1},{"$f":"AÇOES_VIGIL!O5","v":"ATINGIU"},{"$f":"MATRICIAMENTO_CAPS!K3","v":1},{"$f":"MATRICIAMENTO_CAPS!H3","v":0},{"$f":"MATRICIAMENTO_CAPS!J3","v":0},{"$f":"MATRICIAMENTO_CAPS!L3","v":"NÃO ATINGIU"},{"$f":"CICLO_DENGUE!H5","v":4},{"$f":"CICLO_DENGUE!G5","v":2},{"$f":"CICLO_DENGUE!I5","v":"NÃO ATINGIU"},{"$f":"NOT_AC_TRAB_OCUP!M3","v":0.95},{"$f":"NOT_AC_TRAB_OCUP!L3","v":"N/A"},{"$f":"NOT_AC_TRAB_OCUP!N3","v":"N/A"},10,10,0.5]
[280030,"ARACAJU","ARACAJU",{"$f":"OBITOS_PREMATUROS!D4","v":632745},{"$f":"OBITOS_PREMATUROS!AH4","v":233.5},{"$f":"OBITOS_PREMATUROS!W4","v":739},{"$f":"OBITOS_PREMATUROS!AG4","v":245.45705165891101},{"$f":"OBITOS_PREMATUROS!AI4","v":"NÃO ATINGIU"},{"$f":"OBITOS_MIF!AI4","v":0.9},{"$f":"OBITOS_MIF!N4","v":169},{"$f":"OBITOS_MIF!X4","v":129},{"$f":"OBITOS_MIF!AH4","v":0.76331360946745563},{"$f":"OBITOS_MIF!AJ4","v":"NÃO ATINGIU"},{"$f":"OBITOS_CAUSAS!AI4","v":0.95},{"$f":"OBITOS_CAUSAS!N4","v":3351},{"$f":"OBITOS_CAUSAS!AH4","v":0.95470085470085475},{"$f":"OBITOS_CAUSAS!AJ4","v":"ATINGIU"},{"$f":"METAS!G4","v":1},0,"NÃO ATINGIU",{"$f":"METAS!H4","v":0.85},1,{"$f":"IF(Tabela13[[#This Row],[05 %DE CASOS DOENÇAS NOT COMP IMEDIATA]]=\"S/C\",\"N/A\",IF(V4>=U4,\"ATINGIU\",\"NÃO ATINGIU\"))","v":"ATINGIU"},{"$f":"CURA_CASOS_HANS!AI4","v":0.9},{"$f":"CURA_CASOS_HANS!N4","v":0},{"$f":"CURA_CASOS_HANS!AH4","v":0.83560000000000001},{"$f":"CURA_CASOS_HANS!AJ4","v":"NÃO ATINGIU"},{"$f":"SIFILIS_CONG_1ANO!O6","v":71},{"$f":"SIFILIS_CONG_1ANO!N6","v":69},{"$f":"SIFILIS_CONG_1ANO!P6","v":"ATINGIU"},{"$f":"AIDS_MENOR5!P4","v":1},{"$f":"AIDS_MENOR5!O4","v":1},{"$f":"AIDS_MENOR5!Q4","v":"ATINGIU"},{"$f":"METAS!L4","v":1},{"$f":"ANALISE_AGUA_2017!J5","v":0.88791232638888884},{"$f":"ANALISE_AGUA_2017!L5","v":"NÃO ATINGIU"},{"$f":"CITOPATOLOGICO!AH4","v":0.32},{"$f":"CITOPATOLOGICO!W4","v":14300},{"$f":"CITOPATOLOGICO!AG4","v":0.23015021459227467},{"$f":"CITOPATOLOGICO!AL4","v":"NÃO ATINGIU"},{"$f":"MAMOGRAFIA!AE4","v":0.35},{"$f":"MAMOGRAFIA!U4","v":7225},{"$f":"MAMOGRAFIA!AD4","v":0.26},{"$f":"MAMOGRAFIA!AG4","v":"NÃO ATINGIU"},{"$f":"PARTO_NORMAL!AI4","v":0.5},{"$f":"PARTO_NORMAL!X4","v":4039},{"$f":"PARTO_NORMAL!AH4","v":0.46446642134314625},{"$f":"PARTO_NORMAL!AJ4","v":"NÃO ATINGIU"},{"$f":"MAES_ADOLESC!AO4","v":0.152},{"$f":"MAES_ADOLESC!AB4","v":1225},{"$f":"MAES_ADOLESC!AN4","v":0.14086936522539098},{"$f":"MAES_ADOLESC!AP4","v":"ATINGIU"},{"$f":"MORT_INF!AI4","v":15.2},{"$f":"MORT_INF!X4","v":153},{"$f":"MORT_INF!AH4","v":17.594296228150874},{"$f":"MORT_INF!AJ4","v":"NÃO ATINGIU"},{"$f":"OBITOS_MATERNOS!AI4","v":5},{"$f":"OBITOS_MATERNOS!X4","v":6},{"$f":"OBITOS_MATERNOS!AJ4","v":"NÃO ATINGIU"},{"$f":"COBERTURA_AB!N11","v":0.7883},{"$f":"COBERTURA_AB!M11","v":0.74},{"$f":"COBERTURA_AB!O11","v":"NÃO ATINGIU"},0.7,{"$f":"PBF_ACOMP_2017!F9","v":16312},{"$f":"PBF_ACOMP_2017!G9","v":0.66056531951081232},{"$f":"PBF_ACOMP_2017!I9","v":"NÃO ATINGIU"},{"$f":"COBETURA_SB!M12","v":0.64249999999999996},{"$f":"COBETURA_SB!L12","v":0.60450000000000004},{"$f":"COBETURA_SB!N12","v":"NÃO ATINGIU"},{"$f":"AÇOES_VIGIL!N6","v":1},{"$f":"AÇOES_VIGIL!M6","v":1},{"$f":"AÇOES_VIGIL!O6","v":"ATINGIU"},{"$f":"MATRICIAMENTO_CAPS!K4","v":1},{"$f":"MATRICIAMENTO_CAPS!H4","v":2},{"$f":"MATRICIAMENTO_CAPS!J4","v":0.33333333333333331},{"$f":"MATRICIAMENTO_CAPS!L4","v":"NÃO ATINGIU"},{"$f":"CICLO_DENGUE!H6","v":4},{"$f":"CICLO_DENGUE!G6","v":1},{"$f":"CICLO_DENGUE!I6","v":"NÃO ATINGIU"},{"$f":"NOT_AC_TRAB_OCUP!M4","v":0.95},{"$f":"NOT_AC_TRAB_OCUP!L4","v":0.62827225130890052},{"$f":"NOT_AC_TRAB_OCUP!N4","v":"NÃO ATINGIU"},6,16,0.27272727272727271]
[280040,"ESTANCIA","ARAUA",{"$f":"OBITOS_PREMATUROS!D5","v":10572},{"$f":"OBITOS_PREMATUROS!AH5","v":14},{"$f":"OBITOS_PREMATUROS!W5","v":12},{"$f":"OBITOS_PREMATUROS!AG5","v":264.20079260237782},{"$f":"OBITOS_PREMATUROS!AI5","v":"ATINGIU"},{"$f":"OBITOS_MIF!AI5","v":0.9},{"$f":"OBITOS_MIF!N5","v":6},{"$f":"OBITOS_MIF!X5","v":4},{"$f":"OBITOS_MIF!AH5","v":0.66666666666666663},{"$f":"OBITOS_MIF!AJ5","v":"NÃO ATINGIU"},{"$f":"OBITOS_CAUSAS!AI5","v":0.95},{"$f":"OBITOS_CAUSAS!N5","v":60},{"$f":"OBITOS_CAUSAS!AH5","v":0.89552238805970152},{"$f":"OBITOS_CAUSAS!AJ5","v":"NÃO ATINGIU"},{"$f":"METAS!G5","v":1},0,"NÃO ATINGIU",{"$f":"METAS!H5","v":0.85},"S/C",{"$f":"IF(Tabela13[[#This Row],[05 %DE CASOS DOENÇAS NOT COMP IMEDIATA]]=\"S/C\",\"N/A\",IF(V5>=U5,\"ATINGIU\",\"NÃO ATINGIU\"))","v":"N/A"},{"$f":"CURA_CASOS_HANS!AI5","v":0.95},{"$f":"CURA_CASOS_HANS!N5","v":0},{"$f":"CURA_CASOS_HANS!AH5","v":1},{"$f":"CURA_CASOS_HANS!AJ5","v":"ATINGIU"},{"$f":"SIFILIS_CONG_1ANO!O7","v":2},{"$f":"SIFILIS_CONG_1ANO!N7","v":4},{"$f":"SIFILIS_CONG_1ANO!P7","v":"NÃO ATINGIU"},{"$f":"AIDS_MENOR5!P5","v":0},{"$f":"AIDS_MENOR5!O5","v":0},{"$f":"AIDS_MENOR5!Q5","v":"ATINGIU"},{"$f":"METAS!L5","v":0.7},{"$f":"ANALISE_AGUA_2017!J6","v":1.175925925925926},{"$f":"ANALISE_AGUA_2017!L6","v":"ATINGIU"},{"$f":"CITOPATOLOGICO!AH5","v":0.8},{"$f":"CITOPATOLOGICO!W5","v":509},{"$f":"CITOPATOLOGICO!AG5","v":0.60118110236220479},{"$f":"CITOPATOLOGICO!AL5","v":"NÃO ATINGIU"},{"$f":"MAMOGRAFIA!AE5","v":0.3},{"$f":"MAMOGRAFIA!U5","v":112},{"$f":"MAMOGRAFIA!AD5","v":0.28999999999999998},{"$f":"MAMOGRAFIA!AG5","v":"NÃO ATINGIU"},{"$f":"PARTO_NORMAL!AI5","v":0.66},{"$f":"PARTO_NORMAL!X5","v":99},{"$f":"PARTO_NORMAL!AH5","v":0.66},{"$f":"PARTO_NORMAL!AJ5","v":"ATINGIU"},{"$f":"MAES_ADOLESC!AO5","v":0.23},{"$f":"MAES_ADOLESC!AB5","v":44},{"$f":"MAES_ADOLESC!AN5","v":0.29333333333333333},{"$f":"MAES_ADOLESC!AP5","v":"NÃO ATINGIU"},{"$f":"MORT_INF!AI5","v":1},{"$f":"MORT_INF!X5","v":2},{"$f":"MORT_INF!AH5","v":13.333333333333334},{"$f":"MORT_INF!AJ5","v":"NÃO ATINGIU"},{"$f":"OBITOS_MATERNOS!AI5","v":0},{"$f":"OBITOS_MATERNOS!X5","v":0},{"$f":"OBITOS_MATERNOS!AJ5","v":"ATINGIU"},{"$f":"COBERTURA_AB!N12","v":1},{"$f":"COBERTURA_AB!M12","v":1},{"$f":"COBERTURA_AB!O12","v":"ATINGIU"},0.87,{"$f":"PBF_ACOMP_2017!F10","v":1477},{"$f":"PBF_ACOMP_2017!G10","v":0.85474537037037035},{"$f":"PBF_ACOMP_2017!I10","v":"NÃO ATINGIU"},{"$f":"COBETURA_SB!M13","v":0.9788},{"$f":"COBETURA_SB!L13","v":1},{"$f":"COBETURA_SB!N13","v":"ATINGIU"},{"$f":"AÇOES_VIGIL!N7","v":1},{"$f":"AÇOES_VIGIL!M7","v":1},{"$f":"AÇOES_VIGIL!O7","v":"ATINGIU"},{"$f":"MATRICIAMENTO_CAPS!K5","v":"N/A"},{"$f":"MATRICIAMENTO_CAPS!H5","v":"N/A"},{"$f":"MATRICIAMENTO_CAPS!J5","v":"N/A"},{"$f":"MATRICIAMENTO_CAPS!L5","v":"N/A"},{"$f":"CICLO_DENGUE!H7","v":4},{"$f":"CICLO_DENGUE!G7","v":0},{"$f":"CICLO_DENGUE!I7","v":"NÃO ATINGIU"},{"$f":"NOT_AC_TRAB_OCUP!M5","v":0.95},{"$f":"NOT_AC_TRAB_OCUP!L5","v":"N/A"},{"$f":"NOT_AC_TRAB_OCUP!N5","v":"N/A"},9,10,0.47368421052631576]
[280050,"ITABAIANA","AREIA BRANCA",{"$f":"OBITOS_PREMATUROS!D6","v":18169},{"$f":"OBITOS_PREMATUROS!AH6","v":19},{"$f":"OBITOS_PREMATUROS!W6","v":20},{"$f":"OBITOS_PREMATUROS!AG6","v":267.20106880427522},{"$f":"OBITOS_PREMATUROS!AI6","v":"NÃO ATINGIU"},{"$f":"OBITOS_MIF!AI6","v":0.9},{"$f":"OBITOS_MIF!N6","v":6},{"$f":"OBITOS_MIF!X6","v":5},{"$f":"OBITOS_MIF!AH6","v":0.83333333333333337},{"$f":"OBITOS_MIF!AJ6","v":"NÃO ATINGIU"},{"$f":"OBITOS_CAUSAS!AI6","v":0.95},{"$f":"OBITOS_CAUSAS!N6","v":91},{"$f":"OBITOS_CAUSAS!AH6","v":0.91},{"$f":"OBITOS_CAUSAS!AJ6","v":"NÃO ATINGIU"},{"$f":"METAS!G6","v":0.75},0,"NÃO ATINGIU",{"$f":"METAS!H6","v":0.85},"S/C",{"$f":"IF(Tabela13[[#This Row],[05 %DE CASOS DOENÇAS NOT COMP IMEDIATA]]=\"S/C\",\"N/A\",IF(V6>=U6,\"ATINGIU\",\"NÃO ATINGIU\"))","v":"N/A"},{"$f":"CURA_CASOS_HANS!AI6","v":0.9},{"$f":"CURA_CASOS_HANS!N6","v":0},{"$f":"CURA_CASOS_HANS!AH6","v":1},{"$f":"CURA_CASOS_HANS!AJ6","v":"ATINGIU"},{"$f":"SIFILIS_CONG_1ANO!O8","v":1},{"$f":"SIFILIS_CONG_1ANO!N8","v":1},{"$f":"SIFILIS_CONG_1ANO!P8","v":"ATINGIU"},{"$f":"AIDS_MENOR5!P6","v":0},{"$f":"AIDS_MENOR5!O6","v":0},{"$f":"AIDS_MENOR5!Q6","v":"ATINGIU"},{"$f":"METAS!L6","v":0.85},{"$f":"ANALISE_AGUA_2017!J7","v":0.90052083333333333},{"$f":"ANALISE_AGUA_2017!L7","v":"ATINGIU"},{"$f":"CITOPATOLOGICO!AH6","v":0.49},{"$f":"CITOPATOLOGICO!W6","v":499},{"$f":"CITOPATOLOGICO!AG6","v":0.3629970902036857},{"$f":"CITOPATOLOGICO!AL6","v":"NÃO ATINGIU"},{"$f":"MAMOGRAFIA!AE6","v":0.26},{"$f":"MAMOGRAFIA!U6","v":221},{"$f":"MAMOGRAFIA!AD6","v":0.4},{"$f":"MAMOGRAFIA!AG6","v":"ATINGIU"},{"$f":"PARTO_NORMAL!AI6","v":0.66},{"$f":"PARTO_NORMAL!X6","v":181},{"$f":"PARTO_NORMAL!AH6","v":0.69083969465648853},{"$f":"PARTO_NORMAL!AJ6","v":"ATINGIU"},{"$f":"MAES_ADOLESC!AO6","v":0.27},{"$f":"MAES_ADOLESC!AB6","v":60},{"$f":"MAES_ADOLESC!AN6","v":0.22900763358778625},{"$f":"MAES_ADOLESC!AP6","v":"ATINGIU"},{"$f":"MORT_INF!AI6","v":4},{"$f":"MORT_INF!X6","v":2},{"$f":"MORT_INF!AH6","v":7.6335877862595414},{"$f":"MORT_INF!AJ6","v":"ATINGIU"},{"$f":"OBITOS_MATERNOS!AI6","v":0},{"$f":"OBITOS_MATERNOS!X6","v":0},{"$f":"OBITOS_MATERNOS!AJ6","v":"ATINGIU"},{"$f":"COBERTURA_AB!N13","v":1},{"$f":"COBERTURA_AB!M13","v":1},{"$f":"COBERTURA_AB!O13","v":"ATINGIU"},0.88,{"$f":"PBF_ACOMP_2017!F11","v":1626},{"$f":"PBF_ACOMP_2017!G11","v":0.89685603971318262},{"$f":"PBF_ACOMP_2017!I11","v":"ATINGIU"},{"$f":"COBETURA_SB!M14","v":0.56979999999999997},{"$f":"COBETURA_SB!L14","v":0.45829999999999999},{"$f":"COBETURA_SB!N14","v":"NÃO ATINGIU"},{"$f":"AÇOES_VIGIL!N8","v":1},{"$f":"AÇOES_VIGIL!M8","v":0.83333333333333337},{"$f":"AÇOES_VIGIL!O8","v":"NÃO ATINGIU"},{"$f":"MATRICIAMENTO_CAPS!K6","v":"N/A"},{"$f":"MATRICIAMENTO_CAPS!H6","v":"N/A"},{"$f":"MATRICIAMENTO_CAPS!J6","v":"N/A"},{"$f":"MATRICIAMENTO_CAPS!L6","v":"N/A"},{"$f":"CICLO_DENGUE!H8","v":4},{"$f":"CICLO_DENGUE!G8","v":0},{"$f":"CICLO_DENGUE!I8","v":"NÃO ATINGIU"},{"$f":"NOT_AC_TRAB_OCUP!M6","v":0.9},{"$f":"NOT_AC_TRAB_OCUP!L6","v":0.5},{"$f":"NOT_AC_TRAB_OCUP!N6","v":"NÃO ATINGIU"},11,9,0.55000000000000004]
[280060,"ARACAJU","BARRA DOS COQUEIROS",{"$f":"OBITOS_PREMATUROS!D7","v":28679},{"$f":"OBITOS_PREMATUROS!AH7","v":28},{"$f":"OBITOS_PREMATUROS!W7","v":30},{"$f":"OBITOS_PREMATUROS!AG7","v":241.08003857280616},{"$f":"OBITOS_PREMATUROS!AI7","v":"NÃO ATINGIU"},{"$f":"OBITOS_MIF!AI7","v":0.95},{"$f":"OBITOS_MIF!N7","v":14},{"$f":"OBITOS_MIF!X7","v":11},{"$f":"OBITOS_MIF!AH7","v":0.7857142857142857},{"$f":"OBITOS_MIF!AJ7","v":"NÃO ATINGIU"},{"$f":"OBITOS_CAUSAS!AI7","v":0.95},{"$f":"OBITOS_CAUSAS!N7","v":175},{"$f":"OBITOS_CAUSAS!AH7","v":0.97765363128491622},{"$f":"OBITOS_CAUSAS!AJ7","v":"ATINGIU"},{"$f":"METAS!G7","v":1},0.25,"NÃO ATINGIU",{"$f":"METAS!H7","v":0.85},0,{"$f":"IF(Tabela13[[#This Row],[05 %DE CASOS DOENÇAS NOT COMP IMEDIATA]]=\"S/C\",\"N/A\",IF(V7>=U7,\"ATINGIU\",\"NÃO ATINGIU\"))","v":"NÃO ATINGIU"},{"$f":"CURA_CASOS_HANS!AI7","v":0.9},{"$f":"CURA_CASOS_HANS!N7","v":0},{"$f":"CURA_CASOS_HANS!AH7","v":1},{"$f":"CURA_CASOS_HANS!AJ7","v":"ATINGIU"},{"$f":"SIFILIS_CONG_1ANO!O9","v":8},{"$f":"SIFILIS_CONG_1ANO!N9","v":5},{"$f":"SIFILIS_CONG_1ANO!P9","v":"ATINGIU"},{"$f":"AIDS_MENOR5!P7","v":0},{"$f":"AIDS_MENOR5!O7","v":0},{"$f":"AIDS_MENOR5!Q7","v":"ATINGIU"},{"$f":"METAS!L7","v":1},{"$f":"ANALISE_AGUA_2017!J8","v":1.6006944444444442},{"$f":"ANALISE_AGUA_2017!L8","v":"ATINGIU"},{"$f":"CITOPATOLOGICO!AH7","v":0.55000000000000004},{"$f":"CITOPATOLOGICO!W7","v":797},{"$f":"CITOPATOLOGICO!AG7","v":0.32681793329688358},{"$f":"CITOPATOLOGICO!AL7","v":"NÃO ATINGIU"},{"$f":"MAMOGRAFIA!AE7","v":0.22},{"$f":"MAMOGRAFIA!U7","v":463},{"$f":"MAMOGRAFIA!AD7","v":0.48},{"$f":"MAMOGRAFIA!AG7","v":"ATINGIU"},{"$f":"PARTO_NORMAL!AI7","v":0.65},{"$f":"PARTO_NORMAL!X7","v":271},{"$f":"PARTO_NORMAL!AH7","v":0.56107660455486541},{"$f":"PARTO_NORMAL!AJ7","v":"NÃO ATINGIU"},{"$f":"MAES_ADOLESC!AO7","v":0.26},{"$f":"MAES_ADOLESC!AB7","v":80},{"$f":"MAES_ADOLESC!AN7","v":0.16563146997929606},{"$f":"MAES_ADOLESC!AP7","v":"ATINGIU"},{"$f":"MORT_INF!AI7","v":4},{"$f":"MORT_INF!X7","v":7},{"$f":"MORT_INF!AH7","v":14.492753623188406},{"$f":"MORT_INF!AJ7","v":"NÃO ATINGIU"},{"$f":"OBITOS_MATERNOS!AI7","v":0},{"$f":"OBITOS_MATERNOS!X7","v":0},{"$f":"OBITOS_MATERNOS!AJ7","v":"ATINGIU"},{"$f":"COBERTURA_AB!N14","v":1},{"$f":"COBERTURA_AB!M14","v":1},{"$f":"COBERTURA_AB!O14","v":"ATINGIU"},0.75,{"$f":"PBF_ACOMP_2017!F12","v":1903},{"$f":"PBF_ACOMP_2017!G12","v":0.7955685618729097},{"$f":"PBF_ACOMP_2017!I12","v":"ATINGIU"},{"$f":"COBETURA_SB!M15","v":0.82569999999999988},{"$f":"COBETURA_SB!L15","v":1},{"$f":"COBETURA_SB!N15","v":"ATINGIU"},{"$f":"AÇOES_VIGIL!N9","v":1},{"$f":"AÇOES_VIGIL!M9","v":1},{"$f":"AÇOES_VIGIL!O9","v":"ATINGIU"},{"$f":"MATRICIAMENTO_CAPS!K7","v":1},{"$f":"MATRICIAMENTO_CAPS!H7","v":1},{"$f":"MATRICIAMENTO_CAPS!J7","v":1},{"$f":"MATRICIAMENTO_CAPS!L7","v":"ATINGIU"},{"$f":"CICLO_DENGUE!H9","v":4},{"$f":"CICLO_DENGUE!G9","v":1},{"$f":"CICLO_DENGUE!I9","v":"NÃO ATINGIU"},{"$f":"NOT_AC_TRAB_OCUP!M7","v":0.95},{"$f":"NOT_AC_TRAB_OCUP!L7","v":0.73333333333333328},{"$f":"NOT_AC_TRAB_OCUP!N7","v":"NÃO ATINGIU"},13,9,0.59090909090909094]
[280067,"ESTANCIA","BOQUIM",{"$f":"OBITOS_PREMATUROS!D8","v":26750},{"$f":"OBITOS_PREMATUROS!AH8","v":30},{"$f":"OBITOS_PREMATUROS!W8","v":35},{"$f":"OBITOS_PREMATUROS!AG8","v":301.28260308169064},{"$f":"OBITOS_PREMATUROS!AI8","v":"NÃO ATINGIU"},{"$f":"OBITOS_MIF!AI8","v":0.9},{"$f":"OBITOS_MIF!N8","v":6},{"$f":"OBITOS_MIF!X8","v":6},{"$f":"OBITOS_MIF!AH8","v":1},{"$f":"OBITOS_MIF!AJ8","v":"ATINGIU"},{"$f":"OBITOS_CAUSAS!AI8","v":0.95},{"$f":"OBITOS_CAUSAS!N8","v":156},{"$f":"OBITOS_CAUSAS!AH8","v":0.96296296296296291},{"$f":"OBITOS_CAUSAS!AJ8","v":"ATINGIU"},{"$f":"METAS!G8","v":1},0,"NÃO ATINGIU",{"$f":"METAS!H8","v":0.85},"S/C",{"$f":"IF(Tabela13[[#This Row],[05 %DE CASOS DOENÇAS NOT COMP IMEDIATA]]=\"S/C\",\"N/A\",IF(V8>=U8,\"ATINGIU\",\"NÃO ATINGIU\"))","v":"N/A"},{"$f":"CURA_CASOS_HANS!AI8","v":0.95},{"$f":"CURA_CASOS_HANS!N8","v":0},{"$f":"CURA_CASOS_HANS!AH8","v":1},{"$f":"CURA_CASOS_HANS!AJ8","v":"ATINGIU"},{"$f":"SIFILIS_CONG_1ANO!O10","v":2},{"$f":"SIFILIS_CONG_1ANO!N10","v":7},{"$f":"SIFILIS_CONG_1ANO!P10","v":"NÃO ATINGIU"},{"$f":"AIDS_MENOR5!P8","v":0},{"$f":"AIDS_MENOR5!O8","v":0},{"$f":"AIDS_MENOR5!Q8","v":"ATINGIU"},{"$f":"METAS!L8","v":0.8},{"$f":"ANALISE_AGUA_2017!J9","v":0.96310763888888884},{"$f":"ANALISE_AGUA_2017!L9","v":"ATINGIU"},{"$f":"CITOPATOLOGICO!AH8","v":0.52},{"$f":"CITOPATOLOGICO!W8","v":893},{"$f":"CITOPATOLOGICO!AG8","v":0.40677194047980564},{"$f":"CITOPATOLOGICO!AL8","v":"NÃO ATINGIU"},{"$f":"MAMOGRAFIA!AE8","v":0.22},{"$f":"MAMOGRAFIA!U8","v":468},{"$f":"MAMOGRAFIA!AD8","v":0.46},{"$f":"MAMOGRAFIA!AG8","v":"ATINGIU"},{"$f":"PARTO_NORMAL!AI8","v":0.62},{"$f":"PARTO_NORMAL!X8","v":170},{"$f":"PARTO_NORMAL!AH8","v":0.57432432432432434},{"$f":"PARTO_NORMAL!AJ8","v":"NÃO ATINGIU"},{"$f":"MAES_ADOLESC!AO8","v":0.21},{"$f":"MAES_ADOLESC!AB8","v":50},{"$f":"MAES_ADOLESC!AN8","v":0.16891891891891891},{"$f":"MAES_ADOLESC!AP8","v":"ATINGIU"},{"$f":"MORT_INF!AI8","v":4},{"$f":"MORT_INF!X8","v":5},{"$f":"MORT_INF!AH8","v":16.891891891891891},{"$f":"MORT_INF!AJ8","v":"NÃO ATINGIU"},{"$f":"OBITOS_MATERNOS!AI8","v":0},{"$f":"OBITOS_MATERNOS!X8","v":0},{"$f":"OBITOS_MATERNOS!AJ8","v":"ATINGIU"},{"$f":"COBERTURA_AB!N15","v":1},{"$f":"COBERTURA_AB!M15","v":1},{"$f":"COBERTURA_AB!O15","v":"ATINGIU"},0.78,{"$f":"PBF_ACOMP_2017!F13","v":3162},{"$f":"PBF_ACOMP_2017!G13","v":0.94529147982062778},{"$f":"PBF_ACOMP_2017!I13","v":"ATINGIU"},{"$f":"COBETURA_SB!M16","v":0.70090000000000008},{"$f":"COBETURA_SB!L16","v":0.80989999999999995},{"$f":"COBETURA_SB!N16","v":"ATINGIU"},{"$f":"AÇOES_VIGIL!N10","v":1},{"$f":"AÇOES_VIGIL!M10","v":1},{"$f":"AÇOES_VIGIL!O10","v":"ATINGIU"},{"$f":"MATRICIAMENTO_CAPS!K8","v":1},{"$f":"MATRICIAMENTO_CAPS!H8","v":1},{"$f":"MATRICIAMENTO_CAPS!J8","v":1},{"$f":"MATRICIAMENTO_CAPS!L8","v":"ATINGIU"},{"$f":"CICLO_DENGUE!H10","v":4},{"$f":"CICLO_DENGUE!G10","v":0},{"$f":"CICLO_DENGUE!I10","v":"NÃO ATINGIU"},{"$f":"NOT_AC_TRAB_OCUP!M8","v":0.95},{"$f":"NOT_AC_TRAB_OCUP!L8","v":1},{"$f":"NOT_AC_TRAB_OCUP!N8","v":"ATINGIU"},14,7,0.66666666666666663]
[280070,"PROPRIA","BREJO GRANDE",{"$f":"OBITOS_PREMATUROS!D9","v":8218},{"$f":"OBITOS_PREMATUROS!AH9","v":7},{"$f":"OBITOS_PREMATUROS!W9","v":4},{"$f":"OBITOS_PREMATUROS!AG9","v":138.45621322256838},{"$f":"OBITOS_PREMATUROS!AI9","v":"ATINGIU"},{"$f":"OBITOS_MIF!AI9","v":0.9},{"$f":"OBITOS_MIF!N9","v":1},{"$f":"OBITOS_MIF!X9","v":0},{"$f":"OBITOS_MIF!AH9","v":0},{"$f":"OBITOS_MIF!AJ9","v":"NÃO ATINGIU"},{"$f":"OBITOS_CAUSAS!AI9","v":0.95},{"$f":"OBITOS_CAUSAS!N9","v":24},{"$f":"OBITOS_CAUSAS!AH9","v":0.88888888888888884},{"$f":"OBITOS_CAUSAS!AJ9","v":"NÃO ATINGIU"},{"$f":"METAS!G9","v":1},0,"NÃO ATINGIU",{"$f":"METAS!H9","v":0.85},"S/C",{"$f":"IF(Tabela13[[#This Row],[05 %DE CASOS DOENÇAS NOT COMP IMEDIATA]]=\"S/C\",\"N/A\",IF(V9>=U9,\"ATINGIU\",\"NÃO ATINGIU\"))","v":"N/A"},{"$f":"CURA_CASOS_HANS!AI9","v":0.9},{"$f":"CURA_CASOS_HANS!N9","v":0},{"$f":"CURA_CASOS_HANS!AH9","v":1},{"$f":"CURA_CASOS_HANS!AJ9","v":"ATINGIU"},{"$f":"SIFILIS_CONG_1ANO!O11","v":0},{"$f":"SIFILIS_CONG_1ANO!N11","v":0},{"$f":"SIFILIS_CONG_1ANO!P11","v":"ATINGIU"},{"$f":"AIDS_MENOR5!P9","v":0},{"$f":"AIDS_MENOR5!O9","v":0},{"$f":"AIDS_MENOR5!Q9","v":"ATINGIU"},{"$f":"METAS!L9","v":0.6},{"$f":"ANALISE_AGUA_2017!J10","v":0.18634259259259259},{"$f":"ANALISE_AGUA_2017!L10","v":"NÃO ATINGIU"},{"$f":"CITOPATOLOGICO!AH9","v":0.56000000000000005},{"$f":"CITOPATOLOGICO!W9","v":91},{"$f":"CITOPATOLOGICO!AG9","v":0.1653543307086614},{"$f":"CITOPATOLOGICO!AL9","v":"NÃO ATINGIU"},{"$f":"MAMOGRAFIA!AE9","v":0.28000000000000003},{"$f":"MAMOGRAFIA!U9","v":149},{"$f":"MAMOGRAFIA!AD9","v":0.65},{"$f":"MAMOGRAFIA!AG9","v":"ATINGIU"},{"$f":"PARTO_NORMAL!AI9","v":0.8},{"$f":"PARTO_NORMAL!X9","v":77},{"$f":"PARTO_NORMAL!AH9","v":0.60629921259842523},{"$f":"PARTO_NORMAL!AJ9","v":"NÃO ATINGIU"},{"$f":"MAES_ADOLESC!AO9","v":0.24489999999999998},{"$f":"MAES_ADOLESC!AB9","v":37},{"$f":"MAES_ADOLESC!AN9","v":0.29133858267716534},{"$f":"MAES_ADOLESC!AP9","v":"NÃO ATINGIU"},{"$f":"MORT_INF!AI9","v":1},{"$f":"MORT_INF!X9","v":0},{"$f":"MORT_INF!AH9","v":0},{"$f":"MORT_INF!AJ9","v":"ATINGIU"},{"$f":"OBITOS_MATERNOS!AI9","v":1},{"$f":"OBITOS_MATERNOS!X9","v":0},{"$f":"OBITOS_MATERNOS!AJ9","v":"ATINGIU"},{"$f":"COBERTURA_AB!N16","v":1},{"$f":"COBERTURA_AB!M16","v":1},{"$f":"COBERTURA_AB!O16","v":"ATINGIU"},0.95,{"$f":"PBF_ACOMP_2017!F14","v":1152},{"$f":"PBF_ACOMP_2017!G14","v":0.97627118644067801},{"$f":"PBF_ACOMP_2017!I14","v":"ATINGIU"},{"$f":"COBETURA_SB!M17","v":1},{"$f":"COBETURA_SB!L17","v":1},{"$f":"COBETURA_SB!N17","v":"ATINGIU"},{"$f":"AÇOES_VIGIL!N11","v":1},{"$f":"AÇOES_VIGIL!M11","v":0},{"$f":"AÇOES_VIGIL!O11","v":"NÃO ATINGIU"},{"$f":"MATRICIAMENTO_CAPS!K9","v":"N/A"},{"$f":"MATRICIAMENTO_CAPS!H9","v":"N/A"},{"$f":"MATRICIAMENTO_CAPS!J9","v":"N/A"},{"$f":"MATRICIAMENTO_CAPS!L9","v":"N/A"},{"$f":"CICLO_DENGUE!H11","v":4},{"$f":"CICLO_DENGUE!G11","v":1},{"$f":"CICLO_DENGUE!I11","v":"NÃO ATINGIU"},{"$f":"NOT_AC_TRAB_OCUP!M9","v":0.95},{"$f":"NOT_AC_TRAB_OCUP!L9","v":"N/A"},{"$f":"NOT_AC_TRAB_OCUP!N9","v":"N/A"},10,9,0.52631578947368418]
[280100,"ITABAIANA","CAMPO DO BRITO",{"$f":"OBITOS_PREMATUROS!D10","v":17851},{"$f":"OBITOS_PREMATUROS!AH10","v":15},{"$f":"OBITOS_PREMATUROS!W10","v":26},{"$f":"OBITOS_PREMATUROS!AG10","v":338.80635913474072},{"$f":"OBITOS_PREMATUROS!AI10","v":"NÃO ATINGIU"},{"$f":"OBITOS_MIF!AI10","v":0.95},{"$f":"OBITOS_MIF!N10","v":6},{"$f":"OBITOS_MIF!X10","v":6},{"$f":"OBITOS_MIF!AH10","v":1},{"$f":"OBITOS_MIF!AJ10","v":"ATINGIU"},{"$f":"OBITOS_CAUSAS!AI10","v":0.95},{"$f":"OBITOS_CAUSAS!N10","v":108},{"$f":"OBITOS_CAUSAS!AH10","v":0.90756302521008403},{"$f":"OBITOS_CAUSAS!AJ10","v":"NÃO ATINGIU"},{"$f":"METAS!G10","v":1},0,"NÃO ATINGIU",{"$f":"METAS!H10","v":0.85},"S/C",{"$f":"IF(Tabela13[[#This Row],[05 %DE CASOS DOENÇAS NOT COMP IMEDIATA]]=\"S/C\",\"N/A\",IF(V10>=U10,\"ATINGIU\",\"NÃO ATINGIU\"))","v":"N/A"},{"$f":"CURA_CASOS_HANS!AI10","v":0.9},{"$f":"CURA_CASOS_HANS!N10","v":0},{"$f":"CURA_CASOS_HANS!AH10","v":1},{"$f":"CURA_CASOS_HANS!AJ10","v":"ATINGIU"},{"$f":"SIFILIS_CONG_1ANO!O12","v":1},{"$f":"SIFILIS_CONG_1ANO!N12","v":1},{"$f":"SIFILIS_CONG_1ANO!P12","v":"ATINGIU"},{"$f":"AIDS_MENOR5!P10","v":0},{"$f":"AIDS_MENOR5!O10","v":0},{"$f":"AIDS_MENOR5!Q10","v":"ATINGIU"},{"$f":"METAS!L10","v":1},{"$f":"ANALISE_AGUA_2017!J11","v":1.0098958333333332},{"$f":"ANALISE_AGUA_2017!L11","v":"ATINGIU"},{"$f":"CITOPATOLOGICO!AH10","v":0.57999999999999996},{"$f":"CITOPATOLOGICO!W10","v":445},{"$f":"CITOPATOLOGICO!AG10","v":0.30382339553937188},{"$f":"CITOPATOLOGICO!AL10","v":"NÃO ATINGIU"},{"$f":"MAMOGRAFIA!AE10","v":0.2},{"$f":"MAMOGRAFIA!U10","v":60},{"$f":"MAMOGRAFIA!AD10","v":0.09},{"$f":"MAMOGRAFIA!AG10","v":"NÃO ATINGIU"},{"$f":"PARTO_NORMAL!AI10","v":0.64},{"$f":"PARTO_NORMAL!X10","v":148},{"$f":"PARTO_NORMAL!AH10","v":0.59437751004016059},{"$f":"PARTO_NORMAL!AJ10","v":"NÃO ATINGIU"},{"$f":"MAES_ADOLESC!AO10","v":0.2},{"$f":"MAES_ADOLESC!AB10","v":56},{"$f":"MAES_ADOLESC!AN10","v":0.22489959839357429},{"$f":"MAES_ADOLESC!AP10","v":"NÃO ATINGIU"},{"$f":"MORT_INF!AI10","v":2},{"$f":"MORT_INF!X10","v":0},{"$f":"MORT_INF!AH10","v":0},{"$f":"MORT_INF!AJ10","v":"ATINGIU"},{"$f":"OBITOS_MATERNOS!AI10","v":0},{"$f":"OBITOS_MATERNOS!X10","v":0},{"$f":"OBITOS_MATERNOS!AJ10","v":"ATINGIU"},{"$f":"COBERTURA_AB!N17","v":1},{"$f":"COBERTURA_AB!M17","v":1},{"$f":"COBERTURA_AB!O17","v":"ATINGIU"},0.8,{"$f":"PBF_ACOMP_2017!F15","v":1744},{"$f":"PBF_ACOMP_2017!G15","v":0.86293913904007913},{"$f":"PBF_ACOMP_2017!I15","v":"ATINGIU"},{"$f":"COBETURA_SB!M18","v":1},{"$f":"COBETURA_SB!L18","v":1},{"$f":"COBETURA_SB!N18","v":"ATINGIU"},{"$f":"AÇOES_VIGIL!N12","v":1},{"$f":"AÇOES_VIGIL!M12","v":1},{"$f":"AÇOES_VIGIL!O12","v":"ATINGIU"},{"$f":"MATRICIAMENTO_CAPS!K10","v":1},{"$f":"MATRICIAMENTO_CAPS!H10","v":0},{"$f":"MATRICIAMENTO_CAPS!J10","v":0},{"$f":"MATRICIAMENTO_CAPS!L10","v":"NÃO ATINGIU"},{"$f":"CICLO_DENGUE!H12","v":4},{"$f":"CICLO_DENGUE!G12","v":1},{"$f":"CICLO_DENGUE!I12","v":"NÃO ATINGIU"},{"$f":"NOT_AC_TRAB_OCUP!M10","v":0.95},{"$f":"NOT_AC_TRAB_OCUP!L10","v":1},{"$f":"NOT_AC_TRAB_OCUP!N10","v":"ATINGIU"},12,9,0.5714285714285714]
[280110,"PROPRIA","CANHOBA",{"$f":"OBITOS_PREMATUROS!D11","v":4059},{"$f":"OBITOS_PREMATUROS!AH11","v":6},{"$f":"OBITOS_PREMATUROS!W11","v":3},{"$f":"OBITOS_PREMATUROS!AG11","v":187.61726078799251},{"$f":"OBITOS_PREMATUROS!AI11","v":"ATINGIU"},{"$f":"OBITOS_MIF!AI11","v":1},{"$f":"OBITOS_MIF!N11","v":0},{"$f":"OBITOS_MIF!X11","v":"S/C"},{"$f":"OBITOS_MIF!AH11","v":"S/C"},{"$f":"OBITOS_MIF!AJ11","v":"N/A"},{"$f":"OBITOS_CAUSAS!AI11","v":0.95},{"$f":"OBITOS_CAUSAS!N11","v":21},{"$f":"OBITOS_CAUSAS!AH11","v":0.95454545454545459},{"$f":"OBITOS_CAUSAS!AJ11","v":"ATINGIU"},{"$f":"METAS!G11","v":0.75},0,"NÃO ATINGIU",{"$f":"METAS!H11","v":0.85},0,{"$f":"IF(Tabela13[[#This Row],[05 %DE CASOS DOENÇAS NOT COMP IMEDIATA]]=\"S/C\",\"N/A\",IF(V11>=U11,\"ATINGIU\",\"NÃO ATINGIU\"))","v":"NÃO ATINGIU"},{"$f":"CURA_CASOS_HANS!AI11","v":1},{"$f":"CURA_CASOS_HANS!N11","v":0},{"$f":"CURA_CASOS_HANS!AH11","v":1},{"$f":"CURA_CASOS_HANS!AJ11","v":"ATINGIU"},{"$f":"SIFILIS_CONG_1ANO!O13","v":0},{"$f":"SIFILIS_CONG_1ANO!N13","v":0},{"$f":"SIFILIS_CONG_1ANO!P13","v":"ATINGIU"},{"$f":"AIDS_MENOR5!P11","v":0},{"$f":"AIDS_MENOR5!O11","v":0},{"$f":"AIDS_MENOR5!Q11","v":"ATINGIU"},{"$f":"METAS!L11","v":0.3},{"$f":"ANALISE_AGUA_2017!J12","v":0.46440972222222215},{"$f":"ANALISE_AGUA_2017!L12","v":"ATINGIU"},{"$f":"CITOPATOLOGICO!AH11","v":0.65},{"$f":"CITOPATOLOGICO!W11","v":122},{"$f":"CITOPATOLOGICO!AG11","v":0.42459396751740142},{"$f":"CITOPATOLOGICO!AL11","v":"NÃO ATINGIU"},{"$f":"MAMOGRAFIA!AE11","v":0.1},{"$f":"MAMOGRAFIA!U11","v":79},{"$f":"MAMOGRAFIA!AD11","v":0.62},{"$f":"MAMOGRAFIA!AG11","v":"ATINGIU"},{"$f":"PARTO_NORMAL!AI11","v":0.7},{"$f":"PARTO_NORMAL!X11","v":38},{"$f":"PARTO_NORMAL!AH11","v":0.62295081967213117},{"$f":"PARTO_NORMAL!AJ11","v":"NÃO ATINGIU"},{"$f":"MAES_ADOLESC!AO11","v":0.25},{"$f":"MAES_ADOLESC!AB11","v":13},{"$f":"MAES_ADOLESC!AN11","v":0.21311475409836064},{"$f":"MAES_ADOLESC!AP11","v":"ATINGIU"},{"$f":"MORT_INF!AI11","v":1},{"$f":"MORT_INF!X11","v":2},{"$f":"MORT_INF!AH11","v":32.786885245901644},{"$f":"MORT_INF!AJ11","v":"NÃO ATINGIU"},{"$f":"OBITOS_MATERNOS!AI11","v":0},{"$f":"OBITOS_MATERNOS!X11","v":0},{"$f":"OBITOS_MATERNOS!AJ11","v":"ATINGIU"},{"$f":"COBERTURA_AB!N18","v":1},{"$f":"COBERTURA_AB!M18","v":1},{"$f":"COBERTURA_AB!O18","v":"ATINGIU"},0.96,{"$f":"PBF_ACOMP_2017!F16","v":669},{"$f":"PBF_ACOMP_2017!G16","v":0.88375165125495381},{"$f":"PBF_ACOMP_2017!I16","v":"NÃO ATINGIU"},{"$f":"COBETURA_SB!M19","v":0.75},{"$f":"COBETURA_SB!L19","v":1},{"$f":"COBETURA_SB!N19","v":"ATINGIU"},{"$f":"AÇOES_VIGIL!N13","v":1},{"$f":"AÇOES_VIGIL!M13","v":0.66666666666666663},{"$f":"AÇOES_VIGIL!O13","v":"NÃO ATINGIU"},{"$f":"MATRICIAMENTO_CAPS!K11","v":"N/A"},{"$f":"MATRICIAMENTO_CAPS!H11","v":"N/A"},{"$f":"MATRICIAMENTO_CAPS!J11","v":"N/A"},{"$f":"MATRICIAMENTO_CAPS!L11","v":"N/A"},{"$f":"CICLO_DENGUE!H13","v":4},{"$f":"CICLO_DENGUE!G13","v":3},{"$f":"CICLO_DENGUE!I13","v":"NÃO ATINGIU"},{"$f":"NOT_AC_TRAB_OCUP!M11","v":0.95},{"$f":"NOT_AC_TRAB_OCUP!L11","v":0},{"$f":"NOT_AC_TRAB_OCUP!N11","v":"NÃO ATINGIU"},11,9,0.55000000000000004]
[280120,"GLORIA","CANINDE DE SÃO FRANCISCO",{"$f":"OBITOS_PREMATUROS!D12","v":28279},{"$f":"OBITOS_PREMATUROS!AH12","v":22},{"$f":"OBITOS_PREMATUROS!W12","v":27},{"$f":"OBITOS_PREMATUROS!AG12","v":259.91528686946481},{"$f":"OBITOS_PREMATUROS!AI12","v":"NÃO ATINGIU"},{"$f":"OBITOS_MIF!AI12","v":0.9},{"$f":"OBITOS_MIF!N12","v":7},{"$f":"OBITOS_MIF!X12","v":6},{"$f":"OBITOS_MIF!AH12","v":0.8571428571428571},{"$f":"OBITOS_MIF!AJ12","v":"NÃO ATINGIU"},{"$f":"OBITOS_CAUSAS!AI12","v":0.95},{"$f":"OBITOS_CAUSAS!N12","v":124},{"$f":"OBITOS_CAUSAS!AH12","v":0.91851851851851851},{"$f":"OBITOS_CAUSAS!AJ12","v":"NÃO ATINGIU"},{"$f":"METAS!G12","v":1},0.25,"NÃO ATINGIU",{"$f":"METAS!H12","v":0.85},1,{"$f":"IF(Tabela13[[#This Row],[05 %DE CASOS DOENÇAS NOT COMP IMEDIATA]]=\"S/C\",\"N/A\",IF(V12>=U12,\"ATINGIU\",\"NÃO ATINGIU\"))","v":"ATINGIU"},{"$f":"CURA_CASOS_HANS!AI12","v":0.95},{"$f":"CURA_CASOS_HANS!N12","v":0},{"$f":"CURA_CASOS_HANS!AH12","v":1},{"$f":"CURA_CASOS_HANS!AJ12","v":"ATINGIU"},{"$f":"SIFILIS_CONG_1ANO!O14","v":1},{"$f":"SIFILIS_CONG_1ANO!N14","v":4},{"$f":"SIFILIS_CONG_1ANO!P14","v":"NÃO ATINGIU"},{"$f":"AIDS_MENOR5!P12","v":0},{"$f":"AIDS_MENOR5!O12","v":0},{"$f":"AIDS_MENOR5!Q12","v":"ATINGIU"},{"$f":"METAS!L12","v":0.7},{"$f":"ANALISE_AGUA_2017!J13","v":0.81727430555555547},{"$f":"ANALISE_AGUA_2017!L13","v":"ATINGIU"},{"$f":"CITOPATOLOGICO!AH12","v":0.6},{"$f":"CITOPATOLOGICO!W12","v":379},{"$f":"CITOPATOLOGICO!AG12","v":0.18436841251824226},{"$f":"CITOPATOLOGICO!AL12","v":"NÃO ATINGIU"},{"$f":"MAMOGRAFIA!AE12","v":0.22},{"$f":"MAMOGRAFIA!U12","v":29},{"$f":"MAMOGRAFIA!AD12","v":0.04},{"$f":"MAMOGRAFIA!AG12","v":"NÃO ATINGIU"},{"$f":"PARTO_NORMAL!AI12","v":0.7},{"$f":"PARTO_NORMAL!X12","v":394},{"$f":"PARTO_NORMAL!AH12","v":0.70357142857142863},{"$f":"PARTO_NORMAL!AJ12","v":"ATINGIU"},{"$f":"MAES_ADOLESC!AO12","v":0.26},{"$f":"MAES_ADOLESC!AB12","v":148},{"$f":"MAES_ADOLESC!AN12","v":0.26428571428571429},{"$f":"MAES_ADOLESC!AP12","v":"NÃO ATINGIU"},{"$f":"MORT_INF!AI12","v":8},{"$f":"MORT_INF!X12","v":6},{"$f":"MORT_INF!AH12","v":10.714285714285714},{"$f":"MORT_INF!AJ12","v":"ATINGIU"},{"$f":"OBITOS_MATERNOS!AI12","v":0},{"$f":"OBITOS_MATERNOS!X12","v":0},{"$f":"OBITOS_MATERNOS!AJ12","v":"ATINGIU"},{"$f":"COBERTURA_AB!N19","v":1},{"$f":"COBERTURA_AB!M19","v":1},{"$f":"COBERTURA_AB!O19","v":"ATINGIU"},0.75,{"$f":"PBF_ACOMP_2017!F17","v":2878},{"$f":"PBF_ACOMP_2017!G17","v":0.68868150275185447},{"$f":"PBF_ACOMP_2017!I17","v":"NÃO ATINGIU"},{"$f":"COBETURA_SB!M20","v":0.97599999999999998},{"$f":"COBETURA_SB!L20","v":0.95730000000000004},{"$f":"COBETURA_SB!N20","v":"NÃO ATINGIU"},{"$f":"AÇOES_VIGIL!N14","v":1},{"$f":"AÇOES_VIGIL!M14","v":1},{"$f":"AÇOES_VIGIL!O14","v":"ATINGIU"},{"$f":"MATRICIAMENTO_CAPS!K12","v":1},{"$f":"MATRICIAMENTO_CAPS!H12","v":0},{"$f":"MATRICIAMENTO_CAPS!J12","v":0},{"$f":"MATRICIAMENTO_CAPS!L12","v":"NÃO ATINGIU"},{"$f":"CICLO_DENGUE!H14","v":4},{"$f":"CICLO_DENGUE!G14","v":0},{"$f":"CICLO_DENGUE!I14","v":"NÃO ATINGIU"},{"$f":"NOT_AC_TRAB_OCUP!M12","v":0.97599999999999998},{"$f":"NOT_AC_TRAB_OCUP!L12","v":0.9285714285714286},{"$f":"NOT_AC_TRAB_OCUP!N12","v":"NÃO ATINGIU"},9,13,0.40909090909090912]
[280130,"SOCORRO","CAPELA",{"$f":"OBITOS_PREMATUROS!D13","v":33378},{"$f":"OBITOS_PREMATUROS!AH13","v":36},{"$f":"OBITOS_PREMATUROS!W13","v":43},{"$f":"OBITOS_PREMATUROS!AG13","v":323.60024081878385},{"$f":"OBITOS_PREMATUROS!AI13","v":"NÃO ATINGIU"},{"$f":"OBITOS_MIF!AI13","v":0.9},{"$f":"OBITOS_MIF!N13","v":8},{"$f":"OBITOS_MIF!X13","v":6},{"$f":"OBITOS_MIF!AH13","v":0.75},{"$f":"OBITOS_MIF!AJ13","v":"NÃO ATINGIU"},{"$f":"OBITOS_CAUSAS!AI13","v":0.9},{"$f":"OBITOS_CAUSAS!N13","v":187},{"$f":"OBITOS_CAUSAS!AH13","v":0.82743362831858402},{"$f":"OBITOS_CAUSAS!AJ13","v":"NÃO ATINGIU"},{"$f":"METAS!G13","v":0.95},0,"NÃO ATINGIU",{"$f":"METAS!H13","v":1},"S/C",{"$f":"IF(Tabela13[[#This Row],[05 %DE CASOS DOENÇAS NOT COMP IMEDIATA]]=\"S/C\",\"N/A\",IF(V13>=U13,\"ATINGIU\",\"NÃO ATINGIU\"))","v":"N/A"},{"$f":"CURA_CASOS_HANS!AI13","v":0.85},{"$f":"CURA_CASOS_HANS!N13","v":0},{"$f":"CURA_CASOS_HANS!AH13","v":1},{"$f":"CURA_CASOS_HANS!AJ13","v":"ATINGIU"},{"$f":"SIFILIS_CONG_1ANO!O15","v":5},{"$f":"SIFILIS_CONG_1ANO!N15","v":5},{"$f":"SIFILIS_CONG_1ANO!P15","v":"ATINGIU"},{"$f":"AIDS_MENOR5!P13","v":0},{"$f":"AIDS_MENOR5!O13","v":0},{"$f":"AIDS_MENOR5!Q13","v":"ATINGIU"},{"$f":"METAS!L13","v":1},{"$f":"ANALISE_AGUA_2017!J14","v":0.77907986111111116},{"$f":"ANALISE_AGUA_2017!L14","v":"NÃO ATINGIU"},{"$f":"CITOPATOLOGICO!AH13","v":0.57999999999999996},{"$f":"CITOPATOLOGICO!W13","v":1080},{"$f":"CITOPATOLOGICO!AG13","v":0.42220484753713838},{"$f":"CITOPATOLOGICO!AL13","v":"NÃO ATINGIU"},{"$f":"MAMOGRAFIA!AE13","v":0.1},{"$f":"MAMOGRAFIA!U13","v":262},{"$f":"MAMOGRAFIA!AD13","v":0.24},{"$f":"MAMOGRAFIA!AG13","v":"ATINGIU"},{"$f":"PARTO_NORMAL!AI13","v":0.68},{"$f":"PARTO_NORMAL!X13","v":338},{"$f":"PARTO_NORMAL!AH13","v":0.63295880149812733},{"$f":"PARTO_NORMAL!AJ13","v":"NÃO ATINGIU"},{"$f":"MAES_ADOLESC!AO13","v":0.26200000000000001},{"$f":"MAES_ADOLESC!AB13","v":121},{"$f":"MAES_ADOLESC!AN13","v":0.22659176029962547},{"$f":"MAES_ADOLESC!AP13","v":"ATINGIU"},{"$f":"MORT_INF!AI13","v":5},{"$f":"MORT_INF!X13","v":8},{"$f":"MORT_INF!AH13","v":14.9812734082397},{"$f":"MORT_INF!AJ13","v":"NÃO ATINGIU"},{"$f":"OBITOS_MATERNOS!AI13","v":0},{"$f":"OBITOS_MATERNOS!X13","v":1},{"$f":"OBITOS_MATERNOS!AJ13","v":"NÃO ATINGIU"},{"$f":"COBERTURA_AB!N20","v":1},{"$f":"COBERTURA_AB!M20","v":1},{"$f":"COBERTURA_AB!O20","v":"ATINGIU"},0.73,{"$f":"PBF_ACOMP_2017!F18","v":3481},{"$f":"PBF_ACOMP_2017!G18","v":0.82332071901608328},{"$f":"PBF_ACOMP_2017!I18","v":"ATINGIU"},{"$f":"COBETURA_SB!M21","v":0.93040000000000012},{"$f":"COBETURA_SB!L21","v":1},{"$f":"COBETURA_SB!N21","v":"ATINGIU"},{"$f":"AÇOES_VIGIL!N15","v":1},{"$f":"AÇOES_VIGIL!M15","v":0.83333333333333337},{"$f":"AÇOES_VIGIL!O15","v":"NÃO ATINGIU"},{"$f":"MATRICIAMENTO_CAPS!K13","v":"N/A"},{"$f":"MATRICIAMENTO_CAPS!H13","v":"N/A"},{"$f":"MATRICIAMENTO_CAPS!J13","v":"N/A"},{"$f":"MATRICIAMENTO_CAPS!L13","v":"N/A"},{"$f":"CICLO_DENGUE!H15","v":4},{"$f":"CICLO_DENGUE!G15","v":2},{"$f":"CICLO_DENGUE!I15","v":"NÃO ATINGIU"},{"$f":"NOT_AC_TRAB_OCUP!M13","v":0.95},{"$f":"NOT_AC_TRAB_OCUP!L13","v":1},{"$f":"NOT_AC_TRAB_OCUP!N13","v":"ATINGIU"},9,11,0.45]
[280140,"ITABAIANA","CARIRA",{"$f":"OBITOS_PREMATUROS!D14","v":21487},{"$f":"OBITOS_PREMATUROS!AH14","v":24},{"$f":"OBITOS_PREMATUROS!W14","v":15},{"$f":"OBITOS_PREMATUROS!AG14","v":166.46321163022972},{"$f":"OBITOS_PREMATUROS!AI14","v":"ATINGIU"},{"$f":"OBITOS_MIF!AI14","v":0.95},{"$f":"OBITOS_MIF!N14","v":3},{"$f":"OBITOS_MIF!X14","v":0},{"$f":"OBITOS_MIF!AH14","v":0},{"$f":"OBITOS_MIF!AJ14","v":"NÃO ATINGIU"},{"$f":"OBITOS_CAUSAS!AI14","v":0.95},{"$f":"OBITOS_CAUSAS!N14","v":107},{"$f":"OBITOS_CAUSAS!AH14","v":0.75352112676056338},{"$f":"OBITOS_CAUSAS!AJ14","v":"NÃO ATINGIU"},{"$f":"METAS!G14","v":1},0,"NÃO ATINGIU",{"$f":"METAS!H14","v":0.85},"S/C",{"$f":"IF(Tabela13[[#This Row],[05 %DE CASOS DOENÇAS NOT COMP IMEDIATA]]=\"S/C\",\"N/A\",IF(V14>=U14,\"ATINGIU\",\"NÃO ATINGIU\"))","v":"N/A"},{"$f":"CURA_CASOS_HANS!AI14","v":0.9},{"$f":"CURA_CASOS_HANS!N14","v":0},{"$f":"CURA_CASOS_HANS!AH14","v":1},{"$f":"CURA_CASOS_HANS!AJ14","v":"ATINGIU"},{"$f":"SIFILIS_CONG_1ANO!O16","v":1},{"$f":"SIFILIS_CONG_1ANO!N16","v":0},{"$f":"SIFILIS_CONG_1ANO!P16","v":"ATINGIU"},{"$f":"AIDS_MENOR5!P14","v":0},{"$f":"AIDS_MENOR5!O14","v":0},{"$f":"AIDS_MENOR5!Q14","v":"ATINGIU"},{"$f":"METAS!L14","v":0.8},{"$f":"ANALISE_AGUA_2017!J15","v":0.69270833333333326},{"$f":"ANALISE_AGUA_2017!L15","v":"NÃO ATINGIU"},{"$f":"CITOPATOLOGICO!AH14","v":0.57999999999999996},{"$f":"CITOPATOLOGICO!W14","v":465},{"$f":"CITOPATOLOGICO!AG14","v":0.27187682712921457},{"$f":"CITOPATOLOGICO!AL14","v":"NÃO ATINGIU"},{"$f":"MAMOGRAFIA!AE14","v":0.17},{"$f":"MAMOGRAFIA!U14","v":264},{"$f":"MAMOGRAFIA!AD14","v":0.32},{"$f":"MAMOGRAFIA!AG14","v":"ATINGIU"},{"$f":"PARTO_NORMAL!AI14","v":0.62},{"$f":"PARTO_NORMAL!X14","v":178},{"$f":"PARTO_NORMAL!AH14","v":0.61805555555555558},{"$f":"PARTO_NORMAL!AJ14","v":"NÃO ATINGIU"},{"$f":"MAES_ADOLESC!AO14","v":0.21},{"$f":"MAES_ADOLESC!AB14","v":64},{"$f":"MAES_ADOLESC!AN14","v":0.22222222222222221},{"$f":"MAES_ADOLESC!AP14","v":"NÃO ATINGIU"},{"$f":"MORT_INF!AI14","v":4},{"$f":"MORT_INF!X14","v":2},{"$f":"MORT_INF!AH14","v":6.9444444444444438},{"$f":"MORT_INF!AJ14","v":"ATINGIU"},{"$f":"OBITOS_MATERNOS!AI14","v":0},{"$f":"OBITOS_MATERNOS!X14","v":0},{"$f":"OBITOS_MATERNOS!AJ14","v":"ATINGIU"},{"$f":"COBERTURA_AB!N21","v":1},{"$f":"COBERTURA_AB!M21","v":1},{"$f":"COBERTURA_AB!O21","v":"ATINGIU"},0.86,{"$f":"PBF_ACOMP_2017!F19","v":2658},{"$f":"PBF_ACOMP_2017!G19","v":0.80084362759867433},{"$f":"PBF_ACOMP_2017!I19","v":"NÃO ATINGIU"},{"$f":"COBETURA_SB!M22","v":0.32119999999999999},{"$f":"COBETURA_SB!L22","v":0.15920000000000001},{"$f":"COBETURA_SB!N22","v":"NÃO ATINGIU"},{"$f":"AÇOES_VIGIL!N16","v":1},{"$f":"AÇOES_VIGIL!M16","v":0.83333333333333337},{"$f":"AÇOES_VIGIL!O16","v":"NÃO ATINGIU"},{"$f":"MATRICIAMENTO_CAPS!K14","v":1},{"$f":"MATRICIAMENTO_CAPS!H14","v":1},{"$f":"MATRICIAMENTO_CAPS!J14","v":1},{"$f":"MATRICIAMENTO_CAPS!L14","v":"ATINGIU"},{"$f":"CICLO_DENGUE!H16","v":6},{"$f":"CICLO_DENGUE!G16","v":2},{"$f":"CICLO_DENGUE!I16","v":"NÃO ATINGIU"},{"$f":"NOT_AC_TRAB_OCUP!M14","v":0.95},{"$f":"NOT_AC_TRAB_OCUP!L14","v":1},{"$f":"NOT_AC_TRAB_OCUP!N14","v":"ATINGIU"},10,11,0.47619047619047616]
[280150,"SOCORRO","CARMOPOLIS",{"$f":"OBITOS_PREMATUROS!D15","v":15621},{"$f":"OBITOS_PREMATUROS!AH15","v":20},{"$f":"OBITOS_PREMATUROS!W15","v":15},{"$f":"OBITOS_PREMATUROS!AG15","v":251.55123260103977},{"$f":"OBITOS_PREMATUROS!AI15","v":"ATINGIU"},{"$f":"OBITOS_MIF!AI15","v":0.9},{"$f":"OBITOS_MIF!N15","v":8},{"$f":"OBITOS_MIF!X15","v":6},{"$f":"OBITOS_MIF!AH15","v":0.75},{"$f":"OBITOS_MIF!AJ15","v":"NÃO ATINGIU"},{"$f":"OBITOS_CAUSAS!AI15","v":0.95},{"$f":"OBITOS_CAUSAS!N15","v":82},{"$f":"OBITOS_CAUSAS!AH15","v":0.94252873563218387},{"$f":"OBITOS_CAUSAS!AJ15","v":"NÃO ATINGIU"},{"$f":"METAS!G15","v":1},0,"NÃO ATINGIU",{"$f":"METAS!H15","v":0.85},"S/C",{"$f":"IF(Tabela13[[#This Row],[05 %DE CASOS DOENÇAS NOT COMP IMEDIATA]]=\"S/C\",\"N/A\",IF(V15>=U15,\"ATINGIU\",\"NÃO ATINGIU\"))","v":"N/A"},{"$f":"CURA_CASOS_HANS!AI15","v":0.91},{"$f":"CURA_CASOS_HANS!N15","v":0},{"$f":"CURA_CASOS_HANS!AH15","v":"SC"},{"$f":"CURA_CASOS_HANS!AJ15","v":"N/A"},{"$f":"SIFILIS_CONG_1ANO!O17","v":1},{"$f":"SIFILIS_CONG_1ANO!N17","v":2},{"$f":"SIFILIS_CONG_1ANO!P17","v":"NÃO ATINGIU"},{"$f":"AIDS_MENOR5!P15","v":0},{"$f":"AIDS_MENOR5!O15","v":0},{"$f":"AIDS_MENOR5!Q15","v":"ATINGIU"},{"$f":"METAS!L15","v":0.5},{"$f":"ANALISE_AGUA_2017!J16","v":1.0572916666666665},{"$f":"ANALISE_AGUA_2017!L16","v":"ATINGIU"},{"$f":"CITOPATOLOGICO!AH15","v":0.45},{"$f":"CITOPATOLOGICO!W15","v":377},{"$f":"CITOPATOLOGICO!AG15","v":0.30321715817694372},{"$f":"CITOPATOLOGICO!AL15","v":"NÃO ATINGIU"},{"$f":"MAMOGRAFIA!AE15","v":0.35},{"$f":"MAMOGRAFIA!U15","v":272},{"$f":"MAMOGRAFIA!AD15","v":0.62},{"$f":"MAMOGRAFIA!AG15","v":"ATINGIU"},{"$f":"PARTO_NORMAL!AI15","v":0.65},{"$f":"PARTO_NORMAL!X15","v":145},{"$f":"PARTO_NORMAL!AH15","v":0.52158273381294962},{"$f":"PARTO_NORMAL!AJ15","v":"NÃO ATINGIU"},{"$f":"MAES_ADOLESC!AO15","v":0.25},{"$f":"MAES_ADOLESC!AB15","v":65},{"$f":"MAES_ADOLESC!AN15","v":0.23381294964028776},{"$f":"MAES_ADOLESC!AP15","v":"ATINGIU"},{"$f":"MORT_INF!AI15","v":5},{"$f":"MORT_INF!X15","v":3},{"$f":"MORT_INF!AH15","v":10.791366906474821},{"$f":"MORT_INF!AJ15","v":"ATINGIU"},{"$f":"OBITOS_MATERNOS!AI15","v":0},{"$f":"OBITOS_MATERNOS!X15","v":0},{"$f":"OBITOS_MATERNOS!AJ15","v":"ATINGIU"},{"$f":"COBERTURA_AB!N22","v":1},{"$f":"COBERTURA_AB!M22","v":0.98919999999999997},{"$f":"COBERTURA_AB!O22","v":"NÃO ATINGIU"},0.75,{"$f":"PBF_ACOMP_2017!F20","v":1323},{"$f":"PBF_ACOMP_2017!G20","v":0.68407445708376424},{"$f":"PBF_ACOMP_2017!I20","v":"NÃO ATINGIU"},{"$f":"COBETURA_SB!M23","v":0.98},{"$f":"COBETURA_SB!L23","v":1},{"$f":"COBETURA_SB!N23","v":"ATINGIU"},{"$f":"AÇOES_VIGIL!N17","v":1},{"$f":"AÇOES_VIGIL!M17","v":1},{"$f":"AÇOES_VIGIL!O17","v":"ATINGIU"},{"$f":"MATRICIAMENTO_CAPS!K15","v":"N/A"},{"$f":"MATRICIAMENTO_CAPS!H15","v":"N/A"},{"$f":"MATRICIAMENTO_CAPS!J15","v":"N/A"},{"$f":"MATRICIAMENTO_CAPS!L15","v":"N/A"},{"$f":"CICLO_DENGUE!H17","v":5},{"$f":"CICLO_DENGUE!G17","v":3},{"$f":"CICLO_DENGUE!I17","v":"NÃO ATINGIU"},{"$f":"NOT_AC_TRAB_OCUP!M15","v":0.95},{"$f":"NOT_AC_TRAB_OCUP!L15","v":0.5},{"$f":"NOT_AC_TRAB_OCUP!N15","v":"NÃO ATINGIU"},9,10,0.47368421052631576]
[280160,"PROPRIA","CEDRO DE SÃO JOAO",{"$f":"OBITOS_PREMATUROS!D16","v":5890},{"$f":"OBITOS_PREMATUROS!AH16","v":9},{"$f":"OBITOS_PREMATUROS!W16","v":13},{"$f":"OBITOS_PREMATUROS!AG16","v":502.51256281407035},{"$f":"OBITOS_PREMATUROS!AI16","v":"NÃO ATINGIU"},{"$f":"OBITOS_MIF!AI16","v":1},{"$f":"OBITOS_MIF!N16","v":1},{"$f":"OBITOS_MIF!X16","v":0},{"$f":"OBITOS_MIF!AH16","v":0},{"$f":"OBITOS_MIF!AJ16","v":"NÃO ATINGIU"},{"$f":"OBITOS_CAUSAS!AI16","v":0.95},{"$f":"OBITOS_CAUSAS!N16","v":46},{"$f":"OBITOS_CAUSAS!AH16","v":0.92},{"$f":"OBITOS_CAUSAS!AJ16","v":"NÃO ATINGIU"},{"$f":"METAS!G16","v":1},0,"NÃO ATINGIU",{"$f":"METAS!H16","v":0.85},"S/C",{"$f":"IF(Tabela13[[#This Row],[05 %DE CASOS DOENÇAS NOT COMP IMEDIATA]]=\"S/C\",\"N/A\",IF(V16>=U16,\"ATINGIU\",\"NÃO ATINGIU\"))","v":"N/A"},{"$f":"CURA_CASOS_HANS!AI16","v":0.9},{"$f":"CURA_CASOS_HANS!N16","v":0},{"$f":"CURA_CASOS_HANS!AH16","v":1},{"$f":"CURA_CASOS_HANS!AJ16","v":"ATINGIU"},{"$f":"SIFILIS_CONG_1ANO!O18","v":0},{"$f":"SIFILIS_CONG_1ANO!N18","v":1},{"$f":"SIFILIS_CONG_1ANO!P18","v":"NÃO ATINGIU"},{"$f":"AIDS_MENOR5!P16","v":0},{"$f":"AIDS_MENOR5!O16","v":0},{"$f":"AIDS_MENOR5!Q16","v":"ATINGIU"},{"$f":"METAS!L16","v":0.8},{"$f":"ANALISE_AGUA_2017!J17","v":0.59259259259259256},{"$f":"ANALISE_AGUA_2017!L17","v":"NÃO ATINGIU"},{"$f":"CITOPATOLOGICO!AH16","v":0.62},{"$f":"CITOPATOLOGICO!W16","v":200},{"$f":"CITOPATOLOGICO!AG16","v":0.42402826855123671},{"$f":"CITOPATOLOGICO!AL16","v":"NÃO ATINGIU"},{"$f":"MAMOGRAFIA!AE16","v":0.18},{"$f":"MAMOGRAFIA!U16","v":131},{"$f":"MAMOGRAFIA!AD16","v":0.62},{"$f":"MAMOGRAFIA!AG16","v":"ATINGIU"},{"$f":"PARTO_NORMAL!AI16","v":0.61},{"$f":"PARTO_NORMAL!X16","v":24},{"$f":"PARTO_NORMAL!AH16","v":0.33333333333333331},{"$f":"PARTO_NORMAL!AJ16","v":"NÃO ATINGIU"},{"$f":"MAES_ADOLESC!AO16","v":0.17},{"$f":"MAES_ADOLESC!AB16","v":18},{"$f":"MAES_ADOLESC!AN16","v":0.25},{"$f":"MAES_ADOLESC!AP16","v":"NÃO ATINGIU"},{"$f":"MORT_INF!AI16","v":1},{"$f":"MORT_INF!X16","v":1},{"$f":"MORT_INF!AH16","v":13.888888888888888},{"$f":"MORT_INF!AJ16","v":"ATINGIU"},{"$f":"OBITOS_MATERNOS!AI16","v":0},{"$f":"OBITOS_MATERNOS!X16","v":0},{"$f":"OBITOS_MATERNOS!AJ16","v":"ATINGIU"},{"$f":"COBERTURA_AB!N23","v":1},{"$f":"COBERTURA_AB!M23","v":1},{"$f":"COBERTURA_AB!O23","v":"ATINGIU"},0.9,{"$f":"PBF_ACOMP_2017!F21","v":568},{"$f":"PBF_ACOMP_2017!G21","v":0.89308176100628933},{"$f":"PBF_ACOMP_2017!I21","v":"NÃO ATINGIU"},{"$f":"COBETURA_SB!M24","v":1},{"$f":"COBETURA_SB!L24","v":1},{"$f":"COBETURA_SB!N24","v":"ATINGIU"},{"$f":"AÇOES_VIGIL!N18","v":1},{"$f":"AÇOES_VIGIL!M18","v":1},{"$f":"AÇOES_VIGIL!O18","v":"ATINGIU"},{"$f":"MATRICIAMENTO_CAPS!K16","v":"N/A"},{"$f":"MATRICIAMENTO_CAPS!H16","v":"N/A"},{"$f":"MATRICIAMENTO_CAPS!J16","v":"N/A"},{"$f":"MATRICIAMENTO_CAPS!L16","v":"N/A"},{"$f":"CICLO_DENGUE!H18","v":4},{"$f":"CICLO_DENGUE!G18","v":3},{"$f":"CICLO_DENGUE!I18","v":"NÃO ATINGIU"},{"$f":"NOT_AC_TRAB_OCUP!M16","v":0.95},{"$f":"NOT_AC_TRAB_OCUP!L16","v":0},{"$f":"NOT_AC_TRAB_OCUP!N16","v":"NÃO ATINGIU"},8,12,0.4]
[280170,"ESTANCIA","CRISTINAPOLIS",{"$f":"OBITOS_PREMATUROS!D17","v":17911},{"$f":"OBITOS_PREMATUROS!AH17","v":15},{"$f":"OBITOS_PREMATUROS!W17","v":15},{"$f":"OBITOS_PREMATUROS!AG17","v":220.29666617711854},{"$f":"OBITOS_PREMATUROS!AI17","v":"ATINGIU"},{"$f":"OBITOS_MIF!AI17","v":0.9},{"$f":"OBITOS_MIF!N17","v":8},{"$f":"OBITOS_MIF!X17","v":4},{"$f":"OBITOS_MIF!AH17","v":0.5},{"$f":"OBITOS_MIF!AJ17","v":"NÃO ATINGIU"},{"$f":"OBITOS_CAUSAS!AI17","v":0.95},{"$f":"OBITOS_CAUSAS!N17","v":90},{"$f":"OBITOS_CAUSAS!AH17","v":0.8571428571428571},{"$f":"OBITOS_CAUSAS!AJ17","v":"NÃO ATINGIU"},{"$f":"METAS!G17","v":1},0,"NÃO ATINGIU",{"$f":"METAS!H17","v":0.85},1,{"$f":"IF(Tabela13[[#This Row],[05 %DE CASOS DOENÇAS NOT COMP IMEDIATA]]=\"S/C\",\"N/A\",IF(V17>=U17,\"ATINGIU\",\"NÃO ATINGIU\"))","v":"ATINGIU"},{"$f":"CURA_CASOS_HANS!AI17","v":0.9},{"$f":"CURA_CASOS_HANS!N17","v":0},{"$f":"CURA_CASOS_HANS!AH17","v":1},{"$f":"CURA_CASOS_HANS!AJ17","v":"ATINGIU"},{"$f":"SIFILIS_CONG_1ANO!O19","v":2},{"$f":"SIFILIS_CONG_1ANO!N19","v":2},{"$f":"SIFILIS_CONG_1ANO!P19","v":"ATINGIU"},{"$f":"AIDS_MENOR5!P17","v":0},{"$f":"AIDS_MENOR5!O17","v":0},{"$f":"AIDS_MENOR5!Q17","v":"ATINGIU"},{"$f":"METAS!L17","v":0.8},{"$f":"ANALISE_AGUA_2017!J18","v":0.69427083333333317},{"$f":"ANALISE_AGUA_2017!L18","v":"NÃO ATINGIU"},{"$f":"CITOPATOLOGICO!AH17","v":0.55000000000000004},{"$f":"CITOPATOLOGICO!W17","v":266},{"$f":"CITOPATOLOGICO!AG17","v":0.2017699115044248},{"$f":"CITOPATOLOGICO!AL17","v":"NÃO ATINGIU"},{"$f":"MAMOGRAFIA!AE17","v":0.26},{"$f":"MAMOGRAFIA!U17","v":236},{"$f":"MAMOGRAFIA!AD17","v":0.47},{"$f":"MAMOGRAFIA!AG17","v":"ATINGIU"},{"$f":"PARTO_NORMAL!AI17","v":0.65},{"$f":"PARTO_NORMAL!X17","v":190},{"$f":"PARTO_NORMAL!AH17","v":0.63758389261744963},{"$f":"PARTO_NORMAL!AJ17","v":"NÃO ATINGIU"},{"$f":"MAES_ADOLESC!AO17","v":0.26500000000000001},{"$f":"MAES_ADOLESC!AB17","v":71},{"$f":"MAES_ADOLESC!AN17","v":0.23825503355704697},{"$f":"MAES_ADOLESC!AP17","v":"ATINGIU"},{"$f":"MORT_INF!AI17","v":2},{"$f":"MORT_INF!X17","v":4},{"$f":"MORT_INF!AH17","v":13.422818791946309},{"$f":"MORT_INF!AJ17","v":"NÃO ATINGIU"},{"$f":"OBITOS_MATERNOS!AI17","v":0},{"$f":"OBITOS_MATERNOS!X17","v":0},{"$f":"OBITOS_MATERNOS!AJ17","v":"ATINGIU"},{"$f":"COBERTURA_AB!N24","v":1},{"$f":"COBERTURA_AB!M24","v":1},{"$f":"COBERTURA_AB!O24","v":"ATINGIU"},0.83,{"$f":"PBF_ACOMP_2017!F22","v":2138},{"$f":"PBF_ACOMP_2017!G22","v":0.84040880503144655},{"$f":"PBF_ACOMP_2017!I22","v":"ATINGIU"},{"$f":"COBETURA_SB!M25","v":1},{"$f":"COBETURA_SB!L25","v":1},{"$f":"COBETURA_SB!N25","v":"ATINGIU"},{"$f":"AÇOES_VIGIL!N19","v":1},{"$f":"AÇOES_VIGIL!M19","v":0.83333333333333337},{"$f":"AÇOES_VIGIL!O19","v":"NÃO ATINGIU"},{"$f":"MATRICIAMENTO_CAPS!K17","v":1},{"$f":"MATRICIAMENTO_CAPS!H17","v":0},{"$f":"MATRICIAMENTO_CAPS!J17","v":0},{"$f":"MATRICIAMENTO_CAPS!L17","v":"NÃO ATINGIU"},{"$f":"CICLO_DENGUE!H19","v":4},{"$f":"CICLO_DENGUE!G19","v":4},{"$f":"CICLO_DENGUE!I19","v":"ATINGIU"},{"$f":"NOT_AC_TRAB_OCUP!M17","v":1},{"$f":"NOT_AC_TRAB_OCUP!L17","v":1},{"$f":"NOT_AC_TRAB_OCUP!N17","v":"ATINGIU"},13,9,0.59090909090909094]
[280190,"SOCORRO","CUMBE",{"$f":"OBITOS_PREMATUROS!D18","v":3986},{"$f":"OBITOS_PREMATUROS!AH18","v":3},{"$f":"OBITOS_PREMATUROS!W18","v":3},{"$f":"OBITOS_PREMATUROS!AG18","v":168.63406408094434},{"$f":"OBITOS_PREMATUROS!AI18","v":"ATINGIU"},{"$f":"OBITOS_MIF!AI18","v":0.9},{"$f":"OBITOS_MIF!N18","v":0},{"$f":"OBITOS_MIF!X18","v":"S/C"},{"$f":"OBITOS_MIF!AH18","v":"S/C"},{"$f":"OBITOS_MIF!AJ18","v":"N/A"},{"$f":"OBITOS_CAUSAS!AI18","v":0.95},{"$f":"OBITOS_CAUSAS!N18","v":19},{"$f":"OBITOS_CAUSAS!AH18","v":0.95},{"$f":"OBITOS_CAUSAS!AJ18","v":"ATINGIU"},{"$f":"METAS!G18","v":1},0,"NÃO ATINGIU",{"$f":"METAS!H18","v":0.85},"S/C",{"$f":"IF(Tabela13[[#This Row],[05 %DE CASOS DOENÇAS NOT COMP IMEDIATA]]=\"S/C\",\"N/A\",IF(V18>=U18,\"ATINGIU\",\"NÃO ATINGIU\"))","v":"N/A"},{"$f":"CURA_CASOS_HANS!AI18","v":0.9},{"$f":"CURA_CASOS_HANS!N18","v":0},{"$f":"CURA_CASOS_HANS!AH18","v":"SC"},{"$f":"CURA_CASOS_HANS!AJ18","v":"N/A"},{"$f":"SIFILIS_CONG_1ANO!O20","v":0},{"$f":"SIFILIS_CONG_1ANO!N20","v":0},{"$f":"SIFILIS_CONG_1ANO!P20","v":"ATINGIU"},{"$f":"AIDS_MENOR5!P18","v":0},{"$f":"AIDS_MENOR5!O18","v":0},{"$f":"AIDS_MENOR5!Q18","v":"ATINGIU"},{"$f":"METAS!L18","v":0.4},{"$f":"ANALISE_AGUA_2017!J19","v":0.56510416666666663},{"$f":"ANALISE_AGUA_2017!L19","v":"ATINGIU"},{"$f":"CITOPATOLOGICO!AH18","v":0.8},{"$f":"CITOPATOLOGICO!W18","v":223},{"$f":"CITOPATOLOGICO!AG18","v":0.69254658385093171},{"$f":"CITOPATOLOGICO!AL18","v":"NÃO ATINGIU"},{"$f":"MAMOGRAFIA!AE18","v":0.22},{"$f":"MAMOGRAFIA!U18","v":121},{"$f":"MAMOGRAFIA!AD18","v":0.72},{"$f":"MAMOGRAFIA!AG18","v":"ATINGIU"},{"$f":"PARTO_NORMAL!AI18","v":0.65},{"$f":"PARTO_NORMAL!X18","v":42},{"$f":"PARTO_NORMAL!AH18","v":0.75},{"$f":"PARTO_NORMAL!AJ18","v":"ATINGIU"},{"$f":"MAES_ADOLESC!AO18","v":0.2},{"$f":"MAES_ADOLESC!AB18","v":15},{"$f":"MAES_ADOLESC!AN18","v":0.26785714285714285},{"$f":"MAES_ADOLESC!AP18","v":"NÃO ATINGIU"},{"$f":"MORT_INF!AI18","v":0},{"$f":"MORT_INF!X18","v":0},{"$f":"MORT_INF!AH18","v":0},{"$f":"MORT_INF!AJ18","v":"ATINGIU"},{"$f":"OBITOS_MATERNOS!AI18","v":0},{"$f":"OBITOS_MATERNOS!X18","v":0},{"$f":"OBITOS_MATERNOS!AJ18","v":"ATINGIU"},{"$f":"COBERTURA_AB!N25","v":1},{"$f":"COBERTURA_AB!M25","v":1},{"$f":"COBERTURA_AB!O25","v":"ATINGIU"},0.78,{"$f":"PBF_ACOMP_2017!F23","v":549},{"$f":"PBF_ACOMP_2017!G23","v":0.88834951456310685},{"$f":"PBF_ACOMP_2017!I23","v":"ATINGIU"},{"$f":"COBETURA_SB!M26","v":0.86569999999999991},{"$f":"COBETURA_SB!L26","v":1},{"$f":"COBETURA_SB!N26","v":"ATINGIU"},{"$f":"AÇOES_VIGIL!N20","v":1},{"$f":"AÇOES_VIGIL!M20","v":0.16666666666666666},{"$f":"AÇOES_VIGIL!O20","v":"NÃO ATINGIU"},{"$f":"MATRICIAMENTO_CAPS!K18","v":"N/A"},{"$f":"MATRICIAMENTO_CAPS!H18","v":"N/A"},{"$f":"MATRICIAMENTO_CAPS!J18","v":"N/A"},{"$f":"MATRICIAMENTO_CAPS!L18","v":"N/A"},{"$f":"CICLO_DENGUE!H20","v":4},{"$f":"CICLO_DENGUE!G20","v":2},{"$f":"CICLO_DENGUE!I20","v":"NÃO ATINGIU"},{"$f":"NOT_AC_TRAB_OCUP!M18","v":0.95},{"$f":"NOT_AC_TRAB_OCUP!L18","v":0.8},{"$f":"NOT_AC_TRAB_OCUP!N18","v":"NÃO ATINGIU"},12,6,0.66666666666666663]
[280200,"ARACAJU","DIVINA PASTORA",{"$f":"OBITOS_PREMATUROS!D19","v":4889},{"$f":"OBITOS_PREMATUROS!AH19","v":6},{"$f":"OBITOS_PREMATUROS!W19","v":6},{"$f":"OBITOS_PREMATUROS!AG19","v":305.65461029037186},{"$f":"OBITOS_PREMATUROS!AI19","v":"ATINGIU"},{"$f":"OBITOS_MIF!AI19","v":1},{"$f":"OBITOS_MIF!N19","v":2},{"$f":"OBITOS_MIF!X19","v":2},{"$f":"OBITOS_MIF!AH19","v":1},{"$f":"OBITOS_MIF!AJ19","v":"ATINGIU"},{"$f":"OBITOS_CAUSAS!AI19","v":0.95},{"$f":"OBITOS_CAUSAS!N19","v":20},{"$f":"OBITOS_CAUSAS!AH19","v":0.95238095238095233},{"$f":"OBITOS_CAUSAS!AJ19","v":"ATINGIU"},{"$f":"METAS!G19","v":0.9},0,"NÃO ATINGIU",{"$f":"METAS!H19","v":0.85},1,{"$f":"IF(Tabela13[[#This Row],[05 %DE CASOS DOENÇAS NOT COMP IMEDIATA]]=\"S/C\",\"N/A\",IF(V19>=U19,\"ATINGIU\",\"NÃO ATINGIU\"))","v":"ATINGIU"},{"$f":"CURA_CASOS_HANS!AI19","v":1},{"$f":"CURA_CASOS_HANS!N19","v":0},{"$f":"CURA_CASOS_HANS!AH19","v":"SC"},"N/A",{"$f":"SIFILIS_CONG_1ANO!O21","v":0},{"$f":"SIFILIS_CONG_1ANO!N21","v":1},{"$f":"SIFILIS_CONG_1ANO!P21","v":"NÃO ATINGIU"},{"$f":"AIDS_MENOR5!P19","v":0},{"$f":"AIDS_MENOR5!O19","v":0},{"$f":"AIDS_MENOR5!Q19","v":"ATINGIU"},{"$f":"METAS!L19","v":0.9},{"$f":"ANALISE_AGUA_2017!J20","v":0.75607638888888884},{"$f":"ANALISE_AGUA_2017!L20","v":"NÃO ATINGIU"},{"$f":"CITOPATOLOGICO!AH19","v":0.5},{"$f":"CITOPATOLOGICO!W19","v":196},{"$f":"CITOPATOLOGICO!AG19","v":0.52453166815343444},{"$f":"CITOPATOLOGICO!AL19","v":"ATINGIU"},{"$f":"MAMOGRAFIA!AE19","v":0.22},{"$f":"MAMOGRAFIA!U19","v":84},{"$f":"MAMOGRAFIA!AD19","v":0.52},{"$f":"MAMOGRAFIA!AG19","v":"ATINGIU"},{"$f":"PARTO_NORMAL!AI19","v":0.65},{"$f":"PARTO_NORMAL!X19","v":53},{"$f":"PARTO_NORMAL!AH19","v":0.75714285714285712},{"$f":"PARTO_NORMAL!AJ19","v":"ATINGIU"},{"$f":"MAES_ADOLESC!AO19","v":0.23},{"$f":"MAES_ADOLESC!AB19","v":19},{"$f":"MAES_ADOLESC!AN19","v":0.27142857142857141},{"$f":"MAES_ADOLESC!AP19","v":"NÃO ATINGIU"},{"$f":"MORT_INF!AI19","v":2},{"$f":"MORT_INF!X19","v":1},{"$f":"MORT_INF!AH19","v":14.285714285714285},{"$f":"MORT_INF!AJ19","v":"ATINGIU"},{"$f":"OBITOS_MATERNOS!AI19","v":0},{"$f":"OBITOS_MATERNOS!X19","v":0},{"$f":"OBITOS_MATERNOS!AJ19","v":"ATINGIU"},{"$f":"COBERTURA_AB!N26","v":1},{"$f":"COBERTURA_AB!M26","v":1},{"$f":"COBERTURA_AB!O26","v":"ATINGIU"},0.82,{"$f":"PBF_ACOMP_2017!F24","v":470},{"$f":"PBF_ACOMP_2017!G24","v":0.85923217550274222},{"$f":"PBF_ACOMP_2017!I24","v":"ATINGIU"},{"$f":"COBETURA_SB!M27","v":1},{"$f":"COBETURA_SB!L27","v":1},{"$f":"COBETURA_SB!N27","v":"ATINGIU"},{"$f":"AÇOES_VIGIL!N21","v":1},{"$f":"AÇOES_VIGIL!M21","v":1},{"$f":"AÇOES_VIGIL!O21","v":"ATINGIU"},{"$f":"MATRICIAMENTO_CAPS!K19","v":"N/A"},{"$f":"MATRICIAMENTO_CAPS!H19","v":"N/A"},{"$f":"MATRICIAMENTO_CAPS!J19","v":"N/A"},{"$f":"MATRICIAMENTO_CAPS!L19","v":"N/A"},{"$f":"CICLO_DENGUE!H21","v":4},{"$f":"CICLO_DENGUE!G21","v":1},{"$f":"CICLO_DENGUE!I21","v":"NÃO ATINGIU"},{"$f":"NOT_AC_TRAB_OCUP!M19","v":0.95},{"$f":"NOT_AC_TRAB_OCUP!L19","v":"N/A"},{"$f":"NOT_AC_TRAB_OCUP!N19","v":"N/A"},14,5,0.73684210526315785]
[280210,"ESTANCIA","ESTANCIA",{"$f":"OBITOS_PREMATUROS!D20","v":68407},{"$f":"OBITOS_PREMATUROS!AH20","v":80},{"$f":"OBITOS_PREMATUROS!W20","v":84},{"$f":"OBITOS_PREMATUROS!AG20","v":289.12676831996697},{"$f":"OBITOS_PREMATUROS!AI20","v":"NÃO ATINGIU"},{"$f":"OBITOS_MIF!AI20","v":0.9},{"$f":"OBITOS_MIF!N20","v":29},{"$f":"OBITOS_MIF!X20","v":24},{"$f":"OBITOS_MIF!AH20","v":0.82758620689655171},{"$f":"OBITOS_MIF!AJ20","v":"NÃO ATINGIU"},{"$f":"OBITOS_CAUSAS!AI20","v":0.95},{"$f":"OBITOS_CAUSAS!N20","v":383},{"$f":"OBITOS_CAUSAS!AH20","v":0.95989974937343359},{"$f":"OBITOS_CAUSAS!AJ20","v":"ATINGIU"},{"$f":"METAS!G20","v":1},0,"NÃO ATINGIU",{"$f":"METAS!H20","v":0.85},1,{"$f":"IF(Tabela13[[#This Row],[05 %DE CASOS DOENÇAS NOT COMP IMEDIATA]]=\"S/C\",\"N/A\",IF(V20>=U20,\"ATINGIU\",\"NÃO ATINGIU\"))","v":"ATINGIU"},{"$f":"CURA_CASOS_HANS!AI20","v":0.9},{"$f":"CURA_CASOS_HANS!N20","v":0},{"$f":"CURA_CASOS_HANS!AH20","v":1},{"$f":"CURA_CASOS_HANS!AJ20","v":"ATINGIU"},{"$f":"SIFILIS_CONG_1ANO!O22","v":14},{"$f":"SIFILIS_CONG_1ANO!N22","v":16},{"$f":"SIFILIS_CONG_1ANO!P22","v":"NÃO ATINGIU"},{"$f":"AIDS_MENOR5!P20","v":0},{"$f":"AIDS_MENOR5!O20","v":0},{"$f":"AIDS_MENOR5!Q20","v":"ATINGIU"},{"$f":"METAS!L20","v":0.8},{"$f":"ANALISE_AGUA_2017!J21","v":1.0821078431372548},{"$f":"ANALISE_AGUA_2017!L21","v":"ATINGIU"},{"$f":"CITOPATOLOGICO!AH20","v":0.57999999999999996},{"$f":"CITOPATOLOGICO!W20","v":3121},{"$f":"CITOPATOLOGICO!AG20","v":0.5417775720402731},{"$f":"CITOPATOLOGICO!AL20","v":"NÃO ATINGIU"},{"$f":"MAMOGRAFIA!AE20","v":0.33},{"$f":"MAMOGRAFIA!U20","v":939},{"$f":"MAMOGRAFIA!AD20","v":0.36},{"$f":"MAMOGRAFIA!AG20","v":"ATINGIU"},{"$f":"PARTO_NORMAL!AI20","v":0.65},{"$f":"PARTO_NORMAL!X20","v":585},{"$f":"PARTO_NORMAL!AH20","v":0.54724041159962578},{"$f":"PARTO_NORMAL!AJ20","v":"NÃO ATINGIU"},{"$f":"MAES_ADOLESC!AO20","v":0.23},{"$f":"MAES_ADOLESC!AB20","v":226},{"$f":"MAES_ADOLESC!AN20","v":0.21141253507951357},{"$f":"MAES_ADOLESC!AP20","v":"ATINGIU"},{"$f":"MORT_INF!AI20","v":10},{"$f":"MORT_INF!X20","v":16},{"$f":"MORT_INF!AH20","v":14.967259120673527},{"$f":"MORT_INF!AJ20","v":"NÃO ATINGIU"},{"$f":"OBITOS_MATERNOS!AI20","v":0},{"$f":"OBITOS_MATERNOS!X20","v":1},{"$f":"OBITOS_MATERNOS!AJ20","v":"NÃO ATINGIU"},{"$f":"COBERTURA_AB!N27","v":0.98019999999999996},{"$f":"COBERTURA_AB!M27","v":0.97389999999999999},{"$f":"COBERTURA_AB!O27","v":"NÃO ATINGIU"},0.8,{"$f":"PBF_ACOMP_2017!F25","v":5164},{"$f":"PBF_ACOMP_2017!G25","v":0.84310204081632656},{"$f":"PBF_ACOMP_2017!I25","v":"ATINGIU"},{"$f":"COBETURA_SB!M28","v":0.75650000000000006},{"$f":"COBETURA_SB!L28","v":0.77349999999999997},{"$f":"COBETURA_SB!N28","v":"ATINGIU"},{"$f":"AÇOES_VIGIL!N22","v":1},{"$f":"AÇOES_VIGIL!M22","v":0.66666666666666663},{"$f":"AÇOES_VIGIL!O22","v":"NÃO ATINGIU"},{"$f":"MATRICIAMENTO_CAPS!K20","v":1},{"$f":"MATRICIAMENTO_CAPS!H20","v":1},{"$f":"MATRICIAMENTO_CAPS!J20","v":1},{"$f":"MATRICIAMENTO_CAPS!L20","v":"ATINGIU"},{"$f":"CICLO_DENGUE!H22","v":4},{"$f":"CICLO_DENGUE!G22","v":4},{"$f":"CICLO_DENGUE!I22","v":"ATINGIU"},{"$f":"NOT_AC_TRAB_OCUP!M20","v":0.95},{"$f":"NOT_AC_TRAB_OCUP!L20","v":0.94117647058823528},{"$f":"NOT_AC_TRAB_OCUP!N20","v":"NÃO ATINGIU"},11,11,0.5]
[280220,"GLORIA","FEIRA NOVA",{"$f":"OBITOS_PREMATUROS!D21","v":5571},{"$f":"OBITOS_PREMATUROS!AH21","v":10},{"$f":"OBITOS_PREMATUROS!W21","v":7},{"$f":"OBITOS_PREMATUROS!AG21","v":301.72413793103448},{"$f":"OBITOS_PREMATUROS!AI21","v":"ATINGIU"},{"$f":"OBITOS_MIF!AI21","v":0.9},{"$f":"OBITOS_MIF!N21","v":1},{"$f":"OBITOS_MIF!X21","v":1},{"$f":"OBITOS_MIF!AH21","v":1},{"$f":"OBITOS_MIF!AJ21","v":"ATINGIU"},{"$f":"OBITOS_CAUSAS!AI21","v":0.95},{"$f":"OBITOS_CAUSAS!N21","v":42},{"$f":"OBITOS_CAUSAS!AH21","v":0.875},{"$f":"OBITOS_CAUSAS!AJ21","v":"NÃO ATINGIU"},{"$f":"METAS!G21","v":1},0,"NÃO ATINGIU",{"$f":"METAS!H21","v":0.85},"S/C",{"$f":"IF(Tabela13[[#This Row],[05 %DE CASOS DOENÇAS NOT COMP IMEDIATA]]=\"S/C\",\"N/A\",IF(V21>=U21,\"ATINGIU\",\"NÃO ATINGIU\"))","v":"N/A"},{"$f":"CURA_CASOS_HANS!AI21","v":0.9},{"$f":"CURA_CASOS_HANS!N21","v":0},{"$f":"CURA_CASOS_HANS!AH21","v":"SC"},{"$f":"CURA_CASOS_HANS!AJ21","v":"N/A"},{"$f":"SIFILIS_CONG_1ANO!O23","v":1},{"$f":"SIFILIS_CONG_1ANO!N23","v":4},{"$f":"SIFILIS_CONG_1ANO!P23","v":"NÃO ATINGIU"},{"$f":"AIDS_MENOR5!P21","v":0},{"$f":"AIDS_MENOR5!O21","v":0},{"$f":"AIDS_MENOR5!Q21","v":"ATINGIU"},{"$f":"METAS!L21","v":0.4},{"$f":"ANALISE_AGUA_2017!J22","v":0.32696759259259262},{"$f":"ANALISE_AGUA_2017!L22","v":"NÃO ATINGIU"},{"$f":"CITOPATOLOGICO!AH21","v":0.57999999999999996},{"$f":"CITOPATOLOGICO!W21","v":124},{"$f":"CITOPATOLOGICO!AG21","v":0.28203184230477635},{"$f":"CITOPATOLOGICO!AL21","v":"NÃO ATINGIU"},{"$f":"MAMOGRAFIA!AE21","v":0.22},{"$f":"MAMOGRAFIA!U21","v":131},{"$f":"MAMOGRAFIA!AD21","v":0.65},{"$f":"MAMOGRAFIA!AG21","v":"ATINGIU"},{"$f":"PARTO_NORMAL!AI21","v":0.69},{"$f":"PARTO_NORMAL!X21","v":60},{"$f":"PARTO_NORMAL!AH21","v":0.65934065934065933},{"$f":"PARTO_NORMAL!AJ21","v":"NÃO ATINGIU"},{"$f":"MAES_ADOLESC!AO21","v":0.25},{"$f":"MAES_ADOLESC!AB21","v":28},{"$f":"MAES_ADOLESC!AN21","v":0.30769230769230771},{"$f":"MAES_ADOLESC!AP21","v":"NÃO ATINGIU"},{"$f":"MORT_INF!AI21","v":1},{"$f":"MORT_INF!X21","v":0},{"$f":"MORT_INF!AH21","v":0},{"$f":"MORT_INF!AJ21","v":"ATINGIU"},{"$f":"OBITOS_MATERNOS!AI21","v":0},{"$f":"OBITOS_MATERNOS!X21","v":0},{"$f":"OBITOS_MATERNOS!AJ21","v":"ATINGIU"},{"$f":"COBERTURA_AB!N28","v":1},{"$f":"COBERTURA_AB!M28","v":1},{"$f":"COBERTURA_AB!O28","v":"ATINGIU"},0.83,{"$f":"PBF_ACOMP_2017!F26","v":942},{"$f":"PBF_ACOMP_2017!G26","v":0.8795518207282913},{"$f":"PBF_ACOMP_2017!I26","v":"ATINGIU"},{"$f":"COBETURA_SB!M29","v":0.61909999999999998},{"$f":"COBETURA_SB!L29","v":1},{"$f":"COBETURA_SB!N29","v":"ATINGIU"},{"$f":"AÇOES_VIGIL!N23","v":1},{"$f":"AÇOES_VIGIL!M23","v":0.16666666666666666},{"$f":"AÇOES_VIGIL!O23","v":"NÃO ATINGIU"},{"$f":"MATRICIAMENTO_CAPS!K21","v":"N/A"},{"$f":"MATRICIAMENTO_CAPS!H21","v":"N/A"},{"$f":"MATRICIAMENTO_CAPS!J21","v":"N/A"},{"$f":"MATRICIAMENTO_CAPS!L21","v":"N/A"},{"$f":"CICLO_DENGUE!H23","v":5},{"$f":"CICLO_DENGUE!G23","v":3},{"$f":"CICLO_DENGUE!I23","v":"NÃO ATINGIU"},{"$f":"NOT_AC_TRAB_OCUP!M21","v":0.95},{"$f":"NOT_AC_TRAB_OCUP!L21","v":0.8},{"$f":"NOT_AC_TRAB_OCUP!N21","v":"NÃO ATINGIU"},9,10,0.47368421052631576]
[280230,"ITABAIANA","FREI PAULO",{"$f":"OBITOS_PREMATUROS!D22","v":15044},{"$f":"OBITOS_PREMATUROS!AH22","v":13},{"$f":"OBITOS_PREMATUROS!W22","v":27},{"$f":"OBITOS_PREMATUROS!AG22","v":426.87747035573125},{"$f":"OBITOS_PREMATUROS!AI22","v":"NÃO ATINGIU"},{"$f":"OBITOS_MIF!AI22","v":0.9},{"$f":"OBITOS_MIF!N22","v":6},{"$f":"OBITOS_MIF!X22","v":5},{"$f":"OBITOS_MIF!AH22","v":0.83333333333333337},{"$f":"OBITOS_MIF!AJ22","v":"NÃO ATINGIU"},{"$f":"OBITOS_CAUSAS!AI22","v":0.95},{"$f":"OBITOS_CAUSAS!N22","v":100},{"$f":"OBITOS_CAUSAS!AH22","v":0.95238095238095233},{"$f":"OBITOS_CAUSAS!AJ22","v":"ATINGIU"},{"$f":"METAS!G22","v":1},0,"NÃO ATINGIU",{"$f":"METAS!H22","v":0.85},"S/C",{"$f":"IF(Tabela13[[#This Row],[05 %DE CASOS DOENÇAS NOT COMP IMEDIATA]]=\"S/C\",\"N/A\",IF(V22>=U22,\"ATINGIU\",\"NÃO ATINGIU\"))","v":"N/A"},{"$f":"CURA_CASOS_HANS!AI22","v":1},{"$f":"CURA_CASOS_HANS!N22","v":0},{"$f":"CURA_CASOS_HANS!AH22","v":"SC"},{"$f":"CURA_CASOS_HANS!AJ22","v":"N/A"},{"$f":"SIFILIS_CONG_1ANO!O24","v":1},{"$f":"SIFILIS_CONG_1ANO!N24","v":0},{"$f":"SIFILIS_CONG_1ANO!P24","v":"ATINGIU"},{"$f":"AIDS_MENOR5!P22","v":0},{"$f":"AIDS_MENOR5!O22","v":0},{"$f":"AIDS_MENOR5!Q22","v":"ATINGIU"},{"$f":"METAS!L22","v":0.5},{"$f":"ANALISE_AGUA_2017!J23","v":0.4416666666666666},{"$f":"ANALISE_AGUA_2017!L23","v":"NÃO ATINGIU"},{"$f":"CITOPATOLOGICO!AH22","v":0.5},{"$f":"CITOPATOLOGICO!W22","v":444},{"$f":"CITOPATOLOGICO!AG22","v":0.36353711790393017},{"$f":"CITOPATOLOGICO!AL22","v":"NÃO ATINGIU"},{"$f":"MAMOGRAFIA!AE22","v":0.2},{"$f":"MAMOGRAFIA!U22","v":254},{"$f":"MAMOGRAFIA!AD22","v":0.47},{"$f":"MAMOGRAFIA!AG22","v":"ATINGIU"},{"$f":"PARTO_NORMAL!AI22","v":0.65},{"$f":"PARTO_NORMAL!X22","v":140},{"$f":"PARTO_NORMAL!AH22","v":0.5957446808510638},{"$f":"PARTO_NORMAL!AJ22","v":"NÃO ATINGIU"},{"$f":"MAES_ADOLESC!AO22","v":0.2},{"$f":"MAES_ADOLESC!AB22","v":37},{"$f":"MAES_ADOLESC!AN22","v":0.1574468085106383},{"$f":"MAES_ADOLESC!AP22","v":"ATINGIU"},{"$f":"MORT_INF!AI22","v":3},{"$f":"MORT_INF!X22","v":5},{"$f":"MORT_INF!AH22","v":21.276595744680851},{"$f":"MORT_INF!AJ22","v":"NÃO ATINGIU"},{"$f":"OBITOS_MATERNOS!AI22","v":0},{"$f":"OBITOS_MATERNOS!X22","v":0},{"$f":"OBITOS_MATERNOS!AJ22","v":"ATINGIU"},{"$f":"COBERTURA_AB!N29","v":1},{"$f":"COBERTURA_AB!M29","v":1},{"$f":"COBERTURA_AB!O29","v":"ATINGIU"},0.85,{"$f":"PBF_ACOMP_2017!F27","v":1318},{"$f":"PBF_ACOMP_2017!G27","v":0.81408276714021},{"$f":"PBF_ACOMP_2017!I27","v":"NÃO ATINGIU"},{"$f":"COBETURA_SB!M30","v":1},{"$f":"COBETURA_SB!L30","v":1},{"$f":"COBETURA_SB!N30","v":"ATINGIU"},{"$f":"AÇOES_VIGIL!N24","v":1},{"$f":"AÇOES_VIGIL!M24","v":0.83333333333333337},{"$f":"AÇOES_VIGIL!O24","v":"NÃO ATINGIU"},{"$f":"MATRICIAMENTO_CAPS!K22","v":"N/A"},{"$f":"MATRICIAMENTO_CAPS!H22","v":"N/A"},{"$f":"MATRICIAMENTO_CAPS!J22","v":"N/A"},{"$f":"MATRICIAMENTO_CAPS!L22","v":"N/A"},{"$f":"CICLO_DENGUE!H24","v":4},{"$f":"CICLO_DENGUE!G24","v":2},{"$f":"CICLO_DENGUE!I24","v":"NÃO ATINGIU"},{"$f":"NOT_AC_TRAB_OCUP!M22","v":0.95},{"$f":"NOT_AC_TRAB_OCUP!L22","v":"N/A"},{"$f":"NOT_AC_TRAB_OCUP!N22","v":"N/A"},8,10,0.44444444444444442]
[280240,"GLORIA","GARARU",{"$f":"OBITOS_PREMATUROS!D23","v":11724},{"$f":"OBITOS_PREMATUROS!AH23","v":9},{"$f":"OBITOS_PREMATUROS!W23","v":17},{"$f":"OBITOS_PREMATUROS!AG23","v":339.25364198762719},{"$f":"OBITOS_PREMATUROS!AI23","v":"NÃO ATINGIU"},{"$f":"OBITOS_MIF!AI23","v":0.9},{"$f":"OBITOS_MIF!N23","v":2},{"$f":"OBITOS_MIF!X23","v":1},{"$f":"OBITOS_MIF!AH23","v":0.5},{"$f":"OBITOS_MIF!AJ23","v":"NÃO ATINGIU"},{"$f":"OBITOS_CAUSAS!AI23","v":0.95},{"$f":"OBITOS_CAUSAS!N23","v":55},{"$f":"OBITOS_CAUSAS!AH23","v":0.87301587301587302},{"$f":"OBITOS_CAUSAS!AJ23","v":"NÃO ATINGIU"},{"$f":"METAS!G23","v":1},0,"NÃO ATINGIU",{"$f":"METAS!H23","v":0.85},1,{"$f":"IF(Tabela13[[#This Row],[05 %DE CASOS DOENÇAS NOT COMP IMEDIATA]]=\"S/C\",\"N/A\",IF(V23>=U23,\"ATINGIU\",\"NÃO ATINGIU\"))","v":"ATINGIU"},{"$f":"CURA_CASOS_HANS!AI23","v":0.9},{"$f":"CURA_CASOS_HANS!N23","v":0},{"$f":"CURA_CASOS_HANS!AH23","v":"SC"},{"$f":"CURA_CASOS_HANS!AJ23","v":"N/A"},{"$f":"SIFILIS_CONG_1ANO!O25","v":1},{"$f":"SIFILIS_CONG_1ANO!N25","v":0},{"$f":"SIFILIS_CONG_1ANO!P25","v":"ATINGIU"},{"$f":"AIDS_MENOR5!P23","v":0},{"$f":"AIDS_MENOR5!O23","v":0},{"$f":"AIDS_MENOR5!Q23","v":"ATINGIU"},{"$f":"METAS!L23","v":0.5},{"$f":"ANALISE_AGUA_2017!J24","v":0.80729166666666641},{"$f":"ANALISE_AGUA_2017!L24","v":"ATINGIU"},{"$f":"CITOPATOLOGICO!AH23","v":0.45},{"$f":"CITOPATOLOGICO!W23","v":130},{"$f":"CITOPATOLOGICO!AG23","v":0.14530551415797319},{"$f":"CITOPATOLOGICO!AL23","v":"NÃO ATINGIU"},{"$f":"MAMOGRAFIA!AE23","v":0.2},{"$f":"MAMOGRAFIA!U23","v":10},{"$f":"MAMOGRAFIA!AD23","v":0.03},{"$f":"MAMOGRAFIA!AG23","v":"NÃO ATINGIU"},{"$f":"PARTO_NORMAL!AI23","v":0.65},{"$f":"PARTO_NORMAL!X23","v":102},{"$f":"PARTO_NORMAL!AH23","v":0.67549668874172186},{"$f":"PARTO_NORMAL!AJ23","v":"ATINGIU"},{"$f":"MAES_ADOLESC!AO23","v":0.2238},{"$f":"MAES_ADOLESC!AB23","v":32},{"$f":"MAES_ADOLESC!AN23","v":0.2119205298013245},{"$f":"MAES_ADOLESC!AP23","v":"ATINGIU"},{"$f":"MORT_INF!AI23","v":2},{"$f":"MORT_INF!X23","v":1},{"$f":"MORT_INF!AH23","v":6.6225165562913908},{"$f":"MORT_INF!AJ23","v":"ATINGIU"},{"$f":"OBITOS_MATERNOS!AI23","v":1},{"$f":"OBITOS_MATERNOS!X23","v":0},{"$f":"OBITOS_MATERNOS!AJ23","v":"ATINGIU"},{"$f":"COBERTURA_AB!N30","v":1},{"$f":"COBERTURA_AB!M30","v":1},{"$f":"COBERTURA_AB!O30","v":"ATINGIU"},0.9,{"$f":"PBF_ACOMP_2017!F28","v":1580},{"$f":"PBF_ACOMP_2017!G28","v":0.86860912589334804},{"$f":"PBF_ACOMP_2017!I28","v":"NÃO ATINGIU"},{"$f":"COBETURA_SB!M31","v":0.75},{"$f":"COBETURA_SB!L31","v":0.84399999999999997},{"$f":"COBETURA_SB!N31","v":"ATINGIU"},{"$f":"AÇOES_VIGIL!N25","v":1},{"$f":"AÇOES_VIGIL!M25","v":0},{"$f":"AÇOES_VIGIL!O25","v":"NÃO ATINGIU"},{"$f":"MATRICIAMENTO_CAPS!K23","v":"N/A"},{"$f":"MATRICIAMENTO_CAPS!H23","v":"N/A"},{"$f":"MATRICIAMENTO_CAPS!J23","v":"N/A"},{"$f":"MATRICIAMENTO_CAPS!L23","v":"N/A"},{"$f":"CICLO_DENGUE!H25","v":4},{"$f":"CICLO_DENGUE!G25","v":0},{"$f":"CICLO_DENGUE!I25","v":"NÃO ATINGIU"},{"$f":"NOT_AC_TRAB_OCUP!M23","v":0.95},{"$f":"NOT_AC_TRAB_OCUP!L23","v":0},{"$f":"NOT_AC_TRAB_OCUP!N23","v":"NÃO ATINGIU"},10,10,0.5]
[280250,"SOCORRO","GENERAL MAYNARD",{"$f":"OBITOS_PREMATUROS!D24","v":3230},{"$f":"OBITOS_PREMATUROS!AH24","v":1},{"$f":"OBITOS_PREMATUROS!W24","v":4},{"$f":"OBITOS_PREMATUROS!AG24","v":289.43560057887117},{"$f":"OBITOS_PREMATUROS!AI24","v":"NÃO ATINGIU"},{"$f":"OBITOS_MIF!AI24","v":0.9},{"$f":"OBITOS_MIF!N24","v":0},{"$f":"OBITOS_MIF!X24","v":"S/C"},{"$f":"OBITOS_MIF!AH24","v":"S/C"},{"$f":"OBITOS_MIF!AJ24","v":"N/A"},{"$f":"OBITOS_CAUSAS!AI24","v":0.95},{"$f":"OBITOS_CAUSAS!N24","v":15},{"$f":"OBITOS_CAUSAS!AH24","v":1},{"$f":"OBITOS_CAUSAS!AJ24","v":"ATINGIU"},{"$f":"METAS!G24","v":1},1,"ATINGIU",{"$f":"METAS!H24","v":0.85},"S/C",{"$f":"IF(Tabela13[[#This Row],[05 %DE CASOS DOENÇAS NOT COMP IMEDIATA]]=\"S/C\",\"N/A\",IF(V24>=U24,\"ATINGIU\",\"NÃO ATINGIU\"))","v":"N/A"},{"$f":"CURA_CASOS_HANS!AI24","v":0.95},{"$f":"CURA_CASOS_HANS!N24","v":0},{"$f":"CURA_CASOS_HANS!AH24","v":"SC"},{"$f":"CURA_CASOS_HANS!AJ24","v":"N/A"},{"$f":"SIFILIS_CONG_1ANO!O26","v":0},{"$f":"SIFILIS_CONG_1ANO!N26","v":0},{"$f":"SIFILIS_CONG_1ANO!P26","v":"ATINGIU"},{"$f":"AIDS_MENOR5!P24","v":0},{"$f":"AIDS_MENOR5!O24","v":0},{"$f":"AIDS_MENOR5!Q24","v":"ATINGIU"},{"$f":"METAS!L24","v":0.8},{"$f":"ANALISE_AGUA_2017!J25","v":0.97135416666666674},{"$f":"ANALISE_AGUA_2017!L25","v":"ATINGIU"},{"$f":"CITOPATOLOGICO!AH24","v":0.54},{"$f":"CITOPATOLOGICO!W24","v":181},{"$f":"CITOPATOLOGICO!AG24","v":0.64874551971326166},{"$f":"CITOPATOLOGICO!AL24","v":"ATINGIU"},{"$f":"MAMOGRAFIA!AE24","v":0.12},{"$f":"MAMOGRAFIA!U24","v":68},{"$f":"MAMOGRAFIA!AD24","v":0.6},{"$f":"MAMOGRAFIA!AG24","v":"ATINGIU"},{"$f":"PARTO_NORMAL!AI24","v":0.63},{"$f":"PARTO_NORMAL!X24","v":31},{"$f":"PARTO_NORMAL!AH24","v":0.64583333333333337},{"$f":"PARTO_NORMAL!AJ24","v":"ATINGIU"},{"$f":"MAES_ADOLESC!AO24","v":0.21429999999999999},{"$f":"MAES_ADOLESC!AB24","v":12},{"$f":"MAES_ADOLESC!AN24","v":0.25},{"$f":"MAES_ADOLESC!AP24","v":"NÃO ATINGIU"},{"$f":"MORT_INF!AI24","v":0},{"$f":"MORT_INF!X24","v":0},{"$f":"MORT_INF!AH24","v":0},{"$f":"MORT_INF!AJ24","v":"ATINGIU"},{"$f":"OBITOS_MATERNOS!AI24","v":0},{"$f":"OBITOS_MATERNOS!X24","v":0},{"$f":"OBITOS_MATERNOS!AJ24","v":"ATINGIU"},{"$f":"COBERTURA_AB!N31","v":1},{"$f":"COBERTURA_AB!M31","v":1},{"$f":"COBERTURA_AB!O31","v":"ATINGIU"},0.8,{"$f":"PBF_ACOMP_2017!F29","v":194},{"$f":"PBF_ACOMP_2017!G29","v":0.73764258555133078},{"$f":"PBF_ACOMP_2017!I29","v":"NÃO ATINGIU"},{"$f":"COBETURA_SB!M32","v":1},{"$f":"COBETURA_SB!L32","v":1},{"$f":"COBETURA_SB!N32","v":"ATINGIU"},{"$f":"AÇOES_VIGIL!N26","v":1},{"$f":"AÇOES_VIGIL!M26","v":0.83333333333333337},{"$f":"AÇOES_VIGIL!O26","v":"NÃO ATINGIU"},{"$f":"MATRICIAMENTO_CAPS!K24","v":"N/A"},{"$f":"MATRICIAMENTO_CAPS!H24","v":"N/A"},{"$f":"MATRICIAMENTO_CAPS!J24","v":"N/A"},{"$f":"MATRICIAMENTO_CAPS!L24","v":"N/A"},{"$f":"CICLO_DENGUE!H26","v":4},{"$f":"CICLO_DENGUE!G26","v":3},{"$f":"CICLO_DENGUE!I26","v":"NÃO ATINGIU"},{"$f":"NOT_AC_TRAB_OCUP!M24","v":1},{"$f":"NOT_AC_TRAB_OCUP!L24","v":1},{"$f":"NOT_AC_TRAB_OCUP!N24","v":"ATINGIU"},13,5,0.72222222222222221]
[280260,"GLORIA","GRACHO CARDOSO",{"$f":"OBITOS_PREMATUROS!D25","v":5846},{"$f":"OBITOS_PREMATUROS!AH25","v":6},{"$f":"OBITOS_PREMATUROS!W25","v":7},{"$f":"OBITOS_PREMATUROS!AG25","v":267.99387442572743},{"$f":"OBITOS_PREMATUROS!AI25","v":"NÃO ATINGIU"},{"$f":"OBITOS_MIF!AI25","v":1},{"$f":"OBITOS_MIF!N25","v":2},{"$f":"OBITOS_MIF!X25","v":0},{"$f":"OBITOS_MIF!AH25","v":0},{"$f":"OBITOS_MIF!AJ25","v":"NÃO ATINGIU"},{"$f":"OBITOS_CAUSAS!AI25","v":0.93},{"$f":"OBITOS_CAUSAS!N25","v":36},{"$f":"OBITOS_CAUSAS!AH25","v":0.8571428571428571},{"$f":"OBITOS_CAUSAS!AJ25","v":"NÃO ATINGIU"},{"$f":"METAS!G25","v":1},1,"ATINGIU",{"$f":"METAS!H25","v":0.85},"S/C",{"$f":"IF(Tabela13[[#This Row],[05 %DE CASOS DOENÇAS NOT COMP IMEDIATA]]=\"S/C\",\"N/A\",IF(V25>=U25,\"ATINGIU\",\"NÃO ATINGIU\"))","v":"N/A"},{"$f":"CURA_CASOS_HANS!AI25","v":1},{"$f":"CURA_CASOS_HANS!N25","v":0},{"$f":"CURA_CASOS_HANS!AH25","v":"SC"},{"$f":"CURA_CASOS_HANS!AJ25","v":"N/A"},{"$f":"SIFILIS_CONG_1ANO!O27","v":1},{"$f":"SIFILIS_CONG_1ANO!N27","v":0},{"$f":"SIFILIS_CONG_1ANO!P27","v":"ATINGIU"},{"$f":"AIDS_MENOR5!P25","v":0},{"$f":"AIDS_MENOR5!O25","v":0},{"$f":"AIDS_MENOR5!Q25","v":"ATINGIU"},{"$f":"METAS!L25","v":0.3},{"$f":"ANALISE_AGUA_2017!J26","v":2.8935185185185185E-2},{"$f":"ANALISE_AGUA_2017!L26","v":"NÃO ATINGIU"},{"$f":"CITOPATOLOGICO!AH25","v":0.4},{"$f":"CITOPATOLOGICO!W25","v":146},{"$f":"CITOPATOLOGICO!AG25","v":0.31601731601731603},{"$f":"CITOPATOLOGICO!AL25","v":"NÃO ATINGIU"},{"$f":"MAMOGRAFIA!AE25","v":0.24},{"$f":"MAMOGRAFIA!U25","v":48},{"$f":"MAMOGRAFIA!AD25","v":0.2},{"$f":"MAMOGRAFIA!AG25","v":"NÃO ATINGIU"},{"$f":"PARTO_NORMAL!AI25","v":0.7},{"$f":"PARTO_NORMAL!X25","v":46},{"$f":"PARTO_NORMAL!AH25","v":0.60526315789473684},{"$f":"PARTO_NORMAL!AJ25","v":"NÃO ATINGIU"},{"$f":"MAES_ADOLESC!AO25","v":0.23},{"$f":"MAES_ADOLESC!AB25","v":15},{"$f":"MAES_ADOLESC!AN25","v":0.19736842105263158},{"$f":"MAES_ADOLESC!AP25","v":"ATINGIU"},{"$f":"MORT_INF!AI25","v":1},{"$f":"MORT_INF!X25","v":1},{"$f":"MORT_INF!AH25","v":13.157894736842104},{"$f":"MORT_INF!AJ25","v":"ATINGIU"},{"$f":"OBITOS_MATERNOS!AI25","v":1},{"$f":"OBITOS_MATERNOS!X25","v":0},{"$f":"OBITOS_MATERNOS!AJ25","v":"ATINGIU"},{"$f":"COBERTURA_AB!N32","v":1},{"$f":"COBERTURA_AB!M32","v":1},{"$f":"COBERTURA_AB!O32","v":"ATINGIU"},0.96,{"$f":"PBF_ACOMP_2017!F30","v":1084},{"$f":"PBF_ACOMP_2017!G30","v":0.91942324003392706},{"$f":"PBF_ACOMP_2017!I30","v":"NÃO ATINGIU"},{"$f":"COBETURA_SB!M33","v":1},{"$f":"COBETURA_SB!L33","v":1},{"$f":"COBETURA_SB!N33","v":"ATINGIU"},{"$f":"AÇOES_VIGIL!N27","v":1},{"$f":"AÇOES_VIGIL!M27","v":0.16666666666666666},{"$f":"AÇOES_VIGIL!O27","v":"NÃO ATINGIU"},{"$f":"MATRICIAMENTO_CAPS!K25","v":"N/A"},{"$f":"MATRICIAMENTO_CAPS!H25","v":"N/A"},{"$f":"MATRICIAMENTO_CAPS!J25","v":"N/A"},{"$f":"MATRICIAMENTO_CAPS!L25","v":"N/A"},{"$f":"CICLO_DENGUE!H27","v":4},{"$f":"CICLO_DENGUE!G27","v":"-"},{"$f":"CICLO_DENGUE!I27","v":"ATINGIU"},{"$f":"NOT_AC_TRAB_OCUP!M25","v":1},{"$f":"NOT_AC_TRAB_OCUP!L25","v":0.44444444444444442},{"$f":"NOT_AC_TRAB_OCUP!N25","v":"NÃO ATINGIU"},9,10,0.47368421052631576]
[280270,"PROPRIA","ILHA DAS FLORES",{"$f":"OBITOS_PREMATUROS!D26","v":8597},{"$f":"OBITOS_PREMATUROS!AH26","v":7},{"$f":"OBITOS_PREMATUROS!W26","v":9},{"$f":"OBITOS_PREMATUROS!AG26","v":285.80501746586219},{"$f":"OBITOS_PREMATUROS!AI26","v":"NÃO ATINGIU"},{"$f":"OBITOS_MIF!AI26","v":0.9},{"$f":"OBITOS_MIF!N26","v":4},{"$f":"OBITOS_MIF!X26","v":1},{"$f":"OBITOS_MIF!AH26","v":0.25},{"$f":"OBITOS_MIF!AJ26","v":"NÃO ATINGIU"},{"$f":"OBITOS_CAUSAS!AI26","v":0.95},{"$f":"OBITOS_CAUSAS!N26","v":54},{"$f":"OBITOS_CAUSAS!AH26","v":0.94736842105263153},{"$f":"OBITOS_CAUSAS!AJ26","v":"NÃO ATINGIU"},{"$f":"METAS!G26","v":1},1,"ATINGIU",{"$f":"METAS!H26","v":0.85},"S/C",{"$f":"IF(Tabela13[[#This Row],[05 %DE CASOS DOENÇAS NOT COMP IMEDIATA]]=\"S/C\",\"N/A\",IF(V26>=U26,\"ATINGIU\",\"NÃO ATINGIU\"))","v":"N/A"},{"$f":"CURA_CASOS_HANS!AI26","v":0.9},{"$f":"CURA_CASOS_HANS!N26","v":0},{"$f":"CURA_CASOS_HANS!AH26","v":"SC"},{"$f":"CURA_CASOS_HANS!AJ26","v":"N/A"},{"$f":"SIFILIS_CONG_1ANO!O28","v":0},{"$f":"SIFILIS_CONG_1ANO!N28","v":0},{"$f":"SIFILIS_CONG_1ANO!P28","v":"ATINGIU"},{"$f":"AIDS_MENOR5!P26","v":0},{"$f":"AIDS_MENOR5!O26","v":0},{"$f":"AIDS_MENOR5!Q26","v":"ATINGIU"},{"$f":"METAS!L26","v":0.8},{"$f":"ANALISE_AGUA_2017!J27","v":0.62731481481481488},{"$f":"ANALISE_AGUA_2017!L27","v":"NÃO ATINGIU"},{"$f":"CITOPATOLOGICO!AH26","v":0.56000000000000005},{"$f":"CITOPATOLOGICO!W26","v":388},{"$f":"CITOPATOLOGICO!AG26","v":0.64309392265193366},{"$f":"CITOPATOLOGICO!AL26","v":"ATINGIU"},{"$f":"MAMOGRAFIA!AE26","v":0.28000000000000003},{"$f":"MAMOGRAFIA!U26","v":159},{"$f":"MAMOGRAFIA!AD26","v":0.59},{"$f":"MAMOGRAFIA!AG26","v":"ATINGIU"},{"$f":"PARTO_NORMAL!AI26","v":0.7},{"$f":"PARTO_NORMAL!X26","v":92},{"$f":"PARTO_NORMAL!AH26","v":0.69172932330827064},{"$f":"PARTO_NORMAL!AJ26","v":"NÃO ATINGIU"},{"$f":"MAES_ADOLESC!AO26","v":0.25},{"$f":"MAES_ADOLESC!AB26","v":46},{"$f":"MAES_ADOLESC!AN26","v":0.34586466165413532},{"$f":"MAES_ADOLESC!AP26","v":"NÃO ATINGIU"},{"$f":"MORT_INF!AI26","v":1},{"$f":"MORT_INF!X26","v":4},{"$f":"MORT_INF!AH26","v":30.075187969924812},{"$f":"MORT_INF!AJ26","v":"NÃO ATINGIU"},{"$f":"OBITOS_MATERNOS!AI26","v":0},{"$f":"OBITOS_MATERNOS!X26","v":0},{"$f":"OBITOS_MATERNOS!AJ26","v":"ATINGIU"},{"$f":"COBERTURA_AB!N33","v":1},{"$f":"COBERTURA_AB!M33","v":1},{"$f":"COBERTURA_AB!O33","v":"ATINGIU"},0.95,{"$f":"PBF_ACOMP_2017!F31","v":1192},{"$f":"PBF_ACOMP_2017!G31","v":0.88955223880597012},{"$f":"PBF_ACOMP_2017!I31","v":"NÃO ATINGIU"},{"$f":"COBETURA_SB!M34","v":1},{"$f":"COBETURA_SB!L34","v":1},{"$f":"COBETURA_SB!N34","v":"ATINGIU"},{"$f":"AÇOES_VIGIL!N28","v":1},{"$f":"AÇOES_VIGIL!M28","v":0.83333333333333337},{"$f":"AÇOES_VIGIL!O28","v":"NÃO ATINGIU"},{"$f":"MATRICIAMENTO_CAPS!K26","v":"N/A"},{"$f":"MATRICIAMENTO_CAPS!H26","v":"N/A"},{"$f":"MATRICIAMENTO_CAPS!J26","v":"N/A"},{"$f":"MATRICIAMENTO_CAPS!L26","v":"N/A"},{"$f":"CICLO_DENGUE!H28","v":4},{"$f":"CICLO_DENGUE!G28","v":0},{"$f":"CICLO_DENGUE!I28","v":"NÃO ATINGIU"},{"$f":"NOT_AC_TRAB_OCUP!M26","v":0.95},{"$f":"NOT_AC_TRAB_OCUP!L26","v":0.33333333333333331},{"$f":"NOT_AC_TRAB_OCUP!N26","v":"NÃO ATINGIU"},8,11,0.42105263157894735]
[280280,"ESTANCIA","INDIAROBA",{"$f":"OBITOS_PREMATUROS!D27","v":17384},{"$f":"OBITOS_PREMATUROS!AH27","v":16},{"$f":"OBITOS_PREMATUROS!W27","v":17},{"$f":"OBITOS_PREMATUROS!AG27","v":273.22404371584702},{"$f":"OBITOS_PREMATUROS!AI27","v":"NÃO ATINGIU"},{"$f":"OBITOS_MIF!AI27","v":0.9},{"$f":"OBITOS_MIF!N27","v":2},{"$f":"OBITOS_MIF!X27","v":0},{"$f":"OBITOS_MIF!AH27","v":0},{"$f":"OBITOS_MIF!AJ27","v":"NÃO ATINGIU"},{"$f":"OBITOS_CAUSAS!AI27","v":0.95},{"$f":"OBITOS_CAUSAS!N27","v":68},{"$f":"OBITOS_CAUSAS!AH27","v":0.93150684931506844},{"$f":"OBITOS_CAUSAS!AJ27","v":"NÃO ATINGIU"},{"$f":"METAS!G27","v":0.75},0,"NÃO ATINGIU",{"$f":"METAS!H27","v":0.85},"S/C",{"$f":"IF(Tabela13[[#This Row],[05 %DE CASOS DOENÇAS NOT COMP IMEDIATA]]=\"S/C\",\"N/A\",IF(V27>=U27,\"ATINGIU\",\"NÃO ATINGIU\"))","v":"N/A"},{"$f":"CURA_CASOS_HANS!AI27","v":1},{"$f":"CURA_CASOS_HANS!N27","v":0},{"$f":"CURA_CASOS_HANS!AH27","v":"SC"},{"$f":"CURA_CASOS_HANS!AJ27","v":"N/A"},{"$f":"SIFILIS_CONG_1ANO!O29","v":0},{"$f":"SIFILIS_CONG_1ANO!N29","v":3},{"$f":"SIFILIS_CONG_1ANO!P29","v":"NÃO ATINGIU"},{"$f":"AIDS_MENOR5!P27","v":0},{"$f":"AIDS_MENOR5!O27","v":0},{"$f":"AIDS_MENOR5!Q27","v":"ATINGIU"},{"$f":"METAS!L27","v":0.8},{"$f":"ANALISE_AGUA_2017!J28","v":0.66562500000000002},{"$f":"ANALISE_AGUA_2017!L28","v":"NÃO ATINGIU"},{"$f":"CITOPATOLOGICO!AH27","v":0.48},{"$f":"CITOPATOLOGICO!W27","v":42},{"$f":"CITOPATOLOGICO!AG27","v":3.4749034749034749E-2},{"$f":"CITOPATOLOGICO!AL27","v":"NÃO ATINGIU"},{"$f":"MAMOGRAFIA!AE27","v":0.24},{"$f":"MAMOGRAFIA!U27","v":185},{"$f":"MAMOGRAFIA!AD27","v":0.39},{"$f":"MAMOGRAFIA!AG27","v":"ATINGIU"},{"$f":"PARTO_NORMAL!AI27","v":0.66},{"$f":"PARTO_NORMAL!X27","v":173},{"$f":"PARTO_NORMAL!AH27","v":0.62681159420289856},{"$f":"PARTO_NORMAL!AJ27","v":"NÃO ATINGIU"},{"$f":"MAES_ADOLESC!AO27","v":0.25},{"$f":"MAES_ADOLESC!AB27","v":77},{"$f":"MAES_ADOLESC!AN27","v":0.27898550724637683},{"$f":"MAES_ADOLESC!AP27","v":"NÃO ATINGIU"},{"$f":"MORT_INF!AI27","v":1},{"$f":"MORT_INF!X27","v":5},{"$f":"MORT_INF!AH27","v":18.115942028985508},{"$f":"MORT_INF!AJ27","v":"NÃO ATINGIU"},{"$f":"OBITOS_MATERNOS!AI27","v":0},{"$f":"OBITOS_MATERNOS!X27","v":0},{"$f":"OBITOS_MATERNOS!AJ27","v":"ATINGIU"},{"$f":"COBERTURA_AB!N34","v":1},{"$f":"COBERTURA_AB!M34","v":1},{"$f":"COBERTURA_AB!O34","v":"ATINGIU"},0.87,{"$f":"PBF_ACOMP_2017!F32","v":2336},{"$f":"PBF_ACOMP_2017!G32","v":0.93552262715258305},{"$f":"PBF_ACOMP_2017!I32","v":"ATINGIU"},{"$f":"COBETURA_SB!M35","v":1},{"$f":"COBETURA_SB!L35","v":1},{"$f":"COBETURA_SB!N35","v":"ATINGIU"},{"$f":"AÇOES_VIGIL!N29","v":1},{"$f":"AÇOES_VIGIL!M29","v":0.83333333333333337},{"$f":"AÇOES_VIGIL!O29","v":"NÃO ATINGIU"},{"$f":"MATRICIAMENTO_CAPS!K27","v":"N/A"},{"$f":"MATRICIAMENTO_CAPS!H27","v":"N/A"},{"$f":"MATRICIAMENTO_CAPS!J27","v":"N/A"},{"$f":"MATRICIAMENTO_CAPS!L27","v":"N/A"},{"$f":"CICLO_DENGUE!H29","v":4},{"$f":"CICLO_DENGUE!G29","v":2},{"$f":"CICLO_DENGUE!I29","v":"NÃO ATINGIU"},{"$f":"NOT_AC_TRAB_OCUP!M27","v":0.95},{"$f":"NOT_AC_TRAB_OCUP!L27","v":1},{"$f":"NOT_AC_TRAB_OCUP!N27","v":"ATINGIU"},7,12,0.36842105263157893]
[280290,"ITABAIANA","ITABAIANA",{"$f":"OBITOS_PREMATUROS!D28","v":93573},{"$f":"OBITOS_PREMATUROS!AH28","v":80},{"$f":"OBITOS_PREMATUROS!W28","v":96},{"$f":"OBITOS_PREMATUROS!AG28","v":237.68259470165884},{"$f":"OBITOS_PREMATUROS!AI28","v":"NÃO ATINGIU"},{"$f":"OBITOS_MIF!AI28","v":0.9},{"$f":"OBITOS_MIF!N28","v":36},{"$f":"OBITOS_MIF!X28","v":16},{"$f":"OBITOS_MIF!AH28","v":0.44444444444444442},{"$f":"OBITOS_MIF!AJ28","v":"NÃO ATINGIU"},{"$f":"OBITOS_CAUSAS!AI28","v":0.95},{"$f":"OBITOS_CAUSAS!N28","v":525},{"$f":"OBITOS_CAUSAS!AH28","v":0.88087248322147649},{"$f":"OBITOS_CAUSAS!AJ28","v":"NÃO ATINGIU"},{"$f":"METAS!G28","v":0.75},0,"NÃO ATINGIU",{"$f":"METAS!H28","v":0.85},"S/C",{"$f":"IF(Tabela13[[#This Row],[05 %DE CASOS DOENÇAS NOT COMP IMEDIATA]]=\"S/C\",\"N/A\",IF(V28>=U28,\"ATINGIU\",\"NÃO ATINGIU\"))","v":"N/A"},{"$f":"CURA_CASOS_HANS!AI28","v":0.9},{"$f":"CURA_CASOS_HANS!N28","v":0},{"$f":"CURA_CASOS_HANS!AH28","v":0.95650000000000002},{"$f":"CURA_CASOS_HANS!AJ28","v":"ATINGIU"},{"$f":"SIFILIS_CONG_1ANO!O30","v":7},{"$f":"SIFILIS_CONG_1ANO!N30","v":14},{"$f":"SIFILIS_CONG_1ANO!P30","v":"NÃO ATINGIU"},{"$f":"AIDS_MENOR5!P28","v":0},{"$f":"AIDS_MENOR5!O28","v":0},{"$f":"AIDS_MENOR5!Q28","v":"ATINGIU"},{"$f":"METAS!L28","v":0.5},{"$f":"ANALISE_AGUA_2017!J29","v":1.3947368421052631},{"$f":"ANALISE_AGUA_2017!L29","v":"ATINGIU"},{"$f":"CITOPATOLOGICO!AH28","v":0.46},{"$f":"CITOPATOLOGICO!W28","v":2166},{"$f":"CITOPATOLOGICO!AG28","v":0.26969369967626794},{"$f":"CITOPATOLOGICO!AL28","v":"NÃO ATINGIU"},{"$f":"MAMOGRAFIA!AE28","v":0.3},{"$f":"MAMOGRAFIA!U28","v":1021},{"$f":"MAMOGRAFIA!AD28","v":0.3},{"$f":"MAMOGRAFIA!AG28","v":"ATINGIU"},{"$f":"PARTO_NORMAL!AI28","v":0.55000000000000004},{"$f":"PARTO_NORMAL!X28","v":710},{"$f":"PARTO_NORMAL!AH28","v":0.53869499241274654},{"$f":"PARTO_NORMAL!AJ28","v":"NÃO ATINGIU"},{"$f":"MAES_ADOLESC!AO28","v":0.2},{"$f":"MAES_ADOLESC!AB28","v":253},{"$f":"MAES_ADOLESC!AN28","v":0.19195751138088013},{"$f":"MAES_ADOLESC!AP28","v":"ATINGIU"},{"$f":"MORT_INF!AI28","v":17},{"$f":"MORT_INF!X28","v":23},{"$f":"MORT_INF!AH28","v":17.450682852807287},{"$f":"MORT_INF!AJ28","v":"NÃO ATINGIU"},{"$f":"OBITOS_MATERNOS!AI28","v":0},{"$f":"OBITOS_MATERNOS!X28","v":1},{"$f":"OBITOS_MATERNOS!AJ28","v":"NÃO ATINGIU"},{"$f":"COBERTURA_AB!N35","v":0.71430000000000005},{"$f":"COBERTURA_AB!M35","v":0.79769999999999996},{"$f":"COBERTURA_AB!O35","v":"ATINGIU"},0.85,{"$f":"PBF_ACOMP_2017!F33","v":8641},{"$f":"PBF_ACOMP_2017!G33","v":0.9174984073051603},{"$f":"PBF_ACOMP_2017!I33","v":"ATINGIU"},{"$f":"COBETURA_SB!M36","v":0.35590000000000005},{"$f":"COBETURA_SB!L36","v":0.39729999999999999},{"$f":"COBETURA_SB!N36","v":"ATINGIU"},{"$f":"AÇOES_VIGIL!N30","v":1},{"$f":"AÇOES_VIGIL!M30","v":0.66666666666666663},{"$f":"AÇOES_VIGIL!O30","v":"NÃO ATINGIU"},{"$f":"MATRICIAMENTO_CAPS!K28","v":1},{"$f":"MATRICIAMENTO_CAPS!H28","v":2},{"$f":"MATRICIAMENTO_CAPS!J28","v":1},{"$f":"MATRICIAMENTO_CAPS!L28","v":"ATINGIU"},{"$f":"CICLO_DENGUE!H30","v":4},{"$f":"CICLO_DENGUE!G30","v":1},{"$f":"CICLO_DENGUE!I30","v":"NÃO ATINGIU"},{"$f":"NOT_AC_TRAB_OCUP!M28","v":0.95},{"$f":"NOT_AC_TRAB_OCUP!L28","v":0.6428571428571429},{"$f":"NOT_AC_TRAB_OCUP!N28","v":"NÃO ATINGIU"},9,12,0.42857142857142855]
[280300,"ESTANCIA","ITABAIANINHA",{"$f":"OBITOS_PREMATUROS!D29","v":41405},{"$f":"OBITOS_PREMATUROS!AH29","v":43},{"$f":"OBITOS_PREMATUROS!W29","v":55},{"$f":"OBITOS_PREMATUROS!AG29","v":333.27273829000785},{"$f":"OBITOS_PREMATUROS!AI29","v":"NÃO ATINGIU"},{"$f":"OBITOS_MIF!AI29","v":0.9},{"$f":"OBITOS_MIF!N29","v":15},{"$f":"OBITOS_MIF!X29","v":14},{"$f":"OBITOS_MIF!AH29","v":0.93333333333333335},{"$f":"OBITOS_MIF!AJ29","v":"ATINGIU"},{"$f":"OBITOS_CAUSAS!AI29","v":0.93},{"$f":"OBITOS_CAUSAS!N29","v":198},{"$f":"OBITOS_CAUSAS!AH29","v":0.92523364485981308},{"$f":"OBITOS_CAUSAS!AJ29","v":"NÃO ATINGIU"},{"$f":"METAS!G29","v":1},0,"NÃO ATINGIU",{"$f":"METAS!H29","v":0.85},0.5,{"$f":"IF(Tabela13[[#This Row],[05 %DE CASOS DOENÇAS NOT COMP IMEDIATA]]=\"S/C\",\"N/A\",IF(V29>=U29,\"ATINGIU\",\"NÃO ATINGIU\"))","v":"NÃO ATINGIU"},{"$f":"CURA_CASOS_HANS!AI29","v":0.9},{"$f":"CURA_CASOS_HANS!N29","v":0},{"$f":"CURA_CASOS_HANS!AH29","v":1},{"$f":"CURA_CASOS_HANS!AJ29","v":"ATINGIU"},{"$f":"SIFILIS_CONG_1ANO!O31","v":14},{"$f":"SIFILIS_CONG_1ANO!N31","v":13},{"$f":"SIFILIS_CONG_1ANO!P31","v":"ATINGIU"},{"$f":"AIDS_MENOR5!P29","v":0},{"$f":"AIDS_MENOR5!O29","v":1},{"$f":"AIDS_MENOR5!Q29","v":"NÃO ATINGIU"},{"$f":"METAS!L29","v":0.65},{"$f":"ANALISE_AGUA_2017!J30","v":0.42633928571428564},{"$f":"ANALISE_AGUA_2017!L30","v":"NÃO ATINGIU"},{"$f":"CITOPATOLOGICO!AH29","v":0.55000000000000004},{"$f":"CITOPATOLOGICO!W29","v":1365},{"$f":"CITOPATOLOGICO!AG29","v":0.42929028200020969},{"$f":"CITOPATOLOGICO!AL29","v":"NÃO ATINGIU"},{"$f":"MAMOGRAFIA!AE29","v":0.25},{"$f":"MAMOGRAFIA!U29","v":203},{"$f":"MAMOGRAFIA!AD29","v":0.15},{"$f":"MAMOGRAFIA!AG29","v":"NÃO ATINGIU"},{"$f":"PARTO_NORMAL!AI29","v":0.63},{"$f":"PARTO_NORMAL!X29","v":357},{"$f":"PARTO_NORMAL!AH29","v":0.59499999999999997},{"$f":"PARTO_NORMAL!AJ29","v":"NÃO ATINGIU"},{"$f":"MAES_ADOLESC!AO29","v":0.2},{"$f":"MAES_ADOLESC!AB29","v":145},{"$f":"MAES_ADOLESC!AN29","v":0.24166666666666667},{"$f":"MAES_ADOLESC!AP29","v":"NÃO ATINGIU"},{"$f":"MORT_INF!AI29","v":13},{"$f":"MORT_INF!X29","v":10},{"$f":"MORT_INF!AH29","v":16.666666666666668},{"$f":"MORT_INF!AJ29","v":"ATINGIU"},{"$f":"OBITOS_MATERNOS!AI29","v":1},{"$f":"OBITOS_MATERNOS!X29","v":0},{"$f":"OBITOS_MATERNOS!AJ29","v":"ATINGIU"},{"$f":"COBERTURA_AB!N36","v":0.83329999999999993},{"$f":"COBERTURA_AB!M36","v":0.99309999999999998},{"$f":"COBERTURA_AB!O36","v":"ATINGIU"},0.75,{"$f":"PBF_ACOMP_2017!F34","v":4581},{"$f":"PBF_ACOMP_2017!G34","v":0.81614110101549975},{"$f":"PBF_ACOMP_2017!I34","v":"ATINGIU"},{"$f":"COBETURA_SB!M37","v":0.53620000000000001},{"$f":"COBETURA_SB!L37","v":0.72330000000000005},{"$f":"COBETURA_SB!N37","v":"ATINGIU"},{"$f":"AÇOES_VIGIL!N31","v":0.83},{"$f":"AÇOES_VIGIL!M31","v":1},{"$f":"AÇOES_VIGIL!O31","v":"ATINGIU"},{"$f":"MATRICIAMENTO_CAPS!K29","v":1},{"$f":"MATRICIAMENTO_CAPS!H29","v":1},{"$f":"MATRICIAMENTO_CAPS!J29","v":1},{"$f":"MATRICIAMENTO_CAPS!L29","v":"ATINGIU"},{"$f":"CICLO_DENGUE!H31","v":4},{"$f":"CICLO_DENGUE!G31","v":3},{"$f":"CICLO_DENGUE!I31","v":"NÃO ATINGIU"},{"$f":"NOT_AC_TRAB_OCUP!M29","v":0.95},{"$f":"NOT_AC_TRAB_OCUP!L29","v":1},{"$f":"NOT_AC_TRAB_OCUP!N29","v":"ATINGIU"},11,11,0.5]
[280310,"GLORIA","ITABI",{"$f":"OBITOS_PREMATUROS!D30","v":5017},{"$f":"OBITOS_PREMATUROS!AH30","v":3},{"$f":"OBITOS_PREMATUROS!W30","v":6},{"$f":"OBITOS_PREMATUROS!AG30","v":249.06600249066003},{"$f":"OBITOS_PREMATUROS!AI30","v":"NÃO ATINGIU"},{"$f":"OBITOS_MIF!AI30","v":0.9},{"$f":"OBITOS_MIF!N30","v":3},{"$f":"OBITOS_MIF!X30","v":0},{"$f":"OBITOS_MIF!AH30","v":0},{"$f":"OBITOS_MIF!AJ30","v":"NÃO ATINGIU"},{"$f":"OBITOS_CAUSAS!AI30","v":0.95},{"$f":"OBITOS_CAUSAS!N30","v":29},{"$f":"OBITOS_CAUSAS!AH30","v":0.82857142857142863},{"$f":"OBITOS_CAUSAS!AJ30","v":"NÃO ATINGIU"},{"$f":"METAS!G30","v":1},0,"NÃO ATINGIU",{"$f":"METAS!H30","v":0.85},"S/C",{"$f":"IF(Tabela13[[#This Row],[05 %DE CASOS DOENÇAS NOT COMP IMEDIATA]]=\"S/C\",\"N/A\",IF(V30>=U30,\"ATINGIU\",\"NÃO ATINGIU\"))","v":"N/A"},{"$f":"CURA_CASOS_HANS!AI30","v":0.9},{"$f":"CURA_CASOS_HANS!N30","v":0},{"$f":"CURA_CASOS_HANS!AH30","v":0},{"$f":"CURA_CASOS_HANS!AJ30","v":"NÃO ATINGIU"},{"$f":"SIFILIS_CONG_1ANO!O32","v":0},{"$f":"SIFILIS_CONG_1ANO!N32","v":0},{"$f":"SIFILIS_CONG_1ANO!P32","v":"ATINGIU"},{"$f":"AIDS_MENOR5!P30","v":0},{"$f":"AIDS_MENOR5!O30","v":0},{"$f":"AIDS_MENOR5!Q30","v":"ATINGIU"},{"$f":"METAS!L30","v":0.6},{"$f":"ANALISE_AGUA_2017!J31","v":0},{"$f":"ANALISE_AGUA_2017!L31","v":"NÃO ATINGIU"},{"$f":"CITOPATOLOGICO!AH30","v":0.44},{"$f":"CITOPATOLOGICO!W30","v":86},{"$f":"CITOPATOLOGICO!AG30","v":0.20379146919431279},{"$f":"CITOPATOLOGICO!AL30","v":"NÃO ATINGIU"},{"$f":"MAMOGRAFIA!AE30","v":0.2},{"$f":"MAMOGRAFIA!U30","v":144},{"$f":"MAMOGRAFIA!AD30","v":0.62},{"$f":"MAMOGRAFIA!AG30","v":"ATINGIU"},{"$f":"PARTO_NORMAL!AI30","v":0.7},{"$f":"PARTO_NORMAL!X30","v":36},{"$f":"PARTO_NORMAL!AH30","v":0.6},{"$f":"PARTO_NORMAL!AJ30","v":"NÃO ATINGIU"},{"$f":"MAES_ADOLESC!AO30","v":0.23},{"$f":"MAES_ADOLESC!AB30","v":16},{"$f":"MAES_ADOLESC!AN30","v":0.26666666666666666},{"$f":"MAES_ADOLESC!AP30","v":"NÃO ATINGIU"},{"$f":"MORT_INF!AI30","v":2},{"$f":"MORT_INF!X30","v":1},{"$f":"MORT_INF!AH30","v":16.666666666666668},{"$f":"MORT_INF!AJ30","v":"ATINGIU"},{"$f":"OBITOS_MATERNOS!AI30","v":0},{"$f":"OBITOS_MATERNOS!X30","v":0},{"$f":"OBITOS_MATERNOS!AJ30","v":"ATINGIU"},{"$f":"COBERTURA_AB!N37","v":1},{"$f":"COBERTURA_AB!M37","v":1},{"$f":"COBERTURA_AB!O37","v":"ATINGIU"},0.92,{"$f":"PBF_ACOMP_2017!F35","v":498},{"$f":"PBF_ACOMP_2017!G35","v":0.74550898203592819},{"$f":"PBF_ACOMP_2017!I35","v":"NÃO ATINGIU"},{"$f":"COBETURA_SB!M38","v":0.68769999999999998},{"$f":"COBETURA_SB!L38","v":0.68969999999999998},{"$f":"COBETURA_SB!N38","v":"ATINGIU"},{"$f":"AÇOES_VIGIL!N32","v":1},{"$f":"AÇOES_VIGIL!M32","v":0.5},{"$f":"AÇOES_VIGIL!O32","v":"NÃO ATINGIU"},{"$f":"MATRICIAMENTO_CAPS!K30","v":"N/A"},{"$f":"MATRICIAMENTO_CAPS!H30","v":"N/A"},{"$f":"MATRICIAMENTO_CAPS!J30","v":"N/A"},{"$f":"MATRICIAMENTO_CAPS!L30","v":"N/A"},{"$f":"CICLO_DENGUE!H32","v":4},{"$f":"CICLO_DENGUE!G32","v":2},{"$f":"CICLO_DENGUE!I32","v":"NÃO ATINGIU"},{"$f":"NOT_AC_TRAB_OCUP!M30","v":0.68769999999999998},{"$f":"NOT_AC_TRAB_OCUP!L30","v":0.33333333333333331},{"$f":"NOT_AC_TRAB_OCUP!N30","v":"NÃO ATINGIU"},7,13,0.35]
[280320,"ARACAJU","ITAPORANGA D'AJUDA",{"$f":"OBITOS_PREMATUROS!D31","v":33320},{"$f":"OBITOS_PREMATUROS!AH31","v":36},{"$f":"OBITOS_PREMATUROS!W31","v":42},{"$f":"OBITOS_PREMATUROS!AG31","v":311.5495883094726},{"$f":"OBITOS_PREMATUROS!AI31","v":"NÃO ATINGIU"},{"$f":"OBITOS_MIF!AI31","v":0.9},{"$f":"OBITOS_MIF!N31","v":10},{"$f":"OBITOS_MIF!X31","v":5},{"$f":"OBITOS_MIF!AH31","v":0.5},{"$f":"OBITOS_MIF!AJ31","v":"NÃO ATINGIU"},{"$f":"OBITOS_CAUSAS!AI31","v":0.95},{"$f":"OBITOS_CAUSAS!N31","v":181},{"$f":"OBITOS_CAUSAS!AH31","v":0.91878172588832485},{"$f":"OBITOS_CAUSAS!AJ31","v":"NÃO ATINGIU"},{"$f":"METAS!G31","v":1},0,"NÃO ATINGIU",{"$f":"METAS!H31","v":1},0.5,{"$f":"IF(Tabela13[[#This Row],[05 %DE CASOS DOENÇAS NOT COMP IMEDIATA]]=\"S/C\",\"N/A\",IF(V31>=U31,\"ATINGIU\",\"NÃO ATINGIU\"))","v":"NÃO ATINGIU"},{"$f":"CURA_CASOS_HANS!AI31","v":0.9},{"$f":"CURA_CASOS_HANS!N31","v":0},{"$f":"CURA_CASOS_HANS!AH31","v":1},{"$f":"CURA_CASOS_HANS!AJ31","v":"ATINGIU"},{"$f":"SIFILIS_CONG_1ANO!O33","v":5},{"$f":"SIFILIS_CONG_1ANO!N33","v":10},{"$f":"SIFILIS_CONG_1ANO!P33","v":"NÃO ATINGIU"},{"$f":"AIDS_MENOR5!P31","v":0},{"$f":"AIDS_MENOR5!O31","v":0},{"$f":"AIDS_MENOR5!Q31","v":"ATINGIU"},{"$f":"METAS!L31","v":1},{"$f":"ANALISE_AGUA_2017!J32","v":0.92404513888888884},{"$f":"ANALISE_AGUA_2017!L32","v":"NÃO ATINGIU"},{"$f":"CITOPATOLOGICO!AH31","v":0.55000000000000004},{"$f":"CITOPATOLOGICO!W31","v":546},{"$f":"CITOPATOLOGICO!AG31","v":0.21258922777417261},{"$f":"CITOPATOLOGICO!AL31","v":"NÃO ATINGIU"},{"$f":"MAMOGRAFIA!AE31","v":0.3},{"$f":"MAMOGRAFIA!U31","v":449},{"$f":"MAMOGRAFIA!AD31","v":0.45},{"$f":"MAMOGRAFIA!AG31","v":"ATINGIU"},{"$f":"PARTO_NORMAL!AI31","v":0.71},{"$f":"PARTO_NORMAL!X31","v":373},{"$f":"PARTO_NORMAL!AH31","v":0.67941712204007287},{"$f":"PARTO_NORMAL!AJ31","v":"NÃO ATINGIU"},{"$f":"MAES_ADOLESC!AO31","v":0.26},{"$f":"MAES_ADOLESC!AB31","v":123},{"$f":"MAES_ADOLESC!AN31","v":0.22404371584699453},{"$f":"MAES_ADOLESC!AP31","v":"ATINGIU"},{"$f":"MORT_INF!AI31","v":5},{"$f":"MORT_INF!X31","v":10},{"$f":"MORT_INF!AH31","v":18.214936247723134},{"$f":"MORT_INF!AJ31","v":"NÃO ATINGIU"},{"$f":"OBITOS_MATERNOS!AI31","v":0},{"$f":"OBITOS_MATERNOS!X31","v":0},{"$f":"OBITOS_MATERNOS!AJ31","v":"ATINGIU"},{"$f":"COBERTURA_AB!N38","v":1},{"$f":"COBERTURA_AB!M38","v":1},{"$f":"COBERTURA_AB!O38","v":"ATINGIU"},0.8,{"$f":"PBF_ACOMP_2017!F36","v":3726},{"$f":"PBF_ACOMP_2017!G36","v":0.88883587786259544},{"$f":"PBF_ACOMP_2017!I36","v":"ATINGIU"},{"$f":"COBETURA_SB!M39","v":1},{"$f":"COBETURA_SB!L39","v":1},{"$f":"COBETURA_SB!N39","v":"ATINGIU"},{"$f":"AÇOES_VIGIL!N33","v":1},{"$f":"AÇOES_VIGIL!M33","v":1},{"$f":"AÇOES_VIGIL!O33","v":"ATINGIU"},{"$f":"MATRICIAMENTO_CAPS!K31","v":1},{"$f":"MATRICIAMENTO_CAPS!H31","v":0},{"$f":"MATRICIAMENTO_CAPS!J31","v":0},{"$f":"MATRICIAMENTO_CAPS!L31","v":"NÃO ATINGIU"},{"$f":"CICLO_DENGUE!H33","v":4},{"$f":"CICLO_DENGUE!G33","v":0},{"$f":"CICLO_DENGUE!I33","v":"NÃO ATINGIU"},{"$f":"NOT_AC_TRAB_OCUP!M31","v":0.95},{"$f":"NOT_AC_TRAB_OCUP!L31","v":0.63636363636363635},{"$f":"NOT_AC_TRAB_OCUP!N31","v":"NÃO ATINGIU"},9,13,0.40909090909090912]
[280330,"SOCORRO","JAPARATUBA",{"$f":"OBITOS_PREMATUROS!D32","v":18286},{"$f":"OBITOS_PREMATUROS!AH32","v":18},{"$f":"OBITOS_PREMATUROS!W32","v":25},{"$f":"OBITOS_PREMATUROS!AG32","v":321.83316168898045},{"$f":"OBITOS_PREMATUROS!AI32","v":"NÃO ATINGIU"},{"$f":"OBITOS_MIF!AI32","v":0.9},{"$f":"OBITOS_MIF!N32","v":4},{"$f":"OBITOS_MIF!X32","v":1},{"$f":"OBITOS_MIF!AH32","v":0.25},{"$f":"OBITOS_MIF!AJ32","v":"NÃO ATINGIU"},{"$f":"OBITOS_CAUSAS!AI32","v":0.95},{"$f":"OBITOS_CAUSAS!N32","v":84},{"$f":"OBITOS_CAUSAS!AH32","v":0.84},{"$f":"OBITOS_CAUSAS!AJ32","v":"NÃO ATINGIU"},{"$f":"METAS!G32","v":1},0,"NÃO ATINGIU",{"$f":"METAS!H32","v":0.85},1,{"$f":"IF(Tabela13[[#This Row],[05 %DE CASOS DOENÇAS NOT COMP IMEDIATA]]=\"S/C\",\"N/A\",IF(V32>=U32,\"ATINGIU\",\"NÃO ATINGIU\"))","v":"ATINGIU"},{"$f":"CURA_CASOS_HANS!AI32","v":0.9},{"$f":"CURA_CASOS_HANS!N32","v":0},{"$f":"CURA_CASOS_HANS!AH32","v":"SC"},{"$f":"CURA_CASOS_HANS!AJ32","v":"N/A"},{"$f":"SIFILIS_CONG_1ANO!O34","v":2},{"$f":"SIFILIS_CONG_1ANO!N34","v":2},{"$f":"SIFILIS_CONG_1ANO!P34","v":"ATINGIU"},{"$f":"AIDS_MENOR5!P32","v":0},{"$f":"AIDS_MENOR5!O32","v":0},{"$f":"AIDS_MENOR5!Q32","v":"ATINGIU"},{"$f":"METAS!L32","v":1},{"$f":"ANALISE_AGUA_2017!J33","v":0.1015625},{"$f":"ANALISE_AGUA_2017!L33","v":"NÃO ATINGIU"},{"$f":"CITOPATOLOGICO!AH32","v":0.57999999999999996},{"$f":"CITOPATOLOGICO!W32","v":349},{"$f":"CITOPATOLOGICO!AG32","v":0.23282188125416944},{"$f":"CITOPATOLOGICO!AL32","v":"NÃO ATINGIU"},{"$f":"MAMOGRAFIA!AE32","v":0.16},{"$f":"MAMOGRAFIA!U32","v":437},{"$f":"MAMOGRAFIA!AD32","v":0.67},{"$f":"MAMOGRAFIA!AG32","v":"ATINGIU"},{"$f":"PARTO_NORMAL!AI32","v":0.64},{"$f":"PARTO_NORMAL!X32","v":150},{"$f":"PARTO_NORMAL!AH32","v":0.6097560975609756},{"$f":"PARTO_NORMAL!AJ32","v":"NÃO ATINGIU"},{"$f":"MAES_ADOLESC!AO32","v":0.18},{"$f":"MAES_ADOLESC!AB32","v":59},{"$f":"MAES_ADOLESC!AN32","v":0.23983739837398374},{"$f":"MAES_ADOLESC!AP32","v":"NÃO ATINGIU"},{"$f":"MORT_INF!AI32","v":2},{"$f":"MORT_INF!X32","v":3},{"$f":"MORT_INF!AH32","v":12.195121951219512},{"$f":"MORT_INF!AJ32","v":"NÃO ATINGIU"},{"$f":"OBITOS_MATERNOS!AI32","v":0},{"$f":"OBITOS_MATERNOS!X32","v":0},{"$f":"OBITOS_MATERNOS!AJ32","v":"ATINGIU"},{"$f":"COBERTURA_AB!N39","v":0.98730000000000007},{"$f":"COBERTURA_AB!M39","v":1},{"$f":"COBERTURA_AB!O39","v":"ATINGIU"},0.78,{"$f":"PBF_ACOMP_2017!F37","v":1759},{"$f":"PBF_ACOMP_2017!G37","v":0.78282153983088565},{"$f":"PBF_ACOMP_2017!I37","v":"ATINGIU"},{"$f":"COBETURA_SB!M40","v":0.94319999999999993},{"$f":"COBETURA_SB!L40","v":0.1867},{"$f":"COBETURA_SB!N40","v":"NÃO ATINGIU"},{"$f":"AÇOES_VIGIL!N34","v":1},{"$f":"AÇOES_VIGIL!M34","v":0.33333333333333331},{"$f":"AÇOES_VIGIL!O34","v":"NÃO ATINGIU"},{"$f":"MATRICIAMENTO_CAPS!K32","v":"N/A"},{"$f":"MATRICIAMENTO_CAPS!H32","v":0},{"$f":"MATRICIAMENTO_CAPS!J32","v":"N/A"},{"$f":"MATRICIAMENTO_CAPS!L32","v":"N/A"},{"$f":"CICLO_DENGUE!H34","v":4},{"$f":"CICLO_DENGUE!G34","v":0},{"$f":"CICLO_DENGUE!I34","v":"NÃO ATINGIU"},{"$f":"NOT_AC_TRAB_OCUP!M32","v":0.95},{"$f":"NOT_AC_TRAB_OCUP!L32","v":0.66666666666666663},{"$f":"NOT_AC_TRAB_OCUP!N32","v":"NÃO ATINGIU"},7,13,0.35]
[280340,"PROPRIA","JAPOATÃ",{"$f":"OBITOS_PREMATUROS!D33","v":13245},{"$f":"OBITOS_PREMATUROS!AH33","v":15},{"$f":"OBITOS_PREMATUROS!W33","v":15},{"$f":"OBITOS_PREMATUROS!AG33","v":286.86173264486519},{"$f":"OBITOS_PREMATUROS!AI33","v":"ATINGIU"},{"$f":"OBITOS_MIF!AI33","v":1},{"$f":"OBITOS_MIF!N33","v":5},{"$f":"OBITOS_MIF!X33","v":5},{"$f":"OBITOS_MIF!AH33","v":1},{"$f":"OBITOS_MIF!AJ33","v":"ATINGIU"},{"$f":"OBITOS_CAUSAS!AI33","v":0.95},{"$f":"OBITOS_CAUSAS!N33","v":66},{"$f":"OBITOS_CAUSAS!AH33","v":0.79518072289156627},{"$f":"OBITOS_CAUSAS!AJ33","v":"NÃO ATINGIU"},{"$f":"METAS!G33","v":0.75},0,"NÃO ATINGIU",{"$f":"METAS!H33","v":0.85},"S/C",{"$f":"IF(Tabela13[[#This Row],[05 %DE CASOS DOENÇAS NOT COMP IMEDIATA]]=\"S/C\",\"N/A\",IF(V33>=U33,\"ATINGIU\",\"NÃO ATINGIU\"))","v":"N/A"},{"$f":"CURA_CASOS_HANS!AI33","v":0.9},{"$f":"CURA_CASOS_HANS!N33","v":0},{"$f":"CURA_CASOS_HANS!AH33","v":1},{"$f":"CURA_CASOS_HANS!AJ33","v":"ATINGIU"},{"$f":"SIFILIS_CONG_1ANO!O35","v":0},{"$f":"SIFILIS_CONG_1ANO!N35","v":2},{"$f":"SIFILIS_CONG_1ANO!P35","v":"NÃO ATINGIU"},{"$f":"AIDS_MENOR5!P33","v":0},{"$f":"AIDS_MENOR5!O33","v":0},{"$f":"AIDS_MENOR5!Q33","v":"ATINGIU"},{"$f":"METAS!L33","v":0.3},{"$f":"ANALISE_AGUA_2017!J34","v":3.5937499999999997E-2},{"$f":"ANALISE_AGUA_2017!L34","v":"NÃO ATINGIU"},{"$f":"CITOPATOLOGICO!AH33","v":0.55000000000000004},{"$f":"CITOPATOLOGICO!W33","v":769},{"$f":"CITOPATOLOGICO!AG33","v":0.78071065989847721},{"$f":"CITOPATOLOGICO!AL33","v":"ATINGIU"},{"$f":"MAMOGRAFIA!AE33","v":0.1},{"$f":"MAMOGRAFIA!U33","v":175},{"$f":"MAMOGRAFIA!AD33","v":0.42},{"$f":"MAMOGRAFIA!AG33","v":"ATINGIU"},{"$f":"PARTO_NORMAL!AI33","v":0.63},{"$f":"PARTO_NORMAL!X33","v":116},{"$f":"PARTO_NORMAL!AH33","v":0.59183673469387754},{"$f":"PARTO_NORMAL!AJ33","v":"NÃO ATINGIU"},{"$f":"MAES_ADOLESC!AO33","v":0.3},{"$f":"MAES_ADOLESC!AB33","v":49},{"$f":"MAES_ADOLESC!AN33","v":0.25},{"$f":"MAES_ADOLESC!AP33","v":"ATINGIU"},{"$f":"MORT_INF!AI33","v":3},{"$f":"MORT_INF!X33","v":1},{"$f":"MORT_INF!AH33","v":5.1020408163265305},{"$f":"MORT_INF!AJ33","v":"ATINGIU"},{"$f":"OBITOS_MATERNOS!AI33","v":0},{"$f":"OBITOS_MATERNOS!X33","v":0},{"$f":"OBITOS_MATERNOS!AJ33","v":"ATINGIU"},{"$f":"COBERTURA_AB!N40","v":1},{"$f":"COBERTURA_AB!M40","v":1},{"$f":"COBERTURA_AB!O40","v":"ATINGIU"},0.74,{"$f":"PBF_ACOMP_2017!F38","v":1202},{"$f":"PBF_ACOMP_2017!G38","v":0.56966824644549763},{"$f":"PBF_ACOMP_2017!I38","v":"NÃO ATINGIU"},{"$f":"COBETURA_SB!M41","v":1},{"$f":"COBETURA_SB!L41","v":1},{"$f":"COBETURA_SB!N41","v":"ATINGIU"},{"$f":"AÇOES_VIGIL!N35","v":1},{"$f":"AÇOES_VIGIL!M35","v":0.33333333333333331},{"$f":"AÇOES_VIGIL!O35","v":"NÃO ATINGIU"},{"$f":"MATRICIAMENTO_CAPS!K33","v":1},{"$f":"MATRICIAMENTO_CAPS!H33","v":1},{"$f":"MATRICIAMENTO_CAPS!J33","v":1},{"$f":"MATRICIAMENTO_CAPS!L33","v":"ATINGIU"},{"$f":"CICLO_DENGUE!H35","v":4},{"$f":"CICLO_DENGUE!G35","v":1},{"$f":"CICLO_DENGUE!I35","v":"NÃO ATINGIU"},{"$f":"NOT_AC_TRAB_OCUP!M33","v":0.95},{"$f":"NOT_AC_TRAB_OCUP!L33","v":0.14285714285714285},{"$f":"NOT_AC_TRAB_OCUP!N33","v":"NÃO ATINGIU"},12,9,0.5714285714285714]
[280350,"LAGARTO","LAGARTO",{"$f":"OBITOS_PREMATUROS!D34","v":102259},{"$f":"OBITOS_PREMATUROS!AH34","v":264},{"$f":"OBITOS_PREMATUROS!W34","v":109},{"$f":"OBITOS_PREMATUROS!AG34","v":246.4836506716114},{"$f":"OBITOS_PREMATUROS!AI34","v":"ATINGIU"},{"$f":"OBITOS_MIF!AI34","v":0.93},{"$f":"OBITOS_MIF!N34","v":30},{"$f":"OBITOS_MIF!X34","v":16},{"$f":"OBITOS_MIF!AH34","v":0.53333333333333333},{"$f":"OBITOS_MIF!AJ34","v":"NÃO ATINGIU"},{"$f":"OBITOS_CAUSAS!AI34","v":0.95},{"$f":"OBITOS_CAUSAS!N34","v":590},{"$f":"OBITOS_CAUSAS!AH34","v":0.96405228758169936},{"$f":"OBITOS_CAUSAS!AJ34","v":"ATINGIU"},{"$f":"METAS!G34","v":1},0,"NÃO ATINGIU",{"$f":"METAS!H34","v":0.85},1,{"$f":"IF(Tabela13[[#This Row],[05 %DE CASOS DOENÇAS NOT COMP IMEDIATA]]=\"S/C\",\"N/A\",IF(V34>=U34,\"ATINGIU\",\"NÃO ATINGIU\"))","v":"ATINGIU"},{"$f":"CURA_CASOS_HANS!AI34","v":0.9},{"$f":"CURA_CASOS_HANS!N34","v":0},{"$f":"CURA_CASOS_HANS!AH34","v":0.66670000000000007},{"$f":"CURA_CASOS_HANS!AJ34","v":"NÃO ATINGIU"},{"$f":"SIFILIS_CONG_1ANO!O36","v":5},{"$f":"SIFILIS_CONG_1ANO!N36","v":10},{"$f":"SIFILIS_CONG_1ANO!P36","v":"NÃO ATINGIU"},{"$f":"AIDS_MENOR5!P34","v":0},{"$f":"AIDS_MENOR5!O34","v":0},{"$f":"AIDS_MENOR5!Q34","v":"ATINGIU"},{"$f":"METAS!L34","v":0.9},{"$f":"ANALISE_AGUA_2017!J35","v":1.1861979166666667},{"$f":"ANALISE_AGUA_2017!L35","v":"ATINGIU"},{"$f":"CITOPATOLOGICO!AH34","v":0.62},{"$f":"CITOPATOLOGICO!W34","v":3534},{"$f":"CITOPATOLOGICO!AG34","v":0.41288262325726299},{"$f":"CITOPATOLOGICO!AL34","v":"NÃO ATINGIU"},{"$f":"MAMOGRAFIA!AE34","v":0.25},{"$f":"MAMOGRAFIA!U34","v":252},{"$f":"MAMOGRAFIA!AD34","v":0.06},{"$f":"MAMOGRAFIA!AG34","v":"NÃO ATINGIU"},{"$f":"PARTO_NORMAL!AI34","v":0.6},{"$f":"PARTO_NORMAL!X34","v":797},{"$f":"PARTO_NORMAL!AH34","v":0.52992021276595747},{"$f":"PARTO_NORMAL!AJ34","v":"NÃO ATINGIU"},{"$f":"MAES_ADOLESC!AO34","v":0.22},{"$f":"MAES_ADOLESC!AB34","v":290},{"$f":"MAES_ADOLESC!AN34","v":0.19281914893617022},{"$f":"MAES_ADOLESC!AP34","v":"ATINGIU"},{"$f":"MORT_INF!AI34","v":13},{"$f":"MORT_INF!X34","v":25},{"$f":"MORT_INF!AH34","v":16.622340425531913},{"$f":"MORT_INF!AJ34","v":"NÃO ATINGIU"},{"$f":"OBITOS_MATERNOS!AI34","v":0},{"$f":"OBITOS_MATERNOS!X34","v":0},{"$f":"OBITOS_MATERNOS!AJ34","v":"NÃO ATINGIU"},{"$f":"COBERTURA_AB!N41","v":0.62109999999999999},{"$f":"COBERTURA_AB!M41","v":0.76380000000000003},{"$f":"COBERTURA_AB!O41","v":"ATINGIU"},0.8,{"$f":"PBF_ACOMP_2017!F39","v":9294},{"$f":"PBF_ACOMP_2017!G39","v":0.86007773459189341},{"$f":"PBF_ACOMP_2017!I39","v":"ATINGIU"},{"$f":"COBETURA_SB!M42","v":0.33450000000000002},{"$f":"COBETURA_SB!L42","v":0.52190000000000003},{"$f":"COBETURA_SB!N42","v":"ATINGIU"},{"$f":"AÇOES_VIGIL!N36","v":1},{"$f":"AÇOES_VIGIL!M36","v":1},{"$f":"AÇOES_VIGIL!O36","v":"ATINGIU"},{"$f":"MATRICIAMENTO_CAPS!K34","v":0.5},{"$f":"MATRICIAMENTO_CAPS!H34","v":0},{"$f":"MATRICIAMENTO_CAPS!J34","v":0},{"$f":"MATRICIAMENTO_CAPS!L34","v":"NÃO ATINGIU"},{"$f":"CICLO_DENGUE!H36","v":4},{"$f":"CICLO_DENGUE!G36","v":3},{"$f":"CICLO_DENGUE!I36","v":"NÃO ATINGIU"},{"$f":"NOT_AC_TRAB_OCUP!M34","v":0.95},{"$f":"NOT_AC_TRAB_OCUP!L34","v":1},{"$f":"NOT_AC_TRAB_OCUP!N34","v":"ATINGIU"},{"$f":"COUNTIF(E34:CD34,\"ATINGIU\")","v":11},{"$f":"COUNTIF(F34:CD34,\"NÃO ATINGIU\")","v":11},{"$f":"CE34/(CE34+CF34)","v":0.5}]
[280360,"ARACAJU","LARANJEIRAS",{"$f":"OBITOS_PREMATUROS!D35","v":29127},{"$f":"OBITOS_PREMATUROS!AH35","v":27},{"$f":"OBITOS_PREMATUROS!W35","v":25},{"$f":"OBITOS_PREMATUROS!AG35","v":213.89459274469542},{"$f":"OBITOS_PREMATUROS!AI35","v":"ATINGIU"},{"$f":"OBITOS_MIF!AI35","v":1},{"$f":"OBITOS_MIF!N35","v":8},{"$f":"OBITOS_MIF!X35","v":2},{"$f":"OBITOS_MIF!AH35","v":0.25},{"$f":"OBITOS_MIF!AJ35","v":"NÃO ATINGIU"},{"$f":"OBITOS_CAUSAS!AI35","v":0.95},{"$f":"OBITOS_CAUSAS!N35","v":130},{"$f":"OBITOS_CAUSAS!AH35","v":0.97014925373134331},{"$f":"OBITOS_CAUSAS!AJ35","v":"ATINGIU"},{"$f":"METAS!G35","v":1},0.25,"NÃO ATINGIU",{"$f":"METAS!H35","v":0.95},"S/C",{"$f":"IF(Tabela13[[#This Row],[05 %DE CASOS DOENÇAS NOT COMP IMEDIATA]]=\"S/C\",\"N/A\",IF(V35>=U35,\"ATINGIU\",\"NÃO ATINGIU\"))","v":"N/A"},{"$f":"CURA_CASOS_HANS!AI35","v":0.88},{"$f":"CURA_CASOS_HANS!N35","v":0},{"$f":"CURA_CASOS_HANS!AH35","v":1},{"$f":"CURA_CASOS_HANS!AJ35","v":"ATINGIU"},{"$f":"SIFILIS_CONG_1ANO!O37","v":5},{"$f":"SIFILIS_CONG_1ANO!N37","v":5},{"$f":"SIFILIS_CONG_1ANO!P37","v":"ATINGIU"},{"$f":"AIDS_MENOR5!P35","v":0},{"$f":"AIDS_MENOR5!O35","v":0},{"$f":"AIDS_MENOR5!Q35","v":"ATINGIU"},{"$f":"METAS!L35","v":1},{"$f":"ANALISE_AGUA_2017!J36","v":0.74522569444444431},{"$f":"ANALISE_AGUA_2017!L36","v":"NÃO ATINGIU"},{"$f":"CITOPATOLOGICO!AH35","v":0.52},{"$f":"CITOPATOLOGICO!W35","v":1048},{"$f":"CITOPATOLOGICO!AG35","v":0.4413870560157237},{"$f":"CITOPATOLOGICO!AL35","v":"NÃO ATINGIU"},{"$f":"MAMOGRAFIA!AE35","v":0.22},{"$f":"MAMOGRAFIA!U35","v":451},{"$f":"MAMOGRAFIA!AD35","v":0.51},{"$f":"MAMOGRAFIA!AG35","v":"ATINGIU"},{"$f":"PARTO_NORMAL!AI35","v":0.65},{"$f":"PARTO_NORMAL!X35","v":279},{"$f":"PARTO_NORMAL!AH35","v":0.64883720930232558},{"$f":"PARTO_NORMAL!AJ35","v":"NÃO ATINGIU"},{"$f":"MAES_ADOLESC!AO35","v":0.2},{"$f":"MAES_ADOLESC!AB35","v":111},{"$f":"MAES_ADOLESC!AN35","v":0.25813953488372093},{"$f":"MAES_ADOLESC!AP35","v":"NÃO ATINGIU"},{"$f":"MORT_INF!AI35","v":7},{"$f":"MORT_INF!X35","v":6},{"$f":"MORT_INF!AH35","v":13.953488372093023},{"$f":"MORT_INF!AJ35","v":"ATINGIU"},{"$f":"OBITOS_MATERNOS!AI35","v":0},{"$f":"OBITOS_MATERNOS!X35","v":0},{"$f":"OBITOS_MATERNOS!AJ35","v":"ATINGIU"},{"$f":"COBERTURA_AB!N42","v":1},{"$f":"COBERTURA_AB!M42","v":1},{"$f":"COBERTURA_AB!O42","v":"ATINGIU"},0.84,{"$f":"PBF_ACOMP_2017!F40","v":2292},{"$f":"PBF_ACOMP_2017!G40","v":0.83588621444201316},{"$f":"PBF_ACOMP_2017!I40","v":"NÃO ATINGIU"},{"$f":"COBETURA_SB!M43","v":1},{"$f":"COBETURA_SB!L43","v":1},{"$f":"COBETURA_SB!N43","v":"ATINGIU"},{"$f":"AÇOES_VIGIL!N37","v":1},{"$f":"AÇOES_VIGIL!M37","v":1},{"$f":"AÇOES_VIGIL!O37","v":"ATINGIU"},{"$f":"MATRICIAMENTO_CAPS!K35","v":1},{"$f":"MATRICIAMENTO_CAPS!H35","v":0},{"$f":"MATRICIAMENTO_CAPS!J35","v":0},{"$f":"MATRICIAMENTO_CAPS!L35","v":"NÃO ATINGIU"},{"$f":"CICLO_DENGUE!H37","v":4},{"$f":"CICLO_DENGUE!G37","v":2},{"$f":"CICLO_DENGUE!I37","v":"NÃO ATINGIU"},{"$f":"NOT_AC_TRAB_OCUP!M35","v":0.95},{"$f":"NOT_AC_TRAB_OCUP!L35","v":0.6},{"$f":"NOT_AC_TRAB_OCUP!N35","v":"NÃO ATINGIU"},11,10,0.52380952380952384]
[280370,"ITABAIANA","MACAMBIRA",{"$f":"OBITOS_PREMATUROS!D36","v":6823},{"$f":"OBITOS_PREMATUROS!AH36","v":6},{"$f":"OBITOS_PREMATUROS!W36","v":10},{"$f":"OBITOS_PREMATUROS!AG36","v":339.44331296673454},{"$f":"OBITOS_PREMATUROS!AI36","v":"NÃO ATINGIU"},{"$f":"OBITOS_MIF!AI36","v":0.9},{"$f":"OBITOS_MIF!N36","v":4},{"$f":"OBITOS_MIF!X36","v":0},{"$f":"OBITOS_MIF!AH36","v":0},{"$f":"OBITOS_MIF!AJ36","v":"NÃO ATINGIU"},{"$f":"OBITOS_CAUSAS!AI36","v":0.9},{"$f":"OBITOS_CAUSAS!N36","v":37},{"$f":"OBITOS_CAUSAS!AH36","v":0.86046511627906974},{"$f":"OBITOS_CAUSAS!AJ36","v":"NÃO ATINGIU"},{"$f":"METAS!G36","v":0.75},0,"NÃO ATINGIU",{"$f":"METAS!H36","v":0.85},"S/C",{"$f":"IF(Tabela13[[#This Row],[05 %DE CASOS DOENÇAS NOT COMP IMEDIATA]]=\"S/C\",\"N/A\",IF(V36>=U36,\"ATINGIU\",\"NÃO ATINGIU\"))","v":"N/A"},{"$f":"CURA_CASOS_HANS!AI36","v":0.95},{"$f":"CURA_CASOS_HANS!N36","v":0},{"$f":"CURA_CASOS_HANS!AH36","v":0},{"$f":"CURA_CASOS_HANS!AJ36","v":"NÃO ATINGIU"},{"$f":"SIFILIS_CONG_1ANO!O38","v":0},{"$f":"SIFILIS_CONG_1ANO!N38","v":0},{"$f":"SIFILIS_CONG_1ANO!P38","v":"ATINGIU"},{"$f":"AIDS_MENOR5!P36","v":0},{"$f":"AIDS_MENOR5!O36","v":0},{"$f":"AIDS_MENOR5!Q36","v":"ATINGIU"},{"$f":"METAS!L36","v":0.9},{"$f":"ANALISE_AGUA_2017!J37","v":0.625},{"$f":"ANALISE_AGUA_2017!L37","v":"NÃO ATINGIU"},{"$f":"CITOPATOLOGICO!AH36","v":0.16},{"$f":"CITOPATOLOGICO!W36","v":248},{"$f":"CITOPATOLOGICO!AG36","v":0.44023668639053254},{"$f":"CITOPATOLOGICO!AL36","v":"ATINGIU"},{"$f":"MAMOGRAFIA!AE36","v":0.1},{"$f":"MAMOGRAFIA!U36","v":199},{"$f":"MAMOGRAFIA!AD36","v":0.75},{"$f":"MAMOGRAFIA!AG36","v":"ATINGIU"},{"$f":"PARTO_NORMAL!AI36","v":0.55000000000000004},{"$f":"PARTO_NORMAL!X36","v":35},{"$f":"PARTO_NORMAL!AH36","v":0.50724637681159424},{"$f":"PARTO_NORMAL!AJ36","v":"NÃO ATINGIU"},{"$f":"MAES_ADOLESC!AO36","v":0.17},{"$f":"MAES_ADOLESC!AB36","v":18},{"$f":"MAES_ADOLESC!AN36","v":0.2608695652173913},{"$f":"MAES_ADOLESC!AP36","v":"NÃO ATINGIU"},{"$f":"MORT_INF!AI36","v":1},{"$f":"MORT_INF!X36","v":0},{"$f":"MORT_INF!AH36","v":0},{"$f":"MORT_INF!AJ36","v":"ATINGIU"},{"$f":"OBITOS_MATERNOS!AI36","v":0},{"$f":"OBITOS_MATERNOS!X36","v":0},{"$f":"OBITOS_MATERNOS!AJ36","v":"ATINGIU"},{"$f":"COBERTURA_AB!N43","v":1},{"$f":"COBERTURA_AB!M43","v":1},{"$f":"COBERTURA_AB!O43","v":"ATINGIU"},0.85,{"$f":"PBF_ACOMP_2017!F41","v":985},{"$f":"PBF_ACOMP_2017!G41","v":0.96568627450980393},{"$f":"PBF_ACOMP_2017!I41","v":"ATINGIU"},{"$f":"COBETURA_SB!M44","v":1},{"$f":"COBETURA_SB!L44","v":1},{"$f":"COBETURA_SB!N44","v":"ATINGIU"},{"$f":"AÇOES_VIGIL!N38","v":1},{"$f":"AÇOES_VIGIL!M38","v":1},{"$f":"AÇOES_VIGIL!O38","v":"ATINGIU"},{"$f":"MATRICIAMENTO_CAPS!K36","v":"N/A"},{"$f":"MATRICIAMENTO_CAPS!H36","v":"N/A"},{"$f":"MATRICIAMENTO_CAPS!J36","v":"N/A"},{"$f":"MATRICIAMENTO_CAPS!L36","v":"N/A"},{"$f":"CICLO_DENGUE!H38","v":4},{"$f":"CICLO_DENGUE!G38","v":2},{"$f":"CICLO_DENGUE!I38","v":"NÃO ATINGIU"},{"$f":"NOT_AC_TRAB_OCUP!M36","v":0.95},{"$f":"NOT_AC_TRAB_OCUP!L36","v":"N/A"},{"$f":"NOT_AC_TRAB_OCUP!N36","v":"N/A"},10,9,0.52631578947368418]
[280380,"PROPRIA","MALHADA DOS BOIS",{"$f":"OBITOS_PREMATUROS!D37","v":3652},{"$f":"OBITOS_PREMATUROS!AH37","v":6},{"$f":"OBITOS_PREMATUROS!W37","v":5},{"$f":"OBITOS_PREMATUROS!AG37","v":340.13605442176868},{"$f":"OBITOS_PREMATUROS!AI37","v":"ATINGIU"},{"$f":"OBITOS_MIF!AI37","v":0.9},{"$f":"OBITOS_MIF!N37","v":2},{"$f":"OBITOS_MIF!X37","v":0},{"$f":"OBITOS_MIF!AH37","v":0},{"$f":"OBITOS_MIF!AJ37","v":"NÃO ATINGIU"},{"$f":"OBITOS_CAUSAS!AI37","v":0.95},{"$f":"OBITOS_CAUSAS!N37","v":23},{"$f":"OBITOS_CAUSAS!AH37","v":0.7931034482758621},{"$f":"OBITOS_CAUSAS!AJ37","v":"NÃO ATINGIU"},{"$f":"METAS!G37","v":1},0,"NÃO ATINGIU",{"$f":"METAS!H37","v":0.85},"S/C",{"$f":"IF(Tabela13[[#This Row],[05 %DE CASOS DOENÇAS NOT COMP IMEDIATA]]=\"S/C\",\"N/A\",IF(V37>=U37,\"ATINGIU\",\"NÃO ATINGIU\"))","v":"N/A"},{"$f":"CURA_CASOS_HANS!AI37","v":0.9},{"$f":"CURA_CASOS_HANS!N37","v":0},{"$f":"CURA_CASOS_HANS!AH37","v":"SC"},{"$f":"CURA_CASOS_HANS!AJ37","v":"N/A"},{"$f":"SIFILIS_CONG_1ANO!O39","v":0},{"$f":"SIFILIS_CONG_1ANO!N39","v":0},{"$f":"SIFILIS_CONG_1ANO!P39","v":"ATINGIU"},{"$f":"AIDS_MENOR5!P37","v":0},{"$f":"AIDS_MENOR5!O37","v":0},{"$f":"AIDS_MENOR5!Q37","v":"ATINGIU"},{"$f":"METAS!L37","v":0.4},{"$f":"ANALISE_AGUA_2017!J38","v":0.83246527777777757},{"$f":"ANALISE_AGUA_2017!L38","v":"ATINGIU"},{"$f":"CITOPATOLOGICO!AH37","v":0.65},{"$f":"CITOPATOLOGICO!W37","v":193},{"$f":"CITOPATOLOGICO!AG37","v":0.706959706959707},{"$f":"CITOPATOLOGICO!AL37","v":"ATINGIU"},{"$f":"MAMOGRAFIA!AE37","v":0.17},{"$f":"MAMOGRAFIA!U37","v":108},{"$f":"MAMOGRAFIA!AD37","v":1.0900000000000001},{"$f":"MAMOGRAFIA!AG37","v":"ATINGIU"},{"$f":"PARTO_NORMAL!AI37","v":0.6},{"$f":"PARTO_NORMAL!X37","v":29},{"$f":"PARTO_NORMAL!AH37","v":0.52727272727272723},{"$f":"PARTO_NORMAL!AJ37","v":"NÃO ATINGIU"},{"$f":"MAES_ADOLESC!AO37","v":0.23},{"$f":"MAES_ADOLESC!AB37","v":11},{"$f":"MAES_ADOLESC!AN37","v":0.2},{"$f":"MAES_ADOLESC!AP37","v":"ATINGIU"},{"$f":"MORT_INF!AI37","v":2},{"$f":"MORT_INF!X37","v":0},{"$f":"MORT_INF!AH37","v":0},{"$f":"MORT_INF!AJ37","v":"ATINGIU"},{"$f":"OBITOS_MATERNOS!AI37","v":0},{"$f":"OBITOS_MATERNOS!X37","v":0},{"$f":"OBITOS_MATERNOS!AJ37","v":"ATINGIU"},{"$f":"COBERTURA_AB!N44","v":1},{"$f":"COBERTURA_AB!M44","v":1},{"$f":"COBERTURA_AB!O44","v":"ATINGIU"},0.96,{"$f":"PBF_ACOMP_2017!F42","v":454},{"$f":"PBF_ACOMP_2017!G42","v":0.93223819301848054},{"$f":"PBF_ACOMP_2017!I42","v":"NÃO ATINGIU"},{"$f":"COBETURA_SB!M45","v":1},{"$f":"COBETURA_SB!L45","v":1},{"$f":"COBETURA_SB!N45","v":"ATINGIU"},{"$f":"AÇOES_VIGIL!N39","v":1},{"$f":"AÇOES_VIGIL!M39","v":0.83333333333333337},{"$f":"AÇOES_VIGIL!O39","v":"NÃO ATINGIU"},{"$f":"MATRICIAMENTO_CAPS!K37","v":"N/A"},{"$f":"MATRICIAMENTO_CAPS!H37","v":"N/A"},{"$f":"MATRICIAMENTO_CAPS!J37","v":"N/A"},{"$f":"MATRICIAMENTO_CAPS!L37","v":"N/A"},{"$f":"CICLO_DENGUE!H39","v":5},{"$f":"CICLO_DENGUE!G39","v":3},{"$f":"CICLO_DENGUE!I39","v":"NÃO ATINGIU"},{"$f":"NOT_AC_TRAB_OCUP!M37","v":1},{"$f":"NOT_AC_TRAB_OCUP!L37","v":0},{"$f":"NOT_AC_TRAB_OCUP!N37","v":"NÃO ATINGIU"},11,8,0.57894736842105265]
[280390,"ITABAIANA","MALHADOR",{"$f":"OBITOS_PREMATUROS!D38","v":12601},{"$f":"OBITOS_PREMATUROS!AH38","v":13},{"$f":"OBITOS_PREMATUROS!W38","v":13},{"$f":"OBITOS_PREMATUROS!AG38","v":236.66484616784999},{"$f":"OBITOS_PREMATUROS!AI38","v":"ATINGIU"},{"$f":"OBITOS_MIF!AI38","v":1},{"$f":"OBITOS_MIF!N38","v":6},{"$f":"OBITOS_MIF!X38","v":4},{"$f":"OBITOS_MIF!AH38","v":0.66666666666666663},{"$f":"OBITOS_MIF!AJ38","v":"NÃO ATINGIU"},{"$f":"OBITOS_CAUSAS!AI38","v":0.95},{"$f":"OBITOS_CAUSAS!N38","v":75},{"$f":"OBITOS_CAUSAS!AH38","v":0.90361445783132532},{"$f":"OBITOS_CAUSAS!AJ38","v":"NÃO ATINGIU"},{"$f":"METAS!G38","v":1},0,"NÃO ATINGIU",{"$f":"METAS!H38","v":1},1,{"$f":"IF(Tabela13[[#This Row],[05 %DE CASOS DOENÇAS NOT COMP IMEDIATA]]=\"S/C\",\"N/A\",IF(V38>=U38,\"ATINGIU\",\"NÃO ATINGIU\"))","v":"ATINGIU"},{"$f":"CURA_CASOS_HANS!AI38","v":1},{"$f":"CURA_CASOS_HANS!N38","v":0},{"$f":"CURA_CASOS_HANS!AH38","v":"SC"},{"$f":"CURA_CASOS_HANS!AJ38","v":"N/A"},{"$f":"SIFILIS_CONG_1ANO!O40","v":1},{"$f":"SIFILIS_CONG_1ANO!N40","v":1},{"$f":"SIFILIS_CONG_1ANO!P40","v":"ATINGIU"},{"$f":"AIDS_MENOR5!P38","v":0},{"$f":"AIDS_MENOR5!O38","v":0},{"$f":"AIDS_MENOR5!Q38","v":"ATINGIU"},{"$f":"METAS!L38","v":0.8},{"$f":"ANALISE_AGUA_2017!J39","v":0.515625},{"$f":"ANALISE_AGUA_2017!L39","v":"NÃO ATINGIU"},{"$f":"CITOPATOLOGICO!AH38","v":0.57999999999999996},{"$f":"CITOPATOLOGICO!W38","v":659},{"$f":"CITOPATOLOGICO!AG38","v":0.65333773959021813},{"$f":"CITOPATOLOGICO!AL38","v":"ATINGIU"},{"$f":"MAMOGRAFIA!AE38","v":0.32},{"$f":"MAMOGRAFIA!U38","v":119},{"$f":"MAMOGRAFIA!AD38","v":0.26},{"$f":"MAMOGRAFIA!AG38","v":"NÃO ATINGIU"},{"$f":"PARTO_NORMAL!AI38","v":0.64},{"$f":"PARTO_NORMAL!X38","v":96},{"$f":"PARTO_NORMAL!AH38","v":0.56470588235294117},{"$f":"PARTO_NORMAL!AJ38","v":"NÃO ATINGIU"},{"$f":"MAES_ADOLESC!AO38","v":0.25},{"$f":"MAES_ADOLESC!AB38","v":46},{"$f":"MAES_ADOLESC!AN38","v":0.27058823529411763},{"$f":"MAES_ADOLESC!AP38","v":"NÃO ATINGIU"},{"$f":"MORT_INF!AI38","v":1},{"$f":"MORT_INF!X38","v":2},{"$f":"MORT_INF!AH38","v":11.76470588235294},{"$f":"MORT_INF!AJ38","v":"NÃO ATINGIU"},{"$f":"OBITOS_MATERNOS!AI38","v":0},{"$f":"OBITOS_MATERNOS!X38","v":0},{"$f":"OBITOS_MATERNOS!AJ38","v":"ATINGIU"},{"$f":"COBERTURA_AB!N45","v":1},{"$f":"COBERTURA_AB!M45","v":1},{"$f":"COBERTURA_AB!O45","v":"ATINGIU"},0.82,{"$f":"PBF_ACOMP_2017!F43","v":1354},{"$f":"PBF_ACOMP_2017!G43","v":0.83839009287925692},{"$f":"PBF_ACOMP_2017!I43","v":"ATINGIU"},{"$f":"COBETURA_SB!M46","v":0.54770000000000008},{"$f":"COBETURA_SB!L46","v":0.6643},{"$f":"COBETURA_SB!N46","v":"ATINGIU"},{"$f":"AÇOES_VIGIL!N40","v":0.5},{"$f":"AÇOES_VIGIL!M40","v":0.83333333333333337},{"$f":"AÇOES_VIGIL!O40","v":"ATINGIU"},{"$f":"MATRICIAMENTO_CAPS!K38","v":"N/A"},{"$f":"MATRICIAMENTO_CAPS!H38","v":"N/A"},{"$f":"MATRICIAMENTO_CAPS!J38","v":"N/A"},{"$f":"MATRICIAMENTO_CAPS!L38","v":"N/A"},{"$f":"CICLO_DENGUE!H40","v":4},{"$f":"CICLO_DENGUE!G40","v":1},{"$f":"CICLO_DENGUE!I40","v":"NÃO ATINGIU"},{"$f":"NOT_AC_TRAB_OCUP!M38","v":0.95},{"$f":"NOT_AC_TRAB_OCUP!L38","v":0.5},{"$f":"NOT_AC_TRAB_OCUP!N38","v":"NÃO ATINGIU"},10,10,0.5]
[280400,"SOCORRO","MARUIM",{"$f":"OBITOS_PREMATUROS!D39","v":17151},{"$f":"OBITOS_PREMATUROS!AH39","v":15},{"$f":"OBITOS_PREMATUROS!W39","v":19},{"$f":"OBITOS_PREMATUROS!AG39","v":274.17027417027418},{"$f":"OBITOS_PREMATUROS!AI39","v":"NÃO ATINGIU"},{"$f":"OBITOS_MIF!AI39","v":0.9},{"$f":"OBITOS_MIF!N39","v":8},{"$f":"OBITOS_MIF!X39","v":3},{"$f":"OBITOS_MIF!AH39","v":0.375},{"$f":"OBITOS_MIF!AJ39","v":"NÃO ATINGIU"},{"$f":"OBITOS_CAUSAS!AI39","v":0.95},{"$f":"OBITOS_CAUSAS!N39","v":108},{"$f":"OBITOS_CAUSAS!AH39","v":0.93913043478260871},{"$f":"OBITOS_CAUSAS!AJ39","v":"NÃO ATINGIU"},{"$f":"METAS!G39","v":1},0,"NÃO ATINGIU",{"$f":"METAS!H39","v":0.85},"S/C",{"$f":"IF(Tabela13[[#This Row],[05 %DE CASOS DOENÇAS NOT COMP IMEDIATA]]=\"S/C\",\"N/A\",IF(V39>=U39,\"ATINGIU\",\"NÃO ATINGIU\"))","v":"N/A"},{"$f":"CURA_CASOS_HANS!AI39","v":0.9},{"$f":"CURA_CASOS_HANS!N39","v":0},{"$f":"CURA_CASOS_HANS!AH39","v":0.5},{"$f":"CURA_CASOS_HANS!AJ39","v":"NÃO ATINGIU"},{"$f":"SIFILIS_CONG_1ANO!O41","v":4},{"$f":"SIFILIS_CONG_1ANO!N41","v":7},{"$f":"SIFILIS_CONG_1ANO!P41","v":"NÃO ATINGIU"},{"$f":"AIDS_MENOR5!P39","v":0},{"$f":"AIDS_MENOR5!O39","v":0},{"$f":"AIDS_MENOR5!Q39","v":"ATINGIU"},{"$f":"METAS!L39","v":0.4},{"$f":"ANALISE_AGUA_2017!J40","v":0.50468749999999996},{"$f":"ANALISE_AGUA_2017!L40","v":"ATINGIU"},{"$f":"CITOPATOLOGICO!AH39","v":0.49},{"$f":"CITOPATOLOGICO!W39","v":299},{"$f":"CITOPATOLOGICO!AG39","v":0.22131754256106587},{"$f":"CITOPATOLOGICO!AL39","v":"NÃO ATINGIU"},{"$f":"MAMOGRAFIA!AE39","v":0.14000000000000001},{"$f":"MAMOGRAFIA!U39","v":211},{"$f":"MAMOGRAFIA!AD39","v":0.39},{"$f":"MAMOGRAFIA!AG39","v":"ATINGIU"},{"$f":"PARTO_NORMAL!AI39","v":0.66},{"$f":"PARTO_NORMAL!X39","v":171},{"$f":"PARTO_NORMAL!AH39","v":0.6404494382022472},{"$f":"PARTO_NORMAL!AJ39","v":"NÃO ATINGIU"},{"$f":"MAES_ADOLESC!AO39","v":0.23649999999999999},{"$f":"MAES_ADOLESC!AB39","v":60},{"$f":"MAES_ADOLESC!AN39","v":0.2247191011235955},{"$f":"MAES_ADOLESC!AP39","v":"ATINGIU"},{"$f":"MORT_INF!AI39","v":1},{"$f":"MORT_INF!X39","v":6},{"$f":"MORT_INF!AH39","v":22.471910112359549},{"$f":"MORT_INF!AJ39","v":"NÃO ATINGIU"},{"$f":"OBITOS_MATERNOS!AI39","v":0},{"$f":"OBITOS_MATERNOS!X39","v":0},{"$f":"OBITOS_MATERNOS!AJ39","v":"ATINGIU"},{"$f":"COBERTURA_AB!N46","v":1},{"$f":"COBERTURA_AB!M46","v":1},{"$f":"COBERTURA_AB!O46","v":"ATINGIU"},0.75,{"$f":"PBF_ACOMP_2017!F44","v":1271},{"$f":"PBF_ACOMP_2017!G44","v":0.67967914438502675},{"$f":"PBF_ACOMP_2017!I44","v":"NÃO ATINGIU"},{"$f":"COBETURA_SB!M47","v":1},{"$f":"COBETURA_SB!L47","v":0.99270000000000003},{"$f":"COBETURA_SB!N47","v":"NÃO ATINGIU"},{"$f":"AÇOES_VIGIL!N41","v":1},{"$f":"AÇOES_VIGIL!M41","v":0.83333333333333337},{"$f":"AÇOES_VIGIL!O41","v":"NÃO ATINGIU"},{"$f":"MATRICIAMENTO_CAPS!K39","v":1},{"$f":"MATRICIAMENTO_CAPS!H39","v":0},{"$f":"MATRICIAMENTO_CAPS!J39","v":0},{"$f":"MATRICIAMENTO_CAPS!L39","v":"NÃO ATINGIU"},{"$f":"CICLO_DENGUE!H41","v":4},{"$f":"CICLO_DENGUE!G41","v":1},{"$f":"CICLO_DENGUE!I41","v":"NÃO ATINGIU"},{"$f":"NOT_AC_TRAB_OCUP!M39","v":0.95},{"$f":"NOT_AC_TRAB_OCUP!L39","v":0.33333333333333331},{"$f":"NOT_AC_TRAB_OCUP!N39","v":"NÃO ATINGIU"},6,15,0.2857142857142857]
[280410,"ITABAIANA","MOITA BONITA",{"$f":"OBITOS_PREMATUROS!D40","v":11399},{"$f":"OBITOS_PREMATUROS!AH40","v":8},{"$f":"OBITOS_PREMATUROS!W40","v":7},{"$f":"OBITOS_PREMATUROS!AG40","v":134.8747591522158},{"$f":"OBITOS_PREMATUROS!AI40","v":"ATINGIU"},{"$f":"OBITOS_MIF!AI40","v":1},{"$f":"OBITOS_MIF!N40","v":4},{"$f":"OBITOS_MIF!X40","v":3},{"$f":"OBITOS_MIF!AH40","v":0.75},{"$f":"OBITOS_MIF!AJ40","v":"NÃO ATINGIU"},{"$f":"OBITOS_CAUSAS!AI40","v":0.83},{"$f":"OBITOS_CAUSAS!N40","v":78},{"$f":"OBITOS_CAUSAS!AH40","v":0.95121951219512191},{"$f":"OBITOS_CAUSAS!AJ40","v":"ATINGIU"},{"$f":"METAS!G40","v":1},0,"NÃO ATINGIU",{"$f":"METAS!H40","v":0.85},"S/C",{"$f":"IF(Tabela13[[#This Row],[05 %DE CASOS DOENÇAS NOT COMP IMEDIATA]]=\"S/C\",\"N/A\",IF(V40>=U40,\"ATINGIU\",\"NÃO ATINGIU\"))","v":"N/A"},{"$f":"CURA_CASOS_HANS!AI40","v":0.9},{"$f":"CURA_CASOS_HANS!N40","v":0},{"$f":"CURA_CASOS_HANS!AH40","v":1},{"$f":"CURA_CASOS_HANS!AJ40","v":"ATINGIU"},{"$f":"SIFILIS_CONG_1ANO!O42","v":2},{"$f":"SIFILIS_CONG_1ANO!N42","v":1},{"$f":"SIFILIS_CONG_1ANO!P42","v":"ATINGIU"},{"$f":"AIDS_MENOR5!P40","v":0},{"$f":"AIDS_MENOR5!O40","v":0},{"$f":"AIDS_MENOR5!Q40","v":"ATINGIU"},{"$f":"METAS!L40","v":0.85},{"$f":"ANALISE_AGUA_2017!J41","v":0.55833333333333335},{"$f":"ANALISE_AGUA_2017!L41","v":"NÃO ATINGIU"},{"$f":"CITOPATOLOGICO!AH40","v":0.57999999999999996},{"$f":"CITOPATOLOGICO!W40","v":384},{"$f":"CITOPATOLOGICO!AG40","v":0.4099644128113879},{"$f":"CITOPATOLOGICO!AL40","v":"NÃO ATINGIU"},{"$f":"MAMOGRAFIA!AE40","v":0.28999999999999998},{"$f":"MAMOGRAFIA!U40","v":114},{"$f":"MAMOGRAFIA!AD40","v":0.25},{"$f":"MAMOGRAFIA!AG40","v":"NÃO ATINGIU"},{"$f":"PARTO_NORMAL!AI40","v":0.65},{"$f":"PARTO_NORMAL!X40","v":65},{"$f":"PARTO_NORMAL!AH40","v":0.6310679611650486},{"$f":"PARTO_NORMAL!AJ40","v":"NÃO ATINGIU"},{"$f":"MAES_ADOLESC!AO40","v":0.17},{"$f":"MAES_ADOLESC!AB40","v":20},{"$f":"MAES_ADOLESC!AN40","v":0.1941747572815534},{"$f":"MAES_ADOLESC!AP40","v":"NÃO ATINGIU"},{"$f":"MORT_INF!AI40","v":1},{"$f":"MORT_INF!X40","v":2},{"$f":"MORT_INF!AH40","v":19.417475728155338},{"$f":"MORT_INF!AJ40","v":"NÃO ATINGIU"},{"$f":"OBITOS_MATERNOS!AI40","v":0},{"$f":"OBITOS_MATERNOS!X40","v":0},{"$f":"OBITOS_MATERNOS!AJ40","v":"ATINGIU"},{"$f":"COBERTURA_AB!N47","v":1},{"$f":"COBERTURA_AB!M47","v":1},{"$f":"COBERTURA_AB!O47","v":"ATINGIU"},0.84,{"$f":"PBF_ACOMP_2017!F45","v":944},{"$f":"PBF_ACOMP_2017!G45","v":0.9147286821705426},{"$f":"PBF_ACOMP_2017!I45","v":"ATINGIU"},{"$f":"COBETURA_SB!M48","v":0.9083},{"$f":"COBETURA_SB!L48","v":1},{"$f":"COBETURA_SB!N48","v":"ATINGIU"},{"$f":"AÇOES_VIGIL!N42","v":1},{"$f":"AÇOES_VIGIL!M42","v":0.5},{"$f":"AÇOES_VIGIL!O42","v":"NÃO ATINGIU"},{"$f":"MATRICIAMENTO_CAPS!K40","v":"N/A"},{"$f":"MATRICIAMENTO_CAPS!H40","v":"N/A"},{"$f":"MATRICIAMENTO_CAPS!J40","v":"N/A"},{"$f":"MATRICIAMENTO_CAPS!L40","v":"N/A"},{"$f":"CICLO_DENGUE!H42","v":4},{"$f":"CICLO_DENGUE!G42","v":3},{"$f":"CICLO_DENGUE!I42","v":"NÃO ATINGIU"},{"$f":"NOT_AC_TRAB_OCUP!M40","v":1},{"$f":"NOT_AC_TRAB_OCUP!L40","v":1},{"$f":"NOT_AC_TRAB_OCUP!N40","v":"ATINGIU"},10,10,0.5]
[280420,"GLORIA","MONTE ALEGRE DE SERGIPE",{"$f":"OBITOS_PREMATUROS!D41","v":14853},{"$f":"OBITOS_PREMATUROS!AH41","v":6},{"$f":"OBITOS_PREMATUROS!W41","v":15},{"$f":"OBITOS_PREMATUROS!AG41","v":260.59763724808892},{"$f":"OBITOS_PREMATUROS!AI41","v":"NÃO ATINGIU"},{"$f":"OBITOS_MIF!AI41","v":1},{"$f":"OBITOS_MIF!N41","v":5},{"$f":"OBITOS_MIF!X41","v":1},{"$f":"OBITOS_MIF!AH41","v":0.2},{"$f":"OBITOS_MIF!AJ41","v":"NÃO ATINGIU"},{"$f":"OBITOS_CAUSAS!AI41","v":0.95},{"$f":"OBITOS_CAUSAS!N41","v":68},{"$f":"OBITOS_CAUSAS!AH41","v":0.94444444444444442},{"$f":"OBITOS_CAUSAS!AJ41","v":"NÃO ATINGIU"},{"$f":"METAS!G41","v":1},0,"NÃO ATINGIU",{"$f":"METAS!H41","v":0.85},1,{"$f":"IF(Tabela13[[#This Row],[05 %DE CASOS DOENÇAS NOT COMP IMEDIATA]]=\"S/C\",\"N/A\",IF(V41>=U41,\"ATINGIU\",\"NÃO ATINGIU\"))","v":"ATINGIU"},{"$f":"CURA_CASOS_HANS!AI41","v":0.9},{"$f":"CURA_CASOS_HANS!N41","v":0},{"$f":"CURA_CASOS_HANS!AH41","v":0.75},{"$f":"CURA_CASOS_HANS!AJ41","v":"NÃO ATINGIU"},{"$f":"SIFILIS_CONG_1ANO!O43","v":1},{"$f":"SIFILIS_CONG_1ANO!N43","v":1},{"$f":"SIFILIS_CONG_1ANO!P43","v":"ATINGIU"},{"$f":"AIDS_MENOR5!P41","v":0},{"$f":"AIDS_MENOR5!O41","v":0},{"$f":"AIDS_MENOR5!Q41","v":"ATINGIU"},{"$f":"METAS!L41","v":0.5},{"$f":"ANALISE_AGUA_2017!J42","v":1.0348958333333333},{"$f":"ANALISE_AGUA_2017!L42","v":"ATINGIU"},{"$f":"CITOPATOLOGICO!AH41","v":0.5},{"$f":"CITOPATOLOGICO!W41","v":171},{"$f":"CITOPATOLOGICO!AG41","v":0.15611685940353015},{"$f":"CITOPATOLOGICO!AL41","v":"NÃO ATINGIU"},{"$f":"MAMOGRAFIA!AE41","v":0.3},{"$f":"MAMOGRAFIA!U41","v":35},{"$f":"MAMOGRAFIA!AD41","v":0.08},{"$f":"MAMOGRAFIA!AG41","v":"NÃO ATINGIU"},{"$f":"PARTO_NORMAL!AI41","v":0.62},{"$f":"PARTO_NORMAL!X41","v":151},{"$f":"PARTO_NORMAL!AH41","v":0.65367965367965364},{"$f":"PARTO_NORMAL!AJ41","v":"ATINGIU"},{"$f":"MAES_ADOLESC!AO41","v":0.2545},{"$f":"MAES_ADOLESC!AB41","v":45},{"$f":"MAES_ADOLESC!AN41","v":0.19480519480519481},{"$f":"MAES_ADOLESC!AP41","v":"ATINGIU"},{"$f":"MORT_INF!AI41","v":2},{"$f":"MORT_INF!X41","v":2},{"$f":"MORT_INF!AH41","v":8.6580086580086579},{"$f":"MORT_INF!AJ41","v":"ATINGIU"},{"$f":"OBITOS_MATERNOS!AI41","v":0},{"$f":"OBITOS_MATERNOS!X41","v":0},{"$f":"OBITOS_MATERNOS!AJ41","v":"ATINGIU"},{"$f":"COBERTURA_AB!N48","v":1},{"$f":"COBERTURA_AB!M48","v":1},{"$f":"COBERTURA_AB!O48","v":"ATINGIU"},0.79,{"$f":"PBF_ACOMP_2017!F46","v":2050},{"$f":"PBF_ACOMP_2017!G46","v":0.79120030876109615},{"$f":"PBF_ACOMP_2017!I46","v":"ATINGIU"},{"$f":"COBETURA_SB!M49","v":0.59709999999999996},{"$f":"COBETURA_SB!L49","v":0.68920000000000003},{"$f":"COBETURA_SB!N49","v":"ATINGIU"},{"$f":"AÇOES_VIGIL!N43","v":1},{"$f":"AÇOES_VIGIL!M43","v":1},{"$f":"AÇOES_VIGIL!O43","v":"ATINGIU"},{"$f":"MATRICIAMENTO_CAPS!K41","v":"N/A"},{"$f":"MATRICIAMENTO_CAPS!H41","v":"N/A"},{"$f":"MATRICIAMENTO_CAPS!J41","v":"N/A"},{"$f":"MATRICIAMENTO_CAPS!L41","v":"N/A"},{"$f":"CICLO_DENGUE!H43","v":4},{"$f":"CICLO_DENGUE!G43","v":3},{"$f":"CICLO_DENGUE!I43","v":"NÃO ATINGIU"},{"$f":"NOT_AC_TRAB_OCUP!M41","v":0.95},{"$f":"NOT_AC_TRAB_OCUP!L41","v":0.875},{"$f":"NOT_AC_TRAB_OCUP!N41","v":"NÃO ATINGIU"},12,9,0.5714285714285714]
[280430,"PROPRIA","MURIBECA",{"$f":"OBITOS_PREMATUROS!D42","v":7644},{"$f":"OBITOS_PREMATUROS!AH42","v":9},{"$f":"OBITOS_PREMATUROS!W42","v":4},{"$f":"OBITOS_PREMATUROS!AG42","v":122.5865767698437},{"$f":"OBITOS_PREMATUROS!AI42","v":"ATINGIU"},{"$f":"OBITOS_MIF!AI42","v":0.9},{"$f":"OBITOS_MIF!N42","v":3},{"$f":"OBITOS_MIF!X42","v":1},{"$f":"OBITOS_MIF!AH42","v":0.33333333333333331},{"$f":"OBITOS_MIF!AJ42","v":"NÃO ATINGIU"},{"$f":"OBITOS_CAUSAS!AI42","v":0.95},{"$f":"OBITOS_CAUSAS!N42","v":28},{"$f":"OBITOS_CAUSAS!AH42","v":0.66666666666666663},{"$f":"OBITOS_CAUSAS!AJ42","v":"NÃO ATINGIU"},{"$f":"METAS!G42","v":1},0,"NÃO ATINGIU",{"$f":"METAS!H42","v":0.85},"S/C",{"$f":"IF(Tabela13[[#This Row],[05 %DE CASOS DOENÇAS NOT COMP IMEDIATA]]=\"S/C\",\"N/A\",IF(V42>=U42,\"ATINGIU\",\"NÃO ATINGIU\"))","v":"N/A"},{"$f":"CURA_CASOS_HANS!AI42","v":0.9},{"$f":"CURA_CASOS_HANS!N42","v":0},{"$f":"CURA_CASOS_HANS!AH42","v":0},{"$f":"CURA_CASOS_HANS!AJ42","v":"NÃO ATINGIU"},{"$f":"SIFILIS_CONG_1ANO!O44","v":0},{"$f":"SIFILIS_CONG_1ANO!N44","v":1},{"$f":"SIFILIS_CONG_1ANO!P44","v":"NÃO ATINGIU"},{"$f":"AIDS_MENOR5!P42","v":0},{"$f":"AIDS_MENOR5!O42","v":0},{"$f":"AIDS_MENOR5!Q42","v":"ATINGIU"},{"$f":"METAS!L42","v":0.3},{"$f":"ANALISE_AGUA_2017!J43","v":7.9861111111111091E-2},{"$f":"ANALISE_AGUA_2017!L43","v":"NÃO ATINGIU"},{"$f":"CITOPATOLOGICO!AH42","v":0.82},{"$f":"CITOPATOLOGICO!W42","v":330},{"$f":"CITOPATOLOGICO!AG42","v":0.52941176470588236},{"$f":"CITOPATOLOGICO!AL42","v":"NÃO ATINGIU"},{"$f":"MAMOGRAFIA!AE42","v":0.17},{"$f":"MAMOGRAFIA!U42","v":347},{"$f":"MAMOGRAFIA!AD42","v":1.2},{"$f":"MAMOGRAFIA!AG42","v":"ATINGIU"},{"$f":"PARTO_NORMAL!AI42","v":0.65},{"$f":"PARTO_NORMAL!X42","v":62},{"$f":"PARTO_NORMAL!AH42","v":0.60784313725490191},{"$f":"PARTO_NORMAL!AJ42","v":"NÃO ATINGIU"},{"$f":"MAES_ADOLESC!AO42","v":0.22},{"$f":"MAES_ADOLESC!AB42","v":22},{"$f":"MAES_ADOLESC!AN42","v":0.21568627450980393},{"$f":"MAES_ADOLESC!AP42","v":"ATINGIU"},{"$f":"MORT_INF!AI42","v":1},{"$f":"MORT_INF!X42","v":1},{"$f":"MORT_INF!AH42","v":9.8039215686274517},{"$f":"MORT_INF!AJ42","v":"ATINGIU"},{"$f":"OBITOS_MATERNOS!AI42","v":0},{"$f":"OBITOS_MATERNOS!X42","v":0},{"$f":"OBITOS_MATERNOS!AJ42","v":"ATINGIU"},{"$f":"COBERTURA_AB!N49","v":1},{"$f":"COBERTURA_AB!M49","v":1},{"$f":"COBERTURA_AB!O49","v":"ATINGIU"},0.95,{"$f":"PBF_ACOMP_2017!F47","v":1093},{"$f":"PBF_ACOMP_2017!G47","v":0.95209059233449478},{"$f":"PBF_ACOMP_2017!I47","v":"ATINGIU"},{"$f":"COBETURA_SB!M50","v":1},{"$f":"COBETURA_SB!L50","v":1},{"$f":"COBETURA_SB!N50","v":"ATINGIU"},{"$f":"AÇOES_VIGIL!N44","v":1},{"$f":"AÇOES_VIGIL!M44","v":0.66666666666666663},{"$f":"AÇOES_VIGIL!O44","v":"NÃO ATINGIU"},{"$f":"MATRICIAMENTO_CAPS!K42","v":"N/A"},{"$f":"MATRICIAMENTO_CAPS!H42","v":"N/A"},{"$f":"MATRICIAMENTO_CAPS!J42","v":"N/A"},{"$f":"MATRICIAMENTO_CAPS!L42","v":"N/A"},{"$f":"CICLO_DENGUE!H44","v":6},{"$f":"CICLO_DENGUE!G44","v":1},{"$f":"CICLO_DENGUE!I44","v":"NÃO ATINGIU"},{"$f":"NOT_AC_TRAB_OCUP!M42","v":0.95},{"$f":"NOT_AC_TRAB_OCUP!L42","v":0.13333333333333333},{"$f":"NOT_AC_TRAB_OCUP!N42","v":"NÃO ATINGIU"},9,11,0.45]
[280440,"PROPRIA","NEOPOLIS",{"$f":"OBITOS_PREMATUROS!D43","v":18958},{"$f":"OBITOS_PREMATUROS!AH43","v":10},{"$f":"OBITOS_PREMATUROS!W43","v":19},{"$f":"OBITOS_PREMATUROS!AG43","v":240.50632911392407},{"$f":"OBITOS_PREMATUROS!AI43","v":"NÃO ATINGIU"},{"$f":"OBITOS_MIF!AI43","v":0.9},{"$f":"OBITOS_MIF!N43","v":9},{"$f":"OBITOS_MIF!X43","v":6},{"$f":"OBITOS_MIF!AH43","v":0.66666666666666663},{"$f":"OBITOS_MIF!AJ43","v":"NÃO ATINGIU"},{"$f":"OBITOS_CAUSAS!AI43","v":0.95},{"$f":"OBITOS_CAUSAS!N43","v":113},{"$f":"OBITOS_CAUSAS!AH43","v":0.85606060606060608},{"$f":"OBITOS_CAUSAS!AJ43","v":"NÃO ATINGIU"},{"$f":"METAS!G43","v":1},0,"NÃO ATINGIU",{"$f":"METAS!H43","v":0.85},1,{"$f":"IF(Tabela13[[#This Row],[05 %DE CASOS DOENÇAS NOT COMP IMEDIATA]]=\"S/C\",\"N/A\",IF(V43>=U43,\"ATINGIU\",\"NÃO ATINGIU\"))","v":"ATINGIU"},{"$f":"CURA_CASOS_HANS!AI43","v":0.9},{"$f":"CURA_CASOS_HANS!N43","v":0},{"$f":"CURA_CASOS_HANS!AH43","v":"SC"},{"$f":"CURA_CASOS_HANS!AJ43","v":"N/A"},{"$f":"SIFILIS_CONG_1ANO!O45","v":1},{"$f":"SIFILIS_CONG_1ANO!N45","v":3},{"$f":"SIFILIS_CONG_1ANO!P45","v":"NÃO ATINGIU"},{"$f":"AIDS_MENOR5!P43","v":0},{"$f":"AIDS_MENOR5!O43","v":0},{"$f":"AIDS_MENOR5!Q43","v":"ATINGIU"},{"$f":"METAS!L43","v":0.8},{"$f":"ANALISE_AGUA_2017!J44","v":0.67471590909090906},{"$f":"ANALISE_AGUA_2017!L44","v":"NÃO ATINGIU"},{"$f":"CITOPATOLOGICO!AH43","v":0.6},{"$f":"CITOPATOLOGICO!W43","v":716},{"$f":"CITOPATOLOGICO!AG43","v":0.48400180261379},{"$f":"CITOPATOLOGICO!AL43","v":"NÃO ATINGIU"},{"$f":"MAMOGRAFIA!AE43","v":0.2},{"$f":"MAMOGRAFIA!U43","v":233},{"$f":"MAMOGRAFIA!AD43","v":0.35},{"$f":"MAMOGRAFIA!AG43","v":"ATINGIU"},{"$f":"PARTO_NORMAL!AI43","v":0.64500000000000002},{"$f":"PARTO_NORMAL!X43","v":125},{"$f":"PARTO_NORMAL!AH43","v":0.53648068669527893},{"$f":"PARTO_NORMAL!AJ43","v":"NÃO ATINGIU"},{"$f":"MAES_ADOLESC!AO43","v":0.26789999999999997},{"$f":"MAES_ADOLESC!AB43","v":62},{"$f":"MAES_ADOLESC!AN43","v":0.26609442060085836},{"$f":"MAES_ADOLESC!AP43","v":"ATINGIU"},{"$f":"MORT_INF!AI43","v":2},{"$f":"MORT_INF!X43","v":2},{"$f":"MORT_INF!AH43","v":8.5836909871244629},{"$f":"MORT_INF!AJ43","v":"ATINGIU"},{"$f":"OBITOS_MATERNOS!AI43","v":0},{"$f":"OBITOS_MATERNOS!X43","v":0},{"$f":"OBITOS_MATERNOS!AJ43","v":"ATINGIU"},{"$f":"COBERTURA_AB!N50","v":1},{"$f":"COBERTURA_AB!M50","v":1},{"$f":"COBERTURA_AB!O50","v":"ATINGIU"},0.75,{"$f":"PBF_ACOMP_2017!F48","v":1649},{"$f":"PBF_ACOMP_2017!G48","v":0.69784172661870503},{"$f":"PBF_ACOMP_2017!I48","v":"NÃO ATINGIU"},{"$f":"COBETURA_SB!M51","v":0.96530000000000005},{"$f":"COBETURA_SB!L51","v":0.88629999999999998},{"$f":"COBETURA_SB!N51","v":"NÃO ATINGIU"},{"$f":"AÇOES_VIGIL!N45","v":1},{"$f":"AÇOES_VIGIL!M45","v":0.83333333333333337},{"$f":"AÇOES_VIGIL!O45","v":"NÃO ATINGIU"},{"$f":"MATRICIAMENTO_CAPS!K43","v":1},{"$f":"MATRICIAMENTO_CAPS!H43","v":0},{"$f":"MATRICIAMENTO_CAPS!J43","v":0},{"$f":"MATRICIAMENTO_CAPS!L43","v":"NÃO ATINGIU"},{"$f":"CICLO_DENGUE!H45","v":4},{"$f":"CICLO_DENGUE!G45","v":1},{"$f":"CICLO_DENGUE!I45","v":"NÃO ATINGIU"},{"$f":"NOT_AC_TRAB_OCUP!M43","v":0.95},{"$f":"NOT_AC_TRAB_OCUP!L43","v":0.2},{"$f":"NOT_AC_TRAB_OCUP!N43","v":"NÃO ATINGIU"},7,14,0.33333333333333331]
[280445,"ITABAIANA","NOSSA SENHORA APARECIDA",{"$f":"OBITOS_PREMATUROS!D44","v":8830},{"$f":"OBITOS_PREMATUROS!AH44","v":8},{"$f":"OBITOS_PREMATUROS!W44","v":13},{"$f":"OBITOS_PREMATUROS!AG44","v":320.27593003202759},{"$f":"OBITOS_PREMATUROS!AI44","v":"NÃO ATINGIU"},{"$f":"OBITOS_MIF!AI44","v":1},{"$f":"OBITOS_MIF!N44","v":0},{"$f":"OBITOS_MIF!X44","v":"S/C"},{"$f":"OBITOS_MIF!AH44","v":"S/C"},{"$f":"OBITOS_MIF!AJ44","v":"N/A"},{"$f":"OBITOS_CAUSAS!AI44","v":0.95},{"$f":"OBITOS_CAUSAS!N44","v":37},{"$f":"OBITOS_CAUSAS!AH44","v":0.80434782608695654},{"$f":"OBITOS_CAUSAS!AJ44","v":"NÃO ATINGIU"},{"$f":"METAS!G44","v":1},0,"NÃO ATINGIU",{"$f":"METAS!H44","v":0.85},"S/C",{"$f":"IF(Tabela13[[#This Row],[05 %DE CASOS DOENÇAS NOT COMP IMEDIATA]]=\"S/C\",\"N/A\",IF(V44>=U44,\"ATINGIU\",\"NÃO ATINGIU\"))","v":"N/A"},{"$f":"CURA_CASOS_HANS!AI44","v":1},{"$f":"CURA_CASOS_HANS!N44","v":0},{"$f":"CURA_CASOS_HANS!AH44","v":"SC"},{"$f":"CURA_CASOS_HANS!AJ44","v":"N/A"},{"$f":"SIFILIS_CONG_1ANO!O46","v":0},{"$f":"SIFILIS_CONG_1ANO!N46","v":0},{"$f":"SIFILIS_CONG_1ANO!P46","v":"ATINGIU"},{"$f":"AIDS_MENOR5!P44","v":0},{"$f":"AIDS_MENOR5!O44","v":0},{"$f":"AIDS_MENOR5!Q44","v":"ATINGIU"},{"$f":"METAS!L44","v":0.5},{"$f":"ANALISE_AGUA_2017!J45","v":0.41030092592592582},{"$f":"ANALISE_AGUA_2017!L45","v":"NÃO ATINGIU"},{"$f":"CITOPATOLOGICO!AH44","v":0.4},{"$f":"CITOPATOLOGICO!W44","v":170},{"$f":"CITOPATOLOGICO!AG44","v":0.23351648351648352},{"$f":"CITOPATOLOGICO!AL44","v":"NÃO ATINGIU"},{"$f":"MAMOGRAFIA!AE44","v":0.26},{"$f":"MAMOGRAFIA!U44","v":236},{"$f":"MAMOGRAFIA!AD44","v":0.68},{"$f":"MAMOGRAFIA!AG44","v":"ATINGIU"},{"$f":"PARTO_NORMAL!AI44","v":0.66},{"$f":"PARTO_NORMAL!X44","v":64},{"$f":"PARTO_NORMAL!AH44","v":0.62745098039215685},{"$f":"PARTO_NORMAL!AJ44","v":"NÃO ATINGIU"},{"$f":"MAES_ADOLESC!AO44","v":0.18},{"$f":"MAES_ADOLESC!AB44","v":19},{"$f":"MAES_ADOLESC!AN44","v":0.18627450980392157},{"$f":"MAES_ADOLESC!AP44","v":"NÃO ATINGIU"},{"$f":"MORT_INF!AI44","v":1},{"$f":"MORT_INF!X44","v":1},{"$f":"MORT_INF!AH44","v":9.8039215686274517},{"$f":"MORT_INF!AJ44","v":"ATINGIU"},{"$f":"OBITOS_MATERNOS!AI44","v":0},{"$f":"OBITOS_MATERNOS!X44","v":0},{"$f":"OBITOS_MATERNOS!AJ44","v":"ATINGIU"},{"$f":"COBERTURA_AB!N51","v":1},{"$f":"COBERTURA_AB!M51","v":1},{"$f":"COBERTURA_AB!O51","v":"ATINGIU"},0.8,{"$f":"PBF_ACOMP_2017!F49","v":1073},{"$f":"PBF_ACOMP_2017!G49","v":0.8611556982343499},{"$f":"PBF_ACOMP_2017!I49","v":"ATINGIU"},{"$f":"COBETURA_SB!M52","v":1},{"$f":"COBETURA_SB!L52","v":1},{"$f":"COBETURA_SB!N52","v":"ATINGIU"},{"$f":"AÇOES_VIGIL!N46","v":1},{"$f":"AÇOES_VIGIL!M46","v":0.16666666666666666},{"$f":"AÇOES_VIGIL!O46","v":"NÃO ATINGIU"},{"$f":"MATRICIAMENTO_CAPS!K44","v":"N/A"},{"$f":"MATRICIAMENTO_CAPS!H44","v":"N/A"},{"$f":"MATRICIAMENTO_CAPS!J44","v":"N/A"},{"$f":"MATRICIAMENTO_CAPS!L44","v":"N/A"},{"$f":"CICLO_DENGUE!H46","v":4},{"$f":"CICLO_DENGUE!G46","v":3},{"$f":"CICLO_DENGUE!I46","v":"NÃO ATINGIU"},{"$f":"NOT_AC_TRAB_OCUP!M44","v":0.95},{"$f":"NOT_AC_TRAB_OCUP!L44","v":1},{"$f":"NOT_AC_TRAB_OCUP!N44","v":"ATINGIU"},9,9,0.5]
[280450,"GLORIA","NOSSA SENHORA DA GLORIA",{"$f":"OBITOS_PREMATUROS!D45","v":35723},{"$f":"OBITOS_PREMATUROS!AH45","v":28},{"$f":"OBITOS_PREMATUROS!W45","v":43},{"$f":"OBITOS_PREMATUROS!AG45","v":288.04930332261523},{"$f":"OBITOS_PREMATUROS!AI45","v":"NÃO ATINGIU"},{"$f":"OBITOS_MIF!AI45","v":1},{"$f":"OBITOS_MIF!N45","v":15},{"$f":"OBITOS_MIF!X45","v":12},{"$f":"OBITOS_MIF!AH45","v":0.8},{"$f":"OBITOS_MIF!AJ45","v":"NÃO ATINGIU"},{"$f":"OBITOS_CAUSAS!AI45","v":0.95},{"$f":"OBITOS_CAUSAS!N45","v":157},{"$f":"OBITOS_CAUSAS!AH45","v":0.92352941176470593},{"$f":"OBITOS_CAUSAS!AJ45","v":"NÃO ATINGIU"},{"$f":"METAS!G45","v":1},0,"NÃO ATINGIU",{"$f":"METAS!H45","v":0.85},1,{"$f":"IF(Tabela13[[#This Row],[05 %DE CASOS DOENÇAS NOT COMP IMEDIATA]]=\"S/C\",\"N/A\",IF(V45>=U45,\"ATINGIU\",\"NÃO ATINGIU\"))","v":"ATINGIU"},{"$f":"CURA_CASOS_HANS!AI45","v":0.9},{"$f":"CURA_CASOS_HANS!N45","v":0},{"$f":"CURA_CASOS_HANS!AH45","v":1},{"$f":"CURA_CASOS_HANS!AJ45","v":"ATINGIU"},{"$f":"SIFILIS_CONG_1ANO!O47","v":1},{"$f":"SIFILIS_CONG_1ANO!N47","v":0},{"$f":"SIFILIS_CONG_1ANO!P47","v":"ATINGIU"},{"$f":"AIDS_MENOR5!P45","v":0},{"$f":"AIDS_MENOR5!O45","v":0},{"$f":"AIDS_MENOR5!Q45","v":"ATINGIU"},{"$f":"METAS!L45","v":0.6},{"$f":"ANALISE_AGUA_2017!J46","v":0.53565705128205121},{"$f":"ANALISE_AGUA_2017!L46","v":"NÃO ATINGIU"},{"$f":"CITOPATOLOGICO!AH45","v":0.5},{"$f":"CITOPATOLOGICO!W45","v":1203},{"$f":"CITOPATOLOGICO!AG45","v":0.40946221919673248},{"$f":"CITOPATOLOGICO!AL45","v":"NÃO ATINGIU"},{"$f":"MAMOGRAFIA!AE45","v":0.25},{"$f":"MAMOGRAFIA!U45","v":119},{"$f":"MAMOGRAFIA!AD45","v":0.1},{"$f":"MAMOGRAFIA!AG45","v":"NÃO ATINGIU"},{"$f":"PARTO_NORMAL!AI45","v":0.56999999999999995},{"$f":"PARTO_NORMAL!X45","v":318},{"$f":"PARTO_NORMAL!AH45","v":0.5482758620689655},{"$f":"PARTO_NORMAL!AJ45","v":"NÃO ATINGIU"},{"$f":"MAES_ADOLESC!AO45","v":0.23749999999999999},{"$f":"MAES_ADOLESC!AB45","v":126},{"$f":"MAES_ADOLESC!AN45","v":0.21724137931034482},{"$f":"MAES_ADOLESC!AP45","v":"ATINGIU"},{"$f":"MORT_INF!AI45","v":4},{"$f":"MORT_INF!X45","v":5},{"$f":"MORT_INF!AH45","v":8.6206896551724128},{"$f":"MORT_INF!AJ45","v":"NÃO ATINGIU"},{"$f":"OBITOS_MATERNOS!AI45","v":0},{"$f":"OBITOS_MATERNOS!X45","v":0},{"$f":"OBITOS_MATERNOS!AJ45","v":"ATINGIU"},{"$f":"COBERTURA_AB!N52","v":1},{"$f":"COBERTURA_AB!M52","v":1},{"$f":"COBERTURA_AB!O52","v":"ATINGIU"},0.83,{"$f":"PBF_ACOMP_2017!F50","v":4709},{"$f":"PBF_ACOMP_2017!G50","v":0.81981197771587744},{"$f":"PBF_ACOMP_2017!I50","v":"NÃO ATINGIU"},{"$f":"COBETURA_SB!M53","v":0.85650000000000004},{"$f":"COBETURA_SB!L53","v":0.76300000000000001},{"$f":"COBETURA_SB!N53","v":"NÃO ATINGIU"},{"$f":"AÇOES_VIGIL!N47","v":1},{"$f":"AÇOES_VIGIL!M47","v":0.5},{"$f":"AÇOES_VIGIL!O47","v":"NÃO ATINGIU"},{"$f":"MATRICIAMENTO_CAPS!K45","v":1},{"$f":"MATRICIAMENTO_CAPS!H45","v":0},{"$f":"MATRICIAMENTO_CAPS!J45","v":0},{"$f":"MATRICIAMENTO_CAPS!L45","v":"NÃO ATINGIU"},{"$f":"CICLO_DENGUE!H47","v":4},{"$f":"CICLO_DENGUE!G47","v":4},{"$f":"CICLO_DENGUE!I47","v":"ATINGIU"},{"$f":"NOT_AC_TRAB_OCUP!M45","v":1},{"$f":"NOT_AC_TRAB_OCUP!L45","v":0.86206896551724133},{"$f":"NOT_AC_TRAB_OCUP!N45","v":"NÃO ATINGIU"},8,14,0.36363636363636365]
[280460,"SOCORRO","NOSSA SENHORA DAS DORES",{"$f":"OBITOS_PREMATUROS!D46","v":26237},{"$f":"OBITOS_PREMATUROS!AH46","v":33},{"$f":"OBITOS_PREMATUROS!W46","v":30},{"$f":"OBITOS_PREMATUROS!AG46","v":271.44408251900109},{"$f":"OBITOS_PREMATUROS!AI46","v":"ATINGIU"},{"$f":"OBITOS_MIF!AI46","v":0.9},{"$f":"OBITOS_MIF!N46","v":7},{"$f":"OBITOS_MIF!X46","v":2},{"$f":"OBITOS_MIF!AH46","v":0.2857142857142857},{"$f":"OBITOS_MIF!AJ46","v":"NÃO ATINGIU"},{"$f":"OBITOS_CAUSAS!AI46","v":0.95},{"$f":"OBITOS_CAUSAS!N46","v":131},{"$f":"OBITOS_CAUSAS!AH46","v":0.91608391608391604},{"$f":"OBITOS_CAUSAS!AJ46","v":"NÃO ATINGIU"},{"$f":"METAS!G46","v":1},0,"NÃO ATINGIU",{"$f":"METAS!H46","v":0.85},"S/C",{"$f":"IF(Tabela13[[#This Row],[05 %DE CASOS DOENÇAS NOT COMP IMEDIATA]]=\"S/C\",\"N/A\",IF(V46>=U46,\"ATINGIU\",\"NÃO ATINGIU\"))","v":"N/A"},{"$f":"CURA_CASOS_HANS!AI46","v":0.9},{"$f":"CURA_CASOS_HANS!N46","v":0},{"$f":"CURA_CASOS_HANS!AH46","v":0.83329999999999993},{"$f":"CURA_CASOS_HANS!AJ46","v":"NÃO ATINGIU"},{"$f":"SIFILIS_CONG_1ANO!O48","v":3},{"$f":"SIFILIS_CONG_1ANO!N48","v":3},{"$f":"SIFILIS_CONG_1ANO!P48","v":"ATINGIU"},{"$f":"AIDS_MENOR5!P46","v":0},{"$f":"AIDS_MENOR5!O46","v":0},{"$f":"AIDS_MENOR5!Q46","v":"ATINGIU"},{"$f":"METAS!L46","v":0.3},{"$f":"ANALISE_AGUA_2017!J47","v":0.62369791666666652},{"$f":"ANALISE_AGUA_2017!L47","v":"ATINGIU"},{"$f":"CITOPATOLOGICO!AH46","v":0.65},{"$f":"CITOPATOLOGICO!W46","v":1408},{"$f":"CITOPATOLOGICO!AG46","v":0.67293292974350805},{"$f":"CITOPATOLOGICO!AL46","v":"ATINGIU"},{"$f":"MAMOGRAFIA!AE46","v":0.1},{"$f":"MAMOGRAFIA!U46","v":316},{"$f":"MAMOGRAFIA!AD46","v":0.32},{"$f":"MAMOGRAFIA!AG46","v":"ATINGIU"},{"$f":"PARTO_NORMAL!AI46","v":0.66},{"$f":"PARTO_NORMAL!X46","v":204},{"$f":"PARTO_NORMAL!AH46","v":0.62385321100917435},{"$f":"PARTO_NORMAL!AJ46","v":"NÃO ATINGIU"},{"$f":"MAES_ADOLESC!AO46","v":0.26},{"$f":"MAES_ADOLESC!AB46","v":66},{"$f":"MAES_ADOLESC!AN46","v":0.20183486238532111},{"$f":"MAES_ADOLESC!AP46","v":"ATINGIU"},{"$f":"MORT_INF!AI46","v":3},{"$f":"MORT_INF!X46","v":6},{"$f":"MORT_INF!AH46","v":18.348623853211009},{"$f":"MORT_INF!AJ46","v":"NÃO ATINGIU"},{"$f":"OBITOS_MATERNOS!AI46","v":1},{"$f":"OBITOS_MATERNOS!X46","v":0},{"$f":"OBITOS_MATERNOS!AJ46","v":"ATINGIU"},{"$f":"COBERTURA_AB!N53","v":1},{"$f":"COBERTURA_AB!M53","v":1},{"$f":"COBERTURA_AB!O53","v":"ATINGIU"},0.76,{"$f":"PBF_ACOMP_2017!F51","v":2671},{"$f":"PBF_ACOMP_2017!G51","v":0.76907572703714366},{"$f":"PBF_ACOMP_2017!I51","v":"ATINGIU"},{"$f":"COBETURA_SB!M54","v":1},{"$f":"COBETURA_SB!L54","v":1},{"$f":"COBETURA_SB!N54","v":"ATINGIU"},{"$f":"AÇOES_VIGIL!N48","v":1},{"$f":"AÇOES_VIGIL!M48","v":0.66666666666666663},{"$f":"AÇOES_VIGIL!O48","v":"NÃO ATINGIU"},{"$f":"MATRICIAMENTO_CAPS!K46","v":1},{"$f":"MATRICIAMENTO_CAPS!H46","v":0},{"$f":"MATRICIAMENTO_CAPS!J46","v":0},{"$f":"MATRICIAMENTO_CAPS!L46","v":"NÃO ATINGIU"},{"$f":"CICLO_DENGUE!H48","v":4},{"$f":"CICLO_DENGUE!G48","v":1},{"$f":"CICLO_DENGUE!I48","v":"NÃO ATINGIU"},{"$f":"NOT_AC_TRAB_OCUP!M46","v":0.95},{"$f":"NOT_AC_TRAB_OCUP!L46","v":0.7},{"$f":"NOT_AC_TRAB_OCUP!N46","v":"NÃO ATINGIU"},11,10,0.52380952380952384]
[280470,"PROPRIA","NOSSA SENHORA DE LOURDES",{"$f":"OBITOS_PREMATUROS!D47","v":6494},{"$f":"OBITOS_PREMATUROS!AH47","v":5},{"$f":"OBITOS_PREMATUROS!W47","v":7},{"$f":"OBITOS_PREMATUROS!AG47","v":254.26807119505995},{"$f":"OBITOS_PREMATUROS!AI47","v":"NÃO ATINGIU"},{"$f":"OBITOS_MIF!AI47","v":1},{"$f":"OBITOS_MIF!N47","v":5},{"$f":"OBITOS_MIF!X47","v":4},{"$f":"OBITOS_MIF!AH47","v":0.8},{"$f":"OBITOS_MIF!AJ47","v":"NÃO ATINGIU"},{"$f":"OBITOS_CAUSAS!AI47","v":0.91},{"$f":"OBITOS_CAUSAS!N47","v":34},{"$f":"OBITOS_CAUSAS!AH47","v":0.80952380952380953},{"$f":"OBITOS_CAUSAS!AJ47","v":"NÃO ATINGIU"},{"$f":"METAS!G47","v":1},1,"ATINGIU",{"$f":"METAS!H47","v":0.85},"S/C",{"$f":"IF(Tabela13[[#This Row],[05 %DE CASOS DOENÇAS NOT COMP IMEDIATA]]=\"S/C\",\"N/A\",IF(V47>=U47,\"ATINGIU\",\"NÃO ATINGIU\"))","v":"N/A"},{"$f":"CURA_CASOS_HANS!AI47","v":0.95},{"$f":"CURA_CASOS_HANS!N47","v":0},{"$f":"CURA_CASOS_HANS!AH47","v":1},{"$f":"CURA_CASOS_HANS!AJ47","v":"ATINGIU"},{"$f":"SIFILIS_CONG_1ANO!O49","v":0},{"$f":"SIFILIS_CONG_1ANO!N49","v":0},{"$f":"SIFILIS_CONG_1ANO!P49","v":"ATINGIU"},{"$f":"AIDS_MENOR5!P47","v":0},{"$f":"AIDS_MENOR5!O47","v":0},{"$f":"AIDS_MENOR5!Q47","v":"ATINGIU"},{"$f":"METAS!L47","v":0.7},{"$f":"ANALISE_AGUA_2017!J48","v":0.82407407407407407},{"$f":"ANALISE_AGUA_2017!L48","v":"ATINGIU"},{"$f":"CITOPATOLOGICO!AH47","v":0.6},{"$f":"CITOPATOLOGICO!W47","v":253},{"$f":"CITOPATOLOGICO!AG47","v":0.48936170212765956},{"$f":"CITOPATOLOGICO!AL47","v":"NÃO ATINGIU"},{"$f":"MAMOGRAFIA!AE47","v":0.19},{"$f":"MAMOGRAFIA!U47","v":164},{"$f":"MAMOGRAFIA!AD47","v":0.68},{"$f":"MAMOGRAFIA!AG47","v":"ATINGIU"},{"$f":"PARTO_NORMAL!AI47","v":0.66},{"$f":"PARTO_NORMAL!X47","v":63},{"$f":"PARTO_NORMAL!AH47","v":0.64948453608247425},{"$f":"PARTO_NORMAL!AJ47","v":"NÃO ATINGIU"},{"$f":"MAES_ADOLESC!AO47","v":0.27},{"$f":"MAES_ADOLESC!AB47","v":23},{"$f":"MAES_ADOLESC!AN47","v":0.23711340206185566},{"$f":"MAES_ADOLESC!AP47","v":"ATINGIU"},{"$f":"MORT_INF!AI47","v":1},{"$f":"MORT_INF!X47","v":3},{"$f":"MORT_INF!AH47","v":30.927835051546392},{"$f":"MORT_INF!AJ47","v":"NÃO ATINGIU"},{"$f":"OBITOS_MATERNOS!AI47","v":0},{"$f":"OBITOS_MATERNOS!X47","v":0},{"$f":"OBITOS_MATERNOS!AJ47","v":"ATINGIU"},{"$f":"COBERTURA_AB!N54","v":1},{"$f":"COBERTURA_AB!M54","v":1},{"$f":"COBERTURA_AB!O54","v":"ATINGIU"},0.96,{"$f":"PBF_ACOMP_2017!F52","v":992},{"$f":"PBF_ACOMP_2017!G52","v":0.96780487804878046},{"$f":"PBF_ACOMP_2017!I52","v":"ATINGIU"},{"$f":"COBETURA_SB!M55","v":1},{"$f":"COBETURA_SB!L55","v":1},{"$f":"COBETURA_SB!N55","v":"ATINGIU"},{"$f":"AÇOES_VIGIL!N49","v":1},{"$f":"AÇOES_VIGIL!M49","v":0.66666666666666663},{"$f":"AÇOES_VIGIL!O49","v":"NÃO ATINGIU"},{"$f":"MATRICIAMENTO_CAPS!K47","v":"N/A"},{"$f":"MATRICIAMENTO_CAPS!H47","v":"N/A"},{"$f":"MATRICIAMENTO_CAPS!J47","v":"N/A"},{"$f":"MATRICIAMENTO_CAPS!L47","v":"N/A"},{"$f":"CICLO_DENGUE!H49","v":5},{"$f":"CICLO_DENGUE!G49","v":0},{"$f":"CICLO_DENGUE!I49","v":"NÃO ATINGIU"},{"$f":"NOT_AC_TRAB_OCUP!M47","v":1},{"$f":"NOT_AC_TRAB_OCUP!L47","v":0.2},{"$f":"NOT_AC_TRAB_OCUP!N47","v":"NÃO ATINGIU"},11,9,0.55000000000000004]
[280480,"SOCORRO","NOSSA SENHORA DO SOCORRO",{"$f":"OBITOS_PREMATUROS!D48","v":177340},{"$f":"OBITOS_PREMATUROS!AH48","v":280},{"$f":"OBITOS_PREMATUROS!W48","v":231},{"$f":"OBITOS_PREMATUROS!AG48","v":311.32075471698113},{"$f":"OBITOS_PREMATUROS!AI48","v":"NÃO ATINGIU"},{"$f":"OBITOS_MIF!AI48","v":0.9},{"$f":"OBITOS_MIF!N48","v":70},{"$f":"OBITOS_MIF!X48","v":69},{"$f":"OBITOS_MIF!AH48","v":0.98571428571428577},{"$f":"OBITOS_MIF!AJ48","v":"ATINGIU"},{"$f":"OBITOS_CAUSAS!AI48","v":0.94},{"$f":"OBITOS_CAUSAS!N48","v":921},{"$f":"OBITOS_CAUSAS!AH48","v":0.95738045738045741},{"$f":"OBITOS_CAUSAS!AJ48","v":"ATINGIU"},{"$f":"METAS!G48","v":0.75},0.25,"NÃO ATINGIU",{"$f":"METAS!H48","v":0.85},0.66700000000000004,{"$f":"IF(Tabela13[[#This Row],[05 %DE CASOS DOENÇAS NOT COMP IMEDIATA]]=\"S/C\",\"N/A\",IF(V48>=U48,\"ATINGIU\",\"NÃO ATINGIU\"))","v":"NÃO ATINGIU"},{"$f":"CURA_CASOS_HANS!AI48","v":0.9},{"$f":"CURA_CASOS_HANS!N48","v":0},{"$f":"CURA_CASOS_HANS!AH48","v":0.72089999999999999},{"$f":"CURA_CASOS_HANS!AJ48","v":"NÃO ATINGIU"},{"$f":"SIFILIS_CONG_1ANO!O50","v":55},{"$f":"SIFILIS_CONG_1ANO!N50","v":35},{"$f":"SIFILIS_CONG_1ANO!P50","v":"ATINGIU"},{"$f":"AIDS_MENOR5!P48","v":0},{"$f":"AIDS_MENOR5!O48","v":0},{"$f":"AIDS_MENOR5!Q48","v":"ATINGIU"},{"$f":"METAS!L48","v":1},{"$f":"ANALISE_AGUA_2017!J49","v":0.98660714285714268},{"$f":"ANALISE_AGUA_2017!L49","v":"NÃO ATINGIU"},{"$f":"CITOPATOLOGICO!AH48","v":0.48},{"$f":"CITOPATOLOGICO!W48","v":3285},{"$f":"CITOPATOLOGICO!AG48","v":0.21417394705959056},{"$f":"CITOPATOLOGICO!AL48","v":"NÃO ATINGIU"},{"$f":"MAMOGRAFIA!AE48","v":0.24},{"$f":"MAMOGRAFIA!U48","v":1490},{"$f":"MAMOGRAFIA!AD48","v":0.25},{"$f":"MAMOGRAFIA!AG48","v":"ATINGIU"},{"$f":"PARTO_NORMAL!AI48","v":0.625},{"$f":"PARTO_NORMAL!X48","v":1823},{"$f":"PARTO_NORMAL!AH48","v":0.59361771409964181},{"$f":"PARTO_NORMAL!AJ48","v":"NÃO ATINGIU"},{"$f":"MAES_ADOLESC!AO48","v":0.22109999999999999},{"$f":"MAES_ADOLESC!AB48","v":641},{"$f":"MAES_ADOLESC!AN48","v":0.20872679908824487},{"$f":"MAES_ADOLESC!AP48","v":"ATINGIU"},{"$f":"MORT_INF!AI48","v":19.21},{"$f":"MORT_INF!X48","v":49},{"$f":"MORT_INF!AH48","v":15.955714750895474},{"$f":"MORT_INF!AJ48","v":"ATINGIU"},{"$f":"OBITOS_MATERNOS!AI48","v":0},{"$f":"OBITOS_MATERNOS!X48","v":1},{"$f":"OBITOS_MATERNOS!AJ48","v":"NÃO ATINGIU"},{"$f":"COBERTURA_AB!N55","v":1},{"$f":"COBERTURA_AB!M55","v":1},{"$f":"COBERTURA_AB!O55","v":"ATINGIU"},0.73,{"$f":"PBF_ACOMP_2017!F53","v":12137},{"$f":"PBF_ACOMP_2017!G53","v":0.74707620337313796},{"$f":"PBF_ACOMP_2017!I53","v":"ATINGIU"},{"$f":"COBETURA_SB!M56","v":0.99},{"$f":"COBETURA_SB!L56","v":1},{"$f":"COBETURA_SB!N56","v":"ATINGIU"},{"$f":"AÇOES_VIGIL!N50","v":1},{"$f":"AÇOES_VIGIL!M50","v":0.83333333333333337},{"$f":"AÇOES_VIGIL!O50","v":"NÃO ATINGIU"},{"$f":"MATRICIAMENTO_CAPS!K48","v":1},{"$f":"MATRICIAMENTO_CAPS!H48","v":0},{"$f":"MATRICIAMENTO_CAPS!J48","v":0},{"$f":"MATRICIAMENTO_CAPS!L48","v":"NÃO ATINGIU"},{"$f":"CICLO_DENGUE!H50","v":6},{"$f":"CICLO_DENGUE!G50","v":4},{"$f":"CICLO_DENGUE!I50","v":"NÃO ATINGIU"},{"$f":"NOT_AC_TRAB_OCUP!M48","v":0.95},{"$f":"NOT_AC_TRAB_OCUP!L48","v":0.73949579831932777},{"$f":"NOT_AC_TRAB_OCUP!N48","v":"NÃO ATINGIU"},10,12,0.45454545454545453]
[280490,"PROPRIA","PACATUBA",{"$f":"OBITOS_PREMATUROS!D49","v":14164},{"$f":"OBITOS_PREMATUROS!AH49","v":12},{"$f":"OBITOS_PREMATUROS!W49","v":18},{"$f":"OBITOS_PREMATUROS!AG49","v":327.80914223274448},{"$f":"OBITOS_PREMATUROS!AI49","v":"NÃO ATINGIU"},{"$f":"OBITOS_MIF!AI49","v":0.9},{"$f":"OBITOS_MIF!N49","v":5},{"$f":"OBITOS_MIF!X49","v":3},{"$f":"OBITOS_MIF!AH49","v":0.6},{"$f":"OBITOS_MIF!AJ49","v":"NÃO ATINGIU"},{"$f":"OBITOS_CAUSAS!AI49","v":0.95},{"$f":"OBITOS_CAUSAS!N49","v":75},{"$f":"OBITOS_CAUSAS!AH49","v":0.92592592592592593},{"$f":"OBITOS_CAUSAS!AJ49","v":"NÃO ATINGIU"},{"$f":"METAS!G49","v":1},0,"NÃO ATINGIU",{"$f":"METAS!H49","v":0.85},"S/C",{"$f":"IF(Tabela13[[#This Row],[05 %DE CASOS DOENÇAS NOT COMP IMEDIATA]]=\"S/C\",\"N/A\",IF(V49>=U49,\"ATINGIU\",\"NÃO ATINGIU\"))","v":"N/A"},{"$f":"CURA_CASOS_HANS!AI49","v":0.9},{"$f":"CURA_CASOS_HANS!N49","v":0},{"$f":"CURA_CASOS_HANS!AH49","v":1},{"$f":"CURA_CASOS_HANS!AJ49","v":"ATINGIU"},{"$f":"SIFILIS_CONG_1ANO!O51","v":2},{"$f":"SIFILIS_CONG_1ANO!N51","v":3},{"$f":"SIFILIS_CONG_1ANO!P51","v":"NÃO ATINGIU"},{"$f":"AIDS_MENOR5!P49","v":0},{"$f":"AIDS_MENOR5!O49","v":0},{"$f":"AIDS_MENOR5!Q49","v":"ATINGIU"},{"$f":"METAS!L49","v":1},{"$f":"ANALISE_AGUA_2017!J50","v":0.84531250000000002},{"$f":"ANALISE_AGUA_2017!L50","v":"NÃO ATINGIU"},{"$f":"CITOPATOLOGICO!AH49","v":0.57999999999999996},{"$f":"CITOPATOLOGICO!W49","v":482},{"$f":"CITOPATOLOGICO!AG49","v":0.45730550284629978},{"$f":"CITOPATOLOGICO!AL49","v":"NÃO ATINGIU"},{"$f":"MAMOGRAFIA!AE49","v":0.25},{"$f":"MAMOGRAFIA!U49","v":11},{"$f":"MAMOGRAFIA!AD49","v":0.03},{"$f":"MAMOGRAFIA!AG49","v":"NÃO ATINGIU"},{"$f":"PARTO_NORMAL!AI49","v":0.73},{"$f":"PARTO_NORMAL!X49","v":143},{"$f":"PARTO_NORMAL!AH49","v":0.62173913043478257},{"$f":"PARTO_NORMAL!AJ49","v":"NÃO ATINGIU"},{"$f":"MAES_ADOLESC!AO49","v":0.23499999999999999},{"$f":"MAES_ADOLESC!AB49","v":57},{"$f":"MAES_ADOLESC!AN49","v":0.24782608695652175},{"$f":"MAES_ADOLESC!AP49","v":"NÃO ATINGIU"},{"$f":"MORT_INF!AI49","v":2},{"$f":"MORT_INF!X49","v":7},{"$f":"MORT_INF!AH49","v":30.434782608695652},{"$f":"MORT_INF!AJ49","v":"NÃO ATINGIU"},{"$f":"OBITOS_MATERNOS!AI49","v":0},{"$f":"OBITOS_MATERNOS!X49","v":0},{"$f":"OBITOS_MATERNOS!AJ49","v":"ATINGIU"},{"$f":"COBERTURA_AB!N56","v":1},{"$f":"COBERTURA_AB!M56","v":1},{"$f":"COBERTURA_AB!O56","v":"ATINGIU"},0.96,{"$f":"PBF_ACOMP_2017!F54","v":2201},{"$f":"PBF_ACOMP_2017!G54","v":0.96789797713280568},{"$f":"PBF_ACOMP_2017!I54","v":"ATINGIU"},{"$f":"COBETURA_SB!M57","v":1},{"$f":"COBETURA_SB!L57","v":1},{"$f":"COBETURA_SB!N57","v":"ATINGIU"},{"$f":"AÇOES_VIGIL!N51","v":1},{"$f":"AÇOES_VIGIL!M51","v":0.83333333333333337},{"$f":"AÇOES_VIGIL!O51","v":"NÃO ATINGIU"},{"$f":"MATRICIAMENTO_CAPS!K49","v":1},{"$f":"MATRICIAMENTO_CAPS!H49","v":1},{"$f":"MATRICIAMENTO_CAPS!J49","v":1},{"$f":"MATRICIAMENTO_CAPS!L49","v":"ATINGIU"},{"$f":"CICLO_DENGUE!H51","v":6},{"$f":"CICLO_DENGUE!G51","v":0},{"$f":"CICLO_DENGUE!I51","v":"NÃO ATINGIU"},{"$f":"NOT_AC_TRAB_OCUP!M49","v":0.95},{"$f":"NOT_AC_TRAB_OCUP!L49","v":0},{"$f":"NOT_AC_TRAB_OCUP!N49","v":"NÃO ATINGIU"},7,14,0.33333333333333331]
[280500,"ITABAIANA","PEDRA MOLE",{"$f":"OBITOS_PREMATUROS!D50","v":3199},{"$f":"OBITOS_PREMATUROS!AH50","v":3},{"$f":"OBITOS_PREMATUROS!W50","v":2},{"$f":"OBITOS_PREMATUROS!AG50","v":141.74344436569808},{"$f":"OBITOS_PREMATUROS!AI50","v":"ATINGIU"},{"$f":"OBITOS_MIF!AI50","v":1},{"$f":"OBITOS_MIF!N50","v":2},{"$f":"OBITOS_MIF!X50","v":1},{"$f":"OBITOS_MIF!AH50","v":0.5},{"$f":"OBITOS_MIF!AJ50","v":"NÃO ATINGIU"},{"$f":"OBITOS_CAUSAS!AI50","v":1},{"$f":"OBITOS_CAUSAS!N50","v":11},{"$f":"OBITOS_CAUSAS!AH50","v":0.7857142857142857},{"$f":"OBITOS_CAUSAS!AJ50","v":"NÃO ATINGIU"},{"$f":"METAS!G50","v":1},0,"NÃO ATINGIU",{"$f":"METAS!H50","v":0.85},"S/C",{"$f":"IF(Tabela13[[#This Row],[05 %DE CASOS DOENÇAS NOT COMP IMEDIATA]]=\"S/C\",\"N/A\",IF(V50>=U50,\"ATINGIU\",\"NÃO ATINGIU\"))","v":"N/A"},{"$f":"CURA_CASOS_HANS!AI50","v":0.9},{"$f":"CURA_CASOS_HANS!N50","v":0},{"$f":"CURA_CASOS_HANS!AH50","v":1},{"$f":"CURA_CASOS_HANS!AJ50","v":"ATINGIU"},{"$f":"SIFILIS_CONG_1ANO!O52","v":0},{"$f":"SIFILIS_CONG_1ANO!N52","v":0},{"$f":"SIFILIS_CONG_1ANO!P52","v":"ATINGIU"},{"$f":"AIDS_MENOR5!P50","v":0},{"$f":"AIDS_MENOR5!O50","v":0},{"$f":"AIDS_MENOR5!Q50","v":"ATINGIU"},{"$f":"METAS!L50","v":1},{"$f":"ANALISE_AGUA_2017!J51","v":0.88368055555555525},{"$f":"ANALISE_AGUA_2017!L51","v":"NÃO ATINGIU"},{"$f":"CITOPATOLOGICO!AH50","v":0.83},{"$f":"CITOPATOLOGICO!W50","v":252},{"$f":"CITOPATOLOGICO!AG50","v":0.92533659730722162},{"$f":"CITOPATOLOGICO!AL50","v":"ATINGIU"},{"$f":"MAMOGRAFIA!AE50","v":0.45},{"$f":"MAMOGRAFIA!U50","v":35},{"$f":"MAMOGRAFIA!AD50","v":0.28999999999999998},{"$f":"MAMOGRAFIA!AG50","v":"NÃO ATINGIU"},{"$f":"PARTO_NORMAL!AI50","v":0.6},{"$f":"PARTO_NORMAL!X50","v":30},{"$f":"PARTO_NORMAL!AH50","v":0.69767441860465118},{"$f":"PARTO_NORMAL!AJ50","v":"ATINGIU"},{"$f":"MAES_ADOLESC!AO50","v":0.23},{"$f":"MAES_ADOLESC!AB50","v":12},{"$f":"MAES_ADOLESC!AN50","v":0.27906976744186046},{"$f":"MAES_ADOLESC!AP50","v":"NÃO ATINGIU"},{"$f":"MORT_INF!AI50","v":1},{"$f":"MORT_INF!X50","v":0},{"$f":"MORT_INF!AH50","v":0},{"$f":"MORT_INF!AJ50","v":"ATINGIU"},{"$f":"OBITOS_MATERNOS!AI50","v":0},{"$f":"OBITOS_MATERNOS!X50","v":0},{"$f":"OBITOS_MATERNOS!AJ50","v":"ATINGIU"},{"$f":"COBERTURA_AB!N57","v":1},{"$f":"COBERTURA_AB!M57","v":1},{"$f":"COBERTURA_AB!O57","v":"ATINGIU"},0.8,{"$f":"PBF_ACOMP_2017!F55","v":449},{"$f":"PBF_ACOMP_2017!G55","v":0.88212180746561886},{"$f":"PBF_ACOMP_2017!I55","v":"ATINGIU"},{"$f":"COBETURA_SB!M58","v":1},{"$f":"COBETURA_SB!L58","v":1},{"$f":"COBETURA_SB!N58","v":"ATINGIU"},{"$f":"AÇOES_VIGIL!N52","v":1},{"$f":"AÇOES_VIGIL!M52","v":0.66666666666666663},{"$f":"AÇOES_VIGIL!O52","v":"NÃO ATINGIU"},{"$f":"MATRICIAMENTO_CAPS!K50","v":"N/A"},{"$f":"MATRICIAMENTO_CAPS!H50","v":"N/A"},{"$f":"MATRICIAMENTO_CAPS!J50","v":"N/A"},{"$f":"MATRICIAMENTO_CAPS!L50","v":"N/A"},{"$f":"CICLO_DENGUE!H52","v":5},{"$f":"CICLO_DENGUE!G52","v":1},{"$f":"CICLO_DENGUE!I52","v":"NÃO ATINGIU"},{"$f":"NOT_AC_TRAB_OCUP!M50","v":1},{"$f":"NOT_AC_TRAB_OCUP!L50","v":"N/A"},{"$f":"NOT_AC_TRAB_OCUP!N50","v":"N/A"},11,8,0.57894736842105265]
[280510,"ESTANCIA","PEDRINHAS",{"$f":"OBITOS_PREMATUROS!D51","v":9455},{"$f":"OBITOS_PREMATUROS!AH51","v":9},{"$f":"OBITOS_PREMATUROS!W51","v":6},{"$f":"OBITOS_PREMATUROS!AG51","v":154.5993300695697},{"$f":"OBITOS_PREMATUROS!AI51","v":"ATINGIU"},{"$f":"OBITOS_MIF!AI51","v":0.9},{"$f":"OBITOS_MIF!N51","v":3},{"$f":"OBITOS_MIF!X51","v":1},{"$f":"OBITOS_MIF!AH51","v":0.33333333333333331},{"$f":"OBITOS_MIF!AJ51","v":"NÃO ATINGIU"},{"$f":"OBITOS_CAUSAS!AI51","v":0.95},{"$f":"OBITOS_CAUSAS!N51","v":49},{"$f":"OBITOS_CAUSAS!AH51","v":0.89090909090909087},{"$f":"OBITOS_CAUSAS!AJ51","v":"NÃO ATINGIU"},{"$f":"METAS!G51","v":1},0.25,"NÃO ATINGIU",{"$f":"METAS!H51","v":0.85},"S/C",{"$f":"IF(Tabela13[[#This Row],[05 %DE CASOS DOENÇAS NOT COMP IMEDIATA]]=\"S/C\",\"N/A\",IF(V51>=U51,\"ATINGIU\",\"NÃO ATINGIU\"))","v":"N/A"},{"$f":"CURA_CASOS_HANS!AI51","v":0.9},{"$f":"CURA_CASOS_HANS!N51","v":0},{"$f":"CURA_CASOS_HANS!AH51","v":1},{"$f":"CURA_CASOS_HANS!AJ51","v":"ATINGIU"},{"$f":"SIFILIS_CONG_1ANO!O53","v":0},{"$f":"SIFILIS_CONG_1ANO!N53","v":1},{"$f":"SIFILIS_CONG_1ANO!P53","v":"NÃO ATINGIU"},{"$f":"AIDS_MENOR5!P51","v":0},{"$f":"AIDS_MENOR5!O51","v":0},{"$f":"AIDS_MENOR5!Q51","v":"ATINGIU"},{"$f":"METAS!L51","v":0.7},{"$f":"ANALISE_AGUA_2017!J52","v":0.30671296296296291},{"$f":"ANALISE_AGUA_2017!L52","v":"NÃO ATINGIU"},{"$f":"CITOPATOLOGICO!AH51","v":0.57999999999999996},{"$f":"CITOPATOLOGICO!W51","v":417},{"$f":"CITOPATOLOGICO!AG51","v":0.56300630063006307},{"$f":"CITOPATOLOGICO!AL51","v":"NÃO ATINGIU"},{"$f":"MAMOGRAFIA!AE51","v":0.36},{"$f":"MAMOGRAFIA!U51","v":246},{"$f":"MAMOGRAFIA!AD51","v":0.75},{"$f":"MAMOGRAFIA!AG51","v":"ATINGIU"},{"$f":"PARTO_NORMAL!AI51","v":0.65},{"$f":"PARTO_NORMAL!X51","v":72},{"$f":"PARTO_NORMAL!AH51","v":0.5901639344262295},{"$f":"PARTO_NORMAL!AJ51","v":"NÃO ATINGIU"},{"$f":"MAES_ADOLESC!AO51","v":0.35},{"$f":"MAES_ADOLESC!AB51","v":35},{"$f":"MAES_ADOLESC!AN51","v":0.28688524590163933},{"$f":"MAES_ADOLESC!AP51","v":"ATINGIU"},{"$f":"MORT_INF!AI51","v":0},{"$f":"MORT_INF!X51","v":4},{"$f":"MORT_INF!AH51","v":32.786885245901644},{"$f":"MORT_INF!AJ51","v":"NÃO ATINGIU"},{"$f":"OBITOS_MATERNOS!AI51","v":0},{"$f":"OBITOS_MATERNOS!X51","v":0},{"$f":"OBITOS_MATERNOS!AJ51","v":"ATINGIU"},{"$f":"COBERTURA_AB!N58","v":1},{"$f":"COBERTURA_AB!M58","v":0.72460000000000002},{"$f":"COBERTURA_AB!O58","v":"NÃO ATINGIU"},0.93,{"$f":"PBF_ACOMP_2017!F56","v":1260},{"$f":"PBF_ACOMP_2017!G56","v":0.92307692307692313},{"$f":"PBF_ACOMP_2017!I56","v":"NÃO ATINGIU"},{"$f":"COBETURA_SB!M59","v":1},{"$f":"COBETURA_SB!L59","v":1},{"$f":"COBETURA_SB!N59","v":"ATINGIU"},{"$f":"AÇOES_VIGIL!N53","v":0.8},{"$f":"AÇOES_VIGIL!M53","v":0.83333333333333337},{"$f":"AÇOES_VIGIL!O53","v":"ATINGIU"},{"$f":"MATRICIAMENTO_CAPS!K51","v":"N/A"},{"$f":"MATRICIAMENTO_CAPS!H51","v":"N/A"},{"$f":"MATRICIAMENTO_CAPS!J51","v":"N/A"},{"$f":"MATRICIAMENTO_CAPS!L51","v":"N/A"},{"$f":"CICLO_DENGUE!H53","v":4},{"$f":"CICLO_DENGUE!G53","v":4},{"$f":"CICLO_DENGUE!I53","v":"ATINGIU"},{"$f":"NOT_AC_TRAB_OCUP!M51","v":0.95},{"$f":"NOT_AC_TRAB_OCUP!L51","v":0.5},{"$f":"NOT_AC_TRAB_OCUP!N51","v":"NÃO ATINGIU"},9,11,0.45]
[280520,"ITABAIANA","PINHAO",{"$f":"OBITOS_PREMATUROS!D52","v":6439},{"$f":"OBITOS_PREMATUROS!AH52","v":12},{"$f":"OBITOS_PREMATUROS!W52","v":5},{"$f":"OBITOS_PREMATUROS!AG52","v":174.88632388947184},{"$f":"OBITOS_PREMATUROS!AI52","v":"ATINGIU"},{"$f":"OBITOS_MIF!AI52","v":1},{"$f":"OBITOS_MIF!N52","v":0},{"$f":"OBITOS_MIF!X52","v":"S/C"},{"$f":"OBITOS_MIF!AH52","v":"S/C"},{"$f":"OBITOS_MIF!AJ52","v":"N/A"},{"$f":"OBITOS_CAUSAS!AI52","v":0.9},{"$f":"OBITOS_CAUSAS!N52","v":20},{"$f":"OBITOS_CAUSAS!AH52","v":0.8},{"$f":"OBITOS_CAUSAS!AJ52","v":"NÃO ATINGIU"},{"$f":"METAS!G52","v":1},0,"NÃO ATINGIU",{"$f":"METAS!H52","v":0.9},"S/C",{"$f":"IF(Tabela13[[#This Row],[05 %DE CASOS DOENÇAS NOT COMP IMEDIATA]]=\"S/C\",\"N/A\",IF(V52>=U52,\"ATINGIU\",\"NÃO ATINGIU\"))","v":"N/A"},{"$f":"CURA_CASOS_HANS!AI52","v":1},{"$f":"CURA_CASOS_HANS!N52","v":0},{"$f":"CURA_CASOS_HANS!AH52","v":0},{"$f":"CURA_CASOS_HANS!AJ52","v":"NÃO ATINGIU"},{"$f":"SIFILIS_CONG_1ANO!O54","v":1},{"$f":"SIFILIS_CONG_1ANO!N54","v":2},{"$f":"SIFILIS_CONG_1ANO!P54","v":"NÃO ATINGIU"},{"$f":"AIDS_MENOR5!P52","v":0},{"$f":"AIDS_MENOR5!O52","v":0},{"$f":"AIDS_MENOR5!Q52","v":"ATINGIU"},{"$f":"METAS!L52","v":0.5},{"$f":"ANALISE_AGUA_2017!J53","v":0.39641203703703703},{"$f":"ANALISE_AGUA_2017!L53","v":"NÃO ATINGIU"},{"$f":"CITOPATOLOGICO!AH52","v":0.35},{"$f":"CITOPATOLOGICO!W52","v":190},{"$f":"CITOPATOLOGICO!AG52","v":0.34524530587522712},{"$f":"CITOPATOLOGICO!AL52","v":"NÃO ATINGIU"},{"$f":"MAMOGRAFIA!AE52","v":0.22},{"$f":"MAMOGRAFIA!U52","v":146},{"$f":"MAMOGRAFIA!AD52","v":0.51},{"$f":"MAMOGRAFIA!AG52","v":"ATINGIU"},{"$f":"PARTO_NORMAL!AI52","v":0.65},{"$f":"PARTO_NORMAL!X52","v":42},{"$f":"PARTO_NORMAL!AH52","v":0.56000000000000005},{"$f":"PARTO_NORMAL!AJ52","v":"NÃO ATINGIU"},{"$f":"MAES_ADOLESC!AO52","v":0.25},{"$f":"MAES_ADOLESC!AB52","v":25},{"$f":"MAES_ADOLESC!AN52","v":0.33333333333333331},{"$f":"MAES_ADOLESC!AP52","v":"NÃO ATINGIU"},{"$f":"MORT_INF!AI52","v":1},{"$f":"MORT_INF!X52","v":2},{"$f":"MORT_INF!AH52","v":26.666666666666668},{"$f":"MORT_INF!AJ52","v":"NÃO ATINGIU"},{"$f":"OBITOS_MATERNOS!AI52","v":0},{"$f":"OBITOS_MATERNOS!X52","v":0},{"$f":"OBITOS_MATERNOS!AJ52","v":"ATINGIU"},{"$f":"COBERTURA_AB!N59","v":1},{"$f":"COBERTURA_AB!M59","v":1},{"$f":"COBERTURA_AB!O59","v":"ATINGIU"},0.85,{"$f":"PBF_ACOMP_2017!F57","v":895},{"$f":"PBF_ACOMP_2017!G57","v":0.89769307923771313},{"$f":"PBF_ACOMP_2017!I57","v":"ATINGIU"},{"$f":"COBETURA_SB!M60","v":1},{"$f":"COBETURA_SB!L60","v":1},{"$f":"COBETURA_SB!N60","v":"ATINGIU"},{"$f":"AÇOES_VIGIL!N54","v":1},{"$f":"AÇOES_VIGIL!M54","v":0.66666666666666663},{"$f":"AÇOES_VIGIL!O54","v":"NÃO ATINGIU"},{"$f":"MATRICIAMENTO_CAPS!K52","v":"N/A"},{"$f":"MATRICIAMENTO_CAPS!H52","v":"N/A"},{"$f":"MATRICIAMENTO_CAPS!J52","v":"N/A"},{"$f":"MATRICIAMENTO_CAPS!L52","v":"N/A"},{"$f":"CICLO_DENGUE!H54","v":4},{"$f":"CICLO_DENGUE!G54","v":0},{"$f":"CICLO_DENGUE!I54","v":"NÃO ATINGIU"},{"$f":"NOT_AC_TRAB_OCUP!M52","v":1},{"$f":"NOT_AC_TRAB_OCUP!L52","v":"N/A"},{"$f":"NOT_AC_TRAB_OCUP!N52","v":"N/A"},7,11,0.3888888888888889]
[280530,"SOCORRO","PIRAMBU",{"$f":"OBITOS_PREMATUROS!D53","v":9058},{"$f":"OBITOS_PREMATUROS!AH53","v":5},{"$f":"OBITOS_PREMATUROS!W53","v":11},{"$f":"OBITOS_PREMATUROS!AG53","v":316.54676258992805},{"$f":"OBITOS_PREMATUROS!AI53","v":"NÃO ATINGIU"},{"$f":"OBITOS_MIF!AI53","v":0.9},{"$f":"OBITOS_MIF!N53","v":3},{"$f":"OBITOS_MIF!X53","v":0},{"$f":"OBITOS_MIF!AH53","v":0},{"$f":"OBITOS_MIF!AJ53","v":"NÃO ATINGIU"},{"$f":"OBITOS_CAUSAS!AI53","v":0.95},{"$f":"OBITOS_CAUSAS!N53","v":48},{"$f":"OBITOS_CAUSAS!AH53","v":0.88888888888888884},{"$f":"OBITOS_CAUSAS!AJ53","v":"NÃO ATINGIU"},{"$f":"METAS!G53","v":0.75},0,"NÃO ATINGIU",{"$f":"METAS!H53","v":0.85},1,{"$f":"IF(Tabela13[[#This Row],[05 %DE CASOS DOENÇAS NOT COMP IMEDIATA]]=\"S/C\",\"N/A\",IF(V53>=U53,\"ATINGIU\",\"NÃO ATINGIU\"))","v":"ATINGIU"},{"$f":"CURA_CASOS_HANS!AI53","v":0.95},{"$f":"CURA_CASOS_HANS!N53","v":0},{"$f":"CURA_CASOS_HANS!AH53","v":"SC"},{"$f":"CURA_CASOS_HANS!AJ53","v":"N/A"},{"$f":"SIFILIS_CONG_1ANO!O55","v":6},{"$f":"SIFILIS_CONG_1ANO!N55","v":3},{"$f":"SIFILIS_CONG_1ANO!P55","v":"ATINGIU"},{"$f":"AIDS_MENOR5!P53","v":0},{"$f":"AIDS_MENOR5!O53","v":0},{"$f":"AIDS_MENOR5!Q53","v":"ATINGIU"},{"$f":"METAS!L53","v":0.6},{"$f":"ANALISE_AGUA_2017!J54","v":0.63020833333333326},{"$f":"ANALISE_AGUA_2017!L54","v":"ATINGIU"},{"$f":"CITOPATOLOGICO!AH53","v":0.5},{"$f":"CITOPATOLOGICO!W53","v":296},{"$f":"CITOPATOLOGICO!AG53","v":0.4265129682997118},{"$f":"CITOPATOLOGICO!AL53","v":"NÃO ATINGIU"},{"$f":"MAMOGRAFIA!AE53","v":0.15},{"$f":"MAMOGRAFIA!U53","v":201},{"$f":"MAMOGRAFIA!AD53","v":0.74},{"$f":"MAMOGRAFIA!AG53","v":"ATINGIU"},{"$f":"PARTO_NORMAL!AI53","v":0.67},{"$f":"PARTO_NORMAL!X53","v":101},{"$f":"PARTO_NORMAL!AH53","v":0.64743589743589747},{"$f":"PARTO_NORMAL!AJ53","v":"NÃO ATINGIU"},{"$f":"MAES_ADOLESC!AO53","v":0.2},{"$f":"MAES_ADOLESC!AB53","v":33},{"$f":"MAES_ADOLESC!AN53","v":0.21153846153846154},{"$f":"MAES_ADOLESC!AP53","v":"NÃO ATINGIU"},{"$f":"MORT_INF!AI53","v":1},{"$f":"MORT_INF!X53","v":2},{"$f":"MORT_INF!AH53","v":12.820512820512819},{"$f":"MORT_INF!AJ53","v":"NÃO ATINGIU"},{"$f":"OBITOS_MATERNOS!AI53","v":0},{"$f":"OBITOS_MATERNOS!X53","v":0},{"$f":"OBITOS_MATERNOS!AJ53","v":"ATINGIU"},{"$f":"COBERTURA_AB!N60","v":1},{"$f":"COBERTURA_AB!M60","v":1},{"$f":"COBERTURA_AB!O60","v":"ATINGIU"},0.87,{"$f":"PBF_ACOMP_2017!F58","v":1243},{"$f":"PBF_ACOMP_2017!G58","v":0.8655988857938719},{"$f":"PBF_ACOMP_2017!I58","v":"NÃO ATINGIU"},{"$f":"COBETURA_SB!M61","v":1},{"$f":"COBETURA_SB!L61","v":1},{"$f":"COBETURA_SB!N61","v":"ATINGIU"},{"$f":"AÇOES_VIGIL!N55","v":1},{"$f":"AÇOES_VIGIL!M55","v":0.83333333333333337},{"$f":"AÇOES_VIGIL!O55","v":"NÃO ATINGIU"},{"$f":"MATRICIAMENTO_CAPS!K53","v":"N/A"},{"$f":"MATRICIAMENTO_CAPS!H53","v":"N/A"},{"$f":"MATRICIAMENTO_CAPS!J53","v":"N/A"},{"$f":"MATRICIAMENTO_CAPS!L53","v":"N/A"},{"$f":"CICLO_DENGUE!H55","v":4},{"$f":"CICLO_DENGUE!G55","v":3},{"$f":"CICLO_DENGUE!I55","v":"NÃO ATINGIU"},{"$f":"NOT_AC_TRAB_OCUP!M53","v":0.95},{"$f":"NOT_AC_TRAB_OCUP!L53","v":0.5},{"$f":"NOT_AC_TRAB_OCUP!N53","v":"NÃO ATINGIU"},8,12,0.4]
[280540,"GLORIA","POCO REDONDO",{"$f":"OBITOS_PREMATUROS!D54","v":33756},{"$f":"OBITOS_PREMATUROS!AH54","v":15},{"$f":"OBITOS_PREMATUROS!W54","v":36},{"$f":"OBITOS_PREMATUROS!AG54","v":296.90721649484533},{"$f":"OBITOS_PREMATUROS!AI54","v":"NÃO ATINGIU"},{"$f":"OBITOS_MIF!AI54","v":1},{"$f":"OBITOS_MIF!N54","v":22},{"$f":"OBITOS_MIF!X54","v":11},{"$f":"OBITOS_MIF!AH54","v":0.5},{"$f":"OBITOS_MIF!AJ54","v":"NÃO ATINGIU"},{"$f":"OBITOS_CAUSAS!AI54","v":0.95},{"$f":"OBITOS_CAUSAS!N54","v":135},{"$f":"OBITOS_CAUSAS!AH54","v":0.84375},{"$f":"OBITOS_CAUSAS!AJ54","v":"NÃO ATINGIU"},{"$f":"METAS!G54","v":1},0,"NÃO ATINGIU",{"$f":"METAS!H54","v":0.85},"S/C",{"$f":"IF(Tabela13[[#This Row],[05 %DE CASOS DOENÇAS NOT COMP IMEDIATA]]=\"S/C\",\"N/A\",IF(V54>=U54,\"ATINGIU\",\"NÃO ATINGIU\"))","v":"N/A"},{"$f":"CURA_CASOS_HANS!AI54","v":0.9},{"$f":"CURA_CASOS_HANS!N54","v":0},{"$f":"CURA_CASOS_HANS!AH54","v":0.73329999999999995},{"$f":"CURA_CASOS_HANS!AJ54","v":"NÃO ATINGIU"},{"$f":"SIFILIS_CONG_1ANO!O56","v":2},{"$f":"SIFILIS_CONG_1ANO!N56","v":1},{"$f":"SIFILIS_CONG_1ANO!P56","v":"ATINGIU"},{"$f":"AIDS_MENOR5!P54","v":0},{"$f":"AIDS_MENOR5!O54","v":0},{"$f":"AIDS_MENOR5!Q54","v":"ATINGIU"},{"$f":"METAS!L54","v":0.6},{"$f":"ANALISE_AGUA_2017!J55","v":0.48397435897435892},{"$f":"ANALISE_AGUA_2017!L55","v":"NÃO ATINGIU"},{"$f":"CITOPATOLOGICO!AH54","v":0.43},{"$f":"CITOPATOLOGICO!W54","v":504},{"$f":"CITOPATOLOGICO!AG54","v":0.21897175959449675},{"$f":"CITOPATOLOGICO!AL54","v":"NÃO ATINGIU"},{"$f":"MAMOGRAFIA!AE54","v":0.23},{"$f":"MAMOGRAFIA!U54","v":200},{"$f":"MAMOGRAFIA!AD54","v":0.22},{"$f":"MAMOGRAFIA!AG54","v":"NÃO ATINGIU"},{"$f":"PARTO_NORMAL!AI54","v":0.65},{"$f":"PARTO_NORMAL!X54","v":374},{"$f":"PARTO_NORMAL!AH54","v":0.70168855534709196},{"$f":"PARTO_NORMAL!AJ54","v":"ATINGIU"},{"$f":"MAES_ADOLESC!AO54","v":0.26},{"$f":"MAES_ADOLESC!AB54","v":125},{"$f":"MAES_ADOLESC!AN54","v":0.23452157598499063},{"$f":"MAES_ADOLESC!AP54","v":"ATINGIU"},{"$f":"MORT_INF!AI54","v":4},{"$f":"MORT_INF!X54","v":9},{"$f":"MORT_INF!AH54","v":16.885553470919326},{"$f":"MORT_INF!AJ54","v":"NÃO ATINGIU"},{"$f":"OBITOS_MATERNOS!AI54","v":0},{"$f":"OBITOS_MATERNOS!X54","v":0},{"$f":"OBITOS_MATERNOS!AJ54","v":"ATINGIU"},{"$f":"COBERTURA_AB!N61","v":0.61520000000000008},{"$f":"COBERTURA_AB!M61","v":0.9093},{"$f":"COBERTURA_AB!O61","v":"ATINGIU"},0.91,{"$f":"PBF_ACOMP_2017!F59","v":5414},{"$f":"PBF_ACOMP_2017!G59","v":0.92059173609930289},{"$f":"PBF_ACOMP_2017!I59","v":"ATINGIU"},{"$f":"COBETURA_SB!M62","v":0.20440000000000003},{"$f":"COBETURA_SB!L62","v":0.39100000000000001},{"$f":"COBETURA_SB!N62","v":"ATINGIU"},{"$f":"AÇOES_VIGIL!N56","v":1},{"$f":"AÇOES_VIGIL!M56","v":1},{"$f":"AÇOES_VIGIL!O56","v":"ATINGIU"},{"$f":"MATRICIAMENTO_CAPS!K54","v":"N/A"},{"$f":"MATRICIAMENTO_CAPS!H54","v":"N/A"},{"$f":"MATRICIAMENTO_CAPS!J54","v":"N/A"},{"$f":"MATRICIAMENTO_CAPS!L54","v":"N/A"},{"$f":"CICLO_DENGUE!H56","v":4},{"$f":"CICLO_DENGUE!G56","v":0},{"$f":"CICLO_DENGUE!I56","v":"NÃO ATINGIU"},{"$f":"NOT_AC_TRAB_OCUP!M54","v":0.95},{"$f":"NOT_AC_TRAB_OCUP!L54","v":1},{"$f":"NOT_AC_TRAB_OCUP!N54","v":"ATINGIU"},10,10,0.5]
[280550,"LAGARTO","POCO VERDE",{"$f":"OBITOS_PREMATUROS!D55","v":23413},{"$f":"OBITOS_PREMATUROS!AH55","v":17},{"$f":"OBITOS_PREMATUROS!W55","v":12},{"$f":"OBITOS_PREMATUROS!AG55","v":117.91294094526873},{"$f":"OBITOS_PREMATUROS!AI55","v":"ATINGIU"},{"$f":"OBITOS_MIF!AI55","v":0.9},{"$f":"OBITOS_MIF!N55","v":6},{"$f":"OBITOS_MIF!X55","v":2},{"$f":"OBITOS_MIF!AH55","v":0.33333333333333331},{"$f":"OBITOS_MIF!AJ55","v":"NÃO ATINGIU"},{"$f":"OBITOS_CAUSAS!AI55","v":0.95},{"$f":"OBITOS_CAUSAS!N55","v":108},{"$f":"OBITOS_CAUSAS!AH55","v":0.66257668711656437},{"$f":"OBITOS_CAUSAS!AJ55","v":"NÃO ATINGIU"},{"$f":"METAS!G55","v":1},0,"NÃO ATINGIU",{"$f":"METAS!H55","v":0.85},"S/C",{"$f":"IF(Tabela13[[#This Row],[05 %DE CASOS DOENÇAS NOT COMP IMEDIATA]]=\"S/C\",\"N/A\",IF(V55>=U55,\"ATINGIU\",\"NÃO ATINGIU\"))","v":"N/A"},{"$f":"CURA_CASOS_HANS!AI55","v":0.9},{"$f":"CURA_CASOS_HANS!N55","v":0},{"$f":"CURA_CASOS_HANS!AH55","v":0.4},{"$f":"CURA_CASOS_HANS!AJ55","v":"NÃO ATINGIU"},{"$f":"SIFILIS_CONG_1ANO!O57","v":0},{"$f":"SIFILIS_CONG_1ANO!N57","v":2},{"$f":"SIFILIS_CONG_1ANO!P57","v":"NÃO ATINGIU"},{"$f":"AIDS_MENOR5!P55","v":0},{"$f":"AIDS_MENOR5!O55","v":0},{"$f":"AIDS_MENOR5!Q55","v":"ATINGIU"},{"$f":"METAS!L55","v":1},{"$f":"ANALISE_AGUA_2017!J56","v":1.0061553030303032},{"$f":"ANALISE_AGUA_2017!L56","v":"ATINGIU"},{"$f":"CITOPATOLOGICO!AH55","v":0.5},{"$f":"CITOPATOLOGICO!W55","v":857},{"$f":"CITOPATOLOGICO!AG55","v":0.46357735304724124},{"$f":"CITOPATOLOGICO!AL55","v":"NÃO ATINGIU"},{"$f":"MAMOGRAFIA!AE55","v":0.17},{"$f":"MAMOGRAFIA!U55","v":125},{"$f":"MAMOGRAFIA!AD55","v":0.13},{"$f":"MAMOGRAFIA!AG55","v":"NÃO ATINGIU"},{"$f":"PARTO_NORMAL!AI55","v":0.72799999999999998},{"$f":"PARTO_NORMAL!X55","v":165},{"$f":"PARTO_NORMAL!AH55","v":0.58510638297872342},{"$f":"PARTO_NORMAL!AJ55","v":"NÃO ATINGIU"},{"$f":"MAES_ADOLESC!AO55","v":0.21},{"$f":"MAES_ADOLESC!AB55","v":54},{"$f":"MAES_ADOLESC!AN55","v":0.19148936170212766},{"$f":"MAES_ADOLESC!AP55","v":"ATINGIU"},{"$f":"MORT_INF!AI55","v":2},{"$f":"MORT_INF!X55","v":2},{"$f":"MORT_INF!AH55","v":7.0921985815602833},{"$f":"MORT_INF!AJ55","v":"ATINGIU"},{"$f":"OBITOS_MATERNOS!AI55","v":0},{"$f":"OBITOS_MATERNOS!X55","v":0},{"$f":"OBITOS_MATERNOS!AJ55","v":"ATINGIU"},{"$f":"COBERTURA_AB!N62","v":0.87790000000000001},{"$f":"COBERTURA_AB!M62","v":0.87790000000000001},{"$f":"COBERTURA_AB!O62","v":"ATINGIU"},0.8,{"$f":"PBF_ACOMP_2017!F60","v":2650},{"$f":"PBF_ACOMP_2017!G60","v":0.85181613629058184},{"$f":"PBF_ACOMP_2017!I60","v":"ATINGIU"},{"$f":"COBETURA_SB!M63","v":0.58930000000000005},{"$f":"COBETURA_SB!L63","v":0.73160000000000003},{"$f":"COBETURA_SB!N63","v":"ATINGIU"},{"$f":"AÇOES_VIGIL!N57","v":1},{"$f":"AÇOES_VIGIL!M57","v":1},{"$f":"AÇOES_VIGIL!O57","v":"ATINGIU"},{"$f":"MATRICIAMENTO_CAPS!K55","v":1},{"$f":"MATRICIAMENTO_CAPS!H55","v":1},{"$f":"MATRICIAMENTO_CAPS!J55","v":1},{"$f":"MATRICIAMENTO_CAPS!L55","v":"ATINGIU"},{"$f":"CICLO_DENGUE!H57","v":4},{"$f":"CICLO_DENGUE!G57","v":3},{"$f":"CICLO_DENGUE!I57","v":"NÃO ATINGIU"},{"$f":"NOT_AC_TRAB_OCUP!M55","v":0.95},{"$f":"NOT_AC_TRAB_OCUP!L55","v":1},{"$f":"NOT_AC_TRAB_OCUP!N55","v":"ATINGIU"},12,9,0.5714285714285714]
[280560,"GLORIA","PORTO DA FOLHA",{"$f":"OBITOS_PREMATUROS!D56","v":28497},{"$f":"OBITOS_PREMATUROS!AH56","v":16},{"$f":"OBITOS_PREMATUROS!W56","v":22},{"$f":"OBITOS_PREMATUROS!AG56","v":195.93872461702884},{"$f":"OBITOS_PREMATUROS!AI56","v":"NÃO ATINGIU"},{"$f":"OBITOS_MIF!AI56","v":0.9},{"$f":"OBITOS_MIF!N56","v":9},{"$f":"OBITOS_MIF!X56","v":7},{"$f":"OBITOS_MIF!AH56","v":0.77777777777777779},{"$f":"OBITOS_MIF!AJ56","v":"NÃO ATINGIU"},{"$f":"OBITOS_CAUSAS!AI56","v":0.95},{"$f":"OBITOS_CAUSAS!N56","v":117},{"$f":"OBITOS_CAUSAS!AH56","v":0.8666666666666667},{"$f":"OBITOS_CAUSAS!AJ56","v":"NÃO ATINGIU"},{"$f":"METAS!G56","v":1},0,"NÃO ATINGIU",{"$f":"METAS!H56","v":0.85},"S/C",{"$f":"IF(Tabela13[[#This Row],[05 %DE CASOS DOENÇAS NOT COMP IMEDIATA]]=\"S/C\",\"N/A\",IF(V56>=U56,\"ATINGIU\",\"NÃO ATINGIU\"))","v":"N/A"},{"$f":"CURA_CASOS_HANS!AI56","v":0.9},{"$f":"CURA_CASOS_HANS!N56","v":0},{"$f":"CURA_CASOS_HANS!AH56","v":1},{"$f":"CURA_CASOS_HANS!AJ56","v":"ATINGIU"},{"$f":"SIFILIS_CONG_1ANO!O58","v":2},{"$f":"SIFILIS_CONG_1ANO!N58","v":0},{"$f":"SIFILIS_CONG_1ANO!P58","v":"ATINGIU"},{"$f":"AIDS_MENOR5!P56","v":0},{"$f":"AIDS_MENOR5!O56","v":0},{"$f":"AIDS_MENOR5!Q56","v":"ATINGIU"},{"$f":"METAS!L56","v":0.5},{"$f":"ANALISE_AGUA_2017!J57","v":1.200520833333333},{"$f":"ANALISE_AGUA_2017!L57","v":"ATINGIU"},{"$f":"CITOPATOLOGICO!AH56","v":0.57999999999999996},{"$f":"CITOPATOLOGICO!W56","v":537},{"$f":"CITOPATOLOGICO!AG56","v":0.25681492109038739},{"$f":"CITOPATOLOGICO!AL56","v":"NÃO ATINGIU"},{"$f":"MAMOGRAFIA!AE56","v":0.22},{"$f":"MAMOGRAFIA!U56","v":152},{"$f":"MAMOGRAFIA!AD56","v":0.17},{"$f":"MAMOGRAFIA!AG56","v":"NÃO ATINGIU"},{"$f":"PARTO_NORMAL!AI56","v":0.65},{"$f":"PARTO_NORMAL!X56","v":220},{"$f":"PARTO_NORMAL!AH56","v":0.58355437665782495},{"$f":"PARTO_NORMAL!AJ56","v":"NÃO ATINGIU"},{"$f":"MAES_ADOLESC!AO56","v":0.25},{"$f":"MAES_ADOLESC!AB56","v":93},{"$f":"MAES_ADOLESC!AN56","v":0.24668435013262599},{"$f":"MAES_ADOLESC!AP56","v":"ATINGIU"},{"$f":"MORT_INF!AI56","v":4},{"$f":"MORT_INF!X56","v":5},{"$f":"MORT_INF!AH56","v":13.262599469496022},{"$f":"MORT_INF!AJ56","v":"NÃO ATINGIU"},{"$f":"OBITOS_MATERNOS!AI56","v":0},{"$f":"OBITOS_MATERNOS!X56","v":0},{"$f":"OBITOS_MATERNOS!AJ56","v":"ATINGIU"},{"$f":"COBERTURA_AB!N63","v":1},{"$f":"COBERTURA_AB!M63","v":1},{"$f":"COBERTURA_AB!O63","v":"ATINGIU"},0.88,{"$f":"PBF_ACOMP_2017!F61","v":4181},{"$f":"PBF_ACOMP_2017!G61","v":0.87854591300693419},{"$f":"PBF_ACOMP_2017!I61","v":"NÃO ATINGIU"},{"$f":"COBETURA_SB!M64","v":0.36329999999999996},{"$f":"COBETURA_SB!L64","v":0.59760000000000002},{"$f":"COBETURA_SB!N64","v":"ATINGIU"},{"$f":"AÇOES_VIGIL!N58","v":1},{"$f":"AÇOES_VIGIL!M58","v":1},{"$f":"AÇOES_VIGIL!O58","v":"ATINGIU"},{"$f":"MATRICIAMENTO_CAPS!K56","v":"N/A"},{"$f":"MATRICIAMENTO_CAPS!H56","v":0},{"$f":"MATRICIAMENTO_CAPS!J56","v":"N/A"},{"$f":"MATRICIAMENTO_CAPS!L56","v":"N/A"},{"$f":"CICLO_DENGUE!H58","v":4},{"$f":"CICLO_DENGUE!G58","v":3},{"$f":"CICLO_DENGUE!I58","v":"NÃO ATINGIU"},{"$f":"NOT_AC_TRAB_OCUP!M56","v":0.95},{"$f":"NOT_AC_TRAB_OCUP!L56","v":0.77777777777777779},{"$f":"NOT_AC_TRAB_OCUP!N56","v":"NÃO ATINGIU"},9,11,0.45]
[280570,"PROPRIA","PROPRIA",{"$f":"OBITOS_PREMATUROS!D57","v":29657},{"$f":"OBITOS_PREMATUROS!AH57","v":35},{"$f":"OBITOS_PREMATUROS!W57","v":37},{"$f":"OBITOS_PREMATUROS!AG57","v":297.73879456023178},{"$f":"OBITOS_PREMATUROS!AI57","v":"NÃO ATINGIU"},{"$f":"OBITOS_MIF!AI57","v":0.9},{"$f":"OBITOS_MIF!N57","v":12},{"$f":"OBITOS_MIF!X57","v":7},{"$f":"OBITOS_MIF!AH57","v":0.58333333333333337},{"$f":"OBITOS_MIF!AJ57","v":"NÃO ATINGIU"},{"$f":"OBITOS_CAUSAS!AI57","v":0.95},{"$f":"OBITOS_CAUSAS!N57","v":176},{"$f":"OBITOS_CAUSAS!AH57","v":0.86274509803921573},{"$f":"OBITOS_CAUSAS!AJ57","v":"NÃO ATINGIU"},{"$f":"METAS!G57","v":1},0,"NÃO ATINGIU",{"$f":"METAS!H57","v":0.85},1,{"$f":"IF(Tabela13[[#This Row],[05 %DE CASOS DOENÇAS NOT COMP IMEDIATA]]=\"S/C\",\"N/A\",IF(V57>=U57,\"ATINGIU\",\"NÃO ATINGIU\"))","v":"ATINGIU"},{"$f":"CURA_CASOS_HANS!AI57","v":0.9},{"$f":"CURA_CASOS_HANS!N57","v":0},{"$f":"CURA_CASOS_HANS!AH57","v":0.83329999999999993},{"$f":"CURA_CASOS_HANS!AJ57","v":"NÃO ATINGIU"},{"$f":"SIFILIS_CONG_1ANO!O59","v":1},{"$f":"SIFILIS_CONG_1ANO!N59","v":8},{"$f":"SIFILIS_CONG_1ANO!P59","v":"NÃO ATINGIU"},{"$f":"AIDS_MENOR5!P57","v":0},{"$f":"AIDS_MENOR5!O57","v":0},{"$f":"AIDS_MENOR5!Q57","v":"ATINGIU"},{"$f":"METAS!L57","v":0.5},{"$f":"ANALISE_AGUA_2017!J58","v":0.9769965277777779},{"$f":"ANALISE_AGUA_2017!L58","v":"ATINGIU"},{"$f":"CITOPATOLOGICO!AH57","v":0.57999999999999996},{"$f":"CITOPATOLOGICO!W57","v":1321},{"$f":"CITOPATOLOGICO!AG57","v":0.53230355943586305},{"$f":"CITOPATOLOGICO!AL57","v":"NÃO ATINGIU"},{"$f":"MAMOGRAFIA!AE57","v":0.22},{"$f":"MAMOGRAFIA!U57","v":15},{"$f":"MAMOGRAFIA!AD57","v":0.01},{"$f":"MAMOGRAFIA!AG57","v":"NÃO ATINGIU"},{"$f":"PARTO_NORMAL!AI57","v":0.55000000000000004},{"$f":"PARTO_NORMAL!X57","v":236},{"$f":"PARTO_NORMAL!AH57","v":0.48360655737704916},{"$f":"PARTO_NORMAL!AJ57","v":"NÃO ATINGIU"},{"$f":"MAES_ADOLESC!AO57","v":0.21},{"$f":"MAES_ADOLESC!AB57","v":116},{"$f":"MAES_ADOLESC!AN57","v":0.23770491803278687},{"$f":"MAES_ADOLESC!AP57","v":"NÃO ATINGIU"},{"$f":"MORT_INF!AI57","v":7},{"$f":"MORT_INF!X57","v":7},{"$f":"MORT_INF!AH57","v":14.344262295081968},{"$f":"MORT_INF!AJ57","v":"ATINGIU"},{"$f":"OBITOS_MATERNOS!AI57","v":0},{"$f":"OBITOS_MATERNOS!X57","v":0},{"$f":"OBITOS_MATERNOS!AJ57","v":"ATINGIU"},{"$f":"COBERTURA_AB!N64","v":1},{"$f":"COBERTURA_AB!M64","v":1},{"$f":"COBERTURA_AB!O64","v":"ATINGIU"},0.87,{"$f":"PBF_ACOMP_2017!F62","v":2659},{"$f":"PBF_ACOMP_2017!G62","v":0.84305643627140137},{"$f":"PBF_ACOMP_2017!I62","v":"NÃO ATINGIU"},{"$f":"COBETURA_SB!M65","v":1},{"$f":"COBETURA_SB!L65","v":1},{"$f":"COBETURA_SB!N65","v":"ATINGIU"},{"$f":"AÇOES_VIGIL!N59","v":1},{"$f":"AÇOES_VIGIL!M59","v":1},{"$f":"AÇOES_VIGIL!O59","v":"ATINGIU"},{"$f":"MATRICIAMENTO_CAPS!K57","v":1},{"$f":"MATRICIAMENTO_CAPS!H57","v":1},{"$f":"MATRICIAMENTO_CAPS!J57","v":1},{"$f":"MATRICIAMENTO_CAPS!L57","v":"ATINGIU"},{"$f":"CICLO_DENGUE!H59","v":5},{"$f":"CICLO_DENGUE!G59","v":2},{"$f":"CICLO_DENGUE!I59","v":"NÃO ATINGIU"},{"$f":"NOT_AC_TRAB_OCUP!M57","v":1},{"$f":"NOT_AC_TRAB_OCUP!L57","v":0.73333333333333328},{"$f":"NOT_AC_TRAB_OCUP!N57","v":"NÃO ATINGIU"},9,13,0.40909090909090912]
[280580,"LAGARTO","RIACHAO DO DANTAS",{"$f":"OBITOS_PREMATUROS!D58","v":19976},{"$f":"OBITOS_PREMATUROS!AH58","v":18},{"$f":"OBITOS_PREMATUROS!W58","v":14},{"$f":"OBITOS_PREMATUROS!AG58","v":168.45144988569368},{"$f":"OBITOS_PREMATUROS!AI58","v":"ATINGIU"},{"$f":"OBITOS_MIF!AI58","v":0.9},{"$f":"OBITOS_MIF!N58","v":5},{"$f":"OBITOS_MIF!X58","v":1},{"$f":"OBITOS_MIF!AH58","v":0.2},{"$f":"OBITOS_MIF!AJ58","v":"NÃO ATINGIU"},{"$f":"OBITOS_CAUSAS!AI58","v":0.95},{"$f":"OBITOS_CAUSAS!N58","v":91},{"$f":"OBITOS_CAUSAS!AH58","v":0.84259259259259256},{"$f":"OBITOS_CAUSAS!AJ58","v":"NÃO ATINGIU"},{"$f":"METAS!G58","v":1},0,"NÃO ATINGIU",{"$f":"METAS!H58","v":0.85},"S/C",{"$f":"IF(Tabela13[[#This Row],[05 %DE CASOS DOENÇAS NOT COMP IMEDIATA]]=\"S/C\",\"N/A\",IF(V58>=U58,\"ATINGIU\",\"NÃO ATINGIU\"))","v":"N/A"},{"$f":"CURA_CASOS_HANS!AI58","v":0.9},{"$f":"CURA_CASOS_HANS!N58","v":0},{"$f":"CURA_CASOS_HANS!AH58","v":1},{"$f":"CURA_CASOS_HANS!AJ58","v":"ATINGIU"},{"$f":"SIFILIS_CONG_1ANO!O60","v":0},{"$f":"SIFILIS_CONG_1ANO!N60","v":0},{"$f":"SIFILIS_CONG_1ANO!P60","v":"ATINGIU"},{"$f":"AIDS_MENOR5!P58","v":0},{"$f":"AIDS_MENOR5!O58","v":0},{"$f":"AIDS_MENOR5!Q58","v":"ATINGIU"},{"$f":"METAS!L58","v":0.5},{"$f":"ANALISE_AGUA_2017!J59","v":0.43607954545454547},{"$f":"ANALISE_AGUA_2017!L59","v":"NÃO ATINGIU"},{"$f":"CITOPATOLOGICO!AH58","v":0.51},{"$f":"CITOPATOLOGICO!W58","v":872},{"$f":"CITOPATOLOGICO!AG58","v":0.57507144427346668},{"$f":"CITOPATOLOGICO!AL58","v":"ATINGIU"},{"$f":"MAMOGRAFIA!AE58","v":0.13},{"$f":"MAMOGRAFIA!U58","v":98},{"$f":"MAMOGRAFIA!AD58","v":0.15},{"$f":"MAMOGRAFIA!AG58","v":"ATINGIU"},{"$f":"PARTO_NORMAL!AI58","v":0.67},{"$f":"PARTO_NORMAL!X58","v":161},{"$f":"PARTO_NORMAL!AH58","v":0.65714285714285714},{"$f":"PARTO_NORMAL!AJ58","v":"NÃO ATINGIU"},{"$f":"MAES_ADOLESC!AO58","v":0.17},{"$f":"MAES_ADOLESC!AB58","v":58},{"$f":"MAES_ADOLESC!AN58","v":0.23673469387755103},{"$f":"MAES_ADOLESC!AP58","v":"NÃO ATINGIU"},{"$f":"MORT_INF!AI58","v":3},{"$f":"MORT_INF!X58","v":3},{"$f":"MORT_INF!AH58","v":12.244897959183673},{"$f":"MORT_INF!AJ58","v":"ATINGIU"},{"$f":"OBITOS_MATERNOS!AI58","v":0},{"$f":"OBITOS_MATERNOS!X58","v":0},{"$f":"OBITOS_MATERNOS!AJ58","v":"ATINGIU"},{"$f":"COBERTURA_AB!N65","v":1},{"$f":"COBERTURA_AB!M65","v":1},{"$f":"COBERTURA_AB!O65","v":"ATINGIU"},0.92,{"$f":"PBF_ACOMP_2017!F63","v":2452},{"$f":"PBF_ACOMP_2017!G63","v":0.88328530259365989},{"$f":"PBF_ACOMP_2017!I63","v":"NÃO ATINGIU"},{"$f":"COBETURA_SB!M66","v":0.56320000000000003},{"$f":"COBETURA_SB!L66","v":0.51759999999999995},{"$f":"COBETURA_SB!N66","v":"NÃO ATINGIU"},{"$f":"AÇOES_VIGIL!N60","v":1},{"$f":"AÇOES_VIGIL!M60","v":0.5},{"$f":"AÇOES_VIGIL!O60","v":"NÃO ATINGIU"},{"$f":"MATRICIAMENTO_CAPS!K58","v":1},{"$f":"MATRICIAMENTO_CAPS!H58","v":0},{"$f":"MATRICIAMENTO_CAPS!J58","v":0},{"$f":"MATRICIAMENTO_CAPS!L58","v":"NÃO ATINGIU"},{"$f":"CICLO_DENGUE!H60","v":4},{"$f":"CICLO_DENGUE!G60","v":4},{"$f":"CICLO_DENGUE!I60","v":"ATINGIU"},{"$f":"NOT_AC_TRAB_OCUP!M58","v":0.95},{"$f":"NOT_AC_TRAB_OCUP!L58","v":"N/A"},{"$f":"NOT_AC_TRAB_OCUP!N58","v":"N/A"},10,10,0.5]
[280590,"ARACAJU","RIACHUELO",{"$f":"OBITOS_PREMATUROS!D59","v":10033},{"$f":"OBITOS_PREMATUROS!AH59","v":15},{"$f":"OBITOS_PREMATUROS!W59","v":9},{"$f":"OBITOS_PREMATUROS!AG59","v":224.43890274314217},{"$f":"OBITOS_PREMATUROS!AI59","v":"ATINGIU"},{"$f":"OBITOS_MIF!AI59","v":1},{"$f":"OBITOS_MIF!N59","v":4},{"$f":"OBITOS_MIF!X59","v":4},{"$f":"OBITOS_MIF!AH59","v":1},{"$f":"OBITOS_MIF!AJ59","v":"ATINGIU"},{"$f":"OBITOS_CAUSAS!AI59","v":0.95},{"$f":"OBITOS_CAUSAS!N59","v":58},{"$f":"OBITOS_CAUSAS!AH59","v":0.92063492063492058},{"$f":"OBITOS_CAUSAS!AJ59","v":"NÃO ATINGIU"},{"$f":"METAS!G59","v":0.75},0,"NÃO ATINGIU",{"$f":"METAS!H59","v":0.85},"S/C",{"$f":"IF(Tabela13[[#This Row],[05 %DE CASOS DOENÇAS NOT COMP IMEDIATA]]=\"S/C\",\"N/A\",IF(V59>=U59,\"ATINGIU\",\"NÃO ATINGIU\"))","v":"N/A"},{"$f":"CURA_CASOS_HANS!AI59","v":0.9},{"$f":"CURA_CASOS_HANS!N59","v":0},{"$f":"CURA_CASOS_HANS!AH59","v":1},{"$f":"CURA_CASOS_HANS!AJ59","v":"ATINGIU"},{"$f":"SIFILIS_CONG_1ANO!O61","v":5},{"$f":"SIFILIS_CONG_1ANO!N61","v":1},{"$f":"SIFILIS_CONG_1ANO!P61","v":"ATINGIU"},{"$f":"AIDS_MENOR5!P59","v":0},{"$f":"AIDS_MENOR5!O59","v":0},{"$f":"AIDS_MENOR5!Q59","v":"ATINGIU"},{"$f":"METAS!L59","v":0.65},{"$f":"ANALISE_AGUA_2017!J60","v":0.20659722222222221},{"$f":"ANALISE_AGUA_2017!L60","v":"NÃO ATINGIU"},{"$f":"CITOPATOLOGICO!AH59","v":0.6},{"$f":"CITOPATOLOGICO!W59","v":229},{"$f":"CITOPATOLOGICO!AG59","v":0.28877679697351827},{"$f":"CITOPATOLOGICO!AL59","v":"NÃO ATINGIU"},{"$f":"MAMOGRAFIA!AE59","v":0.2},{"$f":"MAMOGRAFIA!U59","v":159},{"$f":"MAMOGRAFIA!AD59","v":0.5},{"$f":"MAMOGRAFIA!AG59","v":"ATINGIU"},{"$f":"PARTO_NORMAL!AI59","v":0.76},{"$f":"PARTO_NORMAL!X59","v":103},{"$f":"PARTO_NORMAL!AH59","v":0.64779874213836475},{"$f":"PARTO_NORMAL!AJ59","v":"NÃO ATINGIU"},{"$f":"MAES_ADOLESC!AO59","v":0.28000000000000003},{"$f":"MAES_ADOLESC!AB59","v":38},{"$f":"MAES_ADOLESC!AN59","v":0.2389937106918239},{"$f":"MAES_ADOLESC!AP59","v":"ATINGIU"},{"$f":"MORT_INF!AI59","v":3},{"$f":"MORT_INF!X59","v":2},{"$f":"MORT_INF!AH59","v":12.578616352201259},{"$f":"MORT_INF!AJ59","v":"ATINGIU"},{"$f":"OBITOS_MATERNOS!AI59","v":1},{"$f":"OBITOS_MATERNOS!X59","v":0},{"$f":"OBITOS_MATERNOS!AJ59","v":"ATINGIU"},{"$f":"COBERTURA_AB!N66","v":1},{"$f":"COBERTURA_AB!M66","v":1},{"$f":"COBERTURA_AB!O66","v":"ATINGIU"},0.78,{"$f":"PBF_ACOMP_2017!F64","v":838},{"$f":"PBF_ACOMP_2017!G64","v":0.71440750213128734},{"$f":"PBF_ACOMP_2017!I64","v":"NÃO ATINGIU"},{"$f":"COBETURA_SB!M67","v":1},{"$f":"COBETURA_SB!L67","v":1},{"$f":"COBETURA_SB!N67","v":"ATINGIU"},{"$f":"AÇOES_VIGIL!N61","v":1},{"$f":"AÇOES_VIGIL!M61","v":0.83333333333333337},{"$f":"AÇOES_VIGIL!O61","v":"NÃO ATINGIU"},{"$f":"MATRICIAMENTO_CAPS!K59","v":"N/A"},{"$f":"MATRICIAMENTO_CAPS!H59","v":"N/A"},{"$f":"MATRICIAMENTO_CAPS!J59","v":"N/A"},{"$f":"MATRICIAMENTO_CAPS!L59","v":"N/A"},{"$f":"CICLO_DENGUE!H61","v":4},{"$f":"CICLO_DENGUE!G61","v":2},{"$f":"CICLO_DENGUE!I61","v":"NÃO ATINGIU"},{"$f":"NOT_AC_TRAB_OCUP!M59","v":0.95},{"$f":"NOT_AC_TRAB_OCUP!L59","v":0.4},{"$f":"NOT_AC_TRAB_OCUP!N59","v":"NÃO ATINGIU"},11,9,0.55000000000000004]
[280600,"ITABAIANA","RIBEIROPOLIS",{"$f":"OBITOS_PREMATUROS!D60","v":18363},{"$f":"OBITOS_PREMATUROS!AH60","v":20},{"$f":"OBITOS_PREMATUROS!W60","v":14},{"$f":"OBITOS_PREMATUROS!AG60","v":170.37848363149567},{"$f":"OBITOS_PREMATUROS!AI60","v":"ATINGIU"},{"$f":"OBITOS_MIF!AI60","v":0.9},{"$f":"OBITOS_MIF!N60","v":6},{"$f":"OBITOS_MIF!X60","v":3},{"$f":"OBITOS_MIF!AH60","v":0.5},{"$f":"OBITOS_MIF!AJ60","v":"NÃO ATINGIU"},{"$f":"OBITOS_CAUSAS!AI60","v":0.95},{"$f":"OBITOS_CAUSAS!N60","v":120},{"$f":"OBITOS_CAUSAS!AH60","v":0.80536912751677847},{"$f":"OBITOS_CAUSAS!AJ60","v":"NÃO ATINGIU"},{"$f":"METAS!G60","v":0.75},0,"NÃO ATINGIU",{"$f":"METAS!H60","v":0.85},"S/C",{"$f":"IF(Tabela13[[#This Row],[05 %DE CASOS DOENÇAS NOT COMP IMEDIATA]]=\"S/C\",\"N/A\",IF(V60>=U60,\"ATINGIU\",\"NÃO ATINGIU\"))","v":"N/A"},{"$f":"CURA_CASOS_HANS!AI60","v":0.9},{"$f":"CURA_CASOS_HANS!N60","v":0},{"$f":"CURA_CASOS_HANS!AH60","v":0},{"$f":"CURA_CASOS_HANS!AJ60","v":"NÃO ATINGIU"},{"$f":"SIFILIS_CONG_1ANO!O62","v":0},{"$f":"SIFILIS_CONG_1ANO!N62","v":0},{"$f":"SIFILIS_CONG_1ANO!P62","v":"ATINGIU"},{"$f":"AIDS_MENOR5!P60","v":0},{"$f":"AIDS_MENOR5!O60","v":0},{"$f":"AIDS_MENOR5!Q60","v":"ATINGIU"},{"$f":"METAS!L60","v":0.8},{"$f":"ANALISE_AGUA_2017!J61","v":1.3494791666666666},{"$f":"ANALISE_AGUA_2017!L61","v":"ATINGIU"},{"$f":"CITOPATOLOGICO!AH60","v":0.5},{"$f":"CITOPATOLOGICO!W60","v":436},{"$f":"CITOPATOLOGICO!AG60","v":0.28189655172413791},{"$f":"CITOPATOLOGICO!AL60","v":"NÃO ATINGIU"},{"$f":"MAMOGRAFIA!AE60","v":0.18},{"$f":"MAMOGRAFIA!U60","v":94},{"$f":"MAMOGRAFIA!AD60","v":0.13},{"$f":"MAMOGRAFIA!AG60","v":"NÃO ATINGIU"},{"$f":"PARTO_NORMAL!AI60","v":0.55000000000000004},{"$f":"PARTO_NORMAL!X60","v":97},{"$f":"PARTO_NORMAL!AH60","v":0.5300546448087432},{"$f":"PARTO_NORMAL!AJ60","v":"NÃO ATINGIU"},{"$f":"MAES_ADOLESC!AO60","v":0.18539999999999998},{"$f":"MAES_ADOLESC!AB60","v":36},{"$f":"MAES_ADOLESC!AN60","v":0.19672131147540983},{"$f":"MAES_ADOLESC!AP60","v":"NÃO ATINGIU"},{"$f":"MORT_INF!AI60","v":1},{"$f":"MORT_INF!X60","v":1},{"$f":"MORT_INF!AH60","v":5.4644808743169397},{"$f":"MORT_INF!AJ60","v":"ATINGIU"},{"$f":"OBITOS_MATERNOS!AI60","v":0},{"$f":"OBITOS_MATERNOS!X60","v":0},{"$f":"OBITOS_MATERNOS!AJ60","v":"ATINGIU"},{"$f":"COBERTURA_AB!N67","v":1},{"$f":"COBERTURA_AB!M67","v":1},{"$f":"COBERTURA_AB!O67","v":"ATINGIU"},0.85,{"$f":"PBF_ACOMP_2017!F65","v":1718},{"$f":"PBF_ACOMP_2017!G65","v":0.89572471324296143},{"$f":"PBF_ACOMP_2017!I65","v":"ATINGIU"},{"$f":"COBETURA_SB!M68","v":1},{"$f":"COBETURA_SB!L68","v":0.90800000000000003},{"$f":"COBETURA_SB!N68","v":"NÃO ATINGIU"},{"$f":"AÇOES_VIGIL!N62","v":1},{"$f":"AÇOES_VIGIL!M62","v":0.83333333333333337},{"$f":"AÇOES_VIGIL!O62","v":"NÃO ATINGIU"},{"$f":"MATRICIAMENTO_CAPS!K60","v":"N/A"},{"$f":"MATRICIAMENTO_CAPS!H60","v":"N/A"},{"$f":"MATRICIAMENTO_CAPS!J60","v":"N/A"},{"$f":"MATRICIAMENTO_CAPS!L60","v":"N/A"},{"$f":"CICLO_DENGUE!H62","v":4},{"$f":"CICLO_DENGUE!G62","v":3},{"$f":"CICLO_DENGUE!I62","v":"NÃO ATINGIU"},{"$f":"NOT_AC_TRAB_OCUP!M60","v":0.95},{"$f":"NOT_AC_TRAB_OCUP!L60","v":1},{"$f":"NOT_AC_TRAB_OCUP!N60","v":"ATINGIU"},9,11,0.45]
[280610,"SOCORRO","ROSARIO DO CATETE",{"$f":"OBITOS_PREMATUROS!D61","v":10367},{"$f":"OBITOS_PREMATUROS!AH61","v":8},{"$f":"OBITOS_PREMATUROS!W61","v":14},{"$f":"OBITOS_PREMATUROS!AG61","v":332.62057495842242},{"$f":"OBITOS_PREMATUROS!AI61","v":"NÃO ATINGIU"},{"$f":"OBITOS_MIF!AI61","v":0.9},{"$f":"OBITOS_MIF!N61","v":6},{"$f":"OBITOS_MIF!X61","v":3},{"$f":"OBITOS_MIF!AH61","v":0.5},{"$f":"OBITOS_MIF!AJ61","v":"NÃO ATINGIU"},{"$f":"OBITOS_CAUSAS!AI61","v":0.95},{"$f":"OBITOS_CAUSAS!N61","v":45},{"$f":"OBITOS_CAUSAS!AH61","v":0.91836734693877553},{"$f":"OBITOS_CAUSAS!AJ61","v":"NÃO ATINGIU"},{"$f":"METAS!G61","v":1},0,"NÃO ATINGIU",{"$f":"METAS!H61","v":0.85},"S/C",{"$f":"IF(Tabela13[[#This Row],[05 %DE CASOS DOENÇAS NOT COMP IMEDIATA]]=\"S/C\",\"N/A\",IF(V61>=U61,\"ATINGIU\",\"NÃO ATINGIU\"))","v":"N/A"},{"$f":"CURA_CASOS_HANS!AI61","v":0.95},{"$f":"CURA_CASOS_HANS!N61","v":0},{"$f":"CURA_CASOS_HANS!AH61","v":1},{"$f":"CURA_CASOS_HANS!AJ61","v":"ATINGIU"},{"$f":"SIFILIS_CONG_1ANO!O63","v":5},{"$f":"SIFILIS_CONG_1ANO!N63","v":6},{"$f":"SIFILIS_CONG_1ANO!P63","v":"NÃO ATINGIU"},{"$f":"AIDS_MENOR5!P61","v":0},{"$f":"AIDS_MENOR5!O61","v":0},{"$f":"AIDS_MENOR5!Q61","v":"ATINGIU"},{"$f":"METAS!L61","v":0.5},{"$f":"ANALISE_AGUA_2017!J62","v":0.47048611111111116},{"$f":"ANALISE_AGUA_2017!L62","v":"NÃO ATINGIU"},{"$f":"CITOPATOLOGICO!AH61","v":0.66},{"$f":"CITOPATOLOGICO!W61","v":394},{"$f":"CITOPATOLOGICO!AG61","v":0.45080091533180777},{"$f":"CITOPATOLOGICO!AL61","v":"NÃO ATINGIU"},{"$f":"MAMOGRAFIA!AE61","v":0.1},{"$f":"MAMOGRAFIA!U61","v":179},{"$f":"MAMOGRAFIA!AD61","v":0.56000000000000005},{"$f":"MAMOGRAFIA!AG61","v":"ATINGIU"},{"$f":"PARTO_NORMAL!AI61","v":0.65},{"$f":"PARTO_NORMAL!X61","v":101},{"$f":"PARTO_NORMAL!AH61","v":0.57062146892655363},{"$f":"PARTO_NORMAL!AJ61","v":"NÃO ATINGIU"},{"$f":"MAES_ADOLESC!AO61","v":0.2},{"$f":"MAES_ADOLESC!AB61","v":50},{"$f":"MAES_ADOLESC!AN61","v":0.2824858757062147},{"$f":"MAES_ADOLESC!AP61","v":"NÃO ATINGIU"},{"$f":"MORT_INF!AI61","v":0},{"$f":"MORT_INF!X61","v":2},{"$f":"MORT_INF!AH61","v":11.299435028248588},{"$f":"MORT_INF!AJ61","v":"NÃO ATINGIU"},{"$f":"OBITOS_MATERNOS!AI61","v":0},{"$f":"OBITOS_MATERNOS!X61","v":0},{"$f":"OBITOS_MATERNOS!AJ61","v":"ATINGIU"},{"$f":"COBERTURA_AB!N68","v":1},{"$f":"COBERTURA_AB!M68","v":1},{"$f":"COBERTURA_AB!O68","v":"ATINGIU"},0.75,{"$f":"PBF_ACOMP_2017!F66","v":997},{"$f":"PBF_ACOMP_2017!G66","v":0.74569932685115936},{"$f":"PBF_ACOMP_2017!I66","v":"NÃO ATINGIU"},{"$f":"COBETURA_SB!M69","v":1},{"$f":"COBETURA_SB!L69","v":1},{"$f":"COBETURA_SB!N69","v":"ATINGIU"},{"$f":"AÇOES_VIGIL!N63","v":1},{"$f":"AÇOES_VIGIL!M63","v":1},{"$f":"AÇOES_VIGIL!O63","v":"ATINGIU"},{"$f":"MATRICIAMENTO_CAPS!K61","v":"N/A"},{"$f":"MATRICIAMENTO_CAPS!H61","v":"N/A"},{"$f":"MATRICIAMENTO_CAPS!J61","v":"N/A"},{"$f":"MATRICIAMENTO_CAPS!L61","v":"N/A"},{"$f":"CICLO_DENGUE!H63","v":4},{"$f":"CICLO_DENGUE!G63","v":3},{"$f":"CICLO_DENGUE!I63","v":"NÃO ATINGIU"},{"$f":"NOT_AC_TRAB_OCUP!M61","v":0.95},{"$f":"NOT_AC_TRAB_OCUP!L61","v":1},{"$f":"NOT_AC_TRAB_OCUP!N61","v":"ATINGIU"},8,12,0.4]
[280620,"LAGARTO","SALGADO",{"$f":"OBITOS_PREMATUROS!D62","v":20082},{"$f":"OBITOS_PREMATUROS!AH62","v":11},{"$f":"OBITOS_PREMATUROS!W62","v":27},{"$f":"OBITOS_PREMATUROS!AG62","v":308.39520274129069},{"$f":"OBITOS_PREMATUROS!AI62","v":"NÃO ATINGIU"},{"$f":"OBITOS_MIF!AI62","v":0.9},{"$f":"OBITOS_MIF!N62","v":8},{"$f":"OBITOS_MIF!X62","v":0},{"$f":"OBITOS_MIF!AH62","v":0},{"$f":"OBITOS_MIF!AJ62","v":"NÃO ATINGIU"},{"$f":"OBITOS_CAUSAS!AI62","v":0.95},{"$f":"OBITOS_CAUSAS!N62","v":98},{"$f":"OBITOS_CAUSAS!AH62","v":0.94230769230769229},{"$f":"OBITOS_CAUSAS!AJ62","v":"NÃO ATINGIU"},{"$f":"METAS!G62","v":1},0,"NÃO ATINGIU",{"$f":"METAS!H62","v":0.85},"S/C",{"$f":"IF(Tabela13[[#This Row],[05 %DE CASOS DOENÇAS NOT COMP IMEDIATA]]=\"S/C\",\"N/A\",IF(V62>=U62,\"ATINGIU\",\"NÃO ATINGIU\"))","v":"N/A"},{"$f":"CURA_CASOS_HANS!AI62","v":0.95},{"$f":"CURA_CASOS_HANS!N62","v":0},{"$f":"CURA_CASOS_HANS!AH62","v":"SC"},{"$f":"CURA_CASOS_HANS!AJ62","v":"N/A"},{"$f":"SIFILIS_CONG_1ANO!O64","v":0},{"$f":"SIFILIS_CONG_1ANO!N64","v":1},{"$f":"SIFILIS_CONG_1ANO!P64","v":"NÃO ATINGIU"},{"$f":"AIDS_MENOR5!P62","v":0},{"$f":"AIDS_MENOR5!O62","v":0},{"$f":"AIDS_MENOR5!Q62","v":"ATINGIU"},{"$f":"METAS!L62","v":0.5},{"$f":"ANALISE_AGUA_2017!J63","v":2.6041666666666661E-2},{"$f":"ANALISE_AGUA_2017!L63","v":"NÃO ATINGIU"},{"$f":"CITOPATOLOGICO!AH62","v":0.5},{"$f":"CITOPATOLOGICO!W62","v":716},{"$f":"CITOPATOLOGICO!AG62","v":0.44435250310302027},{"$f":"CITOPATOLOGICO!AL62","v":"NÃO ATINGIU"},{"$f":"MAMOGRAFIA!AE62","v":0.22},{"$f":"MAMOGRAFIA!U62","v":92},{"$f":"MAMOGRAFIA!AD62","v":0.14000000000000001},{"$f":"MAMOGRAFIA!AG62","v":"NÃO ATINGIU"},{"$f":"PARTO_NORMAL!AI62","v":0.63},{"$f":"PARTO_NORMAL!X62","v":173},{"$f":"PARTO_NORMAL!AH62","v":0.62230215827338131},{"$f":"PARTO_NORMAL!AJ62","v":"NÃO ATINGIU"},{"$f":"MAES_ADOLESC!AO62","v":0.22},{"$f":"MAES_ADOLESC!AB62","v":43},{"$f":"MAES_ADOLESC!AN62","v":0.15467625899280577},{"$f":"MAES_ADOLESC!AP62","v":"ATINGIU"},{"$f":"MORT_INF!AI62","v":2},{"$f":"MORT_INF!X62","v":2},{"$f":"MORT_INF!AH62","v":7.1942446043165473},{"$f":"MORT_INF!AJ62","v":"ATINGIU"},{"$f":"OBITOS_MATERNOS!AI62","v":0},{"$f":"OBITOS_MATERNOS!X62","v":0},{"$f":"OBITOS_MATERNOS!AJ62","v":"ATINGIU"},{"$f":"COBERTURA_AB!N69","v":1},{"$f":"COBERTURA_AB!M69","v":1},{"$f":"COBERTURA_AB!O69","v":"ATINGIU"},0.73,{"$f":"PBF_ACOMP_2017!F67","v":1964},{"$f":"PBF_ACOMP_2017!G67","v":0.77720617332805697},{"$f":"PBF_ACOMP_2017!I67","v":"ATINGIU"},{"$f":"COBETURA_SB!M70","v":0.56999999999999995},{"$f":"COBETURA_SB!L70","v":0.8347},{"$f":"COBETURA_SB!N70","v":"ATINGIU"},{"$f":"AÇOES_VIGIL!N64","v":1},{"$f":"AÇOES_VIGIL!M64","v":0.83333333333333337},{"$f":"AÇOES_VIGIL!O64","v":"NÃO ATINGIU"},{"$f":"MATRICIAMENTO_CAPS!K62","v":1},{"$f":"MATRICIAMENTO_CAPS!H62","v":0},{"$f":"MATRICIAMENTO_CAPS!J62","v":0},{"$f":"MATRICIAMENTO_CAPS!L62","v":"NÃO ATINGIU"},{"$f":"CICLO_DENGUE!H64","v":4},{"$f":"CICLO_DENGUE!G64","v":0},{"$f":"CICLO_DENGUE!I64","v":"NÃO ATINGIU"},{"$f":"NOT_AC_TRAB_OCUP!M62","v":0.95},{"$f":"NOT_AC_TRAB_OCUP!L62","v":0.5},{"$f":"NOT_AC_TRAB_OCUP!N62","v":"NÃO ATINGIU"},7,13,0.35]
[280630,"ESTANCIA","SANTA LUZIA DO ITANHY",{"$f":"OBITOS_PREMATUROS!D63","v":13838},{"$f":"OBITOS_PREMATUROS!AH63","v":13},{"$f":"OBITOS_PREMATUROS!W63","v":10},{"$f":"OBITOS_PREMATUROS!AG63","v":200.80321285140559},{"$f":"OBITOS_PREMATUROS!AI63","v":"ATINGIU"},{"$f":"OBITOS_MIF!AI63","v":0.9},{"$f":"OBITOS_MIF!N63","v":5},{"$f":"OBITOS_MIF!X63","v":2},{"$f":"OBITOS_MIF!AH63","v":0.4},{"$f":"OBITOS_MIF!AJ63","v":"NÃO ATINGIU"},{"$f":"OBITOS_CAUSAS!AI63","v":0.95},{"$f":"OBITOS_CAUSAS!N63","v":64},{"$f":"OBITOS_CAUSAS!AH63","v":0.90140845070422537},{"$f":"OBITOS_CAUSAS!AJ63","v":"NÃO ATINGIU"},{"$f":"METAS!G63","v":1},0,"NÃO ATINGIU",{"$f":"METAS!H63","v":0.8},1,{"$f":"IF(Tabela13[[#This Row],[05 %DE CASOS DOENÇAS NOT COMP IMEDIATA]]=\"S/C\",\"N/A\",IF(V63>=U63,\"ATINGIU\",\"NÃO ATINGIU\"))","v":"ATINGIU"},{"$f":"CURA_CASOS_HANS!AI63","v":0.95},{"$f":"CURA_CASOS_HANS!N63","v":0},{"$f":"CURA_CASOS_HANS!AH63","v":"SC"},{"$f":"CURA_CASOS_HANS!AJ63","v":"N/A"},{"$f":"SIFILIS_CONG_1ANO!O65","v":3},{"$f":"SIFILIS_CONG_1ANO!N65","v":0},{"$f":"SIFILIS_CONG_1ANO!P65","v":"ATINGIU"},{"$f":"AIDS_MENOR5!P63","v":0},{"$f":"AIDS_MENOR5!O63","v":0},{"$f":"AIDS_MENOR5!Q63","v":"ATINGIU"},{"$f":"METAS!L63","v":0.8},{"$f":"ANALISE_AGUA_2017!J64","v":0.82187500000000002},{"$f":"ANALISE_AGUA_2017!L64","v":"ATINGIU"},{"$f":"CITOPATOLOGICO!AH63","v":0.57999999999999996},{"$f":"CITOPATOLOGICO!W63","v":531},{"$f":"CITOPATOLOGICO!AG63","v":0.55312499999999998},{"$f":"CITOPATOLOGICO!AL63","v":"NÃO ATINGIU"},{"$f":"MAMOGRAFIA!AE63","v":0.24},{"$f":"MAMOGRAFIA!U63","v":367},{"$f":"MAMOGRAFIA!AD63","v":0.93},{"$f":"MAMOGRAFIA!AG63","v":"ATINGIU"},{"$f":"PARTO_NORMAL!AI63","v":0.65},{"$f":"PARTO_NORMAL!X63","v":153},{"$f":"PARTO_NORMAL!AH63","v":0.66521739130434787},{"$f":"PARTO_NORMAL!AJ63","v":"ATINGIU"},{"$f":"MAES_ADOLESC!AO63","v":0.28000000000000003},{"$f":"MAES_ADOLESC!AB63","v":65},{"$f":"MAES_ADOLESC!AN63","v":0.28260869565217389},{"$f":"MAES_ADOLESC!AP63","v":"NÃO ATINGIU"},{"$f":"MORT_INF!AI63","v":3},{"$f":"MORT_INF!X63","v":3},{"$f":"MORT_INF!AH63","v":13.043478260869565},{"$f":"MORT_INF!AJ63","v":"ATINGIU"},{"$f":"OBITOS_MATERNOS!AI63","v":0},{"$f":"OBITOS_MATERNOS!X63","v":0},{"$f":"OBITOS_MATERNOS!AJ63","v":"ATINGIU"},{"$f":"COBERTURA_AB!N70","v":1},{"$f":"COBERTURA_AB!M70","v":1},{"$f":"COBERTURA_AB!O70","v":"ATINGIU"},0.8,{"$f":"PBF_ACOMP_2017!F68","v":1782},{"$f":"PBF_ACOMP_2017!G68","v":0.81968721251149956},{"$f":"PBF_ACOMP_2017!I68","v":"ATINGIU"},{"$f":"COBETURA_SB!M71","v":0.83299999999999996},{"$f":"COBETURA_SB!L71","v":1},{"$f":"COBETURA_SB!N71","v":"ATINGIU"},{"$f":"AÇOES_VIGIL!N65","v":1},{"$f":"AÇOES_VIGIL!M65","v":0.83333333333333337},{"$f":"AÇOES_VIGIL!O65","v":"NÃO ATINGIU"},{"$f":"MATRICIAMENTO_CAPS!K63","v":"N/A"},{"$f":"MATRICIAMENTO_CAPS!H63","v":"N/A"},{"$f":"MATRICIAMENTO_CAPS!J63","v":"N/A"},{"$f":"MATRICIAMENTO_CAPS!L63","v":"N/A"},{"$f":"CICLO_DENGUE!H65","v":6},{"$f":"CICLO_DENGUE!G65","v":3},{"$f":"CICLO_DENGUE!I65","v":"NÃO ATINGIU"},{"$f":"NOT_AC_TRAB_OCUP!M63","v":0.95},{"$f":"NOT_AC_TRAB_OCUP!L63","v":"N/A"},{"$f":"NOT_AC_TRAB_OCUP!N63","v":"N/A"},12,7,0.63157894736842102]
[280640,"PROPRIA","SANTANA DO SÃO FRANCISCO",{"$f":"OBITOS_PREMATUROS!D64","v":7607},{"$f":"OBITOS_PREMATUROS!AH64","v":6},{"$f":"OBITOS_PREMATUROS!W64","v":5},{"$f":"OBITOS_PREMATUROS!AG64","v":171.64435290078956},{"$f":"OBITOS_PREMATUROS!AI64","v":"ATINGIU"},{"$f":"OBITOS_MIF!AI64","v":1},{"$f":"OBITOS_MIF!N64","v":2},{"$f":"OBITOS_MIF!X64","v":1},{"$f":"OBITOS_MIF!AH64","v":0.5},{"$f":"OBITOS_MIF!AJ64","v":"NÃO ATINGIU"},{"$f":"OBITOS_CAUSAS!AI64","v":0.95},{"$f":"OBITOS_CAUSAS!N64","v":31},{"$f":"OBITOS_CAUSAS!AH64","v":0.88571428571428568},{"$f":"OBITOS_CAUSAS!AJ64","v":"NÃO ATINGIU"},{"$f":"METAS!G64","v":0.75},1,"ATINGIU",{"$f":"METAS!H64","v":0.85},"S/C",{"$f":"IF(Tabela13[[#This Row],[05 %DE CASOS DOENÇAS NOT COMP IMEDIATA]]=\"S/C\",\"N/A\",IF(V64>=U64,\"ATINGIU\",\"NÃO ATINGIU\"))","v":"N/A"},{"$f":"CURA_CASOS_HANS!AI64","v":0.9},{"$f":"CURA_CASOS_HANS!N64","v":0},{"$f":"CURA_CASOS_HANS!AH64","v":"SC"},{"$f":"CURA_CASOS_HANS!AJ64","v":"N/A"},{"$f":"SIFILIS_CONG_1ANO!O66","v":0},{"$f":"SIFILIS_CONG_1ANO!N66","v":0},{"$f":"SIFILIS_CONG_1ANO!P66","v":"ATINGIU"},{"$f":"AIDS_MENOR5!P64","v":0},{"$f":"AIDS_MENOR5!O64","v":0},{"$f":"AIDS_MENOR5!Q64","v":"ATINGIU"},{"$f":"METAS!L64","v":0.8},{"$f":"ANALISE_AGUA_2017!J65","v":0.24884259259259256},{"$f":"ANALISE_AGUA_2017!L65","v":"NÃO ATINGIU"},{"$f":"CITOPATOLOGICO!AH64","v":0.55000000000000004},{"$f":"CITOPATOLOGICO!W64","v":357},{"$f":"CITOPATOLOGICO!AG64","v":0.63749999999999996},{"$f":"CITOPATOLOGICO!AL64","v":"ATINGIU"},{"$f":"MAMOGRAFIA!AE64","v":0.2},{"$f":"MAMOGRAFIA!U64","v":112},{"$f":"MAMOGRAFIA!AD64","v":0.9},{"$f":"MAMOGRAFIA!AG64","v":"ATINGIU"},{"$f":"PARTO_NORMAL!AI64","v":0.66},{"$f":"PARTO_NORMAL!X64","v":44},{"$f":"PARTO_NORMAL!AH64","v":0.38938053097345132},{"$f":"PARTO_NORMAL!AJ64","v":"NÃO ATINGIU"},{"$f":"MAES_ADOLESC!AO64","v":0.25},{"$f":"MAES_ADOLESC!AB64","v":27},{"$f":"MAES_ADOLESC!AN64","v":0.23893805309734514},{"$f":"MAES_ADOLESC!AP64","v":"ATINGIU"},{"$f":"MORT_INF!AI64","v":1},{"$f":"MORT_INF!X64","v":0},{"$f":"MORT_INF!AH64","v":0},{"$f":"MORT_INF!AJ64","v":"ATINGIU"},{"$f":"OBITOS_MATERNOS!AI64","v":0},{"$f":"OBITOS_MATERNOS!X64","v":0},{"$f":"OBITOS_MATERNOS!AJ64","v":"ATINGIU"},{"$f":"COBERTURA_AB!N71","v":1},{"$f":"COBERTURA_AB!M71","v":1},{"$f":"COBERTURA_AB!O71","v":"ATINGIU"},0.76,{"$f":"PBF_ACOMP_2017!F69","v":949},{"$f":"PBF_ACOMP_2017!G69","v":0.75317460317460316},{"$f":"PBF_ACOMP_2017!I69","v":"NÃO ATINGIU"},{"$f":"COBETURA_SB!M72","v":1},{"$f":"COBETURA_SB!L72","v":1},{"$f":"COBETURA_SB!N72","v":"ATINGIU"},{"$f":"AÇOES_VIGIL!N66","v":1},{"$f":"AÇOES_VIGIL!M66","v":1},{"$f":"AÇOES_VIGIL!O66","v":"ATINGIU"},{"$f":"MATRICIAMENTO_CAPS!K64","v":"N/A"},{"$f":"MATRICIAMENTO_CAPS!H64","v":"N/A"},{"$f":"MATRICIAMENTO_CAPS!J64","v":"N/A"},{"$f":"MATRICIAMENTO_CAPS!L64","v":"N/A"},{"$f":"CICLO_DENGUE!H66","v":4},{"$f":"CICLO_DENGUE!G66","v":3},{"$f":"CICLO_DENGUE!I66","v":"NÃO ATINGIU"},{"$f":"NOT_AC_TRAB_OCUP!M64","v":1},{"$f":"NOT_AC_TRAB_OCUP!L64","v":1},{"$f":"NOT_AC_TRAB_OCUP!N64","v":"ATINGIU"},13,6,0.68421052631578949]
[280650,"ARACAJU","SANTA ROSA DE LIMA",{"$f":"OBITOS_PREMATUROS!D65","v":3912},{"$f":"OBITOS_PREMATUROS!AH65","v":4},{"$f":"OBITOS_PREMATUROS!W65","v":1},{"$f":"OBITOS_PREMATUROS!AG65","v":62.656641604010019},{"$f":"OBITOS_PREMATUROS!AI65","v":"ATINGIU"},{"$f":"OBITOS_MIF!AI65","v":0.95},{"$f":"OBITOS_MIF!N65","v":2},{"$f":"OBITOS_MIF!X65","v":0},{"$f":"OBITOS_MIF!AH65","v":0},{"$f":"OBITOS_MIF!AJ65","v":"NÃO ATINGIU"},{"$f":"OBITOS_CAUSAS!AI65","v":0.95},{"$f":"OBITOS_CAUSAS!N65","v":18},{"$f":"OBITOS_CAUSAS!AH65","v":0.81818181818181823},{"$f":"OBITOS_CAUSAS!AJ65","v":"NÃO ATINGIU"},{"$f":"METAS!G65","v":1},0,"NÃO ATINGIU",{"$f":"METAS!H65","v":0.85},"S/C",{"$f":"IF(Tabela13[[#This Row],[05 %DE CASOS DOENÇAS NOT COMP IMEDIATA]]=\"S/C\",\"N/A\",IF(V65>=U65,\"ATINGIU\",\"NÃO ATINGIU\"))","v":"N/A"},{"$f":"CURA_CASOS_HANS!AI65","v":0.9},{"$f":"CURA_CASOS_HANS!N65","v":0},{"$f":"CURA_CASOS_HANS!AH65","v":"SC"},{"$f":"CURA_CASOS_HANS!AJ65","v":"N/A"},{"$f":"SIFILIS_CONG_1ANO!O67","v":1},{"$f":"SIFILIS_CONG_1ANO!N67","v":0},{"$f":"SIFILIS_CONG_1ANO!P67","v":"ATINGIU"},{"$f":"AIDS_MENOR5!P65","v":0},{"$f":"AIDS_MENOR5!O65","v":0},{"$f":"AIDS_MENOR5!Q65","v":"ATINGIU"},{"$f":"METAS!L65","v":1},{"$f":"ANALISE_AGUA_2017!J66","v":1.2118055555555554},{"$f":"ANALISE_AGUA_2017!L66","v":"ATINGIU"},{"$f":"CITOPATOLOGICO!AH65","v":0.59},{"$f":"CITOPATOLOGICO!W65","v":108},{"$f":"CITOPATOLOGICO!AG65","v":0.3807285546415981},{"$f":"CITOPATOLOGICO!AL65","v":"NÃO ATINGIU"},{"$f":"MAMOGRAFIA!AE65","v":0.17},{"$f":"MAMOGRAFIA!U65","v":31},{"$f":"MAMOGRAFIA!AD65","v":0.14000000000000001},{"$f":"MAMOGRAFIA!AG65","v":"NÃO ATINGIU"},{"$f":"PARTO_NORMAL!AI65","v":0.65},{"$f":"PARTO_NORMAL!X65","v":39},{"$f":"PARTO_NORMAL!AH65","v":0.59090909090909094},{"$f":"PARTO_NORMAL!AJ65","v":"NÃO ATINGIU"},{"$f":"MAES_ADOLESC!AO65","v":0.25},{"$f":"MAES_ADOLESC!AB65","v":15},{"$f":"MAES_ADOLESC!AN65","v":0.22727272727272727},{"$f":"MAES_ADOLESC!AP65","v":"ATINGIU"},{"$f":"MORT_INF!AI65","v":1},{"$f":"MORT_INF!X65","v":1},{"$f":"MORT_INF!AH65","v":15.151515151515152},{"$f":"MORT_INF!AJ65","v":"ATINGIU"},{"$f":"OBITOS_MATERNOS!AI65","v":0},{"$f":"OBITOS_MATERNOS!X65","v":0},{"$f":"OBITOS_MATERNOS!AJ65","v":"ATINGIU"},{"$f":"COBERTURA_AB!N72","v":1},{"$f":"COBERTURA_AB!M72","v":1},{"$f":"COBERTURA_AB!O72","v":"ATINGIU"},0.85,{"$f":"PBF_ACOMP_2017!F70","v":359},{"$f":"PBF_ACOMP_2017!G70","v":0.71799999999999997},{"$f":"PBF_ACOMP_2017!I70","v":"NÃO ATINGIU"},{"$f":"COBETURA_SB!M73","v":1},{"$f":"COBETURA_SB!L73","v":1},{"$f":"COBETURA_SB!N73","v":"ATINGIU"},{"$f":"AÇOES_VIGIL!N67","v":1},{"$f":"AÇOES_VIGIL!M67","v":0.66666666666666663},{"$f":"AÇOES_VIGIL!O67","v":"NÃO ATINGIU"},{"$f":"MATRICIAMENTO_CAPS!K65","v":"N/A"},{"$f":"MATRICIAMENTO_CAPS!H65","v":"N/A"},{"$f":"MATRICIAMENTO_CAPS!J65","v":"N/A"},{"$f":"MATRICIAMENTO_CAPS!L65","v":"N/A"},{"$f":"CICLO_DENGUE!H67","v":4},{"$f":"CICLO_DENGUE!G67","v":0},{"$f":"CICLO_DENGUE!I67","v":"NÃO ATINGIU"},{"$f":"NOT_AC_TRAB_OCUP!M65","v":0.95},{"$f":"NOT_AC_TRAB_OCUP!L65","v":1},{"$f":"NOT_AC_TRAB_OCUP!N65","v":"ATINGIU"},10,9,0.52631578947368418]
[280660,"SOCORRO","SANTO AMARO DAS BROTAS",{"$f":"OBITOS_PREMATUROS!D66","v":12024},{"$f":"OBITOS_PREMATUROS!AH66","v":3},{"$f":"OBITOS_PREMATUROS!W66","v":8},{"$f":"OBITOS_PREMATUROS!AG66","v":159.55325089748703},{"$f":"OBITOS_PREMATUROS!AI66","v":"NÃO ATINGIU"},{"$f":"OBITOS_MIF!AI66","v":0.9},{"$f":"OBITOS_MIF!N66","v":3},{"$f":"OBITOS_MIF!X66","v":0},{"$f":"OBITOS_MIF!AH66","v":0},{"$f":"OBITOS_MIF!AJ66","v":"NÃO ATINGIU"},{"$f":"OBITOS_CAUSAS!AI66","v":0.95},{"$f":"OBITOS_CAUSAS!N66","v":48},{"$f":"OBITOS_CAUSAS!AH66","v":0.8571428571428571},{"$f":"OBITOS_CAUSAS!AJ66","v":"NÃO ATINGIU"},{"$f":"METAS!G66","v":1},0,"NÃO ATINGIU",{"$f":"METAS!H66","v":0.85},"S/C",{"$f":"IF(Tabela13[[#This Row],[05 %DE CASOS DOENÇAS NOT COMP IMEDIATA]]=\"S/C\",\"N/A\",IF(V66>=U66,\"ATINGIU\",\"NÃO ATINGIU\"))","v":"N/A"},{"$f":"CURA_CASOS_HANS!AI66","v":0.9},{"$f":"CURA_CASOS_HANS!N66","v":0},{"$f":"CURA_CASOS_HANS!AH66","v":"SC"},{"$f":"CURA_CASOS_HANS!AJ66","v":"N/A"},{"$f":"SIFILIS_CONG_1ANO!O68","v":3},{"$f":"SIFILIS_CONG_1ANO!N68","v":5},{"$f":"SIFILIS_CONG_1ANO!P68","v":"NÃO ATINGIU"},{"$f":"AIDS_MENOR5!P66","v":0},{"$f":"AIDS_MENOR5!O66","v":0},{"$f":"AIDS_MENOR5!Q66","v":"ATINGIU"},{"$f":"METAS!L66","v":0.4},{"$f":"ANALISE_AGUA_2017!J67","v":1.7187500000000001E-2},{"$f":"ANALISE_AGUA_2017!L67","v":"NÃO ATINGIU"},{"$f":"CITOPATOLOGICO!AH66","v":0.57999999999999996},{"$f":"CITOPATOLOGICO!W66","v":61},{"$f":"CITOPATOLOGICO!AG66","v":6.3585823488533699E-2},{"$f":"CITOPATOLOGICO!AL66","v":"NÃO ATINGIU"},{"$f":"MAMOGRAFIA!AE66","v":0.22},{"$f":"MAMOGRAFIA!U66","v":194},{"$f":"MAMOGRAFIA!AD66","v":0.47},{"$f":"MAMOGRAFIA!AG66","v":"ATINGIU"},{"$f":"PARTO_NORMAL!AI66","v":0.69},{"$f":"PARTO_NORMAL!X66","v":108},{"$f":"PARTO_NORMAL!AH66","v":0.67924528301886788},{"$f":"PARTO_NORMAL!AJ66","v":"NÃO ATINGIU"},{"$f":"MAES_ADOLESC!AO66","v":0.25},{"$f":"MAES_ADOLESC!AB66","v":42},{"$f":"MAES_ADOLESC!AN66","v":0.26415094339622641},{"$f":"MAES_ADOLESC!AP66","v":"NÃO ATINGIU"},{"$f":"MORT_INF!AI66","v":3},{"$f":"MORT_INF!X66","v":2},{"$f":"MORT_INF!AH66","v":12.578616352201259},{"$f":"MORT_INF!AJ66","v":"ATINGIU"},{"$f":"OBITOS_MATERNOS!AI66","v":0},{"$f":"OBITOS_MATERNOS!X66","v":0},{"$f":"OBITOS_MATERNOS!AJ66","v":"ATINGIU"},{"$f":"COBERTURA_AB!N73","v":1},{"$f":"COBERTURA_AB!M73","v":1},{"$f":"COBERTURA_AB!O73","v":"ATINGIU"},0.8,{"$f":"PBF_ACOMP_2017!F71","v":1297},{"$f":"PBF_ACOMP_2017!G71","v":0.78892944038929436},{"$f":"PBF_ACOMP_2017!I71","v":"NÃO ATINGIU"},{"$f":"COBETURA_SB!M74","v":1},{"$f":"COBETURA_SB!L74","v":1},{"$f":"COBETURA_SB!N74","v":"ATINGIU"},{"$f":"AÇOES_VIGIL!N68","v":1},{"$f":"AÇOES_VIGIL!M68","v":0},{"$f":"AÇOES_VIGIL!O68","v":"NÃO ATINGIU"},{"$f":"MATRICIAMENTO_CAPS!K66","v":"N/A"},{"$f":"MATRICIAMENTO_CAPS!H66","v":"N/A"},{"$f":"MATRICIAMENTO_CAPS!J66","v":"N/A"},{"$f":"MATRICIAMENTO_CAPS!L66","v":"N/A"},{"$f":"CICLO_DENGUE!H68","v":4},{"$f":"CICLO_DENGUE!G68","v":2},{"$f":"CICLO_DENGUE!I68","v":"NÃO ATINGIU"},{"$f":"NOT_AC_TRAB_OCUP!M66","v":0.95},{"$f":"NOT_AC_TRAB_OCUP!L66","v":0.25},{"$f":"NOT_AC_TRAB_OCUP!N66","v":"NÃO ATINGIU"},{"$f":"COUNTIF(E66:CD66,\"ATINGIU\")","v":6},{"$f":"COUNTIF(F66:CD66,\"NÃO ATINGIU\")","v":13},{"$f":"CE66/(CE66+CF66)","v":0.31578947368421051}]
[280670,"ARACAJU","SÃO CRISTOVÃO",{"$f":"OBITOS_PREMATUROS!D67","v":86979},{"$f":"OBITOS_PREMATUROS!AH67","v":80},{"$f":"OBITOS_PREMATUROS!W67","v":127},{"$f":"OBITOS_PREMATUROS!AG67","v":342.68753372908793},{"$f":"OBITOS_PREMATUROS!AI67","v":"NÃO ATINGIU"},{"$f":"OBITOS_MIF!AI67","v":0.9},{"$f":"OBITOS_MIF!N67","v":35},{"$f":"OBITOS_MIF!X67","v":23},{"$f":"OBITOS_MIF!AH67","v":0.65714285714285714},{"$f":"OBITOS_MIF!AJ67","v":"NÃO ATINGIU"},{"$f":"OBITOS_CAUSAS!AI67","v":0.95},{"$f":"OBITOS_CAUSAS!N67","v":494},{"$f":"OBITOS_CAUSAS!AH67","v":0.91481481481481486},{"$f":"OBITOS_CAUSAS!AJ67","v":"NÃO ATINGIU"},{"$f":"METAS!G67","v":1},0,{"$f":"IF(S67>=R67,\"ATINGIU\",\"NÃO ATINGIU\")","v":"NÃO ATINGIU"},{"$f":"METAS!H67","v":0.85},1,{"$f":"IF(Tabela13[[#This Row],[05 %DE CASOS DOENÇAS NOT COMP IMEDIATA]]=\"S/C\",\"N/A\",IF(V67>=U67,\"ATINGIU\",\"NÃO ATINGIU\"))","v":"ATINGIU"},{"$f":"CURA_CASOS_HANS!AI67","v":0.9},{"$f":"CURA_CASOS_HANS!N67","v":0},{"$f":"CURA_CASOS_HANS!AH67","v":0.5625},{"$f":"CURA_CASOS_HANS!AJ67","v":"NÃO ATINGIU"},{"$f":"SIFILIS_CONG_1ANO!O69","v":15},{"$f":"SIFILIS_CONG_1ANO!N69","v":9},{"$f":"SIFILIS_CONG_1ANO!P69","v":"ATINGIU"},{"$f":"AIDS_MENOR5!P67","v":0},{"$f":"AIDS_MENOR5!O67","v":0},{"$f":"AIDS_MENOR5!Q67","v":"ATINGIU"},{"$f":"METAS!L67","v":0.8},{"$f":"ANALISE_AGUA_2017!J68","v":0.77878289473684204},{"$f":"ANALISE_AGUA_2017!L68","v":"NÃO ATINGIU"},{"$f":"CITOPATOLOGICO!AH67","v":0.4},{"$f":"CITOPATOLOGICO!W67","v":1463},{"$f":"CITOPATOLOGICO!AG67","v":0.19654292239487706},{"$f":"CITOPATOLOGICO!AL67","v":"NÃO ATINGIU"},{"$f":"MAMOGRAFIA!AE67","v":0.22},{"$f":"MAMOGRAFIA!U67","v":853},{"$f":"MAMOGRAFIA!AD67","v":0.27},{"$f":"MAMOGRAFIA!AG67","v":"ATINGIU"},{"$f":"PARTO_NORMAL!AI67","v":0.65},{"$f":"PARTO_NORMAL!X67","v":751},{"$f":"PARTO_NORMAL!AH67","v":0.59745425616547332},{"$f":"PARTO_NORMAL!AJ67","v":"NÃO ATINGIU"},{"$f":"MAES_ADOLESC!AO67","v":0.20989999999999998},{"$f":"MAES_ADOLESC!AB67","v":227},{"$f":"MAES_ADOLESC!AN67","v":0.18058870326173429},{"$f":"MAES_ADOLESC!AP67","v":"ATINGIU"},{"$f":"MORT_INF!AI67","v":27},{"$f":"MORT_INF!X67","v":25},{"$f":"MORT_INF!AH67","v":19.888623707239461},{"$f":"MORT_INF!AJ67","v":"ATINGIU"},{"$f":"OBITOS_MATERNOS!AI67","v":1},{"$f":"OBITOS_MATERNOS!X67","v":1},{"$f":"OBITOS_MATERNOS!AJ67","v":"ATINGIU"},{"$f":"COBERTURA_AB!N74","v":0.61049999999999993},{"$f":"COBERTURA_AB!M74","v":0.4708},{"$f":"COBERTURA_AB!O74","v":"NÃO ATINGIU"},0.95,{"$f":"PBF_ACOMP_2017!F72","v":7523},{"$f":"PBF_ACOMP_2017!G72","v":0.96461084754455695},{"$f":"PBF_ACOMP_2017!I72","v":"ATINGIU"},{"$f":"COBETURA_SB!M75","v":0.43109999999999998},{"$f":"COBETURA_SB!L75","v":0.42559999999999998},{"$f":"COBETURA_SB!N75","v":"NÃO ATINGIU"},{"$f":"AÇOES_VIGIL!N69","v":1},{"$f":"AÇOES_VIGIL!M69","v":0.66666666666666663},{"$f":"AÇOES_VIGIL!O69","v":"NÃO ATINGIU"},{"$f":"MATRICIAMENTO_CAPS!K67","v":1},{"$f":"MATRICIAMENTO_CAPS!H67","v":2},{"$f":"MATRICIAMENTO_CAPS!J67","v":1},{"$f":"MATRICIAMENTO_CAPS!L67","v":"ATINGIU"},{"$f":"CICLO_DENGUE!H69","v":4},{"$f":"CICLO_DENGUE!G69","v":2},{"$f":"CICLO_DENGUE!I69","v":"NÃO ATINGIU"},{"$f":"NOT_AC_TRAB_OCUP!M67","v":0.95},{"$f":"NOT_AC_TRAB_OCUP!L67","v":0.52380952380952384},{"$f":"NOT_AC_TRAB_OCUP!N67","v":"NÃO ATINGIU"},{"$f":"COUNTIF(E67:CD67,\"ATINGIU\")","v":9},13,0.40909090909090912]
[280680,"ITABAIANA","SÃO DOMINGOS",{"$f":"OBITOS_PREMATUROS!D68","v":10971},{"$f":"OBITOS_PREMATUROS!AH68","v":10},{"$f":"OBITOS_PREMATUROS!W68","v":6},{"$f":"OBITOS_PREMATUROS!AG68","v":126.7694908092119},{"$f":"OBITOS_PREMATUROS!AI68","v":"ATINGIU"},{"$f":"OBITOS_MIF!AI68","v":0.9},{"$f":"OBITOS_MIF!N68","v":4},{"$f":"OBITOS_MIF!X68","v":4},{"$f":"OBITOS_MIF!AH68","v":1},{"$f":"OBITOS_MIF!AJ68","v":"ATINGIU"},{"$f":"OBITOS_CAUSAS!AI68","v":0.95},{"$f":"OBITOS_CAUSAS!N68","v":57},{"$f":"OBITOS_CAUSAS!AH68","v":0.91935483870967738},{"$f":"OBITOS_CAUSAS!AJ68","v":"NÃO ATINGIU"},{"$f":"METAS!G68","v":0.75},0,"NÃO ATINGIU",{"$f":"METAS!H68","v":0.85},"S/C",{"$f":"IF(Tabela13[[#This Row],[05 %DE CASOS DOENÇAS NOT COMP IMEDIATA]]=\"S/C\",\"N/A\",IF(V68>=U68,\"ATINGIU\",\"NÃO ATINGIU\"))","v":"N/A"},{"$f":"CURA_CASOS_HANS!AI68","v":0.9},{"$f":"CURA_CASOS_HANS!N68","v":0},{"$f":"CURA_CASOS_HANS!AH68","v":1},{"$f":"CURA_CASOS_HANS!AJ68","v":"ATINGIU"},{"$f":"SIFILIS_CONG_1ANO!O70","v":0},{"$f":"SIFILIS_CONG_1ANO!N70","v":2},{"$f":"SIFILIS_CONG_1ANO!P70","v":"NÃO ATINGIU"},{"$f":"AIDS_MENOR5!P68","v":0},{"$f":"AIDS_MENOR5!O68","v":0},{"$f":"AIDS_MENOR5!Q68","v":"ATINGIU"},{"$f":"METAS!L68","v":0.8},{"$f":"ANALISE_AGUA_2017!J69","v":1.0011574074074074},{"$f":"ANALISE_AGUA_2017!L69","v":"ATINGIU"},{"$f":"CITOPATOLOGICO!AH68","v":0.52},{"$f":"CITOPATOLOGICO!W68","v":371},{"$f":"CITOPATOLOGICO!AG68","v":0.41344725111441305},{"$f":"CITOPATOLOGICO!AL68","v":"NÃO ATINGIU"},{"$f":"MAMOGRAFIA!AE68","v":0.25},{"$f":"MAMOGRAFIA!U68","v":173},{"$f":"MAMOGRAFIA!AD68","v":0.42},{"$f":"MAMOGRAFIA!AG68","v":"ATINGIU"},{"$f":"PARTO_NORMAL!AI68","v":0.66},{"$f":"PARTO_NORMAL!X68","v":95},{"$f":"PARTO_NORMAL!AH68","v":0.6333333333333333},{"$f":"PARTO_NORMAL!AJ68","v":"NÃO ATINGIU"},{"$f":"MAES_ADOLESC!AO68","v":0.21},{"$f":"MAES_ADOLESC!AB68","v":36},{"$f":"MAES_ADOLESC!AN68","v":0.24},{"$f":"MAES_ADOLESC!AP68","v":"NÃO ATINGIU"},{"$f":"MORT_INF!AI68","v":2},{"$f":"MORT_INF!X68","v":4},{"$f":"MORT_INF!AH68","v":26.666666666666668},{"$f":"MORT_INF!AJ68","v":"NÃO ATINGIU"},{"$f":"OBITOS_MATERNOS!AI68","v":0},{"$f":"OBITOS_MATERNOS!X68","v":0},{"$f":"OBITOS_MATERNOS!AJ68","v":"ATINGIU"},{"$f":"COBERTURA_AB!N75","v":1},{"$f":"COBERTURA_AB!M75","v":1},{"$f":"COBERTURA_AB!O75","v":"ATINGIU"},0.72,{"$f":"PBF_ACOMP_2017!F73","v":1158},{"$f":"PBF_ACOMP_2017!G73","v":0.81721947776993653},{"$f":"PBF_ACOMP_2017!I73","v":"ATINGIU"},{"$f":"COBETURA_SB!M76","v":0.62890000000000001},{"$f":"COBETURA_SB!L76","v":0.31209999999999999},{"$f":"COBETURA_SB!N76","v":"NÃO ATINGIU"},{"$f":"AÇOES_VIGIL!N70","v":1},{"$f":"AÇOES_VIGIL!M70","v":1},{"$f":"AÇOES_VIGIL!O70","v":"ATINGIU"},{"$f":"MATRICIAMENTO_CAPS!K68","v":1},{"$f":"MATRICIAMENTO_CAPS!H68","v":0},{"$f":"MATRICIAMENTO_CAPS!J68","v":0},{"$f":"MATRICIAMENTO_CAPS!L68","v":"NÃO ATINGIU"},{"$f":"CICLO_DENGUE!H70","v":4},{"$f":"CICLO_DENGUE!G70","v":0},{"$f":"CICLO_DENGUE!I70","v":"NÃO ATINGIU"},{"$f":"NOT_AC_TRAB_OCUP!M68","v":0.95},{"$f":"NOT_AC_TRAB_OCUP!L68","v":1},{"$f":"NOT_AC_TRAB_OCUP!N68","v":"ATINGIU"},11,10,0.52380952380952384]
[280690,"PROPRIA","SÃO FRANCISCO",{"$f":"OBITOS_PREMATUROS!D69","v":3851},{"$f":"OBITOS_PREMATUROS!AH69","v":5},{"$f":"OBITOS_PREMATUROS!W69","v":8},{"$f":"OBITOS_PREMATUROS!AG69","v":473.37278106508876},{"$f":"OBITOS_PREMATUROS!AI69","v":"NÃO ATINGIU"},{"$f":"OBITOS_MIF!AI69","v":1},{"$f":"OBITOS_MIF!N69","v":1},{"$f":"OBITOS_MIF!X69","v":0},{"$f":"OBITOS_MIF!AH69","v":0},{"$f":"OBITOS_MIF!AJ69","v":"NÃO ATINGIU"},{"$f":"OBITOS_CAUSAS!AI69","v":0.95},{"$f":"OBITOS_CAUSAS!N69","v":16},{"$f":"OBITOS_CAUSAS!AH69","v":0.76190476190476186},{"$f":"OBITOS_CAUSAS!AJ69","v":"NÃO ATINGIU"},{"$f":"METAS!G69","v":1},0,"NÃO ATINGIU",{"$f":"METAS!H69","v":0.85},"S/C",{"$f":"IF(Tabela13[[#This Row],[05 %DE CASOS DOENÇAS NOT COMP IMEDIATA]]=\"S/C\",\"N/A\",IF(V69>=U69,\"ATINGIU\",\"NÃO ATINGIU\"))","v":"N/A"},{"$f":"CURA_CASOS_HANS!AI69","v":0.9},{"$f":"CURA_CASOS_HANS!N69","v":0},{"$f":"CURA_CASOS_HANS!AH69","v":1},{"$f":"CURA_CASOS_HANS!AJ69","v":"ATINGIU"},{"$f":"SIFILIS_CONG_1ANO!O71","v":0},{"$f":"SIFILIS_CONG_1ANO!N71","v":0},{"$f":"SIFILIS_CONG_1ANO!P71","v":"ATINGIU"},{"$f":"AIDS_MENOR5!P69","v":0},{"$f":"AIDS_MENOR5!O69","v":0},{"$f":"AIDS_MENOR5!Q69","v":"ATINGIU"},{"$f":"METAS!L69","v":0.7},{"$f":"ANALISE_AGUA_2017!J70","v":0.59461805555555547},{"$f":"ANALISE_AGUA_2017!L70","v":"NÃO ATINGIU"},{"$f":"CITOPATOLOGICO!AH69","v":0.7},{"$f":"CITOPATOLOGICO!W69","v":247},{"$f":"CITOPATOLOGICO!AG69","v":0.79849137931034486},{"$f":"CITOPATOLOGICO!AL69","v":"ATINGIU"},{"$f":"MAMOGRAFIA!AE69","v":0.24},{"$f":"MAMOGRAFIA!U69","v":142},{"$f":"MAMOGRAFIA!AD69","v":0.96},{"$f":"MAMOGRAFIA!AG69","v":"ATINGIU"},{"$f":"PARTO_NORMAL!AI69","v":0.66},{"$f":"PARTO_NORMAL!X69","v":28},{"$f":"PARTO_NORMAL!AH69","v":0.51851851851851849},{"$f":"PARTO_NORMAL!AJ69","v":"NÃO ATINGIU"},{"$f":"MAES_ADOLESC!AO69","v":0.25},{"$f":"MAES_ADOLESC!AB69","v":4},{"$f":"MAES_ADOLESC!AN69","v":7.407407407407407E-2},{"$f":"MAES_ADOLESC!AP69","v":"ATINGIU"},{"$f":"MORT_INF!AI69","v":0},{"$f":"MORT_INF!X69","v":0},{"$f":"MORT_INF!AH69","v":0},{"$f":"MORT_INF!AJ69","v":"ATINGIU"},{"$f":"OBITOS_MATERNOS!AI69","v":0},{"$f":"OBITOS_MATERNOS!X69","v":0},{"$f":"OBITOS_MATERNOS!AJ69","v":"ATINGIU"},{"$f":"COBERTURA_AB!N76","v":0.89680000000000004},{"$f":"COBERTURA_AB!M76","v":0.88100000000000001},{"$f":"COBERTURA_AB!O76","v":"NÃO ATINGIU"},0.9,{"$f":"PBF_ACOMP_2017!F74","v":337},{"$f":"PBF_ACOMP_2017!G74","v":0.89627659574468088},{"$f":"PBF_ACOMP_2017!I74","v":"NÃO ATINGIU"},{"$f":"COBETURA_SB!M77","v":0.89680000000000004},{"$f":"COBETURA_SB!L77","v":0.88100000000000001},{"$f":"COBETURA_SB!N77","v":"NÃO ATINGIU"},{"$f":"AÇOES_VIGIL!N71","v":1},{"$f":"AÇOES_VIGIL!M71","v":0.83333333333333337},{"$f":"AÇOES_VIGIL!O71","v":"NÃO ATINGIU"},{"$f":"MATRICIAMENTO_CAPS!K69","v":"N/A"},{"$f":"MATRICIAMENTO_CAPS!H69","v":"N/A"},{"$f":"MATRICIAMENTO_CAPS!J69","v":"N/A"},{"$f":"MATRICIAMENTO_CAPS!L69","v":"N/A"},{"$f":"CICLO_DENGUE!H71","v":6},{"$f":"CICLO_DENGUE!G71","v":3},{"$f":"CICLO_DENGUE!I71","v":"NÃO ATINGIU"},{"$f":"NOT_AC_TRAB_OCUP!M69","v":0.95},{"$f":"NOT_AC_TRAB_OCUP!L69","v":0.16666666666666666},{"$f":"NOT_AC_TRAB_OCUP!N69","v":"NÃO ATINGIU"},8,12,0.4]
[280700,"ITABAIANA","SÃO MIGUEL DO ALEIXO",{"$f":"OBITOS_PREMATUROS!D70","v":3902},{"$f":"OBITOS_PREMATUROS!AH70","v":8},{"$f":"OBITOS_PREMATUROS!W70","v":2},{"$f":"OBITOS_PREMATUROS!AG70","v":119.68880909634949},{"$f":"OBITOS_PREMATUROS!AI70","v":"ATINGIU"},{"$f":"OBITOS_MIF!AI70","v":1},{"$f":"OBITOS_MIF!N70","v":1},{"$f":"OBITOS_MIF!X70","v":0},{"$f":"OBITOS_MIF!AH70","v":0},{"$f":"OBITOS_MIF!AJ70","v":"NÃO ATINGIU"},{"$f":"OBITOS_CAUSAS!AI70","v":0.95},{"$f":"OBITOS_CAUSAS!N70","v":17},{"$f":"OBITOS_CAUSAS!AH70","v":0.80952380952380953},{"$f":"OBITOS_CAUSAS!AJ70","v":"NÃO ATINGIU"},{"$f":"METAS!G70","v":1},0,"NÃO ATINGIU",{"$f":"METAS!H70","v":1},"S/C",{"$f":"IF(Tabela13[[#This Row],[05 %DE CASOS DOENÇAS NOT COMP IMEDIATA]]=\"S/C\",\"N/A\",IF(V70>=U70,\"ATINGIU\",\"NÃO ATINGIU\"))","v":"N/A"},{"$f":"CURA_CASOS_HANS!AI70","v":1},{"$f":"CURA_CASOS_HANS!N70","v":0},{"$f":"CURA_CASOS_HANS!AH70","v":"SC"},{"$f":"CURA_CASOS_HANS!AJ70","v":"N/A"},{"$f":"SIFILIS_CONG_1ANO!O72","v":0},{"$f":"SIFILIS_CONG_1ANO!N72","v":0},{"$f":"SIFILIS_CONG_1ANO!P72","v":"ATINGIU"},{"$f":"AIDS_MENOR5!P70","v":0},{"$f":"AIDS_MENOR5!O70","v":0},{"$f":"AIDS_MENOR5!Q70","v":"ATINGIU"},{"$f":"METAS!L70","v":0.5},{"$f":"ANALISE_AGUA_2017!J71","v":0.44444444444444442},{"$f":"ANALISE_AGUA_2017!L71","v":"NÃO ATINGIU"},{"$f":"CITOPATOLOGICO!AH70","v":0.57999999999999996},{"$f":"CITOPATOLOGICO!W70","v":175},{"$f":"CITOPATOLOGICO!AG70","v":0.56818181818181823},{"$f":"CITOPATOLOGICO!AL70","v":"NÃO ATINGIU"},{"$f":"MAMOGRAFIA!AE70","v":0.26},{"$f":"MAMOGRAFIA!U70","v":112},{"$f":"MAMOGRAFIA!AD70","v":0.76},{"$f":"MAMOGRAFIA!AG70","v":"ATINGIU"},{"$f":"PARTO_NORMAL!AI70","v":0.7},{"$f":"PARTO_NORMAL!X70","v":30},{"$f":"PARTO_NORMAL!AH70","v":0.61224489795918369},{"$f":"PARTO_NORMAL!AJ70","v":"NÃO ATINGIU"},{"$f":"MAES_ADOLESC!AO70","v":0.25579999999999997},{"$f":"MAES_ADOLESC!AB70","v":8},{"$f":"MAES_ADOLESC!AN70","v":0.16326530612244897},{"$f":"MAES_ADOLESC!AP70","v":"ATINGIU"},{"$f":"MORT_INF!AI70","v":0},{"$f":"MORT_INF!X70","v":3},{"$f":"MORT_INF!AH70","v":61.224489795918366},{"$f":"MORT_INF!AJ70","v":"NÃO ATINGIU"},{"$f":"OBITOS_MATERNOS!AI70","v":0},{"$f":"OBITOS_MATERNOS!X70","v":0},{"$f":"OBITOS_MATERNOS!AJ70","v":"ATINGIU"},{"$f":"COBERTURA_AB!N77","v":1},{"$f":"COBERTURA_AB!M77","v":1},{"$f":"COBERTURA_AB!O77","v":"ATINGIU"},0.9,{"$f":"PBF_ACOMP_2017!F75","v":367},{"$f":"PBF_ACOMP_2017!G75","v":0.77263157894736845},{"$f":"PBF_ACOMP_2017!I75","v":"NÃO ATINGIU"},{"$f":"COBETURA_SB!M78","v":1},{"$f":"COBETURA_SB!L78","v":1},{"$f":"COBETURA_SB!N78","v":"ATINGIU"},{"$f":"AÇOES_VIGIL!N72","v":1},{"$f":"AÇOES_VIGIL!M72","v":0.83333333333333337},{"$f":"AÇOES_VIGIL!O72","v":"NÃO ATINGIU"},{"$f":"MATRICIAMENTO_CAPS!K70","v":"N/A"},{"$f":"MATRICIAMENTO_CAPS!H70","v":"N/A"},{"$f":"MATRICIAMENTO_CAPS!J70","v":"N/A"},{"$f":"MATRICIAMENTO_CAPS!L70","v":"N/A"},{"$f":"CICLO_DENGUE!H72","v":4},{"$f":"CICLO_DENGUE!G72","v":1},{"$f":"CICLO_DENGUE!I72","v":"NÃO ATINGIU"},{"$f":"NOT_AC_TRAB_OCUP!M70","v":0.95},{"$f":"NOT_AC_TRAB_OCUP!L70","v":0.6},{"$f":"NOT_AC_TRAB_OCUP!N70","v":"NÃO ATINGIU"},8,11,0.42105263157894735]
[280710,"LAGARTO","SIMÃO DIAS",{"$f":"OBITOS_PREMATUROS!D71","v":40530},{"$f":"OBITOS_PREMATUROS!AH71","v":47},{"$f":"OBITOS_PREMATUROS!W71","v":44},{"$f":"OBITOS_PREMATUROS!AG71","v":253.86568197553657},{"$f":"OBITOS_PREMATUROS!AI71","v":"ATINGIU"},{"$f":"OBITOS_MIF!AI71","v":0.95},{"$f":"OBITOS_MIF!N71","v":14},{"$f":"OBITOS_MIF!X71","v":8},{"$f":"OBITOS_MIF!AH71","v":0.5714285714285714},{"$f":"OBITOS_MIF!AJ71","v":"NÃO ATINGIU"},{"$f":"OBITOS_CAUSAS!AI71","v":0.95},{"$f":"OBITOS_CAUSAS!N71","v":253},{"$f":"OBITOS_CAUSAS!AH71","v":0.86643835616438358},{"$f":"OBITOS_CAUSAS!AJ71","v":"NÃO ATINGIU"},{"$f":"METAS!G71","v":1},0,"NÃO ATINGIU",{"$f":"METAS!H71","v":0.85},1,{"$f":"IF(Tabela13[[#This Row],[05 %DE CASOS DOENÇAS NOT COMP IMEDIATA]]=\"S/C\",\"N/A\",IF(V71>=U71,\"ATINGIU\",\"NÃO ATINGIU\"))","v":"ATINGIU"},{"$f":"CURA_CASOS_HANS!AI71","v":0.9},{"$f":"CURA_CASOS_HANS!N71","v":0},{"$f":"CURA_CASOS_HANS!AH71","v":1},{"$f":"CURA_CASOS_HANS!AJ71","v":"ATINGIU"},{"$f":"SIFILIS_CONG_1ANO!O73","v":4},{"$f":"SIFILIS_CONG_1ANO!N73","v":1},{"$f":"SIFILIS_CONG_1ANO!P73","v":"ATINGIU"},{"$f":"AIDS_MENOR5!P71","v":0},{"$f":"AIDS_MENOR5!O71","v":0},{"$f":"AIDS_MENOR5!Q71","v":"ATINGIU"},{"$f":"METAS!L71","v":0.8},{"$f":"ANALISE_AGUA_2017!J72","v":1.4923878205128205},{"$f":"ANALISE_AGUA_2017!L72","v":"ATINGIU"},{"$f":"CITOPATOLOGICO!AH71","v":0.57999999999999996},{"$f":"CITOPATOLOGICO!W71","v":1426},{"$f":"CITOPATOLOGICO!AG71","v":0.4291303039422209},{"$f":"CITOPATOLOGICO!AL71","v":"NÃO ATINGIU"},{"$f":"MAMOGRAFIA!AE71","v":0.22},{"$f":"MAMOGRAFIA!U71","v":148},{"$f":"MAMOGRAFIA!AD71","v":0.1},{"$f":"MAMOGRAFIA!AG71","v":"NÃO ATINGIU"},{"$f":"PARTO_NORMAL!AI71","v":0.65},{"$f":"PARTO_NORMAL!X71","v":334},{"$f":"PARTO_NORMAL!AH71","v":0.56899488926746167},{"$f":"PARTO_NORMAL!AJ71","v":"NÃO ATINGIU"},{"$f":"MAES_ADOLESC!AO71","v":0.22},{"$f":"MAES_ADOLESC!AB71","v":111},{"$f":"MAES_ADOLESC!AN71","v":0.18909710391822829},{"$f":"MAES_ADOLESC!AP71","v":"ATINGIU"},{"$f":"MORT_INF!AI71","v":6},{"$f":"MORT_INF!X71","v":3},{"$f":"MORT_INF!AH71","v":5.1107325383304936},{"$f":"MORT_INF!AJ71","v":"ATINGIU"},{"$f":"OBITOS_MATERNOS!AI71","v":2},{"$f":"OBITOS_MATERNOS!X71","v":0},{"$f":"OBITOS_MATERNOS!AJ71","v":"ATINGIU"},{"$f":"COBERTURA_AB!N78","v":0.80319999999999991},{"$f":"COBERTURA_AB!M78","v":1},{"$f":"COBERTURA_AB!O78","v":"ATINGIU"},0.84,{"$f":"PBF_ACOMP_2017!F76","v":5494},{"$f":"PBF_ACOMP_2017!G76","v":0.80829777843166106},{"$f":"PBF_ACOMP_2017!I76","v":"NÃO ATINGIU"},{"$f":"COBETURA_SB!M79","v":0.54409999999999992},{"$f":"COBETURA_SB!L79","v":0.71899999999999997},{"$f":"COBETURA_SB!N79","v":"ATINGIU"},{"$f":"AÇOES_VIGIL!N73","v":1},{"$f":"AÇOES_VIGIL!M73","v":0.83333333333333337},{"$f":"AÇOES_VIGIL!O73","v":"NÃO ATINGIU"},{"$f":"MATRICIAMENTO_CAPS!K71","v":1},{"$f":"MATRICIAMENTO_CAPS!H71","v":0},{"$f":"MATRICIAMENTO_CAPS!J71","v":0},{"$f":"MATRICIAMENTO_CAPS!L71","v":"NÃO ATINGIU"},{"$f":"CICLO_DENGUE!H73","v":4},{"$f":"CICLO_DENGUE!G73","v":2},{"$f":"CICLO_DENGUE!I73","v":"NÃO ATINGIU"},{"$f":"NOT_AC_TRAB_OCUP!M71","v":0.95},{"$f":"NOT_AC_TRAB_OCUP!L71","v":0.97058823529411764},{"$f":"NOT_AC_TRAB_OCUP!N71","v":"ATINGIU"},12,10,0.54545454545454541]
[280720,"SOCORRO","SIRIRI",{"$f":"OBITOS_PREMATUROS!D72","v":8675},{"$f":"OBITOS_PREMATUROS!AH72","v":4},{"$f":"OBITOS_PREMATUROS!W72","v":8},{"$f":"OBITOS_PREMATUROS!AG72","v":237.45918670228556},{"$f":"OBITOS_PREMATUROS!AI72","v":"NÃO ATINGIU"},{"$f":"OBITOS_MIF!AI72","v":0.9},{"$f":"OBITOS_MIF!N72","v":2},{"$f":"OBITOS_MIF!X72","v":2},{"$f":"OBITOS_MIF!AH72","v":1},{"$f":"OBITOS_MIF!AJ72","v":"ATINGIU"},{"$f":"OBITOS_CAUSAS!AI72","v":0.93},{"$f":"OBITOS_CAUSAS!N72","v":40},{"$f":"OBITOS_CAUSAS!AH72","v":0.93023255813953487},{"$f":"OBITOS_CAUSAS!AJ72","v":"ATINGIU"},{"$f":"METAS!G72","v":1},0,"NÃO ATINGIU",{"$f":"METAS!H72","v":0.85},"S/C",{"$f":"IF(Tabela13[[#This Row],[05 %DE CASOS DOENÇAS NOT COMP IMEDIATA]]=\"S/C\",\"N/A\",IF(V72>=U72,\"ATINGIU\",\"NÃO ATINGIU\"))","v":"N/A"},{"$f":"CURA_CASOS_HANS!AI72","v":0.9},{"$f":"CURA_CASOS_HANS!N72","v":0},{"$f":"CURA_CASOS_HANS!AH72","v":"SC"},{"$f":"CURA_CASOS_HANS!AJ72","v":"N/A"},{"$f":"SIFILIS_CONG_1ANO!O74","v":1},{"$f":"SIFILIS_CONG_1ANO!N74","v":3},{"$f":"SIFILIS_CONG_1ANO!P74","v":"NÃO ATINGIU"},{"$f":"AIDS_MENOR5!P72","v":0},{"$f":"AIDS_MENOR5!O72","v":0},{"$f":"AIDS_MENOR5!Q72","v":"ATINGIU"},{"$f":"METAS!L72","v":0.5},{"$f":"ANALISE_AGUA_2017!J73","v":0.48900462962962954},{"$f":"ANALISE_AGUA_2017!L73","v":"NÃO ATINGIU"},{"$f":"CITOPATOLOGICO!AH72","v":0.6},{"$f":"CITOPATOLOGICO!W72","v":637},{"$f":"CITOPATOLOGICO!AG72","v":1},{"$f":"CITOPATOLOGICO!AL72","v":"ATINGIU"},{"$f":"MAMOGRAFIA!AE72","v":0.12},{"$f":"MAMOGRAFIA!U72","v":306},{"$f":"MAMOGRAFIA!AD72","v":1.1299999999999999},{"$f":"MAMOGRAFIA!AG72","v":"ATINGIU"},{"$f":"PARTO_NORMAL!AI72","v":0.66},{"$f":"PARTO_NORMAL!X72","v":68},{"$f":"PARTO_NORMAL!AH72","v":0.6071428571428571},{"$f":"PARTO_NORMAL!AJ72","v":"NÃO ATINGIU"},{"$f":"MAES_ADOLESC!AO72","v":0.25},{"$f":"MAES_ADOLESC!AB72","v":24},{"$f":"MAES_ADOLESC!AN72","v":0.21428571428571427},{"$f":"MAES_ADOLESC!AP72","v":"ATINGIU"},{"$f":"MORT_INF!AI72","v":1},{"$f":"MORT_INF!X72","v":2},{"$f":"MORT_INF!AH72","v":17.857142857142858},{"$f":"MORT_INF!AJ72","v":"NÃO ATINGIU"},{"$f":"OBITOS_MATERNOS!AI72","v":0},{"$f":"OBITOS_MATERNOS!X72","v":0},{"$f":"OBITOS_MATERNOS!AJ72","v":"ATINGIU"},{"$f":"COBERTURA_AB!N79","v":1},{"$f":"COBERTURA_AB!M79","v":1},{"$f":"COBERTURA_AB!O79","v":"ATINGIU"},0.86,{"$f":"PBF_ACOMP_2017!F77","v":1015},{"$f":"PBF_ACOMP_2017!G77","v":0.92525068368277119},{"$f":"PBF_ACOMP_2017!I77","v":"ATINGIU"},{"$f":"COBETURA_SB!M80","v":1},{"$f":"COBETURA_SB!L80","v":1},{"$f":"COBETURA_SB!N80","v":"ATINGIU"},{"$f":"AÇOES_VIGIL!N74","v":1},{"$f":"AÇOES_VIGIL!M74","v":0.83333333333333337},{"$f":"AÇOES_VIGIL!O74","v":"NÃO ATINGIU"},{"$f":"MATRICIAMENTO_CAPS!K72","v":"N/A"},{"$f":"MATRICIAMENTO_CAPS!H72","v":"N/A"},{"$f":"MATRICIAMENTO_CAPS!J72","v":"N/A"},{"$f":"MATRICIAMENTO_CAPS!L72","v":"N/A"},{"$f":"CICLO_DENGUE!H74","v":4},{"$f":"CICLO_DENGUE!G74","v":2},{"$f":"CICLO_DENGUE!I74","v":"NÃO ATINGIU"},{"$f":"NOT_AC_TRAB_OCUP!M72","v":0.95},{"$f":"NOT_AC_TRAB_OCUP!L72","v":0},{"$f":"NOT_AC_TRAB_OCUP!N72","v":"NÃO ATINGIU"},10,9,0.52631578947368418]
[280730,"PROPRIA","TELHA",{"$f":"OBITOS_PREMATUROS!D73","v":3171},{"$f":"OBITOS_PREMATUROS!AH73","v":2},{"$f":"OBITOS_PREMATUROS!W73","v":6},{"$f":"OBITOS_PREMATUROS!AG73","v":438.27611395178963},{"$f":"OBITOS_PREMATUROS!AI73","v":"NÃO ATINGIU"},{"$f":"OBITOS_MIF!AI73","v":0.9},{"$f":"OBITOS_MIF!N73","v":0},{"$f":"OBITOS_MIF!X73","v":"S/C"},{"$f":"OBITOS_MIF!AH73","v":"S/C"},{"$f":"OBITOS_MIF!AJ73","v":"N/A"},{"$f":"OBITOS_CAUSAS!AI73","v":0.95},{"$f":"OBITOS_CAUSAS!N73","v":16},{"$f":"OBITOS_CAUSAS!AH73","v":0.8},{"$f":"OBITOS_CAUSAS!AJ73","v":"NÃO ATINGIU"},{"$f":"METAS!G73","v":1},0.75,"NÃO ATINGIU",{"$f":"METAS!H73","v":0.85},"S/C",{"$f":"IF(Tabela13[[#This Row],[05 %DE CASOS DOENÇAS NOT COMP IMEDIATA]]=\"S/C\",\"N/A\",IF(V73>=U73,\"ATINGIU\",\"NÃO ATINGIU\"))","v":"N/A"},{"$f":"CURA_CASOS_HANS!AI73","v":0.9},{"$f":"CURA_CASOS_HANS!N73","v":0},{"$f":"CURA_CASOS_HANS!AH73","v":"SC"},{"$f":"CURA_CASOS_HANS!AJ73","v":"N/A"},{"$f":"SIFILIS_CONG_1ANO!O75","v":0},{"$f":"SIFILIS_CONG_1ANO!N75","v":0},{"$f":"SIFILIS_CONG_1ANO!P75","v":"ATINGIU"},{"$f":"AIDS_MENOR5!P73","v":0},{"$f":"AIDS_MENOR5!O73","v":0},{"$f":"AIDS_MENOR5!Q73","v":"ATINGIU"},{"$f":"METAS!L73","v":0.4},{"$f":"ANALISE_AGUA_2017!J74","v":0.32986111111111105},{"$f":"ANALISE_AGUA_2017!L74","v":"NÃO ATINGIU"},{"$f":"CITOPATOLOGICO!AH73","v":0.6},{"$f":"CITOPATOLOGICO!W73","v":134},{"$f":"CITOPATOLOGICO!AG73","v":0.52686762778505891},{"$f":"CITOPATOLOGICO!AL73","v":"NÃO ATINGIU"},{"$f":"MAMOGRAFIA!AE73","v":0.19},{"$f":"MAMOGRAFIA!U73","v":60},{"$f":"MAMOGRAFIA!AD73","v":0.62},{"$f":"MAMOGRAFIA!AG73","v":"ATINGIU"},{"$f":"PARTO_NORMAL!AI73","v":0.6},{"$f":"PARTO_NORMAL!X73","v":32},{"$f":"PARTO_NORMAL!AH73","v":0.59259259259259256},{"$f":"PARTO_NORMAL!AJ73","v":"NÃO ATINGIU"},{"$f":"MAES_ADOLESC!AO73","v":0.28000000000000003},{"$f":"MAES_ADOLESC!AB73","v":13},{"$f":"MAES_ADOLESC!AN73","v":0.24074074074074073},{"$f":"MAES_ADOLESC!AP73","v":"ATINGIU"},{"$f":"MORT_INF!AI73","v":1},{"$f":"MORT_INF!X73","v":2},{"$f":"MORT_INF!AH73","v":37.037037037037038},{"$f":"MORT_INF!AJ73","v":"NÃO ATINGIU"},{"$f":"OBITOS_MATERNOS!AI73","v":0},{"$f":"OBITOS_MATERNOS!X73","v":0},{"$f":"OBITOS_MATERNOS!AJ73","v":"ATINGIU"},{"$f":"COBERTURA_AB!N80","v":1},{"$f":"COBERTURA_AB!M80","v":1},{"$f":"COBERTURA_AB!O80","v":"ATINGIU"},0.85,{"$f":"PBF_ACOMP_2017!F78","v":383},{"$f":"PBF_ACOMP_2017!G78","v":0.88863109048723898},{"$f":"PBF_ACOMP_2017!I78","v":"ATINGIU"},{"$f":"COBETURA_SB!M81","v":1},{"$f":"COBETURA_SB!L81","v":1},{"$f":"COBETURA_SB!N81","v":"ATINGIU"},{"$f":"AÇOES_VIGIL!N75","v":1},{"$f":"AÇOES_VIGIL!M75","v":0.83333333333333337},{"$f":"AÇOES_VIGIL!O75","v":"NÃO ATINGIU"},{"$f":"MATRICIAMENTO_CAPS!K73","v":"N/A"},{"$f":"MATRICIAMENTO_CAPS!H73","v":"N/A"},{"$f":"MATRICIAMENTO_CAPS!J73","v":"N/A"},{"$f":"MATRICIAMENTO_CAPS!L73","v":"N/A"},{"$f":"CICLO_DENGUE!H75","v":5},{"$f":"CICLO_DENGUE!G75","v":3},{"$f":"CICLO_DENGUE!I75","v":"NÃO ATINGIU"},{"$f":"NOT_AC_TRAB_OCUP!M73","v":0.95},{"$f":"NOT_AC_TRAB_OCUP!L73","v":0},{"$f":"NOT_AC_TRAB_OCUP!N73","v":"NÃO ATINGIU"},8,10,0.44444444444444442]
[280740,"LAGARTO","TOBIAS BARRETO",{"$f":"OBITOS_PREMATUROS!D74","v":51374},{"$f":"OBITOS_PREMATUROS!AH74","v":58},{"$f":"OBITOS_PREMATUROS!W74","v":63},{"$f":"OBITOS_PREMATUROS!AG74","v":286.92444322994942},{"$f":"OBITOS_PREMATUROS!AI74","v":"NÃO ATINGIU"},{"$f":"OBITOS_MIF!AI74","v":0.9},{"$f":"OBITOS_MIF!N74","v":13},{"$f":"OBITOS_MIF!X74","v":11},{"$f":"OBITOS_MIF!AH74","v":0.84615384615384615},{"$f":"OBITOS_MIF!AJ74","v":"NÃO ATINGIU"},{"$f":"OBITOS_CAUSAS!AI74","v":0.95},{"$f":"OBITOS_CAUSAS!N74","v":281},{"$f":"OBITOS_CAUSAS!AH74","v":0.88087774294670851},{"$f":"OBITOS_CAUSAS!AJ74","v":"NÃO ATINGIU"},{"$f":"METAS!G74","v":1},0,"NÃO ATINGIU",{"$f":"METAS!H74","v":0.85},"S/C",{"$f":"IF(Tabela13[[#This Row],[05 %DE CASOS DOENÇAS NOT COMP IMEDIATA]]=\"S/C\",\"N/A\",IF(V74>=U74,\"ATINGIU\",\"NÃO ATINGIU\"))","v":"N/A"},{"$f":"CURA_CASOS_HANS!AI74","v":1},{"$f":"CURA_CASOS_HANS!N74","v":0},{"$f":"CURA_CASOS_HANS!AH74","v":0.83329999999999993},{"$f":"CURA_CASOS_HANS!AJ74","v":"NÃO ATINGIU"},{"$f":"SIFILIS_CONG_1ANO!O76","v":2},{"$f":"SIFILIS_CONG_1ANO!N76","v":4},{"$f":"SIFILIS_CONG_1ANO!P76","v":"NÃO ATINGIU"},{"$f":"AIDS_MENOR5!P74","v":0},{"$f":"AIDS_MENOR5!O74","v":0},{"$f":"AIDS_MENOR5!Q74","v":"ATINGIU"},{"$f":"METAS!L74","v":1},{"$f":"ANALISE_AGUA_2017!J75","v":0.92951388888888875},{"$f":"ANALISE_AGUA_2017!L75","v":"NÃO ATINGIU"},{"$f":"CITOPATOLOGICO!AH74","v":0.59},{"$f":"CITOPATOLOGICO!W74","v":2847},{"$f":"CITOPATOLOGICO!AG74","v":0.67019774011299438},{"$f":"CITOPATOLOGICO!AL74","v":"ATINGIU"},{"$f":"MAMOGRAFIA!AE74","v":0.27},{"$f":"MAMOGRAFIA!U74","v":669},{"$f":"MAMOGRAFIA!AD74","v":0.33},{"$f":"MAMOGRAFIA!AG74","v":"ATINGIU"},{"$f":"PARTO_NORMAL!AI74","v":0.64},{"$f":"PARTO_NORMAL!X74","v":407},{"$f":"PARTO_NORMAL!AH74","v":0.60029498525073743},{"$f":"PARTO_NORMAL!AJ74","v":"NÃO ATINGIU"},{"$f":"MAES_ADOLESC!AO74","v":0.20499999999999999},{"$f":"MAES_ADOLESC!AB74","v":123},{"$f":"MAES_ADOLESC!AN74","v":0.18141592920353983},{"$f":"MAES_ADOLESC!AP74","v":"ATINGIU"},{"$f":"MORT_INF!AI74","v":7},{"$f":"MORT_INF!X74","v":14},{"$f":"MORT_INF!AH74","v":20.64896755162242},{"$f":"MORT_INF!AJ74","v":"NÃO ATINGIU"},{"$f":"OBITOS_MATERNOS!AI74","v":0},{"$f":"OBITOS_MATERNOS!X74","v":0},{"$f":"OBITOS_MATERNOS!AJ74","v":"ATINGIU"},{"$f":"COBERTURA_AB!N81","v":0.79900000000000004},{"$f":"COBERTURA_AB!M81","v":1},{"$f":"COBERTURA_AB!O81","v":"ATINGIU"},0.9,{"$f":"PBF_ACOMP_2017!F79","v":6196},{"$f":"PBF_ACOMP_2017!G79","v":0.93369499698613623},{"$f":"PBF_ACOMP_2017!I79","v":"ATINGIU"},{"$f":"COBETURA_SB!M82","v":0.51680000000000004},{"$f":"COBETURA_SB!L82","v":0.60850000000000004},{"$f":"COBETURA_SB!N82","v":"ATINGIU"},{"$f":"AÇOES_VIGIL!N76","v":1},{"$f":"AÇOES_VIGIL!M76","v":0.66666666666666663},{"$f":"AÇOES_VIGIL!O76","v":"NÃO ATINGIU"},{"$f":"MATRICIAMENTO_CAPS!K74","v":1},{"$f":"MATRICIAMENTO_CAPS!H74","v":0},{"$f":"MATRICIAMENTO_CAPS!J74","v":0},{"$f":"MATRICIAMENTO_CAPS!L74","v":"NÃO ATINGIU"},{"$f":"CICLO_DENGUE!H76","v":6},{"$f":"CICLO_DENGUE!G76","v":3},{"$f":"CICLO_DENGUE!I76","v":"NÃO ATINGIU"},{"$f":"NOT_AC_TRAB_OCUP!M74","v":0.95},{"$f":"NOT_AC_TRAB_OCUP!L74","v":0.625},{"$f":"NOT_AC_TRAB_OCUP!N74","v":"NÃO ATINGIU"},8,13,0.38095238095238093]
[280750,"ESTANCIA","TOMAR DO GERU",{"$f":"OBITOS_PREMATUROS!D75","v":13200},{"$f":"OBITOS_PREMATUROS!AH75","v":21},{"$f":"OBITOS_PREMATUROS!W75","v":16},{"$f":"OBITOS_PREMATUROS!AG75","v":292.55805448893761},{"$f":"OBITOS_PREMATUROS!AI75","v":"ATINGIU"},{"$f":"OBITOS_MIF!AI75","v":0.9},{"$f":"OBITOS_MIF!N75","v":4},{"$f":"OBITOS_MIF!X75","v":4},{"$f":"OBITOS_MIF!AH75","v":1},{"$f":"OBITOS_MIF!AJ75","v":"ATINGIU"},{"$f":"OBITOS_CAUSAS!AI75","v":0.95},{"$f":"OBITOS_CAUSAS!N75","v":62},{"$f":"OBITOS_CAUSAS!AH75","v":0.83783783783783783},{"$f":"OBITOS_CAUSAS!AJ75","v":"NÃO ATINGIU"},{"$f":"METAS!G75","v":1},0,"NÃO ATINGIU",{"$f":"METAS!H75","v":0.85},"S/C",{"$f":"IF(Tabela13[[#This Row],[05 %DE CASOS DOENÇAS NOT COMP IMEDIATA]]=\"S/C\",\"N/A\",IF(V75>=U75,\"ATINGIU\",\"NÃO ATINGIU\"))","v":"N/A"},{"$f":"CURA_CASOS_HANS!AI75","v":0.9},{"$f":"CURA_CASOS_HANS!N75","v":0},{"$f":"CURA_CASOS_HANS!AH75","v":1},{"$f":"CURA_CASOS_HANS!AJ75","v":"ATINGIU"},{"$f":"SIFILIS_CONG_1ANO!O77","v":2},{"$f":"SIFILIS_CONG_1ANO!N77","v":0},{"$f":"SIFILIS_CONG_1ANO!P77","v":"ATINGIU"},{"$f":"AIDS_MENOR5!P75","v":0},{"$f":"AIDS_MENOR5!O75","v":0},{"$f":"AIDS_MENOR5!Q75","v":"ATINGIU"},{"$f":"METAS!L75","v":1},{"$f":"ANALISE_AGUA_2017!J76","v":0.87343749999999998},{"$f":"ANALISE_AGUA_2017!L76","v":"NÃO ATINGIU"},{"$f":"CITOPATOLOGICO!AH75","v":0.57999999999999996},{"$f":"CITOPATOLOGICO!W75","v":484},{"$f":"CITOPATOLOGICO!AG75","v":0.48643216080402008},{"$f":"CITOPATOLOGICO!AL75","v":"NÃO ATINGIU"},{"$f":"MAMOGRAFIA!AE75","v":0.28000000000000003},{"$f":"MAMOGRAFIA!U75","v":87},{"$f":"MAMOGRAFIA!AD75","v":0.21},{"$f":"MAMOGRAFIA!AG75","v":"NÃO ATINGIU"},{"$f":"PARTO_NORMAL!AI75","v":0.67},{"$f":"PARTO_NORMAL!X75","v":112},{"$f":"PARTO_NORMAL!AH75","v":0.59259259259259256},{"$f":"PARTO_NORMAL!AJ75","v":"NÃO ATINGIU"},{"$f":"MAES_ADOLESC!AO75","v":0.26},{"$f":"MAES_ADOLESC!AB75","v":31},{"$f":"MAES_ADOLESC!AN75","v":0.16402116402116401},{"$f":"MAES_ADOLESC!AP75","v":"ATINGIU"},{"$f":"MORT_INF!AI75","v":0},{"$f":"MORT_INF!X75","v":4},{"$f":"MORT_INF!AH75","v":21.164021164021165},{"$f":"MORT_INF!AJ75","v":"NÃO ATINGIU"},{"$f":"OBITOS_MATERNOS!AI75","v":0},{"$f":"OBITOS_MATERNOS!X75","v":0},{"$f":"OBITOS_MATERNOS!AJ75","v":"ATINGIU"},{"$f":"COBERTURA_AB!N82","v":1},{"$f":"COBERTURA_AB!M82","v":1},{"$f":"COBERTURA_AB!O82","v":"ATINGIU"},0.88,{"$f":"PBF_ACOMP_2017!F80","v":1719},{"$f":"PBF_ACOMP_2017!G80","v":0.88837209302325582},{"$f":"PBF_ACOMP_2017!I80","v":"ATINGIU"},{"$f":"COBETURA_SB!M83","v":0.78410000000000002},{"$f":"COBETURA_SB!L83","v":1},{"$f":"COBETURA_SB!N83","v":"ATINGIU"},{"$f":"AÇOES_VIGIL!N77","v":0.9},{"$f":"AÇOES_VIGIL!M77","v":0.83333333333333337},{"$f":"AÇOES_VIGIL!O77","v":"NÃO ATINGIU"},{"$f":"MATRICIAMENTO_CAPS!K75","v":"N/A"},{"$f":"MATRICIAMENTO_CAPS!H75","v":"N/A"},{"$f":"MATRICIAMENTO_CAPS!J75","v":"N/A"},{"$f":"MATRICIAMENTO_CAPS!L75","v":"N/A"},{"$f":"CICLO_DENGUE!H77","v":4},{"$f":"CICLO_DENGUE!G77","v":1},{"$f":"CICLO_DENGUE!I77","v":"NÃO ATINGIU"},{"$f":"NOT_AC_TRAB_OCUP!M75","v":0.95},{"$f":"NOT_AC_TRAB_OCUP!L75","v":0.88888888888888884},{"$f":"NOT_AC_TRAB_OCUP!N75","v":"NÃO ATINGIU"},10,10,0.5]
[280760,"ESTANCIA","UMBAUBA",{"$f":"OBITOS_PREMATUROS!D76","v":24542},{"$f":"OBITOS_PREMATUROS!AH76","v":35},{"$f":"OBITOS_PREMATUROS!W76","v":31},{"$f":"OBITOS_PREMATUROS!AG76","v":315.61800040724904},{"$f":"OBITOS_PREMATUROS!AI76","v":"ATINGIU"},{"$f":"OBITOS_MIF!AI76","v":0.9},{"$f":"OBITOS_MIF!N76","v":7},{"$f":"OBITOS_MIF!X76","v":0},{"$f":"OBITOS_MIF!AH76","v":0},{"$f":"OBITOS_MIF!AJ76","v":"NÃO ATINGIU"},{"$f":"OBITOS_CAUSAS!AI76","v":0.95},{"$f":"OBITOS_CAUSAS!N76","v":122},{"$f":"OBITOS_CAUSAS!AH76","v":0.85915492957746475},{"$f":"OBITOS_CAUSAS!AJ76","v":"NÃO ATINGIU"},{"$f":"METAS!G76","v":1},0,"NÃO ATINGIU",{"$f":"METAS!H76","v":0.85},"S/C",{"$f":"IF(Tabela13[[#This Row],[05 %DE CASOS DOENÇAS NOT COMP IMEDIATA]]=\"S/C\",\"N/A\",IF(V76>=U76,\"ATINGIU\",\"NÃO ATINGIU\"))","v":"N/A"},{"$f":"CURA_CASOS_HANS!AI76","v":0.9},{"$f":"CURA_CASOS_HANS!N76","v":0},{"$f":"CURA_CASOS_HANS!AH76","v":"SC"},{"$f":"CURA_CASOS_HANS!AJ76","v":"N/A"},{"$f":"SIFILIS_CONG_1ANO!O78","v":6},{"$f":"SIFILIS_CONG_1ANO!N78","v":9},{"$f":"SIFILIS_CONG_1ANO!P78","v":"NÃO ATINGIU"},{"$f":"AIDS_MENOR5!P76","v":0},{"$f":"AIDS_MENOR5!O76","v":0},{"$f":"AIDS_MENOR5!Q76","v":"ATINGIU"},{"$f":"METAS!L76","v":0.9},{"$f":"ANALISE_AGUA_2017!J77","v":0.89488636363636365},{"$f":"ANALISE_AGUA_2017!L77","v":"NÃO ATINGIU"},{"$f":"CITOPATOLOGICO!AH76","v":0.57999999999999996},{"$f":"CITOPATOLOGICO!W76","v":481},{"$f":"CITOPATOLOGICO!AG76","v":0.24549166383123514},{"$f":"CITOPATOLOGICO!AL76","v":"NÃO ATINGIU"},{"$f":"MAMOGRAFIA!AE76","v":0.26},{"$f":"MAMOGRAFIA!U76","v":379},{"$f":"MAMOGRAFIA!AD76","v":0.44},{"$f":"MAMOGRAFIA!AG76","v":"ATINGIU"},{"$f":"PARTO_NORMAL!AI76","v":0.7},{"$f":"PARTO_NORMAL!X76","v":244},{"$f":"PARTO_NORMAL!AH76","v":0.62724935732647813},{"$f":"PARTO_NORMAL!AJ76","v":"NÃO ATINGIU"},{"$f":"MAES_ADOLESC!AO76","v":0.25},{"$f":"MAES_ADOLESC!AB76","v":86},{"$f":"MAES_ADOLESC!AN76","v":0.2210796915167095},{"$f":"MAES_ADOLESC!AP76","v":"ATINGIU"},{"$f":"MORT_INF!AI76","v":4},{"$f":"MORT_INF!X76","v":8},{"$f":"MORT_INF!AH76","v":20.565552699228789},{"$f":"MORT_INF!AJ76","v":"NÃO ATINGIU"},{"$f":"OBITOS_MATERNOS!AI76","v":0},{"$f":"OBITOS_MATERNOS!X76","v":0},{"$f":"OBITOS_MATERNOS!AJ76","v":"ATINGIU"},{"$f":"COBERTURA_AB!N83","v":0.84329999999999994},{"$f":"COBERTURA_AB!M83","v":0.69469999999999998},{"$f":"COBERTURA_AB!O83","v":"NÃO ATINGIU"},0.85,{"$f":"PBF_ACOMP_2017!F81","v":2940},{"$f":"PBF_ACOMP_2017!G81","v":0.9219190968955786},{"$f":"PBF_ACOMP_2017!I81","v":"ATINGIU"},{"$f":"COBETURA_SB!M84","v":0.56220000000000003},{"$f":"COBETURA_SB!L84","v":0.55569999999999997},{"$f":"COBETURA_SB!N84","v":"NÃO ATINGIU"},{"$f":"AÇOES_VIGIL!N78","v":1},{"$f":"AÇOES_VIGIL!M78","v":0.66666666666666663},{"$f":"AÇOES_VIGIL!O78","v":"NÃO ATINGIU"},{"$f":"MATRICIAMENTO_CAPS!K76","v":1},{"$f":"MATRICIAMENTO_CAPS!H76","v":1},{"$f":"MATRICIAMENTO_CAPS!J76","v":1},{"$f":"MATRICIAMENTO_CAPS!L76","v":"ATINGIU"},{"$f":"CICLO_DENGUE!H78","v":4},{"$f":"CICLO_DENGUE!G78","v":1},{"$f":"CICLO_DENGUE!I78","v":"NÃO ATINGIU"},{"$f":"NOT_AC_TRAB_OCUP!M76","v":0.95},{"$f":"NOT_AC_TRAB_OCUP!L76","v":1},{"$f":"NOT_AC_TRAB_OCUP!N76","v":"ATINGIU"},8,12,0.4]
[280000,"SERGIPE","SERGIPE",{"$f":"OBITOS_PREMATUROS!D77","v":2242948},{"$f":"OBITOS_PREMATUROS!AH77","v":263.62},{"$f":"OBITOS_PREMATUROS!W77","v":2561},{"$f":"OBITOS_PREMATUROS!AG77","v":263.92919566006003},{"$f":"OBITOS_PREMATUROS!AI77","v":"NÃO ATINGIU"},{"$f":"OBITOS_MIF!AI77","v":0.9},{"$f":"OBITOS_MIF!N77","v":734},{"$f":"OBITOS_MIF!X77","v":481},{"$f":"OBITOS_MIF!AH77","v":0.65531335149863756},{"$f":"OBITOS_MIF!AJ77","v":"NÃO ATINGIU"},{"$f":"OBITOS_CAUSAS!AI77","v":0.95},{"$f":"OBITOS_CAUSAS!N77","v":11873},{"$f":"OBITOS_CAUSAS!AH77","v":0.9140107775211701},{"$f":"OBITOS_CAUSAS!AJ77","v":"NÃO ATINGIU"},{"$f":"METAS!G77","v":0.75},0,"NÃO ATINGIU",{"$f":"METAS!H77","v":0.85},0.86840000000000006,{"$f":"IF(Tabela13[[#This Row],[05 %DE CASOS DOENÇAS NOT COMP IMEDIATA]]=\"S/C\",\"N/A\",IF(V77>=U77,\"ATINGIU\",\"NÃO ATINGIU\"))","v":"ATINGIU"},{"$f":"CURA_CASOS_HANS!AI77","v":0.9},{"$f":"CURA_CASOS_HANS!N77","v":0},{"$f":"CURA_CASOS_HANS!AH77","v":0.8095},{"$f":"CURA_CASOS_HANS!AJ77","v":"NÃO ATINGIU"},{"$f":"SIFILIS_CONG_1ANO!O79","v":300},{"$f":"SIFILIS_CONG_1ANO!N79","v":296},{"$f":"SIFILIS_CONG_1ANO!P79","v":"ATINGIU"},{"$f":"AIDS_MENOR5!P77","v":3},{"$f":"AIDS_MENOR5!O77","v":2},{"$f":"AIDS_MENOR5!Q77","v":"ATINGIU"},{"$f":"METAS!L77","v":0.6},{"$f":"ANALISE_AGUA_2017!J78","v":0.73677933414535102},{"$f":"ANALISE_AGUA_2017!L78","v":"Atingiu"},{"$f":"CITOPATOLOGICO!AH77","v":0.57999999999999996},{"$f":"CITOPATOLOGICO!W77","v":62255},{"$f":"CITOPATOLOGICO!AG77","v":0.32396638305622771},{"$f":"CITOPATOLOGICO!AL77","v":"NÃO ATINGIU"},{"$f":"MAMOGRAFIA!AE77","v":0.22},{"$f":"MAMOGRAFIA!U77","v":24594},{"$f":"MAMOGRAFIA!AD77","v":0.28999999999999998},{"$f":"MAMOGRAFIA!AG77","v":"ATINGIU"},{"$f":"PARTO_NORMAL!AI77","v":0.65},{"$f":"PARTO_NORMAL!X77","v":18291},{"$f":"PARTO_NORMAL!AH77","v":0.56072961373390562},{"$f":"PARTO_NORMAL!AJ77","v":"NÃO ATINGIU"},{"$f":"MAES_ADOLESC!AO77","v":0.21100000000000002},{"$f":"MAES_ADOLESC!AB77","v":6423},{"$f":"MAES_ADOLESC!AN77","v":0.19690374003678723},{"$f":"MAES_ADOLESC!AP77","v":"ATINGIU"},{"$f":"MORT_INF!AI77","v":14.25},{"$f":"MORT_INF!X77","v":512},{"$f":"MORT_INF!AH77","v":15.695892090741875},{"$f":"MORT_INF!AJ77","v":"NÃO ATINGIU"},{"$f":"OBITOS_MATERNOS!AI77","v":0},{"$f":"OBITOS_MATERNOS!X77","v":11},{"$f":"OBITOS_MATERNOS!AJ77","v":"NÃO ATINGIU"},{"$f":"COBERTURA_AB!N84","v":0.87450000000000006},{"$f":"COBERTURA_AB!M84","v":0.87784819260836999},{"$f":"COBERTURA_AB!O84","v":"ATINGIU"},0.78,{"$f":"PBF_ACOMP_2017!F82","v":182102},{"$f":"PBF_ACOMP_2017!G82","v":0.8232533748044738},{"$f":"PBF_ACOMP_2017!I82","v":"ATINGIU"},{"$f":"COBETURA_SB!M85","v":0.71200000000000008},{"$f":"COBETURA_SB!L85","v":0.72411740068206121},{"$f":"COBETURA_SB!N85","v":"ATINGIU"},{"$f":"AÇOES_VIGIL!N79","v":1},{"$f":"AÇOES_VIGIL!M79","v":0.83333333333333337},{"$f":"AÇOES_VIGIL!O79","v":"NÃO ATINGIU"},{"$f":"MATRICIAMENTO_CAPS!K77","v":1},{"$f":"MATRICIAMENTO_CAPS!H77","v":16},{"$f":"MATRICIAMENTO_CAPS!J77","v":0.3902439024390244},{"$f":"MATRICIAMENTO_CAPS!L77","v":"N/A"},{"$f":"CICLO_DENGUE!H79","v":"N/A"},{"$f":"CICLO_DENGUE!G79","v":"N/A"},{"$f":"CICLO_DENGUE!I79","v":"ATINGIU"},{"$f":"NOT_AC_TRAB_OCUP!M77","v":0},{"$f":"NOT_AC_TRAB_OCUP!L77","v":0.63322884012539182},{"$f":"NOT_AC_TRAB_OCUP!N77","v":"ATINGIU"},11,10,0.52380952380952384]
[null,"QUANTIDADE DE MUN ATINGIRAM A META",null,null,null,null,null,{"$f":"COUNTIF(H2:H76,\"Atingiu\")","v":32},null,null,null,null,{"$f":"COUNTIF(M2:M76,\"Atingiu\")","v":11},null,null,null,{"$f":"COUNTIF(Q2:Q76,\"Atingiu\")","v":15},null,null,"ATINGIU",null,null,{"$f":"IF(Tabela13[[#This Row],[05 %DE CASOS DOENÇAS NOT COMP IMEDIATA]]=\"S/C\",\"N/A\",IF(V78>=U78,\"ATINGIU\",\"NÃO ATINGIU\"))","v":"ATINGIU"},null,null,null,{"$f":"COUNTIF(AA2:AA76,\"Atingiu\")","v":33},null,null,{"$f":"COUNTIF(AD2:AD76,\"Atingiu\")","v":47},null,null,{"$f":"COUNTIF(AG2:AG76,\"Atingiu\")","v":74},null,null,{"$f":"COUNTIF(AJ2:AJ76,\"Atingiu\")","v":30},null,null,null,{"$f":"COUNTIF($AN$2:$AN$76,\"Atingiu\")","v":14},{"$f":"MAMOGRAFIA!AE78","v":0},{"$f":"MAMOGRAFIA!U78","v":0},{"$f":"MAMOGRAFIA!AD78","v":0},{"$f":"COUNTIF($AR$2:$AR$76,\"Atingiu\")","v":52},null,null,null,{"$f":"COUNTIF($AV$2:$AV$76,\"Atingiu\")","v":11},null,null,null,{"$f":"COUNTIF($AZ$2:$AZ$76,\"Atingiu\")","v":42},null,null,null,{"$f":"COUNTIF($BD$2:$BD$76,\"Atingiu\")","v":39},null,null,{"$f":"COUNTIF($BG$2:$BG$76,\"Atingiu\")","v":69},null,null,{"$f":"COUNTIF($BJ$2:$BJ$76,\"Atingiu\")","v":68},null,null,null,{"$f":"COUNTIF($BN$2:$BN$76,\"Atingiu\")","v":43},null,null,{"$f":"COUNTIF($BQ$2:$BQ$76,\"Atingiu\")","v":61},null,null,{"$f":"COUNTIF($BT$2:$BT$76,\"Atingiu\")","v":25},null,{"$f":"MATRICIAMENTO_CAPS!H78","v":0},null,{"$f":"COUNTIF($BX$2:$BX$76,\"Atingiu\")","v":12},null,null,{"$f":"COUNTIF($CA$2:$CA$76,\"Atingiu\")","v":7},null,null,{"$f":"COUNTIF($CD$2:$CD$76,\"Atingiu\")","v":20}]
[]
[null,null,null,null,null,null,"OK",null,null,null,null,"OK",null,null,null,"OK",null,null,"OK",null,null,"OK",null,null,"OK",null,null,"OK",null,null,"OK",null,null,"OK",null,null,null,"OK",null,null,null,"OK",null,null,null,"OK",null,null,null,"OK",null,null,null,"OK",null,null,"OK",null,null,"OK",null,null,null,"OK",null,null,"OK",null,null,"OK",null,null,"OK",null,null,null,"OK",null,null,"OK"]
[null,null,null,"DADOS 2015",null,null,"Base de dados 10/01/2018",null,null,null,null,"SIM/Base de dados: 18/01/2018",null,null,null,"Base de dados 10/01/2018",null,null,"SISPNI/Base de dados: 26/01/2018",null,null,"SINAN/Base de dados: 18/01/2018",null,null,"SINAN/Base de dados: 24/01/2018.",null,null,"SINAN/Base de dados: 23/01/2018",null,null,"SINAN/Base de dados: 23/01/2018",null,null,"Sisagua/banco de dados: fornecido em 02/02/2018",null,null,null,"Fonte:DATASUS/SIASUS/ATUALIZAÇÃO DO BANCO EM 05/02/18. DADOS ATÉ DEZEMBRO 2017. ",null,null,null,"Fonte:DATASUS/SIASUS/ATUALIZAÇÃO DO BANCO EM 05/02/18. DADOS ATÉ DEZEMBRO 2017",null,null,null,"Fonte: DVE/SES-SE/SINASC/ATUALIZAÇÃO DO BANCO EM 10/01/18. DADOS ATÉ DEZEMBRO 2017",null,null,null,"Fonte: DVE/SES-SE/SINASC/ATUALIZAÇÃO DO BANCO EM 10/01/18. DADOS ATÉ DEZEMBRO 2017",null,null,null,"Fonte: DVE/SES-SE/SIM/SINASC/ATUALIZAÇÃO DO BANCO EM 10/01/18, RESPECTIVAMENTE. DADOS ATÉ DEZEMBRO 2017",null,null,"Fonte: DVE/SES-SE/SIM/ATUALIZAÇÃO DO BANCO EM 10/01/18. DADOS ATÉ DEZEMBRO 2017",null,null,"Dado gerado em: 19 de Fevereiro de 2018 - 17:33h",null,null,null,"Data da consolidação 02/02/2018",null,null,"Dado gerado em: 19 de Fevereiro de 2018 - 17:42h",null,null,"Base de dados 07/07/2017",null,null,"Fonte:DATASUS/SIASUS/ATUALIZAÇÃO DO BANCO EM 05/02/18. DADOS ATÉ DEZEMBRO 2017",null,null,null,"SISPNCD/Base de dados: 24/01/2018",null,null,"Base de dados 19.01.2018"]
["Fonte:DATASUS/SIASUS/ATUALIZAÇÃO DO BANCO EM 05/02/18. DADOS ATÉ DEZEMBRO 2017."]
["Fonte:DVS/SIM/SINASC (Base de dados 10/01/2018), informação 2017, respectivamente. SINAN/Base de dados: 18/01/2018."]
["Fonte:VISA/Sisagua/banco de dados gerados em 02/02/2018; Ações de vigilância dados 05/02/2018."]
["Fonte:eGestor/Dab/Dado gerado em: 19 de Fevereiro de 2018 - 17:33h"]
["Fonte: Bolsa Família, relatório 11/02/2018 - 21:20:47   Data da última consolidação 02/02/2018"]

{"sheet":"CONSOLIDADO_REG","index":89,"n_rows":16,"n_cols":83,"rows_kept":16,"cut":false,"hidden":true,"merged":[]}
["CÓD","REGIÃO","POP 2015","META INDICADOR 01","01 OBITO PREMATURO 30 A 69 DCNT","01 TAXA OBITO PREMATURO 30 A 69 DCNT","RESULTADO META 01","META INDICADOR 02"," 02 OBITOS EM MUL IDADE FERTIL 10 A 49","02 OBITOS EM MUL IDADE FERTIL INV","02 %OBITOS EM MUL IDADE FERTIL INV","RESULTADO META 02","META INDICADOR 03","03 OBITOS CAUSAS BAS DEFINIDAS","03 %OBITOS CAUSAS BAS DEFINIDAS","RESULTADO META 03","META INDICADOR 04","04 %VACINAS < 2 ANOS","RESULTADO META 04","META INDICADOR 05","05 %DE CASOS DOENÇAS NOT COMP IMEDIATA","RESULTADO META 05","META INDICADOR 06","Nº DE CURA DE CASOS NOVOS HANSEN ","06 %CURA CASOS NOVOS HANSEN","RESULTADO META 06","META INDICADOR 08","08 CASOS NOVOS SÍFILIS CONG < ANO","RESULTADO META 08","META INDICADOR 09","09 Nº DE AIDS < 5 ANOS","RESULTADO META 09","META INDICADOR 10","10 %ANÁLISE AMOSTRA ÁGUA CONS HUM","RESULTADO META 10","META INDICADOR 11","11 EXAME CITO 25 A 64","11 RAZÃO CITO 25 A 64","RESULTADO META 11","META INDICADOR 12","12 MAMOGRAFIA BILATERAL 50 A 69","12 RAZÃO MAMOGRAFIA BILATERAL 50 A 69","RESULTADO META 12","META INDICADOR 13","13 PARTO NORMAL SUS/SAÚDE SUPLEMENTAR","13 %PARTO NORMAL SUS/SAÚDE SUPLEMENTAR","RESULTADO META 13","META INDICADOR 14","14 GRAVIDEZ ADOLESC 10 A 19","14 %GRAVIDEZ ADOLESC 10 A 19","RESULTADO META 14","META INDICADOR 15","15 OBITOS < ANO","15 TAXA MORTALIDADE INFANTIL","RESULTADO META 15","META INDICADOR 16","16 ÓBITOS MATERNOS","RESULTADO META 16","META INDICADOR 17","17 %COB AB","RESULTADO META 17","META INDICADOR 18","18 FAMILIAS PARA ACOMP","18 %COB Acomp BF","RESULTADO META 18","META INDICADOR 19","19 %COB SAUDE BUCAL","RESULTADO META 19","META INDICADOR 20","20 %MUN REALIZ AÇÕES VIGILANCIA","RESULTADO META 20","META INDICADOR 21","21 %AÇÕES DE MATRICIAMENTO CAPS","RESULTADO META 21","META INDICADOR 22","22 NÚM CICLOS ATING 80% COB IMV DENGUE","RESULTADO META 22","META INDICADOR 23","23 %PREENCHIMENTO OCUP NOTIF AGRAVO","RESULTADO META 23","Nº METAS ALCANÇADAS","Nº METAS NÃO ALCANÇADAS","PROPORÇÃO DE METAS ALCANÇADAS"]
[1,"REGIÃO ARACAJU",{"$f":"SUMIF(CONSOLIDADO_2017!$B$2:$B$78,\"ARACAJU\",CONSOLIDADO_2017!D$2:D$78)","v":829684},{"$f":"OBITOS_PREMATUROS_REG!AG2","v":245.75},{"$f":"OBITOS_PREMATUROS_REG!V2","v":979},{"$f":"OBITOS_PREMATUROS_REG!AF2","v":255.40485190953606},{"$f":"OBITOS_PREMATUROS_REG!AI2","v":"NÃO ATINGIU"},{"$f":"OBITOS_MIF_REG!AH2","v":0.9},{"$f":"OBITOS_MIF_REG!M2","v":244},{"$f":"OBITOS_MIF_REG!W2","v":176},{"$f":"OBITOS_MIF_REG!AG2","v":0.72131147540983609},{"$f":"OBITOS_MIF_REG!AI2","v":"NÃO ATINGIU"},{"$f":"OBITOS_CAUSAS_REG!AH2","v":0.95},{"$f":"OBITOS_CAUSAS_REG!M2","v":4427},{"$f":"OBITOS_CAUSAS_REG!AG2","v":0.9487783969138448},{"$f":"OBITOS_CAUSAS_REG!AI2","v":"NÃO ATINGIU"},{"$f":"METAS!G81","v":1},0,{"$f":"IF(R2>=Q2,\"ATINGIU\",\"NÃO ATINGIU\")","v":"NÃO ATINGIU"},{"$f":"METAS!H81","v":0.85},0.86699999999999999,{"$f":"IF(U2>=T2,\"ATINGIU\",\"NÃO ATINGIU\")","v":"ATINGIU"},{"$f":"CURA_CASOS_HANS_REG!AH2","v":0.9},"-",{"$f":"CURA_CASOS_HANS_REG!AG2","v":0.81730000000000003},{"$f":"CURA_CASOS_HANS_REG!AI2","v":"NÃO ATINGIU"},{"$f":"SIFILIS_CONG_1ANO_REG!N2","v":94},{"$f":"SIFILIS_CONG_1ANO_REG!M2","v":100},{"$f":"SIFILIS_CONG_1ANO_REG!O2","v":"NÃO ATINGIU"},{"$f":"AIDS_MENOR5_REG!O2","v":1},{"$f":"AIDS_MENOR5_REG!N2","v":1},{"$f":"AIDS_MENOR5_REG!P2","v":"ATINGIU"},{"$f":"METAS!L81","v":0.9},null,null,{"$f":"CITOPATOLOGICO_REG!AG2","v":0.48},{"$f":"CITOPATOLOGICO_REG!V2","v":18687},{"$f":"CITOPATOLOGICO_REG!AF2","v":0.23832824602722485},{"$f":"CITOPATOLOGICO_REG!AJ2","v":"NÃO ATINGIU"},{"$f":"MAMOGRAFIA_REG!AC2","v":0.16},{"$f":"MAMOGRAFIA_REG!S2","v":9715},{"$f":"MAMOGRAFIA_REG!AB2","v":0.28062219269486849},{"$f":"MAMOGRAFIA_REG!AE2","v":"ATINGIU"},{"$f":"PARTO_NORMAL_REG!AH2","v":0.53369999999999995},{"$f":"PARTO_NORMAL_REG!W2","v":5908},{"$f":"PARTO_NORMAL_REG!AG2","v":0.50452604611443208},{"$f":"PARTO_NORMAL_REG!AI2","v":"NÃO ATINGIU"},{"$f":"MAES_ADOL_REG!AH2","v":0.17280000000000001},{"$f":"MAES_ADOL_REG!W2","v":2320},{"$f":"MAES_ADOL_REG!AG2","v":0.17738359201773835},{"$f":"MAES_ADOL_REG!AI2","v":"NÃO ATINGIU"},{"$f":"MORT_INF_REG!AH2","v":15.54},{"$f":"MORT_INF_REG!W2","v":205},{"$f":"MORT_INF_REG!AG2","v":17.506404782237404},{"$f":"MORT_INF_REG!AI2","v":"NÃO ATINGIU"},{"$f":"OBITOS_MATERNOS_REG!AH2","v":7},{"$f":"OBITOS_MATERNOS_REG!M2","v":8},{"$f":"OBITOS_MATERNOS_REG!AI2","v":"NÃO ATINGIU"},{"$f":"COBERTURA_AB!W9","v":0.79769999999999996},{"$f":"COBERTURA_AB!V9","v":0.74622876282494111},{"$f":"COBERTURA_AB!X9","v":"NÃO ATINGIU"},{"$f":"PBF_ACOMP_REG_2017!G2","v":0.78},{"$f":"PBF_ACOMP_REG_2017!E2","v":33423},{"$f":"PBF_ACOMP_REG_2017!F2","v":0.75894093871341306},{"$f":"PBF_ACOMP_REG_2017!H2","v":"NÃO ATINGIU"},{"$f":"COBETURA_SB!V10","v":0.6623},{"$f":"COBETURA_SB!U10","v":0.63814790550237388},{"$f":"COBETURA_SB!W10","v":"NÃO ATINGIU"},{"$f":"AÇOES_VIGIL_REG!L5","v":1},{"$f":"AÇOES_VIGIL_REG!K5","v":0.83333333333333337},{"$f":"AÇOES_VIGIL_REG!M5","v":"NÃO ATINGIU"},{"$f":"MATRICIAMENTO_CAPS!AH2","v":1},{"$f":"MATRICIAMENTO_CAPS!AG2","v":0.45454545454545453},{"$f":"MATRICIAMENTO_CAPS!AI2","v":"NÃO ATINGIU"},{"$f":"CICLO_DENGUE!P4","v":4},{"$f":"CICLO_DENGUE!O4","v":9},{"$f":"CICLO_DENGUE!Q4","v":"ATINGIU"},{"$f":"METAS!Y81","v":0.95},{"$f":"NOT_AC_TRAB_OCUP!AG2","v":0.61946902654867253},{"$f":"NOT_AC_TRAB_OCUP!AI2","v":"NÃO ATINGIU"},{"$f":"COUNTIF(D2:CB2,\"ATINGIU\")","v":4},{"$f":"COUNTIF(D2:CB2,\"NÃO ATINGIU\")","v":17},{"$f":"CC2/(CC2+CD2)","v":0.19047619047619047}]
[2,"REGIÃO ESTANCIA",{"$f":"SUMIF(CONSOLIDADO_2017!$B$2:$B$78,\"ESTANCIA\",CONSOLIDADO_2017!D$2:D$78)","v":243464},{"$f":"OBITOS_PREMATUROS_REG!AG3","v":309.41000000000003},{"$f":"OBITOS_PREMATUROS_REG!V3","v":281},{"$f":"OBITOS_PREMATUROS_REG!AF3","v":284.13112499747217},{"$f":"OBITOS_PREMATUROS_REG!AI3","v":"ATINGIU"},{"$f":"OBITOS_MIF_REG!AH3","v":0.9},{"$f":"OBITOS_MIF_REG!M3","v":85},{"$f":"OBITOS_MIF_REG!W3","v":59},{"$f":"OBITOS_MIF_REG!AG3","v":0.69411764705882351},{"$f":"OBITOS_MIF_REG!AI3","v":"NÃO ATINGIU"},{"$f":"OBITOS_CAUSAS_REG!AH3","v":0.95},{"$f":"OBITOS_CAUSAS_REG!M3","v":1252},{"$f":"OBITOS_CAUSAS_REG!AG3","v":0.9192364170337739},{"$f":"OBITOS_CAUSAS_REG!AI3","v":"NÃO ATINGIU"},{"$f":"METAS!G82","v":1},0,{"$f":"IF(R3>=Q3,\"ATINGIU\",\"NÃO ATINGIU\")","v":"NÃO ATINGIU"},{"$f":"METAS!H82","v":0.85},0.8,{"$f":"IF(U3>=T3,\"ATINGIU\",\"NÃO ATINGIU\")","v":"NÃO ATINGIU"},{"$f":"CURA_CASOS_HANS_REG!AH3","v":0.9},"-",{"$f":"CURA_CASOS_HANS_REG!AG3","v":1},{"$f":"CURA_CASOS_HANS_REG!AI3","v":"ATINGIU"},{"$f":"SIFILIS_CONG_1ANO_REG!N3","v":43},{"$f":"SIFILIS_CONG_1ANO_REG!M3","v":55},{"$f":"SIFILIS_CONG_1ANO_REG!O3","v":"NÃO ATINGIU"},{"$f":"AIDS_MENOR5_REG!O3","v":0},{"$f":"AIDS_MENOR5_REG!N3","v":1},{"$f":"AIDS_MENOR5_REG!P3","v":"NÃO ATINGIU"},{"$f":"METAS!L82","v":0.75},null,null,{"$f":"CITOPATOLOGICO_REG!AG3","v":0.48},{"$f":"CITOPATOLOGICO_REG!V3","v":8109},{"$f":"CITOPATOLOGICO_REG!AF3","v":0.42312977232010857},{"$f":"CITOPATOLOGICO_REG!AJ3","v":"NÃO ATINGIU"},{"$f":"MAMOGRAFIA_REG!AC3","v":0.16},{"$f":"MAMOGRAFIA_REG!S3","v":3222},{"$f":"MAMOGRAFIA_REG!AB3","v":0.38605319913731129},{"$f":"MAMOGRAFIA_REG!AE3","v":"ATINGIU"},{"$f":"PARTO_NORMAL_REG!AH3","v":0.61260000000000003},{"$f":"PARTO_NORMAL_REG!W3","v":2155},{"$f":"PARTO_NORMAL_REG!AG3","v":0.59546836142580828},{"$f":"PARTO_NORMAL_REG!AI3","v":"NÃO ATINGIU"},{"$f":"MAES_ADOL_REG!AH3","v":0.22690000000000002},{"$f":"MAES_ADOL_REG!W3","v":929},{"$f":"MAES_ADOL_REG!AG3","v":0.25459029871197586},{"$f":"MAES_ADOL_REG!AI3","v":"NÃO ATINGIU"},{"$f":"MORT_INF_REG!AH3","v":14.55},{"$f":"MORT_INF_REG!W3","v":61},{"$f":"MORT_INF_REG!AG3","v":16.855484940591325},{"$f":"MORT_INF_REG!AI3","v":"NÃO ATINGIU"},{"$f":"OBITOS_MATERNOS_REG!AH3","v":1},{"$f":"OBITOS_MATERNOS_REG!M3","v":2},{"$f":"OBITOS_MATERNOS_REG!AI3","v":"NÃO ATINGIU"},{"$f":"COBERTURA_AB!W10","v":0.95030000000000003},{"$f":"COBERTURA_AB!V10","v":0.94985757543604765},{"$f":"COBERTURA_AB!X10","v":"NÃO ATINGIU"},{"$f":"PBF_ACOMP_REG_2017!G3","v":0.78},{"$f":"PBF_ACOMP_REG_2017!E3","v":26559},{"$f":"PBF_ACOMP_REG_2017!F3","v":0.87035883991479601},{"$f":"PBF_ACOMP_REG_2017!H3","v":"ATINGIU"},{"$f":"COBETURA_SB!V11","v":0.7631},{"$f":"COBETURA_SB!U11","v":0.82341802629753269},{"$f":"COBETURA_SB!W11","v":"ATINGIU"},{"$f":"AÇOES_VIGIL_REG!L6","v":0.5},{"$f":"AÇOES_VIGIL_REG!K6","v":0},{"$f":"AÇOES_VIGIL_REG!M6","v":"NÃO ATINGIU"},{"$f":"MATRICIAMENTO_CAPS!AH3","v":1},{"$f":"MATRICIAMENTO_CAPS!AG3","v":0.8},{"$f":"MATRICIAMENTO_CAPS!AI3","v":"NÃO ATINGIU"},{"$f":"CICLO_DENGUE!P5","v":4},{"$f":"CICLO_DENGUE!O5","v":22},{"$f":"CICLO_DENGUE!Q5","v":"ATINGIU"},{"$f":"METAS!Y82","v":0.95},{"$f":"NOT_AC_TRAB_OCUP!AG3","v":0.93877551020408168},{"$f":"NOT_AC_TRAB_OCUP!AI3","v":"NÃO ATINGIU"},{"$f":"COUNTIF(D3:CB3,\"ATINGIU\")","v":6},{"$f":"COUNTIF(D3:CB3,\"NÃO ATINGIU\")","v":15},{"$f":"CC3/(CC3+CD3)","v":0.2857142857142857}]
[3,"REGIÃO GLÓRIA",{"$f":"SUMIF(CONSOLIDADO_2017!$B$2:$B$78,\"GLORIA\",CONSOLIDADO_2017!D$2:D$78)","v":169266},{"$f":"OBITOS_PREMATUROS_REG!AG4","v":299.76},{"$f":"OBITOS_PREMATUROS_REG!V4","v":180},{"$f":"OBITOS_PREMATUROS_REG!AF4","v":269.55388831483896},{"$f":"OBITOS_PREMATUROS_REG!AI4","v":"ATINGIU"},{"$f":"OBITOS_MIF_REG!AH4","v":0.9},{"$f":"OBITOS_MIF_REG!M4","v":66},{"$f":"OBITOS_MIF_REG!W4","v":39},{"$f":"OBITOS_MIF_REG!AG4","v":0.59090909090909094},{"$f":"OBITOS_MIF_REG!AI4","v":"NÃO ATINGIU"},{"$f":"OBITOS_CAUSAS_REG!AH4","v":0.95},{"$f":"OBITOS_CAUSAS_REG!M4","v":763},{"$f":"OBITOS_CAUSAS_REG!AG4","v":0.88720930232558137},{"$f":"OBITOS_CAUSAS_REG!AI4","v":"NÃO ATINGIU"},{"$f":"METAS!G83","v":1},0,"NÃO ATINGIU",{"$f":"METAS!H83","v":0.85},1,"ATINGIU",{"$f":"CURA_CASOS_HANS_REG!AH4","v":0.9},"-",{"$f":"CURA_CASOS_HANS_REG!AG4","v":0.75},{"$f":"CURA_CASOS_HANS_REG!AI4","v":"NÃO ATINGIU"},{"$f":"SIFILIS_CONG_1ANO_REG!N4","v":10},{"$f":"SIFILIS_CONG_1ANO_REG!M4","v":10},{"$f":"SIFILIS_CONG_1ANO_REG!O4","v":"ATINGIU"},{"$f":"AIDS_MENOR5_REG!O4","v":0},{"$f":"AIDS_MENOR5_REG!N4","v":0},{"$f":"AIDS_MENOR5_REG!P4","v":"ATINGIU"},{"$f":"METAS!L83","v":0.45},null,null,{"$f":"CITOPATOLOGICO_REG!AG4","v":0.48},{"$f":"CITOPATOLOGICO_REG!V4","v":3280},{"$f":"CITOPATOLOGICO_REG!AF4","v":0.25826771653543307},{"$f":"CITOPATOLOGICO_REG!AJ4","v":"NÃO ATINGIU"},{"$f":"MAMOGRAFIA_REG!AC4","v":0.16},{"$f":"MAMOGRAFIA_REG!S4","v":868},{"$f":"MAMOGRAFIA_REG!AB4","v":0.16687493992117658},{"$f":"MAMOGRAFIA_REG!AE4","v":"ATINGIU"},{"$f":"PARTO_NORMAL_REG!AH4","v":0.6631999999999999},{"$f":"PARTO_NORMAL_REG!W4","v":1701},{"$f":"PARTO_NORMAL_REG!AG4","v":0.63971417826250465},{"$f":"PARTO_NORMAL_REG!AI4","v":"NÃO ATINGIU"},{"$f":"MAES_ADOL_REG!AH4","v":0.25659999999999999},{"$f":"MAES_ADOL_REG!W4","v":665},{"$f":"MAES_ADOL_REG!AG4","v":0.24076755973931932},{"$f":"MAES_ADOL_REG!AI4","v":"ATINGIU"},{"$f":"MORT_INF_REG!AH4","v":10.44},{"$f":"MORT_INF_REG!W4","v":30},{"$f":"MORT_INF_REG!AG4","v":11.282437006393382},{"$f":"MORT_INF_REG!AI4","v":"NÃO ATINGIU"},{"$f":"OBITOS_MATERNOS_REG!AH4","v":2},{"$f":"OBITOS_MATERNOS_REG!M4","v":0},{"$f":"OBITOS_MATERNOS_REG!AI4","v":"ATINGIU"},{"$f":"COBERTURA_AB!W11","v":0.92290000000000005},{"$f":"COBERTURA_AB!V11","v":0.98188581689292331},{"$f":"COBERTURA_AB!X11","v":"ATINGIU"},{"$f":"PBF_ACOMP_REG_2017!G4","v":0.78},{"$f":"PBF_ACOMP_REG_2017!E4","v":23336},{"$f":"PBF_ACOMP_REG_2017!F4","v":0.83668566921229071},{"$f":"PBF_ACOMP_REG_2017!H4","v":"ATINGIU"},{"$f":"COBETURA_SB!V12","v":0.64069999999999994},{"$f":"COBETURA_SB!U12","v":0.95726970033296332},{"$f":"COBETURA_SB!W12","v":"ATINGIU"},{"$f":"AÇOES_VIGIL_REG!L7","v":1},{"$f":"AÇOES_VIGIL_REG!K7","v":0},{"$f":"AÇOES_VIGIL_REG!M7","v":"NÃO ATINGIU"},{"$f":"MATRICIAMENTO_CAPS!AH4","v":1},{"$f":"MATRICIAMENTO_CAPS!AG4","v":0},{"$f":"MATRICIAMENTO_CAPS!AI4","v":"NÃO ATINGIU"},{"$f":"CICLO_DENGUE!P6","v":4},{"$f":"CICLO_DENGUE!O6","v":15},{"$f":"CICLO_DENGUE!Q6","v":"ATINGIU"},{"$f":"METAS!Y83","v":0.64069999999999994},{"$f":"NOT_AC_TRAB_OCUP!AG4","v":0.9285714285714286},{"$f":"NOT_AC_TRAB_OCUP!AI4","v":"ATINGIU"},12,9,0.5714285714285714]
[4,"REGIÃO ITABAIANA",{"$f":"SUMIF(CONSOLIDADO_2017!$B$2:$B$78,\"ITABAIANA\",CONSOLIDADO_2017!D$2:D$78)","v":248651},{"$f":"OBITOS_PREMATUROS_REG!AG5","v":259.62},{"$f":"OBITOS_PREMATUROS_REG!V5","v":256},{"$f":"OBITOS_PREMATUROS_REG!AF5","v":238.21931065286981},{"$f":"OBITOS_PREMATUROS_REG!AI5","v":"ATINGIU"},{"$f":"OBITOS_MIF_REG!AH5","v":0.9},{"$f":"OBITOS_MIF_REG!M5","v":84},{"$f":"OBITOS_MIF_REG!W5","v":47},{"$f":"OBITOS_MIF_REG!AG5","v":0.55952380952380953},{"$f":"OBITOS_MIF_REG!AI5","v":"NÃO ATINGIU"},{"$f":"OBITOS_CAUSAS_REG!AH5","v":0.95},{"$f":"OBITOS_CAUSAS_REG!M5","v":1383},{"$f":"OBITOS_CAUSAS_REG!AG5","v":0.87145557655954631},{"$f":"OBITOS_CAUSAS_REG!AI5","v":"NÃO ATINGIU"},{"$f":"METAS!G84","v":1},0,"NÃO ATINGIU",{"$f":"METAS!H84","v":0.85},1,"ATINGIU",{"$f":"CURA_CASOS_HANS_REG!AH5","v":0.9},"-",{"$f":"CURA_CASOS_HANS_REG!AG5","v":0.88639999999999997},{"$f":"CURA_CASOS_HANS_REG!AI5","v":"NÃO ATINGIU"},{"$f":"SIFILIS_CONG_1ANO_REG!N5","v":15},{"$f":"SIFILIS_CONG_1ANO_REG!M5","v":22},{"$f":"SIFILIS_CONG_1ANO_REG!O5","v":"NÃO ATINGIU"},{"$f":"AIDS_MENOR5_REG!O5","v":0},{"$f":"AIDS_MENOR5_REG!N5","v":0},{"$f":"AIDS_MENOR5_REG!P5","v":"ATINGIU"},{"$f":"METAS!L84","v":0.7},null,null,{"$f":"CITOPATOLOGICO_REG!AG5","v":0.48},{"$f":"CITOPATOLOGICO_REG!V5","v":6904},{"$f":"CITOPATOLOGICO_REG!AF5","v":0.33492343267411584},{"$f":"CITOPATOLOGICO_REG!AJ5","v":"NÃO ATINGIU"},{"$f":"MAMOGRAFIA_REG!AC5","v":0.16},{"$f":"MAMOGRAFIA_REG!S5","v":3048},{"$f":"MAMOGRAFIA_REG!AB5","v":0.32944228274967574},{"$f":"MAMOGRAFIA_REG!AE5","v":"ATINGIU"},{"$f":"PARTO_NORMAL_REG!AH5","v":0.59810000000000008},{"$f":"PARTO_NORMAL_REG!W5","v":1911},{"$f":"PARTO_NORMAL_REG!AG5","v":0.57979368932038833},{"$f":"PARTO_NORMAL_REG!AI5","v":"NÃO ATINGIU"},{"$f":"MAES_ADOL_REG!AH5","v":0.22329999999999997},{"$f":"MAES_ADOL_REG!W5","v":788},{"$f":"MAES_ADOL_REG!AG5","v":0.21737931034482755},{"$f":"MAES_ADOL_REG!AI5","v":"ATINGIU"},{"$f":"MORT_INF_REG!AH5","v":15.73},{"$f":"MORT_INF_REG!W5","v":47},{"$f":"MORT_INF_REG!AG5","v":14.259708737864079},{"$f":"MORT_INF_REG!AI5","v":"ATINGIU"},{"$f":"OBITOS_MATERNOS_REG!AH5","v":0},{"$f":"OBITOS_MATERNOS_REG!M5","v":2},{"$f":"OBITOS_MATERNOS_REG!AI5","v":"NÃO ATINGIU"},{"$f":"COBERTURA_AB!W12","v":0.89249999999999996},{"$f":"COBERTURA_AB!V12","v":0.92379929917545356},{"$f":"COBERTURA_AB!X12","v":"ATINGIU"},{"$f":"PBF_ACOMP_REG_2017!G5","v":0.78},{"$f":"PBF_ACOMP_REG_2017!E5","v":24930},{"$f":"PBF_ACOMP_REG_2017!F5","v":0.87723002216826773},{"$f":"PBF_ACOMP_REG_2017!H5","v":"ATINGIU"},{"$f":"COBETURA_SB!V13","v":0.624},{"$f":"COBETURA_SB!U13","v":0.60653251490649018},{"$f":"COBETURA_SB!W13","v":"NÃO ATINGIU"},{"$f":"AÇOES_VIGIL_REG!L8","v":1},{"$f":"AÇOES_VIGIL_REG!K8","v":0.5},{"$f":"AÇOES_VIGIL_REG!M8","v":"NÃO ATINGIU"},{"$f":"MATRICIAMENTO_CAPS!AH5","v":1},{"$f":"MATRICIAMENTO_CAPS!AG5","v":0.6},{"$f":"MATRICIAMENTO_CAPS!AI5","v":"NÃO ATINGIU"},{"$f":"CICLO_DENGUE!P7","v":4},{"$f":"CICLO_DENGUE!O7","v":20},{"$f":"CICLO_DENGUE!Q7","v":"ATINGIU"},{"$f":"METAS!Y84","v":0.95},{"$f":"NOT_AC_TRAB_OCUP!AG5","v":0.7},{"$f":"NOT_AC_TRAB_OCUP!AI5","v":"NÃO ATINGIU"},9,12,0.42857142857142855]
[5,"REGIÃO LAGARTO",{"$f":"SUMIF(CONSOLIDADO_2017!$B$2:$B$78,\"LAGARTO\",CONSOLIDADO_2017!D$2:D$78)","v":257634},{"$f":"OBITOS_PREMATUROS_REG!AG6","v":278.08999999999997},{"$f":"OBITOS_PREMATUROS_REG!V6","v":269},{"$f":"OBITOS_PREMATUROS_REG!AF6","v":242.88061830723947},{"$f":"OBITOS_PREMATUROS_REG!AI6","v":"ATINGIU"},{"$f":"OBITOS_MIF_REG!AH6","v":0.9},{"$f":"OBITOS_MIF_REG!M6","v":76},{"$f":"OBITOS_MIF_REG!W6","v":38},{"$f":"OBITOS_MIF_REG!AG6","v":0.5},{"$f":"OBITOS_MIF_REG!AI6","v":"NÃO ATINGIU"},{"$f":"OBITOS_CAUSAS_REG!AH6","v":0.95},{"$f":"OBITOS_CAUSAS_REG!M6","v":1421},{"$f":"OBITOS_CAUSAS_REG!AG6","v":0.88923654568210264},{"$f":"OBITOS_CAUSAS_REG!AI6","v":"NÃO ATINGIU"},{"$f":"METAS!G85","v":1},0,"NÃO ATINGIU",{"$f":"METAS!H85","v":0.85},1,"ATINGIU",{"$f":"CURA_CASOS_HANS_REG!AH6","v":0.9},"-",{"$f":"CURA_CASOS_HANS_REG!AG6","v":0.72729999999999995},{"$f":"CURA_CASOS_HANS_REG!AI6","v":"NÃO ATINGIU"},{"$f":"SIFILIS_CONG_1ANO_REG!N6","v":11},{"$f":"SIFILIS_CONG_1ANO_REG!M6","v":18},{"$f":"SIFILIS_CONG_1ANO_REG!O6","v":"NÃO ATINGIU"},{"$f":"AIDS_MENOR5_REG!O6","v":0},{"$f":"AIDS_MENOR5_REG!N6","v":0},{"$f":"AIDS_MENOR5_REG!P6","v":"ATINGIU"},{"$f":"METAS!L85","v":0.7},null,null,{"$f":"CITOPATOLOGICO_REG!AG6","v":0.48},{"$f":"CITOPATOLOGICO_REG!V6","v":10252},{"$f":"CITOPATOLOGICO_REG!AF6","v":0.48572331017056219},{"$f":"CITOPATOLOGICO_REG!AJ6","v":"ATINGIU"},{"$f":"MAMOGRAFIA_REG!AC6","v":0.16},{"$f":"MAMOGRAFIA_REG!S6","v":1384},{"$f":"MAMOGRAFIA_REG!AB6","v":0.1402584241195845},{"$f":"MAMOGRAFIA_REG!AE6","v":"NÃO ATINGIU"},{"$f":"PARTO_NORMAL_REG!AH6","v":0.59219999999999995},{"$f":"PARTO_NORMAL_REG!W6","v":2037},{"$f":"PARTO_NORMAL_REG!AG6","v":0.56994963626189143},{"$f":"PARTO_NORMAL_REG!AI6","v":"NÃO ATINGIU"},{"$f":"MAES_ADOL_REG!AH6","v":0.20829999999999999},{"$f":"MAES_ADOL_REG!W6","v":743},{"$f":"MAES_ADOL_REG!AG6","v":0.20707915273132665},{"$f":"MAES_ADOL_REG!AI6","v":"ATINGIU"},{"$f":"MORT_INF_REG!AH6","v":13.98},{"$f":"MORT_INF_REG!W6","v":49},{"$f":"MORT_INF_REG!AG6","v":13.710128707330721},{"$f":"MORT_INF_REG!AI6","v":"ATINGIU"},{"$f":"OBITOS_MATERNOS_REG!AH6","v":0},{"$f":"OBITOS_MATERNOS_REG!M6","v":1},{"$f":"OBITOS_MATERNOS_REG!AI6","v":"NÃO ATINGIU"},{"$f":"COBERTURA_AB!W13","v":0.59219999999999995},{"$f":"COBERTURA_AB!V13","v":0.89489594860859945},{"$f":"COBERTURA_AB!X13","v":"ATINGIU"},{"$f":"PBF_ACOMP_REG_2017!G6","v":0.78},{"$f":"PBF_ACOMP_REG_2017!E6","v":28050},{"$f":"PBF_ACOMP_REG_2017!F6","v":0.85903286068661378},{"$f":"PBF_ACOMP_REG_2017!H6","v":"ATINGIU"},{"$f":"COBETURA_SB!V14","v":0.49659999999999999},{"$f":"COBETURA_SB!U14","v":0.61308768696282534},{"$f":"COBETURA_SB!W14","v":"ATINGIU"},{"$f":"AÇOES_VIGIL_REG!L9","v":1},{"$f":"AÇOES_VIGIL_REG!K9","v":0.33333333333333331},{"$f":"AÇOES_VIGIL_REG!M9","v":"NÃO ATINGIU"},{"$f":"MATRICIAMENTO_CAPS!AH6","v":1},{"$f":"MATRICIAMENTO_CAPS!AG6","v":0.14285714285714285},{"$f":"MATRICIAMENTO_CAPS!AI6","v":"NÃO ATINGIU"},{"$f":"CICLO_DENGUE!P8","v":4},{"$f":"CICLO_DENGUE!O8","v":15},{"$f":"CICLO_DENGUE!Q8","v":"ATINGIU"},{"$f":"METAS!Y85","v":0.95},{"$f":"NOT_AC_TRAB_OCUP!AG6","v":0.91428571428571426},{"$f":"NOT_AC_TRAB_OCUP!AI6","v":"NÃO ATINGIU"},10,11,0.47619047619047616]
[6,"REGIÃO PROPRIA",{"$f":"SUMIF(CONSOLIDADO_2017!$B$2:$B$78,\"PROPRIA\",CONSOLIDADO_2017!D$2:D$78)","v":158896},{"$f":"OBITOS_PREMATUROS_REG!AG7","v":315.3},{"$f":"OBITOS_PREMATUROS_REG!V7","v":185},{"$f":"OBITOS_PREMATUROS_REG!AF7","v":285.93066567750111},{"$f":"OBITOS_PREMATUROS_REG!AI7","v":"ATINGIU"},{"$f":"OBITOS_MIF_REG!AH7","v":0.9},{"$f":"OBITOS_MIF_REG!M7","v":60},{"$f":"OBITOS_MIF_REG!W7","v":30},{"$f":"OBITOS_MIF_REG!AG7","v":0.5},{"$f":"OBITOS_MIF_REG!AI7","v":"NÃO ATINGIU"},{"$f":"OBITOS_CAUSAS_REG!AH7","v":0.95},{"$f":"OBITOS_CAUSAS_REG!M7","v":892},{"$f":"OBITOS_CAUSAS_REG!AG7","v":0.86350435624394961},{"$f":"OBITOS_CAUSAS_REG!AI7","v":"NÃO ATINGIU"},{"$f":"METAS!G86","v":1},0,"NÃO ATINGIU",{"$f":"METAS!H86","v":0.85},0.66700000000000004,"NÃO ATINGIU",{"$f":"CURA_CASOS_HANS_REG!AH7","v":0.9},"-",{"$f":"CURA_CASOS_HANS_REG!AG7","v":0.84209999999999996},{"$f":"CURA_CASOS_HANS_REG!AI7","v":"NÃO ATINGIU"},{"$f":"SIFILIS_CONG_1ANO_REG!N7","v":5},{"$f":"SIFILIS_CONG_1ANO_REG!M7","v":20},{"$f":"SIFILIS_CONG_1ANO_REG!O7","v":"NÃO ATINGIU"},{"$f":"AIDS_MENOR5_REG!O7","v":0},{"$f":"AIDS_MENOR5_REG!N7","v":0},{"$f":"AIDS_MENOR5_REG!P7","v":"ATINGIU"},{"$f":"METAS!L86","v":0.6},null,null,{"$f":"CITOPATOLOGICO_REG!AG7","v":0.48},{"$f":"CITOPATOLOGICO_REG!V7","v":6433},{"$f":"CITOPATOLOGICO_REG!AF7","v":0.52196137826580846},{"$f":"CITOPATOLOGICO_REG!AJ7","v":"ATINGIU"},{"$f":"MAMOGRAFIA_REG!AC7","v":0.16},{"$f":"MAMOGRAFIA_REG!S7","v":2300},{"$f":"MAMOGRAFIA_REG!AB7","v":0.42561065877128051},{"$f":"MAMOGRAFIA_REG!AE7","v":"ATINGIU"},{"$f":"PARTO_NORMAL_REG!AH7","v":0.56140000000000001},{"$f":"PARTO_NORMAL_REG!W7","v":1297},{"$f":"PARTO_NORMAL_REG!AG7","v":0.55641355641355639},{"$f":"PARTO_NORMAL_REG!AI7","v":"NÃO ATINGIU"},{"$f":"MAES_ADOL_REG!AH7","v":0.22469999999999998},{"$f":"MAES_ADOL_REG!W7","v":640},{"$f":"MAES_ADOL_REG!AG7","v":0.26037428803905616},{"$f":"MAES_ADOL_REG!AI7","v":"NÃO ATINGIU"},{"$f":"MORT_INF_REG!AH7","v":16.21},{"$f":"MORT_INF_REG!W7","v":37},{"$f":"MORT_INF_REG!AG7","v":15.873015873015872},{"$f":"MORT_INF_REG!AI7","v":"ATINGIU"},{"$f":"OBITOS_MATERNOS_REG!AH7","v":2},{"$f":"OBITOS_MATERNOS_REG!M7","v":0},{"$f":"OBITOS_MATERNOS_REG!AI7","v":"ATINGIU"},{"$f":"COBERTURA_AB!W14","v":0.97530000000000006},{"$f":"COBERTURA_AB!V14","v":0.99707934040726276},{"$f":"COBERTURA_AB!X14","v":"ATINGIU"},{"$f":"PBF_ACOMP_REG_2017!G7","v":0.78},{"$f":"PBF_ACOMP_REG_2017!E7","v":17867},{"$f":"PBF_ACOMP_REG_2017!F7","v":0.83929913566328451},{"$f":"PBF_ACOMP_REG_2017!H7","v":"ATINGIU"},{"$f":"COBETURA_SB!V15","v":0.88090000000000002},{"$f":"COBETURA_SB!U15","v":0.91398469474093247},{"$f":"COBETURA_SB!W15","v":"ATINGIU"},{"$f":"AÇOES_VIGIL_REG!L10","v":1},{"$f":"AÇOES_VIGIL_REG!K10","v":0},{"$f":"AÇOES_VIGIL_REG!M10","v":"NÃO ATINGIU"},{"$f":"MATRICIAMENTO_CAPS!AH7","v":1},{"$f":"MATRICIAMENTO_CAPS!AG7","v":0.6},{"$f":"MATRICIAMENTO_CAPS!AI7","v":"NÃO ATINGIU"},{"$f":"CICLO_DENGUE!P9","v":4},{"$f":"CICLO_DENGUE!O9","v":36},{"$f":"CICLO_DENGUE!Q9","v":"ATINGIU"},{"$f":"METAS!Y86","v":0.95},{"$f":"NOT_AC_TRAB_OCUP!AG7","v":0.31034482758620691},{"$f":"NOT_AC_TRAB_OCUP!AI7","v":"NÃO ATINGIU"},10,11,0.47619047619047616]
[7,"REGIÃO SOCORRO",{"$f":"SUMIF(CONSOLIDADO_2017!$B$2:$B$78,\"SOCORRO\",CONSOLIDADO_2017!D$2:D$78)","v":335353},{"$f":"OBITOS_PREMATUROS_REG!AG8","v":276.68},{"$f":"OBITOS_PREMATUROS_REG!V8","v":411},{"$f":"OBITOS_PREMATUROS_REG!AF8","v":296.90310556314068},{"$f":"OBITOS_PREMATUROS_REG!AI8","v":"NÃO ATINGIU"},{"$f":"OBITOS_MIF_REG!AH8","v":0.9},{"$f":"OBITOS_MIF_REG!M8","v":119},{"$f":"OBITOS_MIF_REG!W8","v":92},{"$f":"OBITOS_MIF_REG!AG8","v":0.77310924369747902},{"$f":"OBITOS_MIF_REG!AI8","v":"NÃO ATINGIU"},{"$f":"OBITOS_CAUSAS_REG!AH8","v":0.95},{"$f":"OBITOS_CAUSAS_REG!M8","v":1728},{"$f":"OBITOS_CAUSAS_REG!AG8","v":0.92406417112299466},{"$f":"OBITOS_CAUSAS_REG!AI8","v":"NÃO ATINGIU"},{"$f":"METAS!G87","v":1},0,"NÃO ATINGIU",{"$f":"METAS!H87","v":0.85},0.8,"NÃO ATINGIU",{"$f":"CURA_CASOS_HANS_REG!AH8","v":0.9},"-",{"$f":"CURA_CASOS_HANS_REG!AG8","v":0.74250000000000005},{"$f":"CURA_CASOS_HANS_REG!AI8","v":"NÃO ATINGIU"},{"$f":"SIFILIS_CONG_1ANO_REG!N8","v":80},{"$f":"SIFILIS_CONG_1ANO_REG!M8","v":71},{"$f":"SIFILIS_CONG_1ANO_REG!O8","v":"ATINGIU"},{"$f":"AIDS_MENOR5_REG!O8","v":0},{"$f":"AIDS_MENOR5_REG!N8","v":0},{"$f":"AIDS_MENOR5_REG!P8","v":"ATINGIU"},{"$f":"METAS!L87","v":0.6},null,null,{"$f":"CITOPATOLOGICO_REG!AG8","v":0.48},{"$f":"CITOPATOLOGICO_REG!V8","v":8590},{"$f":"CITOPATOLOGICO_REG!AF8","v":0.30847128954645026},{"$f":"CITOPATOLOGICO_REG!AJ8","v":"NÃO ATINGIU"},{"$f":"MAMOGRAFIA_REG!AC8","v":0.16},{"$f":"MAMOGRAFIA_REG!S8","v":4057},{"$f":"MAMOGRAFIA_REG!AB8","v":0.35942414174972315},{"$f":"MAMOGRAFIA_REG!AE8","v":"ATINGIU"},{"$f":"PARTO_NORMAL_REG!AH8","v":0.63159999999999994},{"$f":"PARTO_NORMAL_REG!W8","v":3282},{"$f":"PARTO_NORMAL_REG!AG8","v":0.60430859878475418},{"$f":"PARTO_NORMAL_REG!AI8","v":"NÃO ATINGIU"},{"$f":"MAES_ADOL_REG!AH8","v":0.22949999999999998},{"$f":"MAES_ADOL_REG!W8","v":1357},{"$f":"MAES_ADOL_REG!AG8","v":0.23526352288488211},{"$f":"MAES_ADOL_REG!AI8","v":"NÃO ATINGIU"},{"$f":"MORT_INF_REG!AH8","v":17.690000000000001},{"$f":"MORT_INF_REG!W8","v":83},{"$f":"MORT_INF_REG!AG8","v":15.282636715153748},{"$f":"MORT_INF_REG!AI8","v":"ATINGIU"},{"$f":"OBITOS_MATERNOS_REG!AH8","v":2},{"$f":"OBITOS_MATERNOS_REG!M8","v":3},{"$f":"OBITOS_MATERNOS_REG!AI8","v":"NÃO ATINGIU"},{"$f":"COBERTURA_AB!W15","v":0.9998999999999999},{"$f":"COBERTURA_AB!V15","v":0.99949303064511852},{"$f":"COBERTURA_AB!X15","v":"NÃO ATINGIU"},{"$f":"PBF_ACOMP_REG_2017!G8","v":0.78},{"$f":"PBF_ACOMP_REG_2017!E8","v":27937},{"$f":"PBF_ACOMP_REG_2017!F8","v":0.76764762454318136},{"$f":"PBF_ACOMP_REG_2017!H8","v":"NÃO ATINGIU"},{"$f":"COBETURA_SB!V16","v":0.9849},{"$f":"COBETURA_SB!U16","v":0.95534837931918737},{"$f":"COBETURA_SB!W16","v":"NÃO ATINGIU"},{"$f":"AÇOES_VIGIL_REG!L11","v":1},{"$f":"AÇOES_VIGIL_REG!K11","v":0.33333333333333331},{"$f":"AÇOES_VIGIL_REG!M11","v":"NÃO ATINGIU"},{"$f":"MATRICIAMENTO_CAPS!AH8","v":1},{"$f":"MATRICIAMENTO_CAPS!AG8","v":0},{"$f":"MATRICIAMENTO_CAPS!AI8","v":"NÃO ATINGIU"},{"$f":"CICLO_DENGUE!P10","v":4},{"$f":"CICLO_DENGUE!O10","v":26},{"$f":"CICLO_DENGUE!Q10","v":"ATINGIU"},{"$f":"METAS!Y87","v":0.95},{"$f":"NOT_AC_TRAB_OCUP!AG8","v":0.69461077844311381},{"$f":"NOT_AC_TRAB_OCUP!AI8","v":"NÃO ATINGIU"},5,16,0.23809523809523808]
[8,"SERGIPE",{"$f":"SUMIF(CONSOLIDADO_2017!$B$2:$B$78,\"SERGIPE\",CONSOLIDADO_2017!D$2:D$78)","v":2242948},{"$f":"OBITOS_PREMATUROS_REG!AG9","v":263.62},{"$f":"OBITOS_PREMATUROS_REG!V9","v":2561},{"$f":"OBITOS_PREMATUROS_REG!AF9","v":263.92919566006003},{"$f":"OBITOS_PREMATUROS_REG!AI9","v":"NÃO ATINGIU"},{"$f":"OBITOS_MIF_REG!AH9","v":0.9},{"$f":"OBITOS_MIF_REG!M9","v":734},{"$f":"OBITOS_MIF_REG!W9","v":481},{"$f":"OBITOS_MIF_REG!AG9","v":0.65531335149863756},{"$f":"OBITOS_MIF_REG!AI9","v":"NÃO ATINGIU"},{"$f":"OBITOS_CAUSAS_REG!AH9","v":0.95},{"$f":"OBITOS_CAUSAS_REG!M9","v":11873},{"$f":"OBITOS_CAUSAS_REG!AG9","v":0.9140107775211701},{"$f":"OBITOS_CAUSAS_REG!AI9","v":"NÃO ATINGIU"},1,0,"NÃO ATINGIU",{"$f":"METAS!H77","v":0.85},0.86839999999999995,"ATINGIU",{"$f":"CURA_CASOS_HANS_REG!AH9","v":0.9},"-",{"$f":"CURA_CASOS_HANS_REG!AG9","v":0.8095},{"$f":"CURA_CASOS_HANS_REG!AI9","v":"NÃO ATINGIU"},{"$f":"SIFILIS_CONG_1ANO_REG!N9","v":300},{"$f":"SIFILIS_CONG_1ANO_REG!M9","v":296},{"$f":"SIFILIS_CONG_1ANO_REG!O9","v":"ATINGIU"},{"$f":"AIDS_MENOR5_REG!O9","v":3},{"$f":"AIDS_MENOR5_REG!N9","v":2},{"$f":"AIDS_MENOR5_REG!P9","v":"ATINGIU"},{"$f":"METAS!L77","v":0.6},null,null,{"$f":"CITOPATOLOGICO_REG!AG9","v":0.57999999999999996},{"$f":"CITOPATOLOGICO_REG!V9","v":62255},{"$f":"CITOPATOLOGICO_REG!AF9","v":0.32396638305622771},{"$f":"CITOPATOLOGICO_REG!AJ9","v":"NÃO ATINGIU"},{"$f":"MAMOGRAFIA_REG!AC9","v":0.22},{"$f":"MAMOGRAFIA_REG!S9","v":24594},{"$f":"MAMOGRAFIA_REG!AB9","v":0.29286241634713855},{"$f":"MAMOGRAFIA_REG!AE9","v":"ATINGIU"},{"$f":"PARTO_NORMAL_REG!AH9","v":0.65},{"$f":"PARTO_NORMAL_REG!W9","v":18291},{"$f":"PARTO_NORMAL_REG!AG9","v":0.56072961373390562},{"$f":"PARTO_NORMAL_REG!AI9","v":"NÃO ATINGIU"},{"$f":"MAES_ADOL_REG!AH9","v":0.21100000000000002},{"$f":"MAES_ADOL_REG!W9","v":7442},{"$f":"MAES_ADOL_REG!AG9","v":0.21306078044032181},{"$f":"MAES_ADOL_REG!AI9","v":"NÃO ATINGIU"},{"$f":"MORT_INF_REG!AH9","v":14.25},{"$f":"MORT_INF_REG!W9","v":512},{"$f":"MORT_INF_REG!AG9","v":15.695892090741875},{"$f":"MORT_INF_REG!AI9","v":"NÃO ATINGIU"},{"$f":"OBITOS_MATERNOS_REG!AH9","v":14},{"$f":"OBITOS_MATERNOS_REG!M9","v":16},{"$f":"OBITOS_MATERNOS_REG!AI9","v":"NÃO ATINGIU"},{"$f":"COBERTURA_AB!W16","v":0.87450000000000006},{"$f":"COBERTURA_AB!V16","v":0.87784819260836999},{"$f":"COBERTURA_AB!X16","v":"ATINGIU"},{"$f":"PBF_ACOMP_REG_2017!G9","v":0.78},{"$f":"PBF_ACOMP_REG_2017!E9","v":182102},{"$f":"PBF_ACOMP_REG_2017!F9","v":0.8232533748044738},{"$f":"PBF_ACOMP_REG_2017!H9","v":"ATINGIU"},{"$f":"COBETURA_SB!V17","v":0.71200000000000008},{"$f":"COBETURA_SB!U17","v":0.72411740068206121},{"$f":"COBETURA_SB!W17","v":"ATINGIU"},null,null,null,{"$f":"MATRICIAMENTO_CAPS!AH9","v":"N/A"},{"$f":"MATRICIAMENTO_CAPS!AG9","v":"N/A"},{"$f":"MATRICIAMENTO_CAPS!AI9","v":"ATINGIU"},{"$f":"CICLO_DENGUE!P11","v":"N/A"},{"$f":"CICLO_DENGUE!O11","v":"N/A"},{"$f":"CICLO_DENGUE!P11","v":"N/A"},{"$f":"METAS!Y77","v":0.95},{"$f":"NOT_AC_TRAB_OCUP!AG9","v":0.63322884012539182},{"$f":"NOT_AC_TRAB_OCUP!AI9","v":"NÃO ATINGIU"},8,11,0.42105263157894735]
[]
[]
[null,null,null,null,null,null,null,null,null,null,null,null,null,null,"Fonte: SI-PNI - Sistema de Informação do Programa Nacional de Imunização"]
[null,null,null,null,null,null,null,null,null,null,null,null,null,null,"Data do banco de dados: 15/08/2017, para o período de janeiro a julho (coberturas calculadas para a meta do período)"]
[]
[null,null,null,null,null,null,null,null,null,null,null,null,null,null,null,"Fonte: sinan_relatórios 4.8"]
[null,null,null,null,null,null,null,null,null,null,null,null,null,null,null,"Data do banco de dados: 04/09/2017"]

{"sheet":"RELATÓRIO_REG","index":90,"n_rows":41,"n_cols":13,"rows_kept":41,"cut":false,"hidden":true,"merged":[[5,8,5,10]]}
[{"$f":"MATCH(I6,CONSOLIDADO_REG!B2:B9,0)","v":2}]
[null,null,null,null,null,"GOVERNO DE SERGIPE"]
[null,null,null,null,null,"SECRETARIA DE ESTADO DA SAÚDE"]
[null,null,null,null,null,"DIRETORIA DE PLANEJAMENTO"]
[null,null,null,null,null,"GERÊNCIA DE INFORMAÇÕES E ESTATÍSTICAS"]
[null,null,null,null,null,null,null,null,"REGIÃO ESTANCIA"]
[null,null,null,null,null,null,2017]
[null,null,null,null,null,"Indicadores de Saúde - Pacto Interfederativo 2017"]
[null,null,null,null,null,"POPULAÇÃO",null,null,{"$f":"OFFSET(CONSOLIDADO_REG!C1,A1,0)","v":243464},null,"RESULTADOS"]
[null,null,null,null,null,null,null,null,"Indicadores",null,"Meta proposta","Nº absoluto","Taxa/Propor ção/Razão"]
[null,null,null,null,null,"01 Óbito Prematuro 30 a 69 dcnt/taxa Óbito Prematuro 30 a 69 dcnt",null,null,null,null,{"$f":"OFFSET(CONSOLIDADO_REG!D1,RELATÓRIO_REG!A1,0)","v":309.41000000000003},{"$f":"OFFSET(CONSOLIDADO_REG!E1,RELATÓRIO_REG!$A$1,0)","v":281},{"$f":"OFFSET(CONSOLIDADO_REG!F1,RELATÓRIO_REG!$A$1,0)","v":284.13112499747217}]
[null,null,null,null,null,"02 Óbitos em Mulheres em Idade Fértil 10 a 49 Investigados/Proporção",null,null,null,null,{"$f":"OFFSET(CONSOLIDADO_REG!H1,RELATÓRIO_REG!$A$1,0)","v":0.9},{"$f":"OFFSET(CONSOLIDADO_REG!J1,RELATÓRIO_REG!$A$1,0)","v":59},{"$f":"OFFSET(CONSOLIDADO_REG!K1,RELATÓRIO_REG!$A$1,0)","v":0.69411764705882351}]
[null,null,null,null,null,"Óbitos em Mulheres em Idade Fértil 10 a 49",null,null,null,null,{"$f":"OFFSET(CONSOLIDADO_REG!I1,RELATÓRIO_REG!$A$1,0)","v":85}]
[null,null,null,null,null,"03 Óbitos Causas bas Definidas/Proporção",null,null,null,null,{"$f":"OFFSET(CONSOLIDADO_REG!M1,RELATÓRIO_REG!$A$1,0)","v":0.95},{"$f":"OFFSET(CONSOLIDADO_REG!N1,RELATÓRIO_REG!$A$1,0)","v":1252},{"$f":"OFFSET(CONSOLIDADO_REG!O1,RELATÓRIO_REG!$A$1,0)","v":0.9192364170337739}]
[null,null,null,null,null,"04 Proporção de Vacinas para Crianças < 2 anos",null,null,null,null,{"$f":"OFFSET(CONSOLIDADO_REG!Q1,RELATÓRIO_REG!$A$1,0)","v":1},{"$f":"OFFSET(CONSOLIDADO_REG!R1,RELATÓRIO_REG!$A$1,0)","v":0}]
[null,null,null,null,null,"05 Proporção de casos de Doenças Notificação Compulsória Imediata (DCMCI)",null,null,null,null,{"$f":"OFFSET(CONSOLIDADO_REG!T2,RELATÓRIO_REG!$A$1,0)","v":0.85},{"$f":"OFFSET(CONSOLIDADO_REG!U1,RELATÓRIO_REG!$A$1,0)","v":0.8}]
[null,null,null,null,null,"06 Proporção de Cura de Casos Novos de Hanseníase nos anos da Coorte",null,null,null,null,{"$f":"OFFSET(CONSOLIDADO_REG!W1,RELATÓRIO_REG!$A$1,0)","v":0.9},{"$f":"OFFSET(CONSOLIDADO_REG!X1,RELATÓRIO_REG!$A$1,0)","v":"-"},{"$f":"OFFSET(CONSOLIDADO_REG!Y1,RELATÓRIO_REG!$A$1,0)","v":1}]
[null,null,null,null,null,"08 Nº de Casos Novos de Sífilis Congênita em < ano",null,null,null,null,{"$f":"OFFSET(CONSOLIDADO_REG!AA1,RELATÓRIO_REG!$A$1,0)","v":43},{"$f":"OFFSET(CONSOLIDADO_REG!AB1,RELATÓRIO_REG!$A$1,0)","v":55}]
[null,null,null,null,null,"09 Nº de Casos de Aids < 5 anos",null,null,null,null,{"$f":"OFFSET(CONSOLIDADO_REG!AD1,RELATÓRIO_REG!$A$1,0)","v":0},{"$f":"OFFSET(CONSOLIDADO_REG!AE1,RELATÓRIO_REG!$A$1,0)","v":1}]
[null,null,null,null,null,"10 Proporção de Análise Realizada de Amostras de água para Consumo Humano",null,null,null,null,{"$f":"OFFSET(CONSOLIDADO_REG!AG1,RELATÓRIO_REG!$A$1,0)","v":0.75},{"$f":"OFFSET(CONSOLIDADO_REG!AH1,RELATÓRIO_REG!$A$1,0)","v":0}]
[null,null,null,null,null,"11 Exame Citopatológico do Colo do últero em Mulheres de  25 a 64 Anos/Razão",null,null,null,null,{"$f":"OFFSET(CONSOLIDADO_REG!AJ1,RELATÓRIO_REG!$A$1,0)","v":0.48},{"$f":"OFFSET(CONSOLIDADO_REG!AK1,RELATÓRIO_REG!$A$1,0)","v":8109},{"$f":"OFFSET(CONSOLIDADO_REG!AL1,RELATÓRIO_REG!$A$1,0)","v":0.42312977232010857}]
[null,null,null,null,null,"12 Mamografia de Rastreamento em Mulheres de 50 a 69 Anos/Razão",null,null,null,null,{"$f":"OFFSET(CONSOLIDADO_REG!AN1,RELATÓRIO_REG!$A$1,0)","v":0.16},{"$f":"OFFSET(CONSOLIDADO_REG!AO1,RELATÓRIO_REG!$A$1,0)","v":3222},{"$f":"OFFSET(CONSOLIDADO_REG!AP1,RELATÓRIO_REG!$A$1,0)","v":0.38605319913731129}]
[null,null,null,null,null,"13 Parto Normal no SUS e Saúde Suplementar/Proporção",null,null,null,null,{"$f":"OFFSET(CONSOLIDADO_REG!AR1,RELATÓRIO_REG!$A$1,0)","v":0.61260000000000003},{"$f":"OFFSET(CONSOLIDADO_REG!AS1,RELATÓRIO_REG!$A$1,0)","v":2155},{"$f":"OFFSET(CONSOLIDADO_REG!AT1,RELATÓRIO_REG!$A$1,0)","v":0.59546836142580828}]
[null,null,null,null,null,"14 Gravidez na Adolesc entre a Faixa Etária de 10 a 19 Anos/Proporção",null,null,null,null,{"$f":"OFFSET(CONSOLIDADO_REG!AV1,RELATÓRIO_REG!$A$1,0)","v":0.22690000000000002},{"$f":"OFFSET(CONSOLIDADO_REG!AW1,RELATÓRIO_REG!$A$1,0)","v":929},{"$f":"OFFSET(CONSOLIDADO_REG!AX1,RELATÓRIO_REG!$A$1,0)","v":0.25459029871197586}]
[null,null,null,null,null,"15 Óbitos Infantis/Taxa de Mortalidade Infantil",null,null,null,null,{"$f":"OFFSET(CONSOLIDADO_REG!AZ1,RELATÓRIO_REG!$A$1,0)","v":14.55},{"$f":"OFFSET(CONSOLIDADO_REG!BA1,RELATÓRIO_REG!$A$1,0)","v":61},{"$f":"OFFSET(CONSOLIDADO_REG!BB1,RELATÓRIO_REG!$A$1,0)","v":16.855484940591325}]
[null,null,null,null,null,"16 Nº de Óbitos Maternos",null,null,null,null,{"$f":"OFFSET(CONSOLIDADO_REG!BD1,RELATÓRIO_REG!$A$1,0)","v":1},{"$f":"OFFSET(CONSOLIDADO_REG!BE1,RELATÓRIO_REG!$A$1,0)","v":2}]
[null,null,null,null,null,"17 Cobertura Populacional Estimada pelas Equipes de Atenção Básica",null,null,null,null,{"$f":"OFFSET(CONSOLIDADO_REG!BG1,RELATÓRIO_REG!$A$1,0)","v":0.95030000000000003},{"$f":"OFFSET(CONSOLIDADO_REG!BH1,RELATÓRIO_REG!$A$1,0)","v":0.94985757543604765}]
[null,null,null,null,null,"18 Famílias para Acomp/Cobertura de Acomp das Condicionalidade de Saúde PBF",null,null,null,null,{"$f":"OFFSET(CONSOLIDADO_REG!BJ1,RELATÓRIO_REG!$A$1,0)","v":0.78},{"$f":"OFFSET(CONSOLIDADO_REG!BK1,RELATÓRIO_REG!$A$1,0)","v":26559},{"$f":"OFFSET(CONSOLIDADO_REG!BL1,RELATÓRIO_REG!$A$1,0)","v":0.87035883991479601}]
[null,null,null,null,null,"19 Cobertura Populacional Estima de Saúde Bucal na Atenção Básica",null,null,null,null,{"$f":"OFFSET(CONSOLIDADO_REG!BN1,RELATÓRIO_REG!$A$1,0)","v":0.7631},{"$f":"OFFSET(CONSOLIDADO_REG!BO1,RELATÓRIO_REG!$A$1,0)","v":0.82341802629753269}]
[null,null,null,null,null,"20 Percentual de Municípios que Rrealizaram no Mínimo Seis Grupos de Ações vigilância",null,null,null,null,{"$f":"OFFSET(CONSOLIDADO_REG!BQ1,RELATÓRIO_REG!$A$1,0)","v":0.5},{"$f":"OFFSET(CONSOLIDADO_REG!BR1,RELATÓRIO_REG!$A$1,0)","v":0}]
[null,null,null,null,null,"21 Ações de Maticiamento Sistemático Realizadas por CAPS com Equipes de AB",null,null,null,null,{"$f":"OFFSET(CONSOLIDADO_REG!BT1,RELATÓRIO_REG!$A$1,0)","v":1},{"$f":"OFFSET(CONSOLIDADO_REG!BU1,RELATÓRIO_REG!$A$1,0)","v":0.8}]
[null,null,null,null,null,"22 Nº de Cíclos que Atingiram no Mínimo 80% Cob de Imóveis Visitados Controle dengue",null,null,null,null,{"$f":"OFFSET(CONSOLIDADO_REG!BW1,RELATÓRIO_REG!$A$1,0)","v":4},{"$f":"OFFSET(CONSOLIDADO_REG!BX1,RELATÓRIO_REG!$A$1,0)","v":22}]
[null,null,null,null,null,"23 Proporção de Preenchimento do Campo Ocupação nas Notificações de Agravos Trab",null,null,null,null,{"$f":"OFFSET(CONSOLIDADO_REG!BZ1,RELATÓRIO_REG!$A$1,0)","v":0.95},{"$f":"OFFSET(CONSOLIDADO_REG!CA1,RELATÓRIO_REG!$A$1,0)","v":0.93877551020408168}]
[null,null,null,null,null,"Nº METAS ALCANÇADAS",null,null,null,null,{"$f":"OFFSET(CONSOLIDADO_REG!CC1,RELATÓRIO_REG!$A$1,0)","v":6}]
[null,null,null,null,null,"Nº METAS NÃO ALCANÇADAS",null,null,null,null,{"$f":"OFFSET(CONSOLIDADO_REG!CD1,RELATÓRIO_REG!$A$1,0)","v":15}]
[null,null,null,null,null,"PROPORÇÃO DE METAS ALCANÇADAS",null,null,null,null,{"$f":"OFFSET(CONSOLIDADO_REG!CE1,RELATÓRIO_REG!$A$1,0)","v":0.2857142857142857}]
[null,null,null,null,null,"Fonte:DATASUS/SIASUS/ATUALIZAÇÃO DO BANCO EM 05/02/18. DADOS ATÉ DEZEMBRO 2017."]
[null,null,null,null,null,"Fonte:DVS/SIM/SINASC (Base de dados 10/01/2018), informação 2017, respectivamente. SINAN/Base de dados: 18/01/2018."]
[null,null,null,null,null,"Fonte:VISA/Sisagua/banco de dados gerados em 02/02/2018; Ações de vigilância dados 05/02/2018."]
[null,null,null,null,null,"Fonte:eGestor/Dab/Dado gerado em: 19 de Fevereiro de 2018 - 17:33h"]
[null,null,null,null,null,"Fonte: Bolsa Família, relatório 11/02/2018 - 21:20:47   Data da última consolidação 02/02/2018"]

{"sheet":"OBITOS_PREMATUROS","index":91,"n_rows":244,"n_cols":35,"rows_kept":244,"cut":false,"hidden":true,"merged":[]}
["COD IBGE","REGIÃO","MUNICIPIO","POP 2015","POP 30 A 69 ANOS 2008","POP 30 A 69 ANOS 2009","POP 30 A 69 ANOS 2010","POP 30 A 69 ANOS 2011","POP 30 A 69 ANOS 2012","POP 30 A 69 ANOS 2013","POP 30 A 69 ANOS 2014","POP 30 A 69 ANOS 2015","POP 30 A 69 ANOS 2016","OBITO PREMATURO 30 A 69 DCNT 2008","OBITO PREMATURO 30 A 69 DCNT 2009","OBITO PREMATURO 30 A 69 DCNT 2010","OBITO PREMATURO 30 A 69 DCNT 2011","OBITO PREMATURO 30 A 69 DCNT 2012","OBITO PREMATURO 30 A 69 DCNT 2013","OBITO PREMATURO 30 A 69 DCNT 2014","OBITO PREMATURO 30 A 69 DCNT 2015","OBITO PREMATURO 30 A 69 DCNT 2016","OBITO PREMATURO 30 A 69 DCNT 2017","TAXA OBITO PREMATURO 30 A 69 DCNT 2008","TAXA OBITO PREMATURO 30 A 69 DCNT 2009","TAXA OBITO PREMATURO 30 A 69 DCNT 2010","TAXA OBITO PREMATURO 30 A 69 DCNT 2011","TAXA OBITO PREMATURO 30 A 69 DCNT 2012","TAXA OBITO PREMATURO 30 A 69 DCNT 2013","TAXA OBITO PREMATURO 30 A 69 DCNT 2014","TAXA OBITO PREMATURO 30 A 69 DCNT 2015","TAXA OBITO PREMATURO 30 A 69 DCNT 2016","TAXA OBITO PREMATURO 30 A 69 DCNT 2017","META PACTUADA 2017","SITUAÇÃO 2017"]
[280010,"PROPRIA","AMPARO DE SÃO FRANCISCO",2374,799,814,859,864,895,918,942,967,967,5,4,9,1,6,2,2,4,2,5,{"$f":"IFERROR(N2/E2*100000,\"0\")","v":625.78222778473094},491.40049140049138,1047.7299185098952,115.74074074074073,670.39106145251401,217.86492374727672,212.31422505307856,413.65046535677357,{"$f":"IFERROR(V2/$M2*100000,\"0\")","v":206.82523267838678},517.06308169596696,2,{"$f":"IF(W2<=AH2,\"ATINGIU\",\"NÃO ATINGIU\")","v":"NÃO ATINGIU"}]
[280020,"PROPRIA","AQUIDABÃ",21315,7220,7363,7961,8014,8338,8532,8790,9005,9005,39,23,25,27,32,31,27,33,25,27,540.16620498614952,312.37267418171939,314.03090064062303,336.91040678812078,383.78508035500118,363.33802156586967,307.16723549488052,366.46307606885063,277.62354247640201,299.83342587451415,26,{"$f":"IF(W3<=AH3,\"ATINGIU\",\"NÃO ATINGIU\")","v":"NÃO ATINGIU"}]
[280030,"ARACAJU","ARACAJU",632745,226272,233407,254661,258413,273173,282739,291908,301071,301071,663,670,637,724,690,723,724,791,717,739,293.0101824352991,287.05223065289391,250.13645591590387,280.17166319031941,252.58718833852541,255.71286592935533,248.02334982254683,262.72872511799545,238.14980519545225,245.45705165891101,233.5,{"$f":"IF(AG4<=AH4,\"ATINGIU\",\"NÃO ATINGIU\")","v":"NÃO ATINGIU"}]
[280040,"ESTANCIA","ARAUÁ",10572,4144,4226,4191,4149,4270,4307,4442,4542,4542,18,15,11,16,10,21,9,13,15,12,434.36293436293437,354.94557501183152,262.46719160104988,385.63509279344419,234.19203747072601,487.578360807987,202.61143628995947,286.21752531924267,330.25099075297226,264.20079260237782,14,"ATINGIU"]
[280050,"ITABAIANA","AREIA BRANCA",18169,5734,5919,6337,6396,6777,7020,7257,7485,7485,20,17,20,13,19,27,12,18,21,20,348.79665155214508,287.21067747930391,315.60675398453526,203.25203252032523,280.36004131621661,384.61538461538464,165.35758577924761,240.48096192384767,280.56112224448896,267.20106880427522,19,"NÃO ATINGIU"]
[280060,"ARACAJU","BARRA DOS COQUEIROS",28679,7302,7474,10129,10353,11043,11528,11987,12444,12444,28,27,23,25,39,32,31,47,37,30,383.45658723637359,361.25234145036126,227.07078684963966,241.47590070510964,353.16490084216247,277.58501040943787,258.61349795611915,377.69206043072967,297.33204757312762,241.08003857280616,28,"NÃO ATINGIU"]
[280067,"ESTANCIA","BOQUIM",26750,9495,9677,10482,10522,10926,11169,11404,11617,11617,30,43,20,31,29,32,41,31,43,35,315.95576619273299,444.35258861217318,190.80328181644725,294.62079452575557,265.42192934285191,286.50729698271999,359.52297439494913,266.85030558664027,370.14719807179137,301.28260308169064,30,"NÃO ATINGIU"]
[280070,"PROPRIA","BREJO GRANDE",8218,2359,2403,2554,2572,2659,2730,2816,2889,2889,9,7,12,7,8,7,4,12,8,4,381.51759220008478,291.30253849354972,469.8512137823023,272.16174183514778,300.86498683715683,256.41025641025641,142.04545454545456,415.36863966770505,276.91242644513676,138.45621322256838,7,"ATINGIU"]
[280100,"ITABAIANA","CAMPO DO BRITO",17851,6184,6326,6759,6808,7116,7300,7496,7674,7674,20,18,21,18,17,23,16,19,18,26,323.41526520051747,284.53999367688903,310.69684864624941,264.39482961222092,238.8982574480045,315.06849315068496,213.44717182497334,247.58926244461819,234.55824863174357,338.80635913474072,15,"NÃO ATINGIU"]
[280110,"PROPRIA","CANHOBA",4059,1366,1384,1472,1472,1514,1544,1572,1599,1599,4,6,2,2,5,5,8,7,3,3,292.82576866764276,433.52601156069358,135.86956521739131,135.86956521739131,330.25099075297226,323.83419689119171,508.90585241730281,437.77360850531585,187.61726078799251,187.61726078799251,6,"ATINGIU"]
[280120,"GLORIA","CANINDÉ DE SÃO FRANCISCO",28279,6588,6822,8298,8477,9052,9477,9946,10388,10388,24,27,24,33,31,27,23,21,31,27,364.29872495446267,395.77836411609502,289.22631959508317,389.28866344225554,342.46575342465752,284.90028490028493,231.2487432133521,202.15633423180594,298.42125529457064,259.91528686946481,22,"NÃO ATINGIU"]
[280130,"SOCORRO","CAPELA",33378,9855,10093,11297,11417,12015,12433,12865,13288,13288,39,46,44,42,48,41,38,39,41,43,395.73820395738204,455.7614188051125,389.48393378773125,367.87247087676269,399.50062421972535,329.76755408992199,295.37504858142245,293.49789283564115,308.54906682721253,323.60024081878385,36,"NÃO ATINGIU"]
[280140,"ITABAIANA","CARIRA",21487,7300,7452,7977,8045,8361,8582,8802,9011,9011,22,23,16,18,17,22,25,29,24,15,301.36986301369865,308.64197530864197,200.57665789143786,223.74145431945306,203.32496112905156,256.35050104870658,284.02635764598955,321.82887581844409,266.34113860836754,166.46321163022972,24,"ATINGIU"]
[280150,"SOCORRO","CARMÓPOLIS",15621,4303,4463,4903,5019,5299,5520,5743,5963,5963,18,19,15,19,19,18,21,27,17,15,418.31280501975368,425.72260811113603,305.93514174994897,378.56146642757523,358.55821853179845,326.08695652173913,365.66254570781825,452.79221868187153,285.091396947845,251.55123260103977,20,"ATINGIU"]
[280160,"PROPRIA","CEDRO DE SÃO JOÃO",5890,2326,2356,2447,2459,2512,2550,2568,2587,2587,9,8,8,10,7,9,10,10,12,13,386.93035253654341,339.5585738539898,326.93093583980385,406.66937779585191,278.66242038216558,352.94117647058823,389.4080996884735,386.54812524159257,463.85775028991111,502.51256281407035,9,"NÃO ATINGIU"]
[280170,"ESTANCIA","CRISTINÁPOLIS",17911,5135,5145,5780,5840,6161,6377,6594,6809,6809,11,27,21,15,23,14,17,20,27,15,214.21616358325221,524.78134110787175,363.32179930795849,256.84931506849313,373.31602012660284,219.53896816684963,257.81013042159537,293.72888823615801,396.53399911881331,220.29666617711854,15,"ATINGIU"]
[280190,"SOCORRO","CUMBE",3986,1501,1541,1570,1578,1657,1701,1739,1779,1779,2,4,6,6,5,6,6,4,2,3,133.24450366422386,259.57170668397146,382.16560509554142,380.22813688212926,301.75015087507541,352.73368606701939,345.02587694077056,224.84541877459247,112.42270938729624,168.63406408094434,3,"ATINGIU"]
[280200,"ARACAJU","DIVINA PASTORA",4889,1518,1584,1640,1669,1761,1828,1896,1963,1963,5,3,3,2,11,6,8,7,2,6,329.38076416337287,189.39393939393941,182.92682926829269,119.83223487118035,624.64508801817146,328.22757111597372,421.94092827004215,356.5970453387672,101.88487009679062,305.65461029037186,6,"ATINGIU"]
[280210,"ESTANCIA","ESTÂNCIA",68407,23042,23546,25477,25643,26808,27550,28325,29053,29053,76,98,77,69,93,85,93,100,102,84,329.8324798194601,416.20657436507264,302.23338697648859,269.07928089537103,346.91136974037602,308.52994555353905,328.3318623124448,344.19853371424642,351.08250438853128,289.12676831996697,80,"NÃO ATINGIU"]
[280220,"GLORIA","FEIRA NOVA",5571,2000,2062,2044,2053,2140,2197,2264,2320,2320,7,4,4,9,4,5,12,9,6,7,350,193.98642095053347,195.69471624266143,438.38285435947398,186.9158878504673,227.58306781975421,530.03533568904595,387.93103448275861,258.62068965517238,301.72413793103448,10,"ATINGIU"]
[280230,"ITABAIANA","FREI PAULO",15044,4785,4872,5534,5592,5834,5988,6167,6325,6325,18,10,13,19,23,17,14,18,19,27,376.1755485893417,205.25451559934319,234.91145645102998,339.77110157367667,394.24065821049021,283.90113560454245,227.01475595913735,284.58498023715413,300.39525691699606,426.87747035573125,13,"NÃO ATINGIU"]
[280240,"GLORIA","GARARU",11724,4240,4337,4454,4456,4670,4788,4901,5011,5011,9,9,11,14,14,10,12,6,11,17,212.26415094339623,207.51671662439475,246.96901661427933,314.18312387791741,299.7858672376874,208.85547201336675,244.8479902060804,119.7365795250449,219.51706246258232,339.25364198762719,9,"NÃO ATINGIU"]
[280250,"SOCORRO","GENERAL MAYNARD",3230,1073,1107,1163,1177,1246,1290,1337,1382,1382,5,7,2,2,6,4,2,2,2,4,465.98322460391421,632.33965672990064,171.96904557179707,169.92353440951572,481.54093097913318,310.07751937984494,149.58863126402392,144.71780028943559,144.71780028943559,289.43560057887117,1,"NÃO ATINGIU"]
[280260,"GLORIA","GRACHO CARDOSO",5846,2156,2208,2314,2321,2425,2487,2553,2612,2612,4,7,6,4,9,6,3,5,7,7,185.5287569573284,317.02898550724638,259.29127052722555,172.33950883239982,371.13402061855669,241.25452352231602,117.50881316098707,191.42419601837673,267.99387442572743,267.99387442572743,6,"NÃO ATINGIU"]
[280270,"PROPRIA","ILHA DAS FLORES",8597,2839,2891,2918,2921,2999,3047,3101,3149,3149,9,5,5,13,12,7,10,7,9,9,317.01303275801337,172.95053614666207,171.35023989033584,445.05306401917153,400.13337779259757,229.73416475221532,322.47662044501772,222.29279136233725,285.80501746586219,285.80501746586219,7,"NÃO ATINGIU"]
[280280,"ESTANCIA","INDIAROBA",17384,5567,5793,5277,5346,5616,5835,6023,6222,6222,14,21,12,13,20,20,19,21,18,17,251.48194718879108,362.50647332988086,227.40193291642979,243.17246539468763,356.12535612535612,342.75921165381322,315.45741324921136,337.51205400192862,289.2960462873674,273.22404371584702,16,"NÃO ATINGIU"]
[280290,"ITABAIANA","ITABAIANA",93573,32418,33287,35162,35477,37173,38263,39347,40390,40390,91,90,114,99,101,109,84,116,108,96,280.70824850391756,270.37582239312644,324.21363972470277,279.05403500859711,271.70257982944611,284.87050152889213,213.4851449919943,287.19980193117107,267.39291903936618,237.68259470165884,80,"NÃO ATINGIU"]
[280300,"ESTANCIA","ITABAIANINHA",41405,13024,13347,14241,14338,15077,15579,16027,16503,16503,45,38,47,41,47,44,49,43,41,55,345.51597051597054,284.70817412152547,330.03300330033005,285.95341051750592,311.73310340253363,282.43147827203285,305.73407375054592,260.5586862994607,248.4396776343695,333.27273829000785,43,"NÃO ATINGIU"]
[280310,"GLORIA","ITABI",5017,1920,1939,2212,2202,2283,2311,2369,2409,2409,4,3,7,2,6,8,5,6,6,6,208.33333333333334,154.71892728210418,316.45569620253161,90.826521344232518,262.81208935611039,346.17048896581565,211.05951878429718,249.06600249066003,249.06600249066003,249.06600249066003,3,"NÃO ATINGIU"]
[280320,"ARACAJU","ITAPORANGA D'AJUDA",33320,9734,10051,11213,11353,12070,12549,13020,13481,13481,31,30,33,26,38,35,38,38,43,42,318.47133757961785,298.47776340662625,294.30125746900922,229.01435743856251,314.8301574150787,278.90668579169653,291.85867895545317,281.87819894666569,318.96743565017431,311.5495883094726,36,"NÃO ATINGIU"]
[280330,"SOCORRO","JAPARATUBA",18286,5557,5684,6573,6641,7014,7255,7516,7768,7768,20,19,13,24,20,23,13,24,21,25,359.90642432967428,334.27163969035888,197.77879202799329,361.39135672338506,285.14399771884803,317.02274293590631,172.96434273549758,308.9598352214212,270.33985581874356,321.83316168898045,18,"NÃO ATINGIU"]
[280340,"PROPRIA","JAPOATÃ",13245,4864,5009,4777,4774,4933,5023,5136,5229,5229,14,23,16,15,18,22,20,14,21,15,287.82894736842104,459.17348772210028,334.93824576093783,314.20192710515289,364.88951956213259,437.985267768266,389.4080996884735,{"$f":"IFERROR(U33/L33*100000,\"0\")","v":267.73761713520747},401.60642570281118,286.86173264486519,15,"ATINGIU"]
[280350,"LAGARTO","LAGARTO",102259,34763,35525,38566,38925,40810,42022,43112,44222,44222,115,87,104,109,109,95,122,137,124,109,{"$f":"IFERROR(N34/E34*100000,\"0\")","v":330.81149498029515},244.89795918367346,269.66758284499303,280.02569043031474,267.09139916687087,226.07205749369379,282.98385600296899,309.80055176156662,{"$f":"IFERROR(V34/$M34*100000,\"0\")","v":280.40341911265887},246.4836506716114,264,{"$f":"IF(AG34<=AH34,\"ATINGIU\",\"NÃO ATINGIU\")","v":"ATINGIU"}]
[280360,"ARACAJU","LARANJEIRAS",29127,8578,8803,9968,10071,10608,10985,11331,11688,11688,37,22,33,31,30,27,31,34,29,25,431.33597575192351,249.91480177212313,331.05939004815411,307.81451692979846,282.80542986425337,245.78971324533453,273.58573824022591,290.89664613278575,248.11772758384669,213.89459274469542,27,"ATINGIU"]
[280370,"ITABAIANA","MACAMBIRA",6823,2489,2557,2611,2628,2762,2839,2886,2946,2946,6,6,5,8,11,6,7,9,10,10,241.06066693451183,234.64998044583496,191.49751053236309,304.41400304414003,398.26212889210717,211.34202183867558,242.55024255024253,305.49898167006108,339.44331296673454,339.44331296673454,6,"NÃO ATINGIU"]
[280380,"PROPRIA","MALHADA DOS BOIS",3652,1278,1308,1329,1339,1373,1398,1438,1470,1470,2,5,6,9,5,5,10,2,7,5,156.49452269170578,382.26299694189601,451.46726862302478,672.14339058999246,364.16605972323379,357.65379113018599,695.4102920723227,136.05442176870747,476.19047619047626,340.13605442176868,6,"ATINGIU"]
[280390,"ITABAIANA","MALHADOR",12601,4353,4447,4854,4870,5097,5234,5365,5493,5493,14,17,14,12,12,12,25,11,12,13,321.61727544222373,382.28018889138747,288.42192006592501,246.40657084188913,235.43260741612713,229.27015666794037,465.98322460391421,200.25486983433461,218.45985800109227,236.66484616784999,13,"ATINGIU"]
[280400,"SOCORRO","MARUIM",17151,5612,5732,6238,6267,6488,6636,6791,6930,6930,22,23,16,28,26,18,18,28,21,19,392.01710620099789,401.25610607117937,256.49246553382494,446.78474549226104,400.7398273736128,271.24773960216999,265.05669268149023,404.04040404040404,303.030303030303,274.17027417027418,15,"NÃO ATINGIU"]
[280410,"ITABAIANA","MOITA BONITA",11399,4317,4403,4666,4678,4869,4960,5090,5190,5190,11,12,12,12,14,12,9,7,14,7,254.80657864257586,272.54144901203722,257.17959708529793,256.51988029072254,287.5333744095297,241.93548387096774,176.81728880157172,134.8747591522158,269.7495183044316,134.8747591522158,8,"ATINGIU"]
[280420,"GLORIA","MONTE ALEGRE DE SERGIPE",14853,4390,4532,4930,4987,5227,5406,5584,5756,5756,15,7,9,11,9,16,10,11,12,15,341.68564920273349,154.45719329214475,182.55578093306289,220.57349107679966,172.18289649894777,295.96744358120606,179.08309455587394,191.10493398193188,208.47810979847114,260.59763724808892,6,"NÃO ATINGIU"]
[280430,"PROPRIA","MURIBECA",7644,2606,2654,2849,2858,3008,3097,3178,3263,3263,8,11,8,10,10,14,11,12,10,4,306.98388334612434,414.46872645064059,280.8002808002808,349.89503149055287,332.44680851063828,452.05037132709072,346.12964128382629,367.75973030953111,306.46644192460928,122.5865767698437,9,"ATINGIU"]
[280440,"PROPRIA","NEÓPOLIS",18958,6661,6788,7092,7089,7382,7544,7730,7900,7900,24,26,23,36,28,27,14,29,27,19,360.3062603212731,383.02887448438423,324.30908065425831,507.82903089293274,379.30100243836358,357.90031813361611,181.11254851228978,367.08860759493672,341.77215189873419,240.50632911392407,10,"NÃO ATINGIU"]
[280445,"ITABAIANA","NOSSA SENHORA APARECIDA",8830,3517,3602,3628,3638,3801,3885,3977,4059,4059,3,7,5,6,8,9,13,11,9,13,85.299971566676149,194.33647973348141,137.81697905181917,164.92578339747115,210.47092870297291,231.66023166023166,326.8795574553684,271.00271002710025,221.72949002217294,320.27593003202759,8,"NÃO ATINGIU"]
[280450,"GLORIA","NOSSA SENHORA DA GLÓRIA",35723,11431,11772,12665,12832,13550,14036,14478,14928,14928,18,22,42,28,26,39,32,34,37,43,157.46653836059838,186.88413183826029,331.62258191867352,218.20448877805484,191.8819188191882,277.85693929894552,221.02500345351569,227.7599142550911,247.85637727759914,288.04930332261523,28,"NÃO ATINGIU"]
[280460,"SOCORRO","NOSSA SENHORA DAS DORES",26237,8996,9234,9699,9771,10216,10503,10782,11052,11052,32,32,26,35,31,47,40,36,33,30,355.71365051133836,346.54537578514186,268.06887307969896,358.20284515402722,303.44557556773691,447.49119299247837,370.98868484511223,325.73289902280129,298.58849077090122,271.44408251900109,33,"ATINGIU"]
[280470,"PROPRIA","NOSSA SENHORA DE LOURDES",6494,2375,2422,2506,2516,2589,2637,2700,2753,2753,11,5,6,8,8,7,7,5,1,7,463.15789473684214,206.44095788604457,239.42537909018355,317.96502384737681,308.99961375048281,265.45316647705727,259.25925925925924,181.62005085361426,36.32401017072285,254.26807119505995,5,"NÃO ATINGIU"]
[280480,"SOCORRO","NOSSA SENHORA DO SOCORRO",177340,57496,59067,64378,65267,68262,70476,72300,74200,74200,187,182,163,198,194,192,201,215,211,231,325.24001669681365,308.12467198266376,253.19208425238438,303.36923713362035,284.1991151738888,272.43316873829389,278.00829875518673,289.75741239892182,284.36657681940699,311.32075471698113,280,{"$f":"IF(AG48<=AH48,\"ATINGIU\",\"NÃO ATINGIU\")","v":"NÃO ATINGIU"}]
[280490,"PROPRIA","PACATUBA",14164,4053,4142,4559,4602,4885,5084,5283,5491,5491,14,16,9,13,14,15,15,15,10,18,345.42314335060445,386.28681796233701,197.41171309497699,282.4858757062147,286.59160696008189,295.04327301337531,283.92958546280522,273.17428519395372,182.11619012930251,327.80914223274448,12,"NÃO ATINGIU"]
[280500,"ITABAIANA","PEDRA MOLE",3199,1137,1162,1241,1253,1297,1325,1376,1411,1411,2,4,4,0,2,6,5,1,2,2,175.9014951627089,344.23407917383821,322.32070910556001,0,154.20200462606013,452.83018867924528,363.37209302325579,70.871722182849041,141.74344436569808,141.74344436569808,3,"ATINGIU"]
[280510,"ESTANCIA","PEDRINHAS",9455,2922,2995,3338,3365,3545,3660,3771,3881,3881,13,5,7,11,10,4,10,13,17,6,444.90075290896647,166.9449081803005,209.7064110245656,326.89450222882618,282.08744710860367,109.2896174863388,265.18164942985948,334.96521515073437,438.03143519711409,154.5993300695697,9,"ATINGIU"]
[280520,"ITABAIANA","PINHÃO",6439,2263,2312,2500,2523,2637,2708,2786,2859,2859,2,8,6,6,10,9,13,4,11,5,88.378258948298722,346.02076124567475,239.99999999999997,237.81212841854932,379.21880925293891,332.34859675036927,466.61880832735102,139.90905911157748,384.74991255683807,174.88632388947184,12,"ATINGIU"]
[280530,"SOCORRO","PIRAMBU",9058,2782,2860,3000,3030,3180,3289,3379,3475,3475,8,6,13,13,7,8,11,16,5,11,287.56290438533432,209.79020979020979,433.33333333333331,429.04290429042902,220.12578616352201,243.2350258437215,325.54010062148564,460.43165467625897,143.88489208633095,316.54676258992805,5,"NÃO ATINGIU"]
[280540,"GLORIA","POÇO REDONDO",33756,9067,9282,10389,10516,11007,11395,11762,12125,12125,28,25,33,24,20,19,21,20,17,36,308.81217602294032,269.33850463262229,317.64366156511693,228.22365918600227,181.70255292086856,166.73979815708645,178.54106444482233,164.94845360824743,140.20618556701032,296.90721649484533,15,"NÃO ATINGIU"]
[280550,"LAGARTO","POÇO VERDE",23413,8039,8191,8977,9041,9440,9680,9940,10177,10177,18,28,18,32,20,20,23,24,22,12,223.90844632416969,341.83860334513491,200.51242063050017,353.94314788187148,211.86440677966101,206.61157024793388,231.38832997987927,235.82588189053746,216.17372506632606,117.91294094526873,17,"ATINGIU"]
[280560,"GLORIA","PORTO DA FOLHA",28497,9153,9372,9927,9970,10346,10581,10945,11228,11228,17,20,19,11,30,12,22,28,14,22,185.73145416803234,213.40162185232609,191.39719955676438,110.33099297893682,289.96713705780007,113.41083073433512,201.00502512562815,249.37655860349128,124.68827930174564,195.93872461702884,16,"NÃO ATINGIU"]
[280570,"PROPRIA","PROPRIÁ",29657,10573,10713,11376,11408,11784,12023,12221,12427,12427,48,49,44,38,37,60,37,52,61,37,453.98656956398372,457.38821991972372,386.77918424753869,333.09957924263676,313.98506449422945,499.04349995841301,302.75754848212097,418.44371127383926,490.86666130200376,297.73879456023178,35,"NÃO ATINGIU"]
[280580,"LAGARTO","RIACHÃO DO DANTAS",19976,6649,6751,7411,7420,7729,7898,8125,8311,8311,24,19,21,21,23,23,20,19,20,14,360.95653481726578,281.43978669826691,283.36256915396029,283.01886792452831,297.58054082028724,291.21296530767285,246.15384615384616,228.61268198772709,240.64492840813381,168.45144988569368,18,"ATINGIU"]
[280590,"ARACAJU","RIACHUELO",10033,3127,3228,3399,3427,3620,3754,3882,4010,4010,13,16,12,11,13,10,17,16,11,9,415.73393028461783,495.66294919454771,353.04501323918799,320.98044937262915,359.11602209944755,266.38252530633991,437.91859866048429,399.002493765586,274.31421446384041,224.43890274314217,15,"ATINGIU"]
[280600,"ITABAIANA","RIBEIRÓPOLIS",18363,6415,6546,7200,7257,7598,7794,8020,8217,8217,19,17,11,13,19,14,27,18,21,14,296.18082618862041,259.70058050717995,152.7777777777778,179.13738459418494,250.06580679126085,179.62535283551452,336.65835411471323,219.05805038335157,255.5677254472435,170.37848363149567,20,"ATINGIU"]
[280610,"SOCORRO","ROSÁRIO DO CATETE",10367,3105,3220,3514,3578,3785,3945,4070,4209,4209,8,14,11,7,15,8,10,14,14,14,257.64895330112722,434.78260869565219,313.03357996585089,195.64002235885968,396.3011889035667,202.78833967046893,245.70024570024569,332.62057495842242,332.62057495842242,332.62057495842242,8,"NÃO ATINGIU"]
[280620,"LAGARTO","SALGADO",20082,6778,6909,7719,7731,8092,8289,8543,8755,8755,20,16,28,17,19,16,13,25,34,27,295.0722927117144,231.58199449992762,362.74128773157145,219.89393351442246,234.79980227385073,193.02690312462298,152.17136837176636,285.55111364934322,388.34951456310677,308.39520274129069,11,"NÃO ATINGIU"]
[280630,"ESTANCIA","SANTA LUZIA DO ITANHY",13838,4100,4189,4327,4359,4577,4740,4852,4980,4980,11,11,12,11,13,19,8,14,17,10,268.29268292682929,262.59250417760802,277.32840305061245,252.35145675613674,284.02883985143109,400.84388185654007,164.88046166529267,281.12449799196787,341.36546184738955,200.80321285140559,13,"ATINGIU"]
[280640,"PROPRIA","SANTANA DO SÃO FRANCISCO",7607,2193,2258,2509,2534,2648,2726,2827,2913,2913,5,10,10,9,9,5,8,7,7,5,227.99817601459188,442.86979627989376,398.56516540454368,355.16969218626679,339.87915407854985,183.4189288334556,282.98549699327907,240.30209406110541,240.30209406110541,171.64435290078956,6,"ATINGIU"]
[280650,"ARACAJU","SANTA ROSA DE LIMA",3912,1437,1484,1422,1429,1490,1527,1564,1596,1596,11,4,5,1,2,2,6,4,4,1,765.4836464857342,269.54177897574124,351.61744022503512,69.979006298110562,134.22818791946307,130.97576948264572,383.63171355498724,250.62656641604008,250.62656641604008,62.656641604010019,4,"ATINGIU"]
[280660,"SOCORRO","SANTO AMARO DAS BROTAS",12024,4310,4441,4424,4447,4618,4728,4887,5014,5014,14,12,20,19,17,22,4,11,13,8,{"$f":"IFERROR(N66/E66*100000,\"0\")","v":324.82598607888633},270.20941229452831,452.07956600361666,427.25432876096249,368.12472932005198,465.31302876480538,81.849805606711683,219.38571998404467,{"$f":"IFERROR(V66/$M66*100000,\"0\")","v":259.27403270841643},159.55325089748703,3,"NÃO ATINGIU"]
[280670,"ARACAJU","SÃO CRISTÓVÃO",86979,27918,28765,31756,32195,33727,34821,35981,37060,37060,85,76,101,77,78,91,99,88,106,127,304.46307042051723,264.209977403094,318.05013225847085,239.16757260444166,231.26871645862366,261.33654978317685,275.14521553041885,237.45277927684836,286.02266594711278,342.68753372908793,80,{"$f":"IF(W67<=AH67,\"ATINGIU\",\"NÃO ATINGIU\")","v":"NÃO ATINGIU"}]
[280680,"ITABAIANA","SÃO DOMINGOS",10971,3847,3976,4100,4130,4337,4453,4603,4733,4733,10,14,10,9,9,11,11,12,11,6,259.94281258123215,352.11267605633805,243.90243902439025,217.91767554479418,207.51671662439475,247.02447788008084,238.97458179448185,253.5389816184238,232.41073315022186,126.7694908092119,10,"ATINGIU"]
[280690,"PROPRIA","SÃO FRANCISCO",3851,1140,1174,1396,1425,1503,1560,1628,1690,1690,6,7,6,0,1,3,7,6,6,8,526.31578947368416,596.25212947189095,429.79942693409743,0,66.533599467731207,192.30769230769232,429.97542997542996,355.02958579881653,355.02958579881653,473.37278106508876,5,"NÃO ATINGIU"]
[280700,"ITABAIANA","SÃO MIGUEL DO ALEIXO",3902,1344,1379,1437,1447,1520,1568,1620,1671,1671,7,4,4,2,4,2,4,5,5,2,520.83333333333326,290.06526468455405,278.35768963117607,138.21700069108499,263.15789473684208,127.55102040816325,246.91358024691357,299.22202274087368,299.22202274087368,119.68880909634949,8,"ATINGIU"]
[280710,"LAGARTO","SIMÃO DIAS",40530,14109,14322,15487,15545,16194,16561,16963,17332,17332,56,36,51,58,56,47,62,56,57,44,396.90977390318238,251.36154168412233,329.3084522502744,373.11032486330009,345.80708904532543,283.79928748263995,365.50138536815422,323.10177705977384,328.87145165012691,253.86568197553657,47,"ATINGIU"]
[280720,"SOCORRO","SIRIRI",8675,2833,2911,2987,3018,3131,3214,3297,3369,3369,3,8,11,5,13,4,4,10,9,8,105.89481115425345,274.81964960494679,368.26247070639437,165.67263088137838,415.20281060364101,124.45550715619166,121.3224143160449,296.82398337785691,267.14158504007122,237.45918670228556,4,"NÃO ATINGIU"]
[280730,"PROPRIA","TELHA",3171,1118,1155,1187,1198,1249,1279,1332,1369,1369,2,6,1,5,2,3,3,5,0,6,178.89087656529517,519.48051948051943,84.24599831508003,417.36227045075123,160.12810248198556,234.55824863174357,225.22522522522522,365.23009495982473,0,438.27611395178963,2,"NÃO ATINGIU"]
[280740,"LAGARTO","TOBIAS BARRETO",51374,18375,18866,19193,19342,20276,20849,21410,21957,21957,60,58,80,54,57,70,57,57,63,63,326.53061224489795,307.43135799851586,416.81863179284107,279.18519284458688,281.12053659498918,335.74751786656435,266.23073330219523,259.5983057794781,286.92444322994942,286.92444322994942,58,"NÃO ATINGIU"]
[280750,"ESTANCIA","TOMAR DO GERU",13200,4265,4484,4768,4769,5033,5181,5326,5469,5469,25,14,16,23,13,14,28,22,15,16,586.1664712778429,312.22123104371099,335.57046979865771,482.28140071293768,258.2952513411484,270.21810461300907,525.72286894479907,402.26732492228922,274.27317608337904,292.55805448893761,21,"ATINGIU"]
[280760,"ESTANCIA","UMBAÚBA",24542,7069,7267,8258,8359,8831,9156,9496,9822,9822,31,27,31,34,31,37,45,37,23,31,438.53444617343331,371.54258978945921,375.39355776217002,406.74721856681424,351.03612274940548,404.10659676714727,473.88374052232518,376.70535532478112,234.16819385053961,315.61800040724904,35,"ATINGIU"]
[280000,"SERGIPE","SERGIPE",2242948,751603,771782,836456,845415,887938,915863,943484,970336,970336,2380,2347,2347,2424,2494,2523,2536,2722,2613,2561,316.65653277062495,304.10141723958321,280.58857847872451,286.72308866059865,280.87546653032081,275.47788260908021,268.79099168613351,280.5213864063582,269.28816409985819,263.92919566006003,263.62,{"$f":"IF(AG77<=AH77,\"ATINGIU\",\"NÃO ATINGIU\")","v":"NÃO ATINGIU"}]
[]
[]
[1,2,3,4,7,8,9,10,11,12,13,14,15,18,19,20,21,22,23,24,25,26,27,30,31,32,33,34,35,36,37,38,39,40,41]
[]
[]
[]
["[Opções]",null,null,null,null,null,null,null,null,null,null,null,null,null,null,null,null,null,null,null,null,null,"Base de dados 10/01/2018"]
["DEF=E:\\SUS\\Tabwin_SIM_E_SINASC\\tabdo\\OBITOWEB 2.def"]
["PATH=E:\\SUS\\Tabwin_SIM_E_SINASC\\tabdo\\DADOS\\DO*.DB?"]
["Linha=Munic Resid - SE"]
["Coluna=Ano do Obito"]
["Incremento=Freqüência"]
["Suprime_Linhas_Zeradas=false"]
["Suprime_Colunas_Zeradas=true"]
["Não_Classificados=0"]
["[Seleções_Ativas]"]
["Ano do Obito: 2017"]
["Tipo Obito: Não Fetal"]
["ÓBITO PREMAT DCNT: C00   Neopl malig do labio"]
["    C01   Neopl malig da base da lingua"]
["    C02   Neopl malig outr partes e NE da lingua|C03   Neopl malig da gengiva"]
["    C04   Neopl malig do assoalho da boca|C05   Neopl malig do palato"]
["    C06   Neopl malig outr partes e partes NE da boca"]
["    C07   Neopl malig da gland parotida"]
["    C08   Neopl malig outr gland saliv maiores e NE"]
["    C09   Neopl malig da amigdala|C10   Neopl malig da orofaringe"]
["    C11   Neopl malig da nasofaringe|C12   Neopl malig do seio piriforme"]
["    C13   Neopl malig da hipofaringe"]
["    C14   Neop mal out loc mal def labio cav oral far"]
["    C15   Neopl malig do esofago|C16   Neopl malig do estomago"]
["    C17   Neopl malig do intestino delgado|C18   Neopl malig do colon"]
["    C19   Neopl malig da juncao retossigmoide|C20   Neopl malig do reto"]
["    C21   Neopl malig do anus e do canal anal"]
["    C22   Neopl malig figado vias biliares intra-hepat"]
["    C23   Neopl malig da vesicula biliar"]
["    C24   Neopl malig outr partes e NE vias biliares"]
["    C25   Neopl malig do pancreas"]
["    C26   Neopl malig outr mal def aparelho digestivo"]
["    C30   Neopl malig cavidade nasal e do ouvido medio"]
["    C31   Neopl malig dos seios da face|C32   Neopl malig da laringe"]
["    C33   Neopl malig da traqueia|C34   Neopl malig dos bronquios e dos pulmoes"]
["    C37   Neopl malig do timo|C38   Neopl malig do coracao mediastino e pleura"]
["    C39   Neop mal out loc mal def ap resp org intrat"]
["    C40   Neopl malig ossos/cartilag artic membros"]
["    C41   Neopl malig ossos/cartil artic outr loc e NE"]
["    C43   Melanoma malig da pele|C44   Outr neopl malig da pele"]
["    C45   Mesotelioma|C46   Sarcoma de Kaposi"]
["    C47   Neopl malig nervos perif e sist nerv autonom"]
["    C48   Neopl malig tec moles retro- e peritonio"]
["    C49   Neopl malig tec conjuntivo e outr tec moles|C50   Neopl malig da mama"]
["    C51   Neopl malig da vulva|C52   Neopl malig da vagina"]
["    C53   Neopl malig do colo do utero|C54   Neopl malig do corpo do utero"]
["    C55   Neopl malig do utero porcao NE|C56   Neopl malig do ovario"]
["    C57   Neopl malig outr org genitais femin e NE|C58   Neopl malig da placenta"]
["    C60   Neopl malig do penis|C61   Neopl malig da prostata"]
["    C62   Neopl malig dos testiculos|C63   Neopl malig outr org genit masc e NE"]
["    C64   Neopl malig do rim exceto pelve renal|C65   Neopl malig da pelve renal"]
["    C66   Neopl malig dos ureteres|C67   Neopl malig da bexiga"]
["    C68   Neopl malig de outr orgaos urinarios e NE"]
["    C69   Neopl malig do olho e anexos|C70   Neopl malig das meninges"]
["    C71   Neopl malig do encefalo"]
["    C72   Neop mal med esp nerv cran out sist nerv cen"]
["    C73   Neopl malig da gland tireoide|C74   Neopl malig da gland supra-renal"]
["    C75   Neopl malig outr gland endocrinas estr relac"]
["    C76   Neopl malig outr localiz e mal definidas"]
["    C77   Neopl malig secund e NE gangl linfaticos"]
["    C78   Neopl malig secund org respirat e digestivos"]
["    C79   Neopl malig secund de outr localiz"]
["    C80   Neopl malig s/especificacao de localiz|C81   Doenc de Hodgkin"]
["    C82   Linfoma nao-Hodgkin folicular|C83   Linfoma nao-Hodgkin difuso"]
["    C84   Linfomas de celulas T cutaneas e perifericas"]
["    C85   Linfoma nao-Hodgkin de outr tipos e tipo NE"]
["    C88   Doenc imunoproliferativas malignas"]
["    C90   Mieloma mult e neopl malig de plasmocitos|C91   Leucemia linfoide"]
["    C92   Leucemia mieloide|C93   Leucemia monocitica"]
["    C94   Outr leucemias de celulas de tipo espec"]
["    C95   Leucemia de tipo celular NE"]
["    C96   Outr neopl mal e NE tec linf hematop e corr"]
["    C97   Neopl malig de localiz mult independentes"]
["    E10   Diabetes mellitus insulino-dependente"]
["    E11   Diabetes mellitus nao-insulino-dependemte"]
["    E12   Diabetes mellitus relac c/a desnutr"]
["    E13   Outr tipos espec de diabetes mellitus|E14   Diabetes mellitus NE"]
["    I00   Febre reumatica s/mencao de compr do coracao"]
["    I01   Febre reumatica c/compr do coracao|I02   Coreia reumatica"]
["    I05   Doenc reumaticas da valva mitral"]
["    I06   Doenc reumaticas da valva aortica"]
["    I07   Doenc reumaticas da valva tricuspide|I08   Doenc de mult valvas"]
["    I09   Outr doenc reumaticas do coracao|I10   Hipertensao essencial"]
["    I11   Doenc cardiaca hipertensiva|I12   Doenc renal hipertensiva"]
["    I13   Doenc cardiaca e renal hipertensiva|I15   Hipertensao secund"]
["    I20   Angina pectoris|I21   Infarto agudo do miocardio"]
["    I22   Infarto do miocardio recorrente"]
["    I23   Alg complic atuais subs infarto agud miocard"]
["    I24   Outr doenc isquemicas agudas do coracao"]
["    I25   Doenc isquemica cronica do coracao|I26   Embolia pulmonar"]
["    I27   Outr form de doenc cardiaca pulmonar"]
["    I28   Outr doenc dos vasos pulmonares|I30   Pericardite aguda"]
["    I31   Outr doenc do pericardio|I32   Pericardite em doenc COP"]
["    I33   Endocardite aguda e subaguda"]
["    I34   Transt nao-reumaticos da valva mitral"]
["    I35   Transt nao-reumaticos da valva aortica"]
["    I36   Transt nao-reumaticos da valva tricuspide"]
["    I37   Transt da valva pulmonar|I38   Endocardite de valva NE"]
["    I39   Endocardite transt valvulares card doenc COP|I40   Miocardite aguda"]
["    I41   Miocardite em doenc COP|I42   Cardiomiopatias"]
["    I43   Cardiomiopatia em doenc COP"]
["    I44   Bloqueio atrioventricular e do ramo esquerdo"]
["    I45   Outr transt de conducao|I46   Parada cardiaca"]
["    I47   Taquicardia paroxistica|I48   Flutter e fibrilacao atrial"]
["    I49   Outr arritmias cardiacas|I50   Insuf cardiaca"]
["    I51   Complic cardiopatias doenc cardiacas mal def"]
["    I52   Outr afeccoes cardiacas em doenc COP|I60   Hemorragia subaracnoide"]
["    I61   Hemorragia intracerebral"]
["    I62   Outr hemorragias intracranianas nao-traum|I63   Infarto cerebral"]
["    I64   Acid vasc cerebr NE como hemorrag isquemico"]
["    I65   Oclus/esten art pre-cereb q n res inf cereb"]
["    I66   Oclusao/estenose art cereb q n res inf cereb"]
["    I67   Outr doenc cerebrovasculares"]
["    I68   Transt cerebrovasculares em doenc COP"]
["    I69   Sequelas de doenc cerebrovasculares|I70   Aterosclerose"]
["    I71   Aneurisma e disseccao da aorta|I72   Outr aneurismas"]
["    I73   Outr doenc vasculares perifericas|I74   Embolia e trombose arteriais"]
["    I77   Outr afeccoes das arterias e arteriolas|I78   Doenc dos capilares"]
["    I79   Transt arter arteriolas capilares doenc COP"]
["    I80   Flebite e tromboflebite|I81   Trombose da veia porta"]
["    I82   Outr embolia e trombose venosas|I83   Varizes dos membros infer"]
["    I84   Hemorroidas|I85   Varizes esofagianas|I86   Varizes de outr localiz"]
["    I87   Outr transt das veias|I88   Linfadenite inespecifica"]
["    I89   Outr transt nao-infecc vasos linf gangl linf|I95   Hipotensao"]
["    I97   Transt aparelho circulat subseq proced NCOP"]
["    I98   Outr transt aparelho circulatorio doenc COP"]
["    I99   Outr transt do aparelho circulatorio e os NE"]
["    J30   Rinite alergica e vasomotora"]
["    J31   Rinite nasofaringite e faringite cronicas|J32   Sinusite cronica"]
["    J33   Polipo nasal|J34   Outr transt do nariz e dos seios paranasais"]
["    J35   Doenc cronicas das amigdalas e das adenoides"]
["    J36   Abscesso periamigdaliano|J37   Laringite e laringotraqueite cronicas"]
["    J38   Doenc das cordas vocais e da laringe NCOP"]
["    J39   Outr doenc das vias aereas super"]
["    J40   Bronquite NE como aguda ou cronica"]
["    J41   Bronquite cronica simples e a mucopurulenta|J42   Bronquite cronica NE"]
["    J43   Enfisema|J44   Outr doenc pulmonares obstrutivas cronicas|J45   Asma"]
["    J46   Estado de mal asmatico|J47   Bronquectasia"]
["    J60   Pneumoconiose dos mineiros de carvao"]
["    J61   Pneumoconiose dev amianto outr fibr minerais"]
["    J62   Pneumoconiose dev poeira que cont silica"]
["    J63   Pneumoconiose dev outr poeiras inorganicas|J64   Pneumoconiose NE"]
["    J65   Pneumoconiose assoc c/tuberc"]
["    J66   Doenc das vias aereas dev poeiras org espec"]
["    J67   Pneumonite hipersensibilid dev poeiras org"]
["    J68   Afecc resp dev inal prod quim gas fumac vap"]
["    J69   Pneumonite dev solidos e liquidos"]
["    J70   Afeccoes respirat dev outr agentes externos"]
["    J80   Sindr do desconforto respirat do adulto"]
["    J81   Edema pulmonar NE de outr form|J82   Eosinofilia pulmonar NCOP"]
["    J84   Outr doenc pulmonares intersticiais"]
["    J85   Abscesso do pulmao e do mediastino|J86   Piotorax"]
["    J90   Derrame pleural NCOP|J91   Derrame pleural em afeccoes COP"]
["    J92   Placas pleurais|J93   Pneumotorax|J94   Outr afeccoes pleurais"]
["    J95   Afeccoes respirat pos-proced NCOP|J96   Insuf respirat NCOP"]
["    J98   Outr transt respirat"]
["Faixa Etaria (13): 30-39a|40-49a|50-59a|60-69a"]
["[Arquivos]"]
["DO10012018.DBC"]
["Registros_Processados= 151251"]
["Tempo_Decorrido= 0:02"]

{"sheet":"OBITOS_PREMATUROS_REG","index":92,"n_rows":20,"n_cols":35,"rows_kept":20,"cut":false,"hidden":true,"merged":[]}
["CÓD","REGIÃO","POP 2015","POP 30 A 69 ANOS 2008","POP 30 A 69 ANOS 2009","POP 30 A 69 ANOS 2010","POP 30 A 69 ANOS 2011","POP 30 A 69 ANOS 2012","POP 30 A 69 ANOS 2013","POP 30 A 69 ANOS 2014","POP 30 A 69 ANOS 2015","POP 30 A 69 ANOS 2016","OBITO PREMATURO 30 A 69 DCNT 2008","OBITO PREMATURO 30 A 69 DCNT 2009","OBITO PREMATURO 30 A 69 DCNT 2010","OBITO PREMATURO 30 A 69 DCNT 2011","OBITO PREMATURO 30 A 69 DCNT 2012","OBITO PREMATURO 30 A 69 DCNT 2013","OBITO PREMATURO 30 A 69 DCNT 2014","OBITO PREMATURO 30 A 69 DCNT 2015","OBITO PREMATURO 30 A 69 DCNT 2016","OBITO PREMATURO 30 A 69 DCNT 2017","TAXA OBITO PREMATURO 30 A 69 DCNT 2008","TAXA OBITO PREMATURO 30 A 69 DCNT 2009","TAXA OBITO PREMATURO 30 A 69 DCNT 2010","TAXA OBITO PREMATURO 30 A 69 DCNT 2011","TAXA OBITO PREMATURO 30 A 69 DCNT 2012","TAXA OBITO PREMATURO 30 A 69 DCNT 2013","TAXA OBITO PREMATURO 30 A 69 DCNT 2014","TAXA OBITO PREMATURO 30 A 69 DCNT 2015","TAXA OBITO PREMATURO 30 A 69 DCNT 2016","TAXA OBITO PREMATURO 30 A 69 DCNT 2017","META PACTUADA 2017","META PACTUADA 2018","SITUAÇÃO 2017"]
[1,"ARACAJU",{"$f":"SUMIF(OBITOS_PREMATUROS!$B$2:$B$76,\"ARACAJU\",OBITOS_PREMATUROS!D$2:D$76)","v":829684},{"$f":"SUMIF(OBITOS_PREMATUROS!$B$2:$B$76,\"ARACAJU\",OBITOS_PREMATUROS!E$2:E$76)","v":285886},{"$f":"SUMIF(OBITOS_PREMATUROS!$B$2:$B$76,\"ARACAJU\",OBITOS_PREMATUROS!F$2:F$76)","v":294796},{"$f":"SUMIF(OBITOS_PREMATUROS!$B$2:$B$76,\"ARACAJU\",OBITOS_PREMATUROS!G$2:G$76)","v":324188},{"$f":"SUMIF(OBITOS_PREMATUROS!$B$2:$B$76,\"ARACAJU\",OBITOS_PREMATUROS!H$2:H$76)","v":328910},{"$f":"SUMIF(OBITOS_PREMATUROS!$B$2:$B$76,\"ARACAJU\",OBITOS_PREMATUROS!I$2:I$76)","v":347492},{"$f":"SUMIF(OBITOS_PREMATUROS!$B$2:$B$76,\"ARACAJU\",OBITOS_PREMATUROS!J$2:J$76)","v":359731},{"$f":"SUMIF(OBITOS_PREMATUROS!$B$2:$B$76,\"ARACAJU\",OBITOS_PREMATUROS!K$2:K$76)","v":371569},{"$f":"SUMIF(OBITOS_PREMATUROS!$B$2:$B$76,\"ARACAJU\",OBITOS_PREMATUROS!L$2:L$76)","v":383313},{"$f":"SUMIF(OBITOS_PREMATUROS!$B$2:$B$76,\"ARACAJU\",OBITOS_PREMATUROS!M$2:M$76)","v":383313},{"$f":"SUMIF(OBITOS_PREMATUROS!$B$2:$B$76,\"ARACAJU\",OBITOS_PREMATUROS!N$2:N$76)","v":873},{"$f":"SUMIF(OBITOS_PREMATUROS!$B$2:$B$76,\"ARACAJU\",OBITOS_PREMATUROS!O$2:O$76)","v":848},{"$f":"SUMIF(OBITOS_PREMATUROS!$B$2:$B$76,\"ARACAJU\",OBITOS_PREMATUROS!P$2:P$76)","v":847},{"$f":"SUMIF(OBITOS_PREMATUROS!$B$2:$B$76,\"ARACAJU\",OBITOS_PREMATUROS!Q$2:Q$76)","v":897},{"$f":"SUMIF(OBITOS_PREMATUROS!$B$2:$B$76,\"ARACAJU\",OBITOS_PREMATUROS!R$2:R$76)","v":901},{"$f":"SUMIF(OBITOS_PREMATUROS!$B$2:$B$76,\"ARACAJU\",OBITOS_PREMATUROS!S$2:S$76)","v":926},{"$f":"SUMIF(OBITOS_PREMATUROS!$B$2:$B$76,\"ARACAJU\",OBITOS_PREMATUROS!T$2:T$76)","v":954},{"$f":"SUMIF(OBITOS_PREMATUROS!$B$2:$B$76,\"ARACAJU\",OBITOS_PREMATUROS!U$2:U$76)","v":1025},{"$f":"SUMIF(OBITOS_PREMATUROS!$B$2:$B$76,\"ARACAJU\",OBITOS_PREMATUROS!V$2:V$76)","v":949},{"$f":"SUMIF(OBITOS_PREMATUROS!$B$2:$B$76,\"ARACAJU\",OBITOS_PREMATUROS!W$2:W$76)","v":979},{"$f":"M2/D2*100000","v":305.36647474867607},287.65654893553506,261.26815304699744,272.71898087622753,259.28654472620951,257.41456810783609,256.74908294287195,267.40548846504032,247.57834980812027,{"$f":"V2/L2*100000","v":255.40485190953606},{"$f":"METAS!D81","v":245.75},250.29675487134534,{"$f":"IF(AF2<=AG2,\"ATINGIU\",\"NÃO ATINGIU\")","v":"NÃO ATINGIU"}]
[2,"ESTANCIA",{"$f":"SUMIF(OBITOS_PREMATUROS!$B$2:$B$76,\"ESTANCIA\",OBITOS_PREMATUROS!D$2:D$76)","v":243464},{"$f":"SUMIF(OBITOS_PREMATUROS!$B$2:$B$76,\"ESTANCIA\",OBITOS_PREMATUROS!E$2:E$76)","v":78763},{"$f":"SUMIF(OBITOS_PREMATUROS!$B$2:$B$76,\"ESTANCIA\",OBITOS_PREMATUROS!F$2:F$76)","v":80669},{"$f":"SUMIF(OBITOS_PREMATUROS!$B$2:$B$76,\"ESTANCIA\",OBITOS_PREMATUROS!G$2:G$76)","v":86139},{"$f":"SUMIF(OBITOS_PREMATUROS!$B$2:$B$76,\"ESTANCIA\",OBITOS_PREMATUROS!H$2:H$76)","v":86690},{"$f":"SUMIF(OBITOS_PREMATUROS!$B$2:$B$76,\"ESTANCIA\",OBITOS_PREMATUROS!I$2:I$76)","v":90844},{"$f":"SUMIF(OBITOS_PREMATUROS!$B$2:$B$76,\"ESTANCIA\",OBITOS_PREMATUROS!J$2:J$76)","v":93554},{"$f":"SUMIF(OBITOS_PREMATUROS!$B$2:$B$76,\"ESTANCIA\",OBITOS_PREMATUROS!K$2:K$76)","v":96260},{"$f":"SUMIF(OBITOS_PREMATUROS!$B$2:$B$76,\"ESTANCIA\",OBITOS_PREMATUROS!L$2:L$76)","v":98898},{"$f":"SUMIF(OBITOS_PREMATUROS!$B$2:$B$76,\"ESTANCIA\",OBITOS_PREMATUROS!M$2:M$76)","v":98898},{"$f":"SUMIF(OBITOS_PREMATUROS!$B$2:$B$76,\"ESTANCIA\",OBITOS_PREMATUROS!N$2:N$76)","v":274},{"$f":"SUMIF(OBITOS_PREMATUROS!$B$2:$B$76,\"ESTANCIA\",OBITOS_PREMATUROS!O$2:O$76)","v":299},{"$f":"SUMIF(OBITOS_PREMATUROS!$B$2:$B$76,\"ESTANCIA\",OBITOS_PREMATUROS!P$2:P$76)","v":254},{"$f":"SUMIF(OBITOS_PREMATUROS!$B$2:$B$76,\"ESTANCIA\",OBITOS_PREMATUROS!Q$2:Q$76)","v":264},{"$f":"SUMIF(OBITOS_PREMATUROS!$B$2:$B$76,\"ESTANCIA\",OBITOS_PREMATUROS!R$2:R$76)","v":289},{"$f":"SUMIF(OBITOS_PREMATUROS!$B$2:$B$76,\"ESTANCIA\",OBITOS_PREMATUROS!S$2:S$76)","v":290},{"$f":"SUMIF(OBITOS_PREMATUROS!$B$2:$B$76,\"ESTANCIA\",OBITOS_PREMATUROS!T$2:T$76)","v":319},{"$f":"SUMIF(OBITOS_PREMATUROS!$B$2:$B$76,\"ESTANCIA\",OBITOS_PREMATUROS!U$2:U$76)","v":314},{"$f":"SUMIF(OBITOS_PREMATUROS!$B$2:$B$76,\"ESTANCIA\",OBITOS_PREMATUROS!V$2:V$76)","v":318},{"$f":"SUMIF(OBITOS_PREMATUROS!$B$2:$B$76,\"ESTANCIA\",OBITOS_PREMATUROS!W$2:W$76)","v":281},347.8790802788111,370.65043573119783,294.8722413773088,304.53339485523128,318.12777949011496,309.98140111593307,331.3941408684812,317.49883718578735,321.54340836012864,284.13112499747217,{"$f":"METAS!D82","v":309.41000000000003},278.44850249752272,{"$f":"IF(AF3<=AG3,\"ATINGIU\",\"NÃO ATINGIU\")","v":"ATINGIU"}]
[3,"GLORIA",{"$f":"SUMIF(OBITOS_PREMATUROS!$B$2:$B$76,\"GLORIA\",OBITOS_PREMATUROS!D$2:D$76)","v":169266},{"$f":"SUMIF(OBITOS_PREMATUROS!$B$2:$B$76,\"GLORIA\",OBITOS_PREMATUROS!E$2:E$76)","v":50945},{"$f":"SUMIF(OBITOS_PREMATUROS!$B$2:$B$76,\"GLORIA\",OBITOS_PREMATUROS!F$2:F$76)","v":52326},{"$f":"SUMIF(OBITOS_PREMATUROS!$B$2:$B$76,\"GLORIA\",OBITOS_PREMATUROS!G$2:G$76)","v":57233},{"$f":"SUMIF(OBITOS_PREMATUROS!$B$2:$B$76,\"GLORIA\",OBITOS_PREMATUROS!H$2:H$76)","v":57814},{"$f":"SUMIF(OBITOS_PREMATUROS!$B$2:$B$76,\"GLORIA\",OBITOS_PREMATUROS!I$2:I$76)","v":60700},{"$f":"SUMIF(OBITOS_PREMATUROS!$B$2:$B$76,\"GLORIA\",OBITOS_PREMATUROS!J$2:J$76)","v":62678},{"$f":"SUMIF(OBITOS_PREMATUROS!$B$2:$B$76,\"GLORIA\",OBITOS_PREMATUROS!K$2:K$76)","v":64802},{"$f":"SUMIF(OBITOS_PREMATUROS!$B$2:$B$76,\"GLORIA\",OBITOS_PREMATUROS!L$2:L$76)","v":66777},{"$f":"SUMIF(OBITOS_PREMATUROS!$B$2:$B$76,\"GLORIA\",OBITOS_PREMATUROS!M$2:M$76)","v":66777},{"$f":"SUMIF(OBITOS_PREMATUROS!$B$2:$B$76,\"GLORIA\",OBITOS_PREMATUROS!N$2:N$76)","v":126},{"$f":"SUMIF(OBITOS_PREMATUROS!$B$2:$B$76,\"GLORIA\",OBITOS_PREMATUROS!O$2:O$76)","v":124},{"$f":"SUMIF(OBITOS_PREMATUROS!$B$2:$B$76,\"GLORIA\",OBITOS_PREMATUROS!P$2:P$76)","v":155},{"$f":"SUMIF(OBITOS_PREMATUROS!$B$2:$B$76,\"GLORIA\",OBITOS_PREMATUROS!Q$2:Q$76)","v":136},{"$f":"SUMIF(OBITOS_PREMATUROS!$B$2:$B$76,\"GLORIA\",OBITOS_PREMATUROS!R$2:R$76)","v":149},{"$f":"SUMIF(OBITOS_PREMATUROS!$B$2:$B$76,\"GLORIA\",OBITOS_PREMATUROS!S$2:S$76)","v":142},{"$f":"SUMIF(OBITOS_PREMATUROS!$B$2:$B$76,\"GLORIA\",OBITOS_PREMATUROS!T$2:T$76)","v":140},{"$f":"SUMIF(OBITOS_PREMATUROS!$B$2:$B$76,\"GLORIA\",OBITOS_PREMATUROS!U$2:U$76)","v":140},{"$f":"SUMIF(OBITOS_PREMATUROS!$B$2:$B$76,\"GLORIA\",OBITOS_PREMATUROS!V$2:V$76)","v":141},{"$f":"SUMIF(OBITOS_PREMATUROS!$B$2:$B$76,\"GLORIA\",OBITOS_PREMATUROS!W$2:W$76)","v":180},247.32554715870057,236.97588197072201,270.82277706917336,235.2371397931297,245.4695222405272,226.55477200931745,216.04271473102682,209.65302424487473,211.15054584662386,269.55388831483896,{"$f":"METAS!D83","v":299.76},264.16281054854215,"ATINGIU"]
[4,"ITABAIANA",{"$f":"SUMIF(OBITOS_PREMATUROS!$B$2:$B$76,\"ITABAIANA\",OBITOS_PREMATUROS!D$2:D$76)","v":248651},{"$f":"SUMIF(OBITOS_PREMATUROS!$B$2:$B$76,\"ITABAIANA\",OBITOS_PREMATUROS!E$2:E$76)","v":86103},{"$f":"SUMIF(OBITOS_PREMATUROS!$B$2:$B$76,\"ITABAIANA\",OBITOS_PREMATUROS!F$2:F$76)","v":88240},{"$f":"SUMIF(OBITOS_PREMATUROS!$B$2:$B$76,\"ITABAIANA\",OBITOS_PREMATUROS!G$2:G$76)","v":94006},{"$f":"SUMIF(OBITOS_PREMATUROS!$B$2:$B$76,\"ITABAIANA\",OBITOS_PREMATUROS!H$2:H$76)","v":94742},{"$f":"SUMIF(OBITOS_PREMATUROS!$B$2:$B$76,\"ITABAIANA\",OBITOS_PREMATUROS!I$2:I$76)","v":99179},{"$f":"SUMIF(OBITOS_PREMATUROS!$B$2:$B$76,\"ITABAIANA\",OBITOS_PREMATUROS!J$2:J$76)","v":101919},{"$f":"SUMIF(OBITOS_PREMATUROS!$B$2:$B$76,\"ITABAIANA\",OBITOS_PREMATUROS!K$2:K$76)","v":104792},{"$f":"SUMIF(OBITOS_PREMATUROS!$B$2:$B$76,\"ITABAIANA\",OBITOS_PREMATUROS!L$2:L$76)","v":107464},{"$f":"SUMIF(OBITOS_PREMATUROS!$B$2:$B$76,\"ITABAIANA\",OBITOS_PREMATUROS!M$2:M$76)","v":107464},{"$f":"SUMIF(OBITOS_PREMATUROS!$B$2:$B$76,\"ITABAIANA\",OBITOS_PREMATUROS!N$2:N$76)","v":245},{"$f":"SUMIF(OBITOS_PREMATUROS!$B$2:$B$76,\"ITABAIANA\",OBITOS_PREMATUROS!O$2:O$76)","v":247},{"$f":"SUMIF(OBITOS_PREMATUROS!$B$2:$B$76,\"ITABAIANA\",OBITOS_PREMATUROS!P$2:P$76)","v":255},{"$f":"SUMIF(OBITOS_PREMATUROS!$B$2:$B$76,\"ITABAIANA\",OBITOS_PREMATUROS!Q$2:Q$76)","v":235},{"$f":"SUMIF(OBITOS_PREMATUROS!$B$2:$B$76,\"ITABAIANA\",OBITOS_PREMATUROS!R$2:R$76)","v":266},{"$f":"SUMIF(OBITOS_PREMATUROS!$B$2:$B$76,\"ITABAIANA\",OBITOS_PREMATUROS!S$2:S$76)","v":279},{"$f":"SUMIF(OBITOS_PREMATUROS!$B$2:$B$76,\"ITABAIANA\",OBITOS_PREMATUROS!T$2:T$76)","v":265},{"$f":"SUMIF(OBITOS_PREMATUROS!$B$2:$B$76,\"ITABAIANA\",OBITOS_PREMATUROS!U$2:U$76)","v":278},{"$f":"SUMIF(OBITOS_PREMATUROS!$B$2:$B$76,\"ITABAIANA\",OBITOS_PREMATUROS!V$2:V$76)","v":285},{"$f":"SUMIF(OBITOS_PREMATUROS!$B$2:$B$76,\"ITABAIANA\",OBITOS_PREMATUROS!W$2:W$76)","v":256},284.54293114061068,279.91840435176789,271.25928132246878,248.04205104388762,268.20193791024309,273.74679892856091,252.88189938163217,258.69128266210078,265.20509193776519,238.21931065286981,{"$f":"METAS!D84","v":259.62},233.4549244398124,"ATINGIU"]
[5,"LAGARTO",{"$f":"SUMIF(OBITOS_PREMATUROS!$B$2:$B$76,\"LAGARTO\",OBITOS_PREMATUROS!D$2:D$76)","v":257634},{"$f":"SUMIF(OBITOS_PREMATUROS!$B$2:$B$76,\"LAGARTO\",OBITOS_PREMATUROS!E$2:E$76)","v":88713},{"$f":"SUMIF(OBITOS_PREMATUROS!$B$2:$B$76,\"LAGARTO\",OBITOS_PREMATUROS!F$2:F$76)","v":90564},{"$f":"SUMIF(OBITOS_PREMATUROS!$B$2:$B$76,\"LAGARTO\",OBITOS_PREMATUROS!G$2:G$76)","v":97353},{"$f":"SUMIF(OBITOS_PREMATUROS!$B$2:$B$76,\"LAGARTO\",OBITOS_PREMATUROS!H$2:H$76)","v":98004},{"$f":"SUMIF(OBITOS_PREMATUROS!$B$2:$B$76,\"LAGARTO\",OBITOS_PREMATUROS!I$2:I$76)","v":102541},{"$f":"SUMIF(OBITOS_PREMATUROS!$B$2:$B$76,\"LAGARTO\",OBITOS_PREMATUROS!J$2:J$76)","v":105299},{"$f":"SUMIF(OBITOS_PREMATUROS!$B$2:$B$76,\"LAGARTO\",OBITOS_PREMATUROS!K$2:K$76)","v":108093},{"$f":"SUMIF(OBITOS_PREMATUROS!$B$2:$B$76,\"LAGARTO\",OBITOS_PREMATUROS!L$2:L$76)","v":110754},{"$f":"SUMIF(OBITOS_PREMATUROS!$B$2:$B$76,\"LAGARTO\",OBITOS_PREMATUROS!M$2:M$76)","v":110754},{"$f":"SUMIF(OBITOS_PREMATUROS!$B$2:$B$76,\"LAGARTO\",OBITOS_PREMATUROS!N$2:N$76)","v":293},{"$f":"SUMIF(OBITOS_PREMATUROS!$B$2:$B$76,\"LAGARTO\",OBITOS_PREMATUROS!O$2:O$76)","v":244},{"$f":"SUMIF(OBITOS_PREMATUROS!$B$2:$B$76,\"LAGARTO\",OBITOS_PREMATUROS!P$2:P$76)","v":302},{"$f":"SUMIF(OBITOS_PREMATUROS!$B$2:$B$76,\"LAGARTO\",OBITOS_PREMATUROS!Q$2:Q$76)","v":291},{"$f":"SUMIF(OBITOS_PREMATUROS!$B$2:$B$76,\"LAGARTO\",OBITOS_PREMATUROS!R$2:R$76)","v":284},{"$f":"SUMIF(OBITOS_PREMATUROS!$B$2:$B$76,\"LAGARTO\",OBITOS_PREMATUROS!S$2:S$76)","v":271},{"$f":"SUMIF(OBITOS_PREMATUROS!$B$2:$B$76,\"LAGARTO\",OBITOS_PREMATUROS!T$2:T$76)","v":297},{"$f":"SUMIF(OBITOS_PREMATUROS!$B$2:$B$76,\"LAGARTO\",OBITOS_PREMATUROS!U$2:U$76)","v":318},{"$f":"SUMIF(OBITOS_PREMATUROS!$B$2:$B$76,\"LAGARTO\",OBITOS_PREMATUROS!V$2:V$76)","v":320},{"$f":"SUMIF(OBITOS_PREMATUROS!$B$2:$B$76,\"LAGARTO\",OBITOS_PREMATUROS!W$2:W$76)","v":269},330.27853865837022,269.4227286780619,310.21129292369005,296.9266560548549,276.96238577739638,257.36236811365728,274.76339818489635,287.12281272008238,288.9286165736678,242.88061830723947,{"$f":"METAS!D85","v":278.08999999999997},238.02300594109468,"ATINGIU"]
[6,"PROPRIA",{"$f":"SUMIF(OBITOS_PREMATUROS!$B$2:$B$76,\"PROPRIA\",OBITOS_PREMATUROS!D$2:D$76)","v":158896},{"$f":"SUMIF(OBITOS_PREMATUROS!$B$2:$B$76,\"PROPRIA\",OBITOS_PREMATUROS!E$2:E$76)","v":53770},{"$f":"SUMIF(OBITOS_PREMATUROS!$B$2:$B$76,\"PROPRIA\",OBITOS_PREMATUROS!F$2:F$76)","v":54834},{"$f":"SUMIF(OBITOS_PREMATUROS!$B$2:$B$76,\"PROPRIA\",OBITOS_PREMATUROS!G$2:G$76)","v":57791},{"$f":"SUMIF(OBITOS_PREMATUROS!$B$2:$B$76,\"PROPRIA\",OBITOS_PREMATUROS!H$2:H$76)","v":58045},{"$f":"SUMIF(OBITOS_PREMATUROS!$B$2:$B$76,\"PROPRIA\",OBITOS_PREMATUROS!I$2:I$76)","v":60271},{"$f":"SUMIF(OBITOS_PREMATUROS!$B$2:$B$76,\"PROPRIA\",OBITOS_PREMATUROS!J$2:J$76)","v":61692},{"$f":"SUMIF(OBITOS_PREMATUROS!$B$2:$B$76,\"PROPRIA\",OBITOS_PREMATUROS!K$2:K$76)","v":63262},{"$f":"SUMIF(OBITOS_PREMATUROS!$B$2:$B$76,\"PROPRIA\",OBITOS_PREMATUROS!L$2:L$76)","v":64701},{"$f":"SUMIF(OBITOS_PREMATUROS!$B$2:$B$76,\"PROPRIA\",OBITOS_PREMATUROS!M$2:M$76)","v":64701},{"$f":"SUMIF(OBITOS_PREMATUROS!$B$2:$B$76,\"PROPRIA\",OBITOS_PREMATUROS!N$2:N$76)","v":209},{"$f":"SUMIF(OBITOS_PREMATUROS!$B$2:$B$76,\"PROPRIA\",OBITOS_PREMATUROS!O$2:O$76)","v":211},{"$f":"SUMIF(OBITOS_PREMATUROS!$B$2:$B$76,\"PROPRIA\",OBITOS_PREMATUROS!P$2:P$76)","v":190},{"$f":"SUMIF(OBITOS_PREMATUROS!$B$2:$B$76,\"PROPRIA\",OBITOS_PREMATUROS!Q$2:Q$76)","v":203},{"$f":"SUMIF(OBITOS_PREMATUROS!$B$2:$B$76,\"PROPRIA\",OBITOS_PREMATUROS!R$2:R$76)","v":202},{"$f":"SUMIF(OBITOS_PREMATUROS!$B$2:$B$76,\"PROPRIA\",OBITOS_PREMATUROS!S$2:S$76)","v":222},{"$f":"SUMIF(OBITOS_PREMATUROS!$B$2:$B$76,\"PROPRIA\",OBITOS_PREMATUROS!T$2:T$76)","v":193},{"$f":"SUMIF(OBITOS_PREMATUROS!$B$2:$B$76,\"PROPRIA\",OBITOS_PREMATUROS!U$2:U$76)","v":220},{"$f":"SUMIF(OBITOS_PREMATUROS!$B$2:$B$76,\"PROPRIA\",OBITOS_PREMATUROS!V$2:V$76)","v":209},{"$f":"SUMIF(OBITOS_PREMATUROS!$B$2:$B$76,\"PROPRIA\",OBITOS_PREMATUROS!W$2:W$76)","v":185},388.69257950530039,384.79775321880584,328.77091588655674,349.72865879920755,335.152892767666,359.85216883874733,305.08045904334352,340.02565648135271,323.02437365728503,285.93066567750111,{"$f":"METAS!D86","v":315.3},280.2120523639511,"ATINGIU"]
[7,"SOCORRO",{"$f":"SUMIF(OBITOS_PREMATUROS!$B$2:$B$76,\"SOCORRO\",OBITOS_PREMATUROS!D$2:D$76)","v":335353},{"$f":"SUMIF(OBITOS_PREMATUROS!$B$2:$B$76,\"SOCORRO\",OBITOS_PREMATUROS!E$2:E$76)","v":107423},{"$f":"SUMIF(OBITOS_PREMATUROS!$B$2:$B$76,\"SOCORRO\",OBITOS_PREMATUROS!F$2:F$76)","v":110353},{"$f":"SUMIF(OBITOS_PREMATUROS!$B$2:$B$76,\"SOCORRO\",OBITOS_PREMATUROS!G$2:G$76)","v":119746},{"$f":"SUMIF(OBITOS_PREMATUROS!$B$2:$B$76,\"SOCORRO\",OBITOS_PREMATUROS!H$2:H$76)","v":121210},{"$f":"SUMIF(OBITOS_PREMATUROS!$B$2:$B$76,\"SOCORRO\",OBITOS_PREMATUROS!I$2:I$76)","v":126911},{"$f":"SUMIF(OBITOS_PREMATUROS!$B$2:$B$76,\"SOCORRO\",OBITOS_PREMATUROS!J$2:J$76)","v":130990},{"$f":"SUMIF(OBITOS_PREMATUROS!$B$2:$B$76,\"SOCORRO\",OBITOS_PREMATUROS!K$2:K$76)","v":134706},{"$f":"SUMIF(OBITOS_PREMATUROS!$B$2:$B$76,\"SOCORRO\",OBITOS_PREMATUROS!L$2:L$76)","v":138429},{"$f":"SUMIF(OBITOS_PREMATUROS!$B$2:$B$76,\"SOCORRO\",OBITOS_PREMATUROS!M$2:M$76)","v":138429},{"$f":"SUMIF(OBITOS_PREMATUROS!$B$2:$B$76,\"SOCORRO\",OBITOS_PREMATUROS!N$2:N$76)","v":358},{"$f":"SUMIF(OBITOS_PREMATUROS!$B$2:$B$76,\"SOCORRO\",OBITOS_PREMATUROS!O$2:O$76)","v":372},{"$f":"SUMIF(OBITOS_PREMATUROS!$B$2:$B$76,\"SOCORRO\",OBITOS_PREMATUROS!P$2:P$76)","v":340},{"$f":"SUMIF(OBITOS_PREMATUROS!$B$2:$B$76,\"SOCORRO\",OBITOS_PREMATUROS!Q$2:Q$76)","v":398},{"$f":"SUMIF(OBITOS_PREMATUROS!$B$2:$B$76,\"SOCORRO\",OBITOS_PREMATUROS!R$2:R$76)","v":401},{"$f":"SUMIF(OBITOS_PREMATUROS!$B$2:$B$76,\"SOCORRO\",OBITOS_PREMATUROS!S$2:S$76)","v":391},{"$f":"SUMIF(OBITOS_PREMATUROS!$B$2:$B$76,\"SOCORRO\",OBITOS_PREMATUROS!T$2:T$76)","v":368},{"$f":"SUMIF(OBITOS_PREMATUROS!$B$2:$B$76,\"SOCORRO\",OBITOS_PREMATUROS!U$2:U$76)","v":426},{"$f":"SUMIF(OBITOS_PREMATUROS!$B$2:$B$76,\"SOCORRO\",OBITOS_PREMATUROS!V$2:V$76)","v":389},{"$f":"SUMIF(OBITOS_PREMATUROS!$B$2:$B$76,\"SOCORRO\",OBITOS_PREMATUROS!W$2:W$76)","v":411},333.26196438379122,337.10003352876674,283.93432766021414,328.35574622555896,315.96945891215103,298.49606840216808,273.18753433403111,307.7389853282188,281.01048190769279,296.90310556314068,{"$f":"METAS!D87","v":276.68},290.96504345187788,"NÃO ATINGIU"]
[8,"SERGIPE",{"$f":"SUM(C2:C8)","v":2242948},{"$f":"SUM(D2:D8)","v":751603},771782,836456,845415,887938,915863,943484,970336,970336,2378,2345,2343,2424,2492,2521,2536,2721,2611,2561,316.39043484392693,303.84227670507994,280.11037041996229,286.72308866059865,280.65022557881292,275.25950933709515,268.79099168613351,280.41832932097748,269.08204992909668,263.92919566006003,{"$f":"METAS!D77","v":263.62},258.65061174685883,{"$f":"IF(AF9<=AG9,\"ATINGIU\",\"NÃO ATINGIU\")","v":"NÃO ATINGIU"}]
[]
[]
[]
[]
[]
[]
[]
[1,2,3,4,5,6,7,8,9,10,11,12,13,14,15,16,17,18,19,20,21,22,23,24,25,26,27,28,29,30,31,32,33,34,35]
[]
[null,""]
[null,""]

{"sheet":"OBITOS_MIF","index":93,"n_rows":98,"n_cols":36,"rows_kept":98,"cut":false,"hidden":true,"merged":[]}
["CÓD IBGE","REGIÃO","MUNICÍPIO","POP 2015","OBITOS EM MUL IDADE FERTIL 2008","OBITOS EM MUL IDADE FERTIL 2009","OBITOS EM MUL IDADE FERTIL 2010","OBITOS EM MUL IDADE FERTIL 2011","OBITOS EM MUL IDADE FERTIL 2012","OBITOS EM MUL IDADE FERTIL 2013","OBITOS EM MUL IDADE FERTIL 2014","OBITOS EM MUL IDADE FERTIL 2015","OBITOS EM MUL IDADE FERTIL 2016","OBITOS EM MUL IDADE FERTIL 2017","OBITOS EM MUL IDADE FERTIL INV 2008","OBITOS EM MUL IDADE FERTIL INV 2009","OBITOS EM MUL IDADE FERTIL INV 2010","OBITOS EM MUL IDADE FERTIL INV 2011","OBITOS EM MUL IDADE FERTIL INV 2012","OBITOS EM MUL IDADE FERTIL INV 2013","OBITOS EM MUL IDADE FERTIL INV 2014","OBITOS EM MUL IDADE FERTIL INV 2015","OBITOS EM MUL IDADE FERTIL INV 2016","OBITOS EM MUL IDADE FERTIL INV 2017","%OBITOS EM MUL IDADE FERTIL INV 2008","%OBITOS EM MUL IDADE FERTIL INV 2009","%OBITOS EM MUL IDADE FERTIL INV 2010","%OBITOS EM MUL IDADE FERTIL INV 2011","%OBITOS EM MUL IDADE FERTIL INV 2012","%OBITOS EM MUL IDADE FERTIL INV 2013","%OBITOS EM MUL IDADE FERTIL INV 2014","%OBITOS EM MUL IDADE FERTIL INV 2015","%OBITOS EM MUL IDADE FERTIL INV 2016","%OBITOS EM MUL IDADE FERTIL INV 2017","META PACTUADA 2017","SITUAÇÃO"]
[280010,"PROPRIA","AMPARO DE SAO FRANCISCO",2374,0,1,0,1,0,1,0,0,0,0,0,1,0,1,0,1,0,0,0,"S/C",{"$f":"IFERROR(O2/E2*100,\"0,00\")","v":"0,00"},100,"0,00",100,"0,00",100,"0,00","0,00","0,00",{"$f":"IF(N2=0,\"S/C\",X2/N2)","v":"S/C"},{"$f":"METAS!E2","v":0.9},{"$f":"IF(AH2=\"S/C\",\"N/A\",IF(AH2>=AI2,\"ATINGIU\",\"NÃO ATINGIU\"))","v":"N/A"}]
[280020,"PROPRIA","AQUIDABA",21315,11,2,3,9,12,10,9,12,5,10,8,2,3,8,11,10,9,10,4,2,72.727272727272734,100,100,88.888888888888886,91.666666666666657,100,100,83.333333333333343,80,{"$f":"IF(N3=0,\"S/C\",X3/N3)","v":0.2},{"$f":"METAS!E3","v":0.9},{"$f":"IF(AH3=\"S/C\",\"N/A\",IF(AH3>=AI3,\"ATINGIU\",\"NÃO ATINGIU\"))","v":"NÃO ATINGIU"}]
[280030,"ARACAJU","ARACAJU",632745,173,189,197,217,186,198,177,216,181,169,117,182,138,123,160,185,156,185,138,129,67.630057803468219,96.296296296296291,70.050761421319791,56.682027649769587,86.021505376344081,93.434343434343432,88.135593220338976,85.648148148148152,76.243093922651937,0.76331360946745563,{"$f":"METAS!E4","v":0.9},"NÃO ATINGIU"]
[280040,"ESTANCIA","ARAUA",10572,5,5,2,7,3,5,4,6,7,6,4,5,2,7,3,5,4,5,5,4,80,100,100,100,100,100,100,83.333333333333343,71.428571428571431,0.66666666666666663,{"$f":"METAS!E5","v":0.9},"NÃO ATINGIU"]
[280050,"ITABAIANA","AREIA BRANCA",18169,10,5,6,8,11,7,3,0,7,6,7,5,6,8,9,6,3,0,7,5,70,100,100,100,81.818181818181827,85.714285714285708,100,"0,00",100,0.83333333333333337,{"$f":"METAS!E6","v":0.9},"NÃO ATINGIU"]
[280060,"ARACAJU","BARRA DOS COQUEIROS",28679,7,11,12,8,11,9,13,16,7,14,7,11,12,8,7,8,13,14,5,11,100,100,100,100,63.636363636363633,88.888888888888886,100,87.5,71.428571428571431,0.7857142857142857,{"$f":"METAS!E7","v":0.95},"NÃO ATINGIU"]
[280067,"ESTANCIA","BOQUIM",26750,11,13,6,7,5,7,9,7,14,6,10,13,6,7,5,7,9,7,11,6,90.909090909090907,100,100,100,100,100,100,100,78.571428571428569,1,{"$f":"METAS!E8","v":0.9},"ATINGIU"]
[280070,"PROPRIA","BREJO GRANDE",8218,3,4,1,5,4,4,0,2,7,1,2,4,1,5,4,4,0,2,4,0,66.666666666666657,100,100,100,100,100,"0,00",100,57.142857142857139,0,{"$f":"METAS!E9","v":0.9},"NÃO ATINGIU"]
[280100,"ITABAIANA","CAMPO DO BRITO",17851,6,5,5,11,2,3,2,6,3,6,4,5,5,10,2,3,1,4,3,6,66.666666666666657,100,100,90.909090909090907,100,100,50,66.666666666666657,100,1,{"$f":"METAS!E10","v":0.95},"ATINGIU"]
[280110,"PROPRIA","CANHOBA",4059,0,2,2,3,2,2,1,2,2,0,0,2,2,3,2,2,1,2,2,"S/C","0,00",100,100,100,100,100,100,100,100,"S/C",{"$f":"METAS!E11","v":1},"N/A"]
[280120,"GLORIA","CANINDE DE SAO FRANCISCO",28279,7,7,14,10,13,11,12,9,8,7,6,6,12,10,11,10,12,8,7,6,85.714285714285708,85.714285714285708,85.714285714285708,100,84.615384615384613,90.909090909090907,100,88.888888888888886,87.5,0.8571428571428571,{"$f":"METAS!E12","v":0.9},"NÃO ATINGIU"]
[280130,"SOCORRO","CAPELA",33378,8,20,15,10,12,11,17,6,10,8,7,19,15,9,12,11,15,6,8,6,87.5,95,100,90,100,100,88.235294117647058,100,80,0.75,0.9,"NÃO ATINGIU"]
[280140,"ITABAIANA","CARIRA",21487,8,8,9,5,7,12,11,9,8,3,7,7,9,5,7,12,10,9,2,0,87.5,87.5,100,100,100,100,90.909090909090907,100,25,0,{"$f":"METAS!E14","v":0.95},"NÃO ATINGIU"]
[280150,"SOCORRO","CARMOPOLIS",15621,3,7,7,6,5,6,8,9,6,8,3,7,7,5,4,6,7,7,6,6,100,100,100,83.333333333333343,80,100,87.5,77.777777777777786,100,0.75,{"$f":"METAS!E15","v":0.9},"NÃO ATINGIU"]
[280160,"PROPRIA","CEDRO DE SAO JOAO",5890,6,5,3,3,1,0,3,2,5,1,6,5,3,2,1,0,3,2,4,0,100,100,100,66.666666666666657,100,"0,00",100,100,80,0,{"$f":"METAS!E16","v":1},"NÃO ATINGIU"]
[280170,"ESTANCIA","CRISTINAPOLIS",17911,4,7,8,3,4,6,4,7,12,8,0,7,8,3,4,5,3,5,11,4,0,100,100,100,100,83.333333333333343,75,71.428571428571431,91.666666666666657,0.5,{"$f":"METAS!E17","v":0.9},"NÃO ATINGIU"]
[280190,"SOCORRO","CUMBE",3986,0,0,3,4,0,1,1,1,1,0,0,0,3,4,0,1,1,1,0,"S/C","0,00","0,00",100,100,"0,00",100,100,100,0,"S/C",{"$f":"METAS!E18","v":0.9},"N/A"]
[280200,"ARACAJU","DIVINA PASTORA",4889,3,1,1,0,1,2,1,1,0,2,3,1,1,0,1,2,1,1,0,2,100,100,100,"0,00",100,100,100,100,"0,00",1,{"$f":"METAS!E19","v":1},"ATINGIU"]
[280210,"ESTANCIA","ESTANCIA",68407,21,23,28,25,25,23,24,20,24,29,20,20,27,24,23,23,24,20,23,24,95.238095238095227,86.956521739130437,96.428571428571431,96,92,100,100,100,95.833333333333343,0.82758620689655171,{"$f":"METAS!E20","v":0.9},"NÃO ATINGIU"]
[280220,"GLORIA","FEIRA NOVA",5571,4,3,1,6,2,3,4,1,3,1,3,3,1,3,1,3,4,0,3,1,75,100,100,50,50,100,100,0,100,1,{"$f":"METAS!E21","v":0.9},"ATINGIU"]
[280230,"ITABAIANA","FREI PAULO",15044,2,4,2,3,5,3,5,8,0,6,1,4,2,3,4,2,4,6,0,5,50,100,100,100,80,66.666666666666657,80,75,"0,00",0.83333333333333337,{"$f":"METAS!E22","v":0.9},"NÃO ATINGIU"]
[280240,"GLORIA","GARARU",11724,3,0,4,3,5,2,2,4,4,2,2,0,4,1,5,2,2,3,3,1,66.666666666666657,"0,00",100,33.333333333333329,100,100,100,75,75,0.5,{"$f":"METAS!E23","v":0.9},"NÃO ATINGIU"]
[280250,"SOCORRO","GENERAL MAYNARD",3230,2,1,0,1,1,3,1,0,1,0,1,1,0,0,0,3,1,0,0,"S/C",50,100,"0,00",0,0,100,100,"0,00",0,"S/C",{"$f":"METAS!E24","v":0.9},"N/A"]
[280260,"GLORIA","GRACHO CARDOSO",5846,2,0,4,2,1,2,1,0,2,2,2,0,4,2,1,2,1,0,0,0,100,"0,00",100,100,100,100,100,"0,00",0,0,{"$f":"METAS!E25","v":1},"NÃO ATINGIU"]
[280270,"PROPRIA","ILHA DAS FLORES",8597,2,2,2,2,0,0,3,2,1,4,1,2,2,2,0,0,3,1,0,1,50,100,100,100,"0,00","0,00",100,50,0,0.25,{"$f":"METAS!E26","v":0.9},"NÃO ATINGIU"]
[280280,"ESTANCIA","INDIAROBA",17384,10,9,1,4,2,6,3,4,7,2,1,9,0,3,2,5,3,4,4,0,10,100,0,75,100,83.333333333333343,100,100,57.142857142857139,0,{"$f":"METAS!E27","v":0.9},"NÃO ATINGIU"]
[280290,"ITABAIANA","ITABAIANA",93573,29,36,34,33,33,37,40,39,40,36,28,34,34,29,30,31,38,38,38,16,96.551724137931032,94.444444444444443,100,87.878787878787875,90.909090909090907,83.78378378378379,95,97.435897435897431,95,0.44444444444444442,{"$f":"METAS!E28","v":0.9},"NÃO ATINGIU"]
[280300,"ESTANCIA","ITABAIANINHA",41405,12,4,9,16,12,18,10,17,9,15,10,4,9,15,12,16,10,16,8,14,83.333333333333343,100,100,93.75,100,88.888888888888886,100,94.117647058823522,88.888888888888886,0.93333333333333335,{"$f":"METAS!E29","v":0.9},"ATINGIU"]
[280310,"GLORIA","ITABI",5017,0,1,3,4,2,2,0,0,1,3,0,1,1,3,1,1,0,0,0,0,"0,00",100,33.333333333333329,{"$f":"IFERROR(R30/H30*100,\"0,00\")","v":75},50,50,"0,00","0,00",0,0,{"$f":"METAS!E30","v":0.9},"NÃO ATINGIU"]
[280320,"ARACAJU","ITAPORANGA D'AJUDA",33320,11,10,14,7,9,15,15,11,16,10,6,8,5,5,7,15,13,7,9,5,{"$f":"IFERROR(O31/E31*100,\"0,00\")","v":54.54545454545454},80,35.714285714285715,71.428571428571431,77.777777777777786,100,86.666666666666671,63.636363636363633,56.25,0.5,{"$f":"METAS!E31","v":0.9},"NÃO ATINGIU"]
[280330,"SOCORRO","JAPARATUBA",18286,5,6,2,6,5,10,3,4,1,4,2,5,1,6,5,10,3,3,1,1,40,83.333333333333343,50,100,100,100,100,75,100,0.25,{"$f":"METAS!E32","v":0.9},"NÃO ATINGIU"]
[280340,"PROPRIA","JAPOATA",13245,2,2,6,1,7,8,3,1,5,5,2,1,5,1,6,6,2,1,1,5,100,50,83.333333333333343,100,85.714285714285708,75,66.666666666666657,100,20,1,{"$f":"METAS!E33","v":1},"ATINGIU"]
[280350,"LAGARTO","LAGARTO",102259,32,26,31,22,25,37,42,43,41,30,28,24,31,21,24,36,38,40,36,16,87.5,92.307692307692307,100,95.454545454545453,96,97.297297297297305,90.476190476190482,93.023255813953483,87.804878048780495,0.53333333333333333,{"$f":"METAS!E34","v":0.93},"NÃO ATINGIU"]
[280360,"ARACAJU","LARANJEIRAS",29127,12,7,7,9,5,9,14,16,8,8,10,7,6,9,5,9,14,13,7,2,83.333333333333343,100,85.714285714285708,100,100,100,100,81.25,87.5,0.25,{"$f":"METAS!E35","v":1},"NÃO ATINGIU"]
[280370,"ITABAIANA","MACAMBIRA",6823,3,3,2,0,3,1,3,1,1,4,2,3,2,0,2,1,1,1,1,0,66.666666666666657,100,100,"0,00",66.666666666666657,100,33.333333333333329,100,100,0,{"$f":"METAS!E36","v":0.9},"NÃO ATINGIU"]
[280380,"PROPRIA","MALHADA DOS BOIS",3652,0,1,1,3,0,2,4,1,1,2,0,1,1,2,0,2,4,1,1,0,"0,00",100,100,66.666666666666657,"0,00",100,100,100,100,0,{"$f":"METAS!E37","v":0.9},"NÃO ATINGIU"]
[280390,"ITABAIANA","MALHADOR",12601,5,6,6,3,5,1,1,3,2,6,5,6,4,3,4,1,1,3,2,4,100,100,66.666666666666657,100,80,100,100,100,100,0.66666666666666663,{"$f":"METAS!E38","v":1},"NÃO ATINGIU"]
[280400,"SOCORRO","MARUIM",17151,6,7,8,6,7,15,8,5,2,8,3,6,8,6,7,13,6,5,1,3,50,85.714285714285708,100,100,100,86.666666666666671,75,100,50,0.375,{"$f":"METAS!E39","v":0.9},"NÃO ATINGIU"]
[280410,"ITABAIANA","MOITA BONITA",11399,4,4,3,4,4,6,4,2,6,4,3,4,3,4,4,5,3,2,5,3,75,100,100,100,100,83.333333333333343,75,100,83.333333333333343,0.75,{"$f":"METAS!E40","v":1},"NÃO ATINGIU"]
[280420,"GLORIA","MONTE ALEGRE DE SERGIPE",14853,4,1,3,3,2,4,5,3,8,5,3,1,2,3,2,4,5,3,5,1,75,100,66.666666666666657,100,100,100,100,100,62.5,0.2,{"$f":"METAS!E41","v":1},"NÃO ATINGIU"]
[280430,"PROPRIA","MURIBECA",7644,2,1,5,4,5,5,9,5,2,3,1,1,5,4,4,5,9,5,2,1,50,100,100,100,80,100,100,100,100,0.33333333333333331,{"$f":"METAS!E42","v":0.9},"NÃO ATINGIU"]
[280440,"PROPRIA","NEOPOLIS",18958,6,9,6,6,4,2,7,7,11,9,6,8,4,5,4,2,7,7,9,6,100,88.888888888888886,66.666666666666657,83.333333333333343,100,100,100,100,81.818181818181827,0.66666666666666663,{"$f":"METAS!E43","v":0.9},"NÃO ATINGIU"]
[280445,"ITABAIANA","NOSSA SENHORA APARECIDA",8830,2,0,0,5,0,4,3,1,1,0,1,0,0,4,0,3,3,1,1,"S/C",50,"0,00","0,00",80,"0,00",75,100,100,100,"S/C",{"$f":"METAS!E44","v":1},"N/A"]
[280450,"GLORIA","NOSSA SENHORA DA GLORIA",35723,7,11,14,12,8,10,13,10,12,15,4,11,13,12,7,10,13,9,12,12,57.142857142857139,100,92.857142857142861,100,87.5,100,100,90,100,0.8,{"$f":"METAS!E45","v":1},"NÃO ATINGIU"]
[280460,"SOCORRO","NOSSA SENHORA DAS DORES",26237,6,5,8,10,10,7,9,11,9,7,4,5,8,9,9,7,8,10,9,2,66.666666666666657,100,100,90,90,100,88.888888888888886,90.909090909090907,100,0.2857142857142857,{"$f":"METAS!E46","v":0.9},"NÃO ATINGIU"]
[280470,"PROPRIA","NOSSA SENHORA DE LOURDES",6494,0,2,2,3,2,2,0,1,1,5,0,2,2,3,2,2,0,1,1,4,"0,00",100,100,100,100,100,"0,00",100,100,0.8,{"$f":"METAS!E47","v":1},"NÃO ATINGIU"]
[280480,"SOCORRO","NOSSA SENHORA DO SOCORRO",177340,53,60,56,56,77,53,60,60,71,70,48,51,45,56,70,48,59,60,65,69,90.566037735849065,85,80.357142857142861,100,90.909090909090907,90.566037735849065,98.333333333333329,100,91.549295774647888,0.98571428571428577,{"$f":"METAS!E48","v":0.9},"ATINGIU"]
[280490,"PROPRIA","PACATUBA",14164,2,2,1,1,4,5,6,1,3,5,2,2,1,1,3,5,6,1,3,3,100,100,100,100,75,100,100,100,100,0.6,{"$f":"METAS!E49","v":0.9},"NÃO ATINGIU"]
[280500,"ITABAIANA","PEDRA MOLE",3199,1,2,2,0,1,3,1,0,2,2,0,2,2,0,1,1,1,0,1,1,0,100,100,"0,00",100,33.333333333333329,100,"0,00",50,0.5,{"$f":"METAS!E50","v":1},"NÃO ATINGIU"]
[280510,"ESTANCIA","PEDRINHAS",9455,8,0,3,1,4,2,5,4,2,3,6,0,3,1,4,2,5,3,1,1,75,"0,00",100,100,100,100,100,75,50,0.33333333333333331,{"$f":"METAS!E51","v":0.9},"NÃO ATINGIU"]
[280520,"ITABAIANA","PINHAO",6439,0,1,1,0,4,3,5,1,4,0,0,1,1,0,4,3,2,1,4,"S/C","0,00",100,100,"0,00",100,100,40,100,100,"S/C",{"$f":"METAS!E52","v":1},"N/A"]
[280530,"SOCORRO","PIRAMBU",9058,0,1,2,3,2,9,3,3,1,3,0,1,2,2,2,9,3,2,1,0,"0,00",100,100,66.666666666666657,100,100,100,66.666666666666657,100,0,{"$f":"METAS!E53","v":0.9},"NÃO ATINGIU"]
[280540,"GLORIA","POCO REDONDO",33756,10,10,7,10,8,7,7,11,4,22,5,10,6,10,8,7,7,11,4,11,50,100,85.714285714285708,100,100,100,100,100,100,0.5,{"$f":"METAS!E54","v":1},"NÃO ATINGIU"]
[280550,"LAGARTO","POCO VERDE",23413,5,8,5,6,3,5,6,7,8,6,4,8,5,5,3,4,4,3,2,2,80,100,100,83.333333333333343,100,80,66.666666666666657,42.857142857142854,25,0.33333333333333331,{"$f":"METAS!E55","v":0.9},"NÃO ATINGIU"]
[280560,"GLORIA","PORTO DA FOLHA",28497,9,6,4,8,11,3,14,7,3,9,5,3,3,6,11,3,13,6,3,7,55.555555555555557,50,75,75,100,100,92.857142857142861,85.714285714285708,100,0.77777777777777779,{"$f":"METAS!E56","v":0.9},"NÃO ATINGIU"]
[280570,"PROPRIA","PROPRIA",29657,18,11,14,12,11,14,5,10,18,12,11,11,12,12,9,12,5,8,18,7,61.111111111111114,100,85.714285714285708,100,81.818181818181827,85.714285714285708,100,80,100,0.58333333333333337,{"$f":"METAS!E57","v":0.9},"NÃO ATINGIU"]
[280580,"LAGARTO","RIACHAO DO DANTAS",19976,10,3,4,6,10,4,5,5,7,5,6,3,4,6,10,3,3,5,7,1,60,100,100,100,100,75,60,100,100,0.2,{"$f":"METAS!E58","v":0.9},"NÃO ATINGIU"]
[280590,"ARACAJU","RIACHUELO",10033,4,5,4,5,2,5,2,3,4,4,4,5,4,5,2,4,2,3,3,4,100,100,100,100,100,80,100,100,75,1,{"$f":"METAS!E59","v":1},"ATINGIU"]
[280600,"ITABAIANA","RIBEIROPOLIS",18363,6,4,5,10,5,5,12,5,3,6,5,3,5,10,4,5,10,5,3,3,83.333333333333343,75,100,100,80,100,83.333333333333343,100,100,0.5,{"$f":"METAS!E60","v":0.9},"NÃO ATINGIU"]
[280610,"SOCORRO","ROSARIO DO CATETE",10367,2,3,5,0,4,5,5,3,8,6,1,2,4,0,4,4,5,3,4,3,50,66.666666666666657,80,"0,00",100,80,100,100,50,0.5,{"$f":"METAS!E61","v":0.9},"NÃO ATINGIU"]
[280620,"LAGARTO","SALGADO",20082,2,5,9,11,5,8,6,6,6,8,1,5,8,9,5,4,6,5,2,0,50,100,88.888888888888886,81.818181818181827,100,50,100,83.333333333333343,33.333333333333329,0,{"$f":"METAS!E62","v":0.9},"NÃO ATINGIU"]
[280630,"ESTANCIA","SANTA LUZIA DO ITANHY",13838,5,2,4,4,3,5,2,3,6,5,5,2,4,3,3,5,2,3,6,2,{"$f":"IFERROR(O63/E63*100,\"0,00\")","v":100},100,100,75,100,100,100,100,100,0.4,{"$f":"METAS!E63","v":0.9},"NÃO ATINGIU"]
[280640,"PROPRIA","SANTANA DO SAO FRANCISCO",7607,1,3,3,0,2,1,2,1,2,2,1,3,3,0,2,1,1,1,2,1,100,100,100,"0,00",100,100,50,100,100,0.5,{"$f":"METAS!E64","v":1},"NÃO ATINGIU"]
[280650,"ARACAJU","SANTA ROSA DE LIMA",3912,5,2,4,2,1,2,0,2,0,2,5,2,4,2,1,0,0,1,0,0,100,100,100,100,100,0,"0,00",50,"0,00",0,{"$f":"METAS!E65","v":0.95},"NÃO ATINGIU"]
[280660,"SOCORRO","SANTO AMARO DAS BROTAS",12024,7,1,2,5,3,3,3,1,3,3,6,1,2,5,3,3,3,1,2,0,85.714285714285708,100,100,100,100,100,100,100,66.666666666666657,0,{"$f":"METAS!E66","v":0.9},"NÃO ATINGIU"]
[280670,"ARACAJU","SAO CRISTOVAO",86979,25,27,24,17,27,36,39,40,27,35,5,19,15,14,24,32,30,28,17,23,20,70.370370370370367,62.5,82.35294117647058,88.888888888888886,88.888888888888886,76.923076923076934,70,62.962962962962962,{"$f":"IF(N67=0,\"S/C\",X67/N67)","v":0.65714285714285714},{"$f":"METAS!E67","v":0.9},{"$f":"IF(AH67=\"S/C\",\"N/A\",IF(AH67>=AI67,\"ATINGIU\",\"NÃO ATINGIU\"))","v":"NÃO ATINGIU"}]
[280680,"ITABAIANA","SAO DOMINGOS",10971,2,4,4,2,0,1,4,2,2,4,1,4,4,2,0,1,3,1,2,4,50,100,100,100,"0,00",100,75,50,100,1,{"$f":"METAS!E68","v":0.9},"ATINGIU"]
[280690,"PROPRIA","SAO FRANCISCO",3851,1,1,1,0,0,1,2,1,1,1,1,1,1,0,0,1,2,0,1,0,100,100,100,"0,00","0,00",100,100,0,100,0,{"$f":"METAS!E69","v":1},"NÃO ATINGIU"]
[280700,"ITABAIANA","SAO MIGUEL DO ALEIXO",3902,3,1,0,1,1,1,1,5,1,1,3,1,0,1,1,1,1,4,1,0,100,100,"0,00",100,100,100,100,80,100,0,{"$f":"METAS!E70","v":1},"NÃO ATINGIU"]
[280710,"LAGARTO","SIMAO DIAS",40530,15,13,14,19,21,11,10,15,18,14,14,10,14,18,17,10,8,15,16,8,93.333333333333329,76.923076923076934,100,94.73684210526315,80.952380952380949,90.909090909090907,80,100,88.888888888888886,0.5714285714285714,{"$f":"METAS!E71","v":0.95},"NÃO ATINGIU"]
[280720,"SOCORRO","SIRIRI",8675,3,4,4,2,0,0,2,0,2,2,1,4,4,2,0,0,2,0,2,2,33.333333333333329,100,100,100,"0,00","0,00",100,"0,00",100,1,{"$f":"METAS!E72","v":0.9},"ATINGIU"]
[280730,"PROPRIA","TELHA",3171,1,1,0,1,0,0,0,0,0,0,1,1,0,1,0,0,0,0,0,"S/C",100,100,"0,00",100,"0,00","0,00","0,00","0,00","0,00","S/C",{"$f":"METAS!E73","v":0.9},"N/A"]
[280740,"LAGARTO","TOBIAS BARRETO",51374,19,19,14,17,20,15,24,20,16,13,18,19,14,16,18,15,21,15,11,11,94.73684210526315,100,100,94.117647058823522,90,100,87.5,75,68.75,0.84615384615384615,{"$f":"METAS!E74","v":0.9},"NÃO ATINGIU"]
[280750,"ESTANCIA","TOMAR DO GERU",13200,7,3,7,7,5,5,7,7,6,4,6,3,7,7,5,5,7,7,5,4,85.714285714285708,100,100,100,100,100,100,100,83.333333333333343,1,{"$f":"METAS!E75","v":0.9},"ATINGIU"]
[280760,"ESTANCIA","UMBAUBA",24542,6,11,12,12,12,14,12,12,16,7,4,11,12,9,12,14,10,12,11,0,66.666666666666657,100,100,75,100,100,83.333333333333343,100,68.75,0,{"$f":"METAS!E76","v":0.9},"NÃO ATINGIU"]
[280000,"SERGIPE","SERGIPE",2242948,689,689,715,738,714,758,761,766,746,734,509,641,606,603,640,699,689,672,596,481,73.875181422351233,93.033381712626991,84.755244755244746,81.707317073170728,89.635854341736703,92.21635883905013,90.538764783180028,87.728459530026115,79.892761394101868,0.65531335149863756,{"$f":"METAS!E77","v":0.9},"NÃO ATINGIU"]
[]
[1,2,3,4,7,8,9,10,11,12,13,14,15,16,19,20,21,22,23,24,25,26,27,28,31,32,33,34,35,36,37,38,39,40,41,42]
[]
["[Opções]",null,null,null,"[Opções]"]
["DEF=F:\\Users\\ECPSANTOS\\Documents\\SUS SES\\Tabwin_SIM_E_SINASC\\tabdo\\OBITOWEB 2.def",null,null,null,"DEF=F:\\Users\\ECPSANTOS\\Documents\\SUS SES\\Tabwin_SIM_E_SINASC\\tabdo\\OBITOWEB 2.def"]
["PATH=F:\\Users\\ecpsantos\\Documents\\SUS SES\\Tabwin_SIM_E_SINASC\\tabdo\\DADOS\\DO*.DB?",null,null,null,"PATH=F:\\Users\\ecpsantos\\Documents\\SUS SES\\Tabwin_SIM_E_SINASC\\tabdo\\DADOS\\DO*.DB?"]
["Linha=Munic Resid - SE",null,null,null,"Linha=Munic Resid - SE"]
["Coluna=Ano do Obito",null,null,null,"Coluna=Ano do Obito"]
["Incremento=Freqüência",null,null,null,"Incremento=Freqüência"]
["Suprime_Linhas_Zeradas=false",null,null,null,"Suprime_Linhas_Zeradas=false"]
["Suprime_Colunas_Zeradas=true",null,null,null,"Suprime_Colunas_Zeradas=true"]
["Não_Classificados=0",null,null,null,"Não_Classificados=0"]
["[Seleções_Ativas]",null,null,null,"[Seleções_Ativas]"]
["Tipo Obito: Não Fetal",null,null,null,"Tipo Obito: Não Fetal"]
["Faixa Etaria (13): 10-14a|15-19a|20-29a|30-39a|40-49a",null,null,null,"Sexo: Fem"]
["Sexo: Fem",null,null,null,"Faixa Etaria (13): 10-14a|15-19a|20-29a|30-39a|40-49a"]
["Obito investigado: Investigado",null,null,null,"Obito investigado: Investigado"]
["[Arquivos]",null,null,null,"[Arquivos]"]
["DO26012017.DBC",null,null,null,"DO10072017.DBC"]
["Registros_Processados= 137100",null,null,null,"Registros_Processados= 143626"]
["Tempo_Decorrido= 0:01",null,null,null,"Tempo_Decorrido= 0:01"]

{"sheet":"OBITOS_MIF_REG","index":94,"n_rows":12,"n_cols":36,"rows_kept":12,"cut":false,"hidden":true,"merged":[]}
["CÓD","REGIÃO","POP 2015","OBITOS EM MUL IDADE FERTIL 2008","OBITOS EM MUL IDADE FERTIL 2009","OBITOS EM MUL IDADE FERTIL 2010","OBITOS EM MUL IDADE FERTIL 2011","OBITOS EM MUL IDADE FERTIL 2012","OBITOS EM MUL IDADE FERTIL 2013","OBITOS EM MUL IDADE FERTIL 2014","OBITOS EM MUL IDADE FERTIL 2015","OBITOS EM MUL IDADE FERTIL 2016","OBITOS EM MUL IDADE FERTIL 2017","OBITOS EM MUL IDADE FERTIL INV 2008","OBITOS EM MUL IDADE FERTIL INV 2009","OBITOS EM MUL IDADE FERTIL INV 2010","OBITOS EM MUL IDADE FERTIL INV 2011","OBITOS EM MUL IDADE FERTIL INV 2012","OBITOS EM MUL IDADE FERTIL INV 2013","OBITOS EM MUL IDADE FERTIL INV 2014","OBITOS EM MUL IDADE FERTIL INV 2015","OBITOS EM MUL IDADE FERTIL INV 2016","OBITOS EM MUL IDADE FERTIL INV 2017","%OBITOS EM MUL IDADE FERTIL INV 2008","%OBITOS EM MUL IDADE FERTIL INV 2009","%OBITOS EM MUL IDADE FERTIL INV 2010","%OBITOS EM MUL IDADE FERTIL INV 2011","%OBITOS EM MUL IDADE FERTIL INV 2012","%OBITOS EM MUL IDADE FERTIL INV 2013","%OBITOS EM MUL IDADE FERTIL INV 2014","%OBITOS EM MUL IDADE FERTIL INV 2015","%OBITOS EM MUL IDADE FERTIL INV 2016","%OBITOS EM MUL IDADE FERTIL INV 2017","META PACTUADA 2017","SITUAÇÃO","GRAFICOS"]
[1,"ARACAJU",{"$f":"SUMIF(OBITOS_MIF!$B$2:$B$76,\"ARACAJU\",OBITOS_MIF!D$2:D$76)","v":829684},{"$f":"SUMIF(OBITOS_MIF!$B$2:$B$76,\"ARACAJU\",OBITOS_MIF!E$2:E$76)","v":240},{"$f":"SUMIF(OBITOS_MIF!$B$2:$B$76,\"ARACAJU\",OBITOS_MIF!F$2:F$76)","v":252},{"$f":"SUMIF(OBITOS_MIF!$B$2:$B$76,\"ARACAJU\",OBITOS_MIF!G$2:G$76)","v":263},{"$f":"SUMIF(OBITOS_MIF!$B$2:$B$76,\"ARACAJU\",OBITOS_MIF!H$2:H$76)","v":265},{"$f":"SUMIF(OBITOS_MIF!$B$2:$B$76,\"ARACAJU\",OBITOS_MIF!I$2:I$76)","v":242},{"$f":"SUMIF(OBITOS_MIF!$B$2:$B$76,\"ARACAJU\",OBITOS_MIF!J$2:J$76)","v":276},{"$f":"SUMIF(OBITOS_MIF!$B$2:$B$76,\"ARACAJU\",OBITOS_MIF!K$2:K$76)","v":261},{"$f":"SUMIF(OBITOS_MIF!$B$2:$B$76,\"ARACAJU\",OBITOS_MIF!L$2:L$76)","v":305},{"$f":"SUMIF(OBITOS_MIF!$B$2:$B$76,\"ARACAJU\",OBITOS_MIF!M$2:M$76)","v":243},{"$f":"SUMIF(OBITOS_MIF!$B$2:$B$76,\"ARACAJU\",OBITOS_MIF!N$2:N$76)","v":244},{"$f":"SUMIF(OBITOS_MIF!$B$2:$B$76,\"ARACAJU\",OBITOS_MIF!O$2:O$76)","v":157},{"$f":"SUMIF(OBITOS_MIF!$B$2:$B$76,\"ARACAJU\",OBITOS_MIF!P$2:P$76)","v":235},{"$f":"SUMIF(OBITOS_MIF!$B$2:$B$76,\"ARACAJU\",OBITOS_MIF!Q$2:Q$76)","v":185},{"$f":"SUMIF(OBITOS_MIF!$B$2:$B$76,\"ARACAJU\",OBITOS_MIF!R$2:R$76)","v":166},{"$f":"SUMIF(OBITOS_MIF!$B$2:$B$76,\"ARACAJU\",OBITOS_MIF!S$2:S$76)","v":207},{"$f":"SUMIF(OBITOS_MIF!$B$2:$B$76,\"ARACAJU\",OBITOS_MIF!T$2:T$76)","v":255},{"$f":"SUMIF(OBITOS_MIF!$B$2:$B$76,\"ARACAJU\",OBITOS_MIF!U$2:U$76)","v":229},{"$f":"SUMIF(OBITOS_MIF!$B$2:$B$76,\"ARACAJU\",OBITOS_MIF!V$2:V$76)","v":252},{"$f":"SUMIF(OBITOS_MIF!$B$2:$B$76,\"ARACAJU\",OBITOS_MIF!W$2:W$76)","v":179},{"$f":"SUMIF(OBITOS_MIF!$B$2:$B$76,\"ARACAJU\",OBITOS_MIF!X$2:X$76)","v":176},{"$f":"IFERROR(N2/D2*100,\"0,00\")","v":65.416666666666671},93.253968253968253,70.342205323193923,62.641509433962263,85.537190082644628,92.391304347826093,87.739463601532563,82.622950819672141,73.66255144032921,{"$f":"IFERROR(W2/M2,\"0,00\")","v":0.72131147540983609},{"$f":"METAS!E81","v":0.9},{"$f":"IF(AG2>=AH2,\"ATINGIU\",\"NÃO ATINGIU\")","v":"NÃO ATINGIU"}]
[2,"ESTANCIA",{"$f":"SUMIF(OBITOS_MIF!$B$2:$B$76,\"ESTANCIA\",OBITOS_MIF!D$2:D$76)","v":243464},{"$f":"SUMIF(OBITOS_MIF!$B$2:$B$76,\"ESTANCIA\",OBITOS_MIF!E$2:E$76)","v":89},{"$f":"SUMIF(OBITOS_MIF!$B$2:$B$76,\"ESTANCIA\",OBITOS_MIF!F$2:F$76)","v":77},{"$f":"SUMIF(OBITOS_MIF!$B$2:$B$76,\"ESTANCIA\",OBITOS_MIF!G$2:G$76)","v":80},{"$f":"SUMIF(OBITOS_MIF!$B$2:$B$76,\"ESTANCIA\",OBITOS_MIF!H$2:H$76)","v":86},{"$f":"SUMIF(OBITOS_MIF!$B$2:$B$76,\"ESTANCIA\",OBITOS_MIF!I$2:I$76)","v":75},{"$f":"SUMIF(OBITOS_MIF!$B$2:$B$76,\"ESTANCIA\",OBITOS_MIF!J$2:J$76)","v":91},{"$f":"SUMIF(OBITOS_MIF!$B$2:$B$76,\"ESTANCIA\",OBITOS_MIF!K$2:K$76)","v":80},{"$f":"SUMIF(OBITOS_MIF!$B$2:$B$76,\"ESTANCIA\",OBITOS_MIF!L$2:L$76)","v":87},{"$f":"SUMIF(OBITOS_MIF!$B$2:$B$76,\"ESTANCIA\",OBITOS_MIF!M$2:M$76)","v":103},{"$f":"SUMIF(OBITOS_MIF!$B$2:$B$76,\"ESTANCIA\",OBITOS_MIF!N$2:N$76)","v":85},{"$f":"SUMIF(OBITOS_MIF!$B$2:$B$76,\"ESTANCIA\",OBITOS_MIF!O$2:O$76)","v":66},{"$f":"SUMIF(OBITOS_MIF!$B$2:$B$76,\"ESTANCIA\",OBITOS_MIF!P$2:P$76)","v":74},{"$f":"SUMIF(OBITOS_MIF!$B$2:$B$76,\"ESTANCIA\",OBITOS_MIF!Q$2:Q$76)","v":78},{"$f":"SUMIF(OBITOS_MIF!$B$2:$B$76,\"ESTANCIA\",OBITOS_MIF!R$2:R$76)","v":79},{"$f":"SUMIF(OBITOS_MIF!$B$2:$B$76,\"ESTANCIA\",OBITOS_MIF!S$2:S$76)","v":73},{"$f":"SUMIF(OBITOS_MIF!$B$2:$B$76,\"ESTANCIA\",OBITOS_MIF!T$2:T$76)","v":87},{"$f":"SUMIF(OBITOS_MIF!$B$2:$B$76,\"ESTANCIA\",OBITOS_MIF!U$2:U$76)","v":77},{"$f":"SUMIF(OBITOS_MIF!$B$2:$B$76,\"ESTANCIA\",OBITOS_MIF!V$2:V$76)","v":82},{"$f":"SUMIF(OBITOS_MIF!$B$2:$B$76,\"ESTANCIA\",OBITOS_MIF!W$2:W$76)","v":85},{"$f":"SUMIF(OBITOS_MIF!$B$2:$B$76,\"ESTANCIA\",OBITOS_MIF!X$2:X$76)","v":59},74.157303370786522,96.103896103896105,97.5,91.860465116279073,97.333333333333343,95.604395604395606,96.25,94.252873563218387,82.524271844660191,{"$f":"IFERROR(W3/M3,\"0,00\")","v":0.69411764705882351},{"$f":"METAS!E82","v":0.9},{"$f":"IF(AG3>=AH3,\"ATINGIU\",\"NÃO ATINGIU\")","v":"NÃO ATINGIU"}]
[3,"GLORIA",{"$f":"SUMIF(OBITOS_MIF!$B$2:$B$76,\"GLORIA\",OBITOS_MIF!D$2:D$76)","v":169266},{"$f":"SUMIF(OBITOS_MIF!$B$2:$B$76,\"GLORIA\",OBITOS_MIF!E$2:E$76)","v":46},{"$f":"SUMIF(OBITOS_MIF!$B$2:$B$76,\"GLORIA\",OBITOS_MIF!F$2:F$76)","v":39},{"$f":"SUMIF(OBITOS_MIF!$B$2:$B$76,\"GLORIA\",OBITOS_MIF!G$2:G$76)","v":54},{"$f":"SUMIF(OBITOS_MIF!$B$2:$B$76,\"GLORIA\",OBITOS_MIF!H$2:H$76)","v":58},{"$f":"SUMIF(OBITOS_MIF!$B$2:$B$76,\"GLORIA\",OBITOS_MIF!I$2:I$76)","v":52},{"$f":"SUMIF(OBITOS_MIF!$B$2:$B$76,\"GLORIA\",OBITOS_MIF!J$2:J$76)","v":44},{"$f":"SUMIF(OBITOS_MIF!$B$2:$B$76,\"GLORIA\",OBITOS_MIF!K$2:K$76)","v":58},{"$f":"SUMIF(OBITOS_MIF!$B$2:$B$76,\"GLORIA\",OBITOS_MIF!L$2:L$76)","v":45},{"$f":"SUMIF(OBITOS_MIF!$B$2:$B$76,\"GLORIA\",OBITOS_MIF!M$2:M$76)","v":45},{"$f":"SUMIF(OBITOS_MIF!$B$2:$B$76,\"GLORIA\",OBITOS_MIF!N$2:N$76)","v":66},{"$f":"SUMIF(OBITOS_MIF!$B$2:$B$76,\"GLORIA\",OBITOS_MIF!O$2:O$76)","v":30},{"$f":"SUMIF(OBITOS_MIF!$B$2:$B$76,\"GLORIA\",OBITOS_MIF!P$2:P$76)","v":35},{"$f":"SUMIF(OBITOS_MIF!$B$2:$B$76,\"GLORIA\",OBITOS_MIF!Q$2:Q$76)","v":46},{"$f":"SUMIF(OBITOS_MIF!$B$2:$B$76,\"GLORIA\",OBITOS_MIF!R$2:R$76)","v":50},{"$f":"SUMIF(OBITOS_MIF!$B$2:$B$76,\"GLORIA\",OBITOS_MIF!S$2:S$76)","v":47},{"$f":"SUMIF(OBITOS_MIF!$B$2:$B$76,\"GLORIA\",OBITOS_MIF!T$2:T$76)","v":42},{"$f":"SUMIF(OBITOS_MIF!$B$2:$B$76,\"GLORIA\",OBITOS_MIF!U$2:U$76)","v":57},{"$f":"SUMIF(OBITOS_MIF!$B$2:$B$76,\"GLORIA\",OBITOS_MIF!V$2:V$76)","v":40},{"$f":"SUMIF(OBITOS_MIF!$B$2:$B$76,\"GLORIA\",OBITOS_MIF!W$2:W$76)","v":37},{"$f":"SUMIF(OBITOS_MIF!$B$2:$B$76,\"GLORIA\",OBITOS_MIF!X$2:X$76)","v":39},65.217391304347828,89.743589743589752,85.18518518518519,86.206896551724128,90.384615384615387,95.454545454545453,98.275862068965509,88.888888888888886,82.222222222222214,0.59090909090909094,{"$f":"METAS!E83","v":0.9},"NÃO ATINGIU"]
[4,"ITABAIANA",{"$f":"SUMIF(OBITOS_MIF!$B$2:$B$76,\"ITABAIANA\",OBITOS_MIF!D$2:D$76)","v":248651},{"$f":"SUMIF(OBITOS_MIF!$B$2:$B$76,\"ITABAIANA\",OBITOS_MIF!E$2:E$76)","v":81},{"$f":"SUMIF(OBITOS_MIF!$B$2:$B$76,\"ITABAIANA\",OBITOS_MIF!F$2:F$76)","v":83},{"$f":"SUMIF(OBITOS_MIF!$B$2:$B$76,\"ITABAIANA\",OBITOS_MIF!G$2:G$76)","v":79},{"$f":"SUMIF(OBITOS_MIF!$B$2:$B$76,\"ITABAIANA\",OBITOS_MIF!H$2:H$76)","v":85},{"$f":"SUMIF(OBITOS_MIF!$B$2:$B$76,\"ITABAIANA\",OBITOS_MIF!I$2:I$76)","v":81},{"$f":"SUMIF(OBITOS_MIF!$B$2:$B$76,\"ITABAIANA\",OBITOS_MIF!J$2:J$76)","v":87},{"$f":"SUMIF(OBITOS_MIF!$B$2:$B$76,\"ITABAIANA\",OBITOS_MIF!K$2:K$76)","v":95},{"$f":"SUMIF(OBITOS_MIF!$B$2:$B$76,\"ITABAIANA\",OBITOS_MIF!L$2:L$76)","v":82},{"$f":"SUMIF(OBITOS_MIF!$B$2:$B$76,\"ITABAIANA\",OBITOS_MIF!M$2:M$76)","v":80},{"$f":"SUMIF(OBITOS_MIF!$B$2:$B$76,\"ITABAIANA\",OBITOS_MIF!N$2:N$76)","v":84},{"$f":"SUMIF(OBITOS_MIF!$B$2:$B$76,\"ITABAIANA\",OBITOS_MIF!O$2:O$76)","v":67},{"$f":"SUMIF(OBITOS_MIF!$B$2:$B$76,\"ITABAIANA\",OBITOS_MIF!P$2:P$76)","v":79},{"$f":"SUMIF(OBITOS_MIF!$B$2:$B$76,\"ITABAIANA\",OBITOS_MIF!Q$2:Q$76)","v":77},{"$f":"SUMIF(OBITOS_MIF!$B$2:$B$76,\"ITABAIANA\",OBITOS_MIF!R$2:R$76)","v":79},{"$f":"SUMIF(OBITOS_MIF!$B$2:$B$76,\"ITABAIANA\",OBITOS_MIF!S$2:S$76)","v":72},{"$f":"SUMIF(OBITOS_MIF!$B$2:$B$76,\"ITABAIANA\",OBITOS_MIF!T$2:T$76)","v":75},{"$f":"SUMIF(OBITOS_MIF!$B$2:$B$76,\"ITABAIANA\",OBITOS_MIF!U$2:U$76)","v":81},{"$f":"SUMIF(OBITOS_MIF!$B$2:$B$76,\"ITABAIANA\",OBITOS_MIF!V$2:V$76)","v":75},{"$f":"SUMIF(OBITOS_MIF!$B$2:$B$76,\"ITABAIANA\",OBITOS_MIF!W$2:W$76)","v":70},{"$f":"SUMIF(OBITOS_MIF!$B$2:$B$76,\"ITABAIANA\",OBITOS_MIF!X$2:X$76)","v":47},82.716049382716051,95.180722891566262,97.468354430379748,92.941176470588232,88.888888888888886,86.206896551724128,85.263157894736835,91.463414634146346,87.5,0.55952380952380953,{"$f":"METAS!E84","v":0.9},"NÃO ATINGIU"]
[5,"LAGARTO",{"$f":"SUMIF(OBITOS_MIF!$B$2:$B$76,\"LAGARTO\",OBITOS_MIF!D$2:D$76)","v":257634},{"$f":"SUMIF(OBITOS_MIF!$B$2:$B$76,\"LAGARTO\",OBITOS_MIF!E$2:E$76)","v":83},{"$f":"SUMIF(OBITOS_MIF!$B$2:$B$76,\"LAGARTO\",OBITOS_MIF!F$2:F$76)","v":74},{"$f":"SUMIF(OBITOS_MIF!$B$2:$B$76,\"LAGARTO\",OBITOS_MIF!G$2:G$76)","v":77},{"$f":"SUMIF(OBITOS_MIF!$B$2:$B$76,\"LAGARTO\",OBITOS_MIF!H$2:H$76)","v":81},{"$f":"SUMIF(OBITOS_MIF!$B$2:$B$76,\"LAGARTO\",OBITOS_MIF!I$2:I$76)","v":84},{"$f":"SUMIF(OBITOS_MIF!$B$2:$B$76,\"LAGARTO\",OBITOS_MIF!J$2:J$76)","v":80},{"$f":"SUMIF(OBITOS_MIF!$B$2:$B$76,\"LAGARTO\",OBITOS_MIF!K$2:K$76)","v":93},{"$f":"SUMIF(OBITOS_MIF!$B$2:$B$76,\"LAGARTO\",OBITOS_MIF!L$2:L$76)","v":96},{"$f":"SUMIF(OBITOS_MIF!$B$2:$B$76,\"LAGARTO\",OBITOS_MIF!M$2:M$76)","v":96},{"$f":"SUMIF(OBITOS_MIF!$B$2:$B$76,\"LAGARTO\",OBITOS_MIF!N$2:N$76)","v":76},{"$f":"SUMIF(OBITOS_MIF!$B$2:$B$76,\"LAGARTO\",OBITOS_MIF!O$2:O$76)","v":71},{"$f":"SUMIF(OBITOS_MIF!$B$2:$B$76,\"LAGARTO\",OBITOS_MIF!P$2:P$76)","v":69},{"$f":"SUMIF(OBITOS_MIF!$B$2:$B$76,\"LAGARTO\",OBITOS_MIF!Q$2:Q$76)","v":76},{"$f":"SUMIF(OBITOS_MIF!$B$2:$B$76,\"LAGARTO\",OBITOS_MIF!R$2:R$76)","v":75},{"$f":"SUMIF(OBITOS_MIF!$B$2:$B$76,\"LAGARTO\",OBITOS_MIF!S$2:S$76)","v":77},{"$f":"SUMIF(OBITOS_MIF!$B$2:$B$76,\"LAGARTO\",OBITOS_MIF!T$2:T$76)","v":72},{"$f":"SUMIF(OBITOS_MIF!$B$2:$B$76,\"LAGARTO\",OBITOS_MIF!U$2:U$76)","v":80},{"$f":"SUMIF(OBITOS_MIF!$B$2:$B$76,\"LAGARTO\",OBITOS_MIF!V$2:V$76)","v":83},{"$f":"SUMIF(OBITOS_MIF!$B$2:$B$76,\"LAGARTO\",OBITOS_MIF!W$2:W$76)","v":74},{"$f":"SUMIF(OBITOS_MIF!$B$2:$B$76,\"LAGARTO\",OBITOS_MIF!X$2:X$76)","v":38},85.542168674698786,93.243243243243242,98.701298701298697,92.592592592592595,91.666666666666657,90,86.021505376344081,86.458333333333343,77.083333333333343,0.5,{"$f":"METAS!E85","v":0.9},"NÃO ATINGIU"]
[6,"PROPRIA",{"$f":"SUMIF(OBITOS_MIF!$B$2:$B$76,\"PROPRIA\",OBITOS_MIF!D$2:D$76)","v":158896},{"$f":"SUMIF(OBITOS_MIF!$B$2:$B$76,\"PROPRIA\",OBITOS_MIF!E$2:E$76)","v":55},{"$f":"SUMIF(OBITOS_MIF!$B$2:$B$76,\"PROPRIA\",OBITOS_MIF!F$2:F$76)","v":49},{"$f":"SUMIF(OBITOS_MIF!$B$2:$B$76,\"PROPRIA\",OBITOS_MIF!G$2:G$76)","v":50},{"$f":"SUMIF(OBITOS_MIF!$B$2:$B$76,\"PROPRIA\",OBITOS_MIF!H$2:H$76)","v":54},{"$f":"SUMIF(OBITOS_MIF!$B$2:$B$76,\"PROPRIA\",OBITOS_MIF!I$2:I$76)","v":54},{"$f":"SUMIF(OBITOS_MIF!$B$2:$B$76,\"PROPRIA\",OBITOS_MIF!J$2:J$76)","v":57},{"$f":"SUMIF(OBITOS_MIF!$B$2:$B$76,\"PROPRIA\",OBITOS_MIF!K$2:K$76)","v":54},{"$f":"SUMIF(OBITOS_MIF!$B$2:$B$76,\"PROPRIA\",OBITOS_MIF!L$2:L$76)","v":48},{"$f":"SUMIF(OBITOS_MIF!$B$2:$B$76,\"PROPRIA\",OBITOS_MIF!M$2:M$76)","v":64},{"$f":"SUMIF(OBITOS_MIF!$B$2:$B$76,\"PROPRIA\",OBITOS_MIF!N$2:N$76)","v":60},{"$f":"SUMIF(OBITOS_MIF!$B$2:$B$76,\"PROPRIA\",OBITOS_MIF!O$2:O$76)","v":42},{"$f":"SUMIF(OBITOS_MIF!$B$2:$B$76,\"PROPRIA\",OBITOS_MIF!P$2:P$76)","v":47},{"$f":"SUMIF(OBITOS_MIF!$B$2:$B$76,\"PROPRIA\",OBITOS_MIF!Q$2:Q$76)","v":45},{"$f":"SUMIF(OBITOS_MIF!$B$2:$B$76,\"PROPRIA\",OBITOS_MIF!R$2:R$76)","v":50},{"$f":"SUMIF(OBITOS_MIF!$B$2:$B$76,\"PROPRIA\",OBITOS_MIF!S$2:S$76)","v":48},{"$f":"SUMIF(OBITOS_MIF!$B$2:$B$76,\"PROPRIA\",OBITOS_MIF!T$2:T$76)","v":53},{"$f":"SUMIF(OBITOS_MIF!$B$2:$B$76,\"PROPRIA\",OBITOS_MIF!U$2:U$76)","v":52},{"$f":"SUMIF(OBITOS_MIF!$B$2:$B$76,\"PROPRIA\",OBITOS_MIF!V$2:V$76)","v":42},{"$f":"SUMIF(OBITOS_MIF!$B$2:$B$76,\"PROPRIA\",OBITOS_MIF!W$2:W$76)","v":52},{"$f":"SUMIF(OBITOS_MIF!$B$2:$B$76,\"PROPRIA\",OBITOS_MIF!X$2:X$76)","v":30},76.363636363636374,95.918367346938766,90,92.592592592592595,88.888888888888886,92.982456140350877,96.296296296296291,87.5,81.25,0.5,{"$f":"METAS!E86","v":0.9},"NÃO ATINGIU"]
[7,"SOCORRO",{"$f":"SUMIF(OBITOS_MIF!$B$2:$B$76,\"SOCORRO\",OBITOS_MIF!D$2:D$76)","v":335353},{"$f":"SUMIF(OBITOS_MIF!$B$2:$B$76,\"SOCORRO\",OBITOS_MIF!E$2:E$76)","v":95},{"$f":"SUMIF(OBITOS_MIF!$B$2:$B$76,\"SOCORRO\",OBITOS_MIF!F$2:F$76)","v":115},{"$f":"SUMIF(OBITOS_MIF!$B$2:$B$76,\"SOCORRO\",OBITOS_MIF!G$2:G$76)","v":112},{"$f":"SUMIF(OBITOS_MIF!$B$2:$B$76,\"SOCORRO\",OBITOS_MIF!H$2:H$76)","v":109},{"$f":"SUMIF(OBITOS_MIF!$B$2:$B$76,\"SOCORRO\",OBITOS_MIF!I$2:I$76)","v":126},{"$f":"SUMIF(OBITOS_MIF!$B$2:$B$76,\"SOCORRO\",OBITOS_MIF!J$2:J$76)","v":123},{"$f":"SUMIF(OBITOS_MIF!$B$2:$B$76,\"SOCORRO\",OBITOS_MIF!K$2:K$76)","v":120},{"$f":"SUMIF(OBITOS_MIF!$B$2:$B$76,\"SOCORRO\",OBITOS_MIF!L$2:L$76)","v":103},{"$f":"SUMIF(OBITOS_MIF!$B$2:$B$76,\"SOCORRO\",OBITOS_MIF!M$2:M$76)","v":115},{"$f":"SUMIF(OBITOS_MIF!$B$2:$B$76,\"SOCORRO\",OBITOS_MIF!N$2:N$76)","v":119},{"$f":"SUMIF(OBITOS_MIF!$B$2:$B$76,\"SOCORRO\",OBITOS_MIF!O$2:O$76)","v":76},{"$f":"SUMIF(OBITOS_MIF!$B$2:$B$76,\"SOCORRO\",OBITOS_MIF!P$2:P$76)","v":102},{"$f":"SUMIF(OBITOS_MIF!$B$2:$B$76,\"SOCORRO\",OBITOS_MIF!Q$2:Q$76)","v":99},{"$f":"SUMIF(OBITOS_MIF!$B$2:$B$76,\"SOCORRO\",OBITOS_MIF!R$2:R$76)","v":104},{"$f":"SUMIF(OBITOS_MIF!$B$2:$B$76,\"SOCORRO\",OBITOS_MIF!S$2:S$76)","v":116},{"$f":"SUMIF(OBITOS_MIF!$B$2:$B$76,\"SOCORRO\",OBITOS_MIF!T$2:T$76)","v":115},{"$f":"SUMIF(OBITOS_MIF!$B$2:$B$76,\"SOCORRO\",OBITOS_MIF!U$2:U$76)","v":113},{"$f":"SUMIF(OBITOS_MIF!$B$2:$B$76,\"SOCORRO\",OBITOS_MIF!V$2:V$76)","v":98},{"$f":"SUMIF(OBITOS_MIF!$B$2:$B$76,\"SOCORRO\",OBITOS_MIF!W$2:W$76)","v":99},{"$f":"SUMIF(OBITOS_MIF!$B$2:$B$76,\"SOCORRO\",OBITOS_MIF!X$2:X$76)","v":92},80,88.695652173913047,88.392857142857139,95.412844036697251,92.063492063492063,93.495934959349597,94.166666666666671,95.145631067961162,86.08695652173914,0.77310924369747902,{"$f":"METAS!E87","v":0.9},"NÃO ATINGIU"]
[8,"SERGIPE",{"$f":"SUM(C2:C8)","v":2242948},{"$f":"SUM(D2:D8)","v":689},689,715,738,714,758,761,766,746,734,509,641,606,603,640,699,689,672,596,481,73.875181422351233,93.033381712626991,84.755244755244746,81.707317073170728,89.635854341736703,92.21635883905013,90.538764783180028,87.728459530026115,79.892761394101868,{"$f":"IFERROR(W9/M9,\"0,00\")","v":0.65531335149863756},0.9,{"$f":"IF(AG9>=AH9,\"ATINGIU\",\"NÃO ATINGIU\")","v":"NÃO ATINGIU"}]
[]
[]
[1,2,3,4,5,6,7,8,9,10,11,12,13,14,15,16,17,18,19,20,21,22,23,24,25,26,27,28,29,30,31,32,33,34,35]

{"sheet":"OBITOS_CAUSAS","index":95,"n_rows":111,"n_cols":36,"rows_kept":111,"cut":false,"hidden":true,"merged":[]}
["COD IBGE","REGIÃO","MUNICIPIO","POP 2015","OBITOS CAUSAS BAS 2008","OBITOS CAUSAS BAS 2009","OBITOS CAUSAS BAS 2010","OBITOS CAUSAS BAS 2011","OBITOS CAUSAS BAS 2012","OBITOS CAUSAS BAS 2013","OBITOS CAUSAS BAS 2014","OBITOS CAUSAS BAS 2015","OBITOS CAUSAS BAS 2016","OBITOS CAUSAS BAS 2017","TOTAL OBITOS CAUSAS BAS 2008","TOTAL OBITOS CAUSAS BAS 2009","TOTAL OBITOS CAUSAS BAS 2010","TOTAL OBITOS CAUSAS BAS 2011","TOTAL OBITOS CAUSAS BAS 2012","TOTAL OBITOS CAUSAS BAS 2013","TOTAL OBITOS CAUSAS BAS 2014","TOTAL OBITOS CAUSAS BAS 2015","TOTAL OBITOS CAUSAS BAS 2016","TOTAL OBITOS CAUSAS BAS 2017","%OBITOS CAUSAS BAS 2008","%OBITOS CAUSAS BAS 2009","%OBITOS CAUSAS BAS 2010","%OBITOS CAUSAS BAS 2011","%OBITOS CAUSAS BAS 2012","%OBITOS CAUSAS BAS 2013","%OBITOS CAUSAS BAS 2014","%OBITOS CAUSAS BAS 2015","%OBITOS CAUSAS BAS 2016","%OBITOS CAUSAS BAS 2017","META PACTUADA 2017","SITUAÇÃO 2017"]
[280010,"PROPRIA","AMPARO DE SÃO FRANCISCO",2374,13,13,19,7,19,10,21,12,16,25,14,13,19,10,21,12,22,12,16,25,{"$f":"E2/O2*100","v":92.857142857142861},100,100,70,90.476190476190482,83.333333333333343,95.454545454545453,100,100,{"$f":"N2/X2","v":1},{"$f":"METAS!F2","v":0.95},{"$f":"IF(AH2>=AI2,\"ATINGIU\",\"NÃO ATINGIU\")","v":"ATINGIU"}]
[280020,"PROPRIA","AQUIDABÃ",21315,125,110,114,109,108,132,111,130,138,144,134,119,122,118,134,151,127,140,158,163,93.28358208955224,92.436974789915965,93.442622950819683,92.372881355932208,80.597014925373131,87.41721854304636,87.4015748031496,92.857142857142861,87.341772151898738,{"$f":"N3/X3","v":0.8834355828220859},{"$f":"METAS!F3","v":0.95},"NÃO ATINGIU"]
[280030,"ARACAJU","ARACAJU",632745,2609,2803,2864,2938,3129,3217,3221,3451,3580,3351,2789,2964,2999,3046,3232,3328,3322,3572,3709,3510,93.54607386159914,94.568151147098519,95.498499499833272,96.454366382140506,96.813118811881196,96.664663461538453,96.959662853702582,96.61254199328107,96.521973577783768,0.95470085470085475,{"$f":"METAS!F4","v":0.95},"ATINGIU"]
[280040,"ESTANCIA","ARAUÁ",10572,63,54,47,61,45,71,51,65,73,60,63,58,50,68,47,73,52,66,74,67,100,93.103448275862064,94,89.705882352941174,95.744680851063833,97.260273972602747,98.076923076923066,98.484848484848484,98.648648648648646,0.89552238805970152,{"$f":"METAS!F5","v":0.95},{"$f":"IF(AH5>=AI5,\"ATINGIU\",\"NÃO ATINGIU\")","v":"NÃO ATINGIU"}]
[280050,"ITABAIANA","AREIA BRANCA",18169,77,89,86,81,78,107,88,112,125,91,84,93,88,83,85,110,90,119,132,100,91.666666666666657,95.6989247311828,97.727272727272734,97.590361445783131,91.764705882352942,97.27272727272728,97.777777777777771,94.117647058823522,94.696969696969703,0.91,{"$f":"METAS!F6","v":0.95},{"$f":"IF(AH6>=AI6,\"ATINGIU\",\"NÃO ATINGIU\")","v":"NÃO ATINGIU"}]
[280060,"ARACAJU","BARRA DOS COQUEIROS",28679,105,128,121,124,155,137,159,182,177,175,107,128,121,126,155,141,159,183,180,179,98.130841121495322,100,100,98.412698412698404,100,97.163120567375884,100,99.453551912568301,98.333333333333329,0.97765363128491622,{"$f":"METAS!F7","v":0.95},"ATINGIU"]
[280067,"ESTANCIA","BOQUIM",26750,123,166,135,155,143,143,159,172,159,156,124,168,137,158,147,147,163,175,164,162,99.193548387096769,98.80952380952381,98.540145985401466,98.101265822784811,97.278911564625844,97.278911564625844,97.546012269938657,98.285714285714292,96.951219512195124,0.96296296296296291,{"$f":"METAS!F8","v":0.95},"ATINGIU"]
[280070,"PROPRIA","BREJO GRANDE",8218,38,34,45,35,42,42,29,42,40,24,39,34,47,35,50,43,31,46,49,27,97.435897435897431,100,95.744680851063833,100,84,97.674418604651152,93.548387096774192,91.304347826086953,81.632653061224488,0.88888888888888884,{"$f":"METAS!F9","v":0.95},"NÃO ATINGIU"]
[280100,"ITABAIANA","CAMPO DO BRITO",17851,84,92,103,115,96,135,78,122,98,108,87,97,107,119,100,145,106,147,114,119,96.551724137931032,94.845360824742258,96.261682242990659,96.638655462184872,96,93.103448275862064,73.584905660377359,82.993197278911566,85.964912280701753,0.90756302521008403,{"$f":"METAS!F10","v":0.95},"NÃO ATINGIU"]
[280110,"PROPRIA","CANHOBA",4059,15,28,16,24,27,22,33,22,21,21,17,30,19,25,28,23,33,26,23,22,88.235294117647058,93.333333333333329,84.210526315789465,96,96.428571428571431,95.652173913043484,100,84.615384615384613,91.304347826086953,0.95454545454545459,{"$f":"METAS!F11","v":0.95},"ATINGIU"]
[280120,"GLORIA","CANINDÉ DE SÃO FRANCISCO",28279,101,104,100,106,139,124,127,134,124,124,105,110,105,109,146,128,139,147,135,135,96.19047619047619,94.545454545454547,95.238095238095227,97.247706422018354,95.205479452054803,96.875,91.366906474820141,91.156462585034021,91.851851851851848,0.91851851851851851,{"$f":"METAS!F12","v":0.95},"NÃO ATINGIU"]
[280130,"SOCORRO","CAPELA",33378,158,186,160,176,177,170,157,189,180,187,165,204,174,180,183,176,180,212,201,226,95.757575757575751,91.17647058823529,91.954022988505741,97.777777777777771,96.721311475409834,96.590909090909093,87.222222222222229,89.15094339622641,89.552238805970148,0.82743362831858402,{"$f":"METAS!F13","v":0.9},"NÃO ATINGIU"]
[280140,"ITABAIANA","CARIRA",21487,91,118,104,91,97,131,111,134,132,107,100,120,107,107,114,144,118,150,143,142,91,98.333333333333329,97.196261682242991,85.046728971962608,85.087719298245617,90.972222222222214,94.067796610169495,89.333333333333329,92.307692307692307,0.75352112676056338,{"$f":"METAS!F14","v":0.95},"NÃO ATINGIU"]
[280150,"SOCORRO","CARMÓPOLIS",15621,55,62,65,76,66,64,92,79,83,82,59,65,70,78,66,70,94,80,88,87,93.220338983050837,95.384615384615387,92.857142857142861,97.435897435897431,100,91.428571428571431,97.872340425531917,98.75,94.318181818181827,0.94252873563218387,{"$f":"METAS!F15","v":0.95},"NÃO ATINGIU"]
[280160,"PROPRIA","CEDRO DE SÃO JOÃO",5890,39,40,34,40,35,35,40,62,52,46,40,41,39,54,36,37,43,66,55,50,97.5,97.560975609756099,87.179487179487182,74.074074074074076,97.222222222222214,94.594594594594597,93.023255813953483,93.939393939393938,94.545454545454547,0.92,{"$f":"METAS!F16","v":0.95},"NÃO ATINGIU"]
[280170,"ESTANCIA","CRISTINÁPOLIS",17911,60,72,73,69,85,70,89,79,104,90,73,74,77,72,92,82,90,101,118,105,82.191780821917803,97.297297297297305,94.805194805194802,95.833333333333343,92.391304347826093,85.365853658536579,98.888888888888886,78.21782178217822,88.135593220338976,0.8571428571428571,{"$f":"METAS!F17","v":0.95},"NÃO ATINGIU"]
[280190,"SOCORRO","CUMBE",3986,18,16,15,20,21,24,19,19,22,19,20,22,15,26,25,24,20,20,28,20,90,72.727272727272734,100,76.923076923076934,84,100,95,95,78.571428571428569,0.95,{"$f":"METAS!F18","v":0.95},"ATINGIU"]
[280200,"ARACAJU","DIVINA PASTORA",4889,18,19,24,11,26,28,31,27,19,20,18,19,24,11,26,28,31,28,19,21,100,100,100,100,100,100,100,96.428571428571431,100,0.95238095238095233,{"$f":"METAS!F19","v":0.95},"ATINGIU"]
[280210,"ESTANCIA","ESTÂNCIA",68407,357,374,372,399,361,402,372,421,440,383,363,377,381,406,369,408,375,430,450,399,98.347107438016536,99.204244031830228,97.637795275590548,98.275862068965509,97.831978319783204,98.529411764705884,99.2,97.906976744186053,97.777777777777771,0.95989974937343359,{"$f":"METAS!F20","v":0.95},"ATINGIU"]
[280220,"GLORIA","FEIRA NOVA",5571,25,27,27,35,27,36,36,38,30,42,26,27,28,39,31,37,37,42,37,48,96.15384615384616,100,96.428571428571431,89.743589743589752,87.096774193548384,97.297297297297305,97.297297297297305,90.476190476190482,81.081081081081081,0.875,{"$f":"METAS!F21","v":0.95},"NÃO ATINGIU"]
[280230,"ITABAIANA","FREI PAULO",15044,64,52,78,63,80,74,77,92,100,100,68,54,80,70,85,78,83,95,108,105,94.117647058823522,96.296296296296291,97.5,90,94.117647058823522,94.871794871794862,92.771084337349393,96.84210526315789,92.592592592592595,0.95238095238095233,{"$f":"METAS!F22","v":0.95},"ATINGIU"]
[280240,"GLORIA","GARARU",11724,38,55,51,50,47,45,42,43,46,55,44,55,55,56,52,49,47,49,55,63,86.36363636363636,100,92.72727272727272,89.285714285714292,90.384615384615387,91.83673469387756,89.361702127659569,87.755102040816325,83.636363636363626,0.87301587301587302,{"$f":"METAS!F23","v":0.95},"NÃO ATINGIU"]
[280250,"SOCORRO","GENERAL MAYNARD",3230,13,17,10,11,19,21,15,15,12,15,14,18,10,13,19,21,15,15,16,15,92.857142857142861,94.444444444444443,100,84.615384615384613,100,100,100,100,75,1,{"$f":"METAS!F24","v":0.95},"ATINGIU"]
[280260,"GLORIA","GRACHO CARDOSO",5846,18,30,24,28,30,30,33,19,35,36,20,30,25,29,34,32,35,29,42,42,90,100,96,96.551724137931032,88.235294117647058,93.75,94.285714285714278,65.517241379310349,83.333333333333343,0.8571428571428571,{"$f":"METAS!F25","v":0.93},"NÃO ATINGIU"]
[280270,"PROPRIA","ILHA DAS FLORES",8597,36,26,49,50,56,52,47,44,47,54,41,31,55,50,60,56,51,45,48,57,87.804878048780495,83.870967741935488,89.090909090909093,100,93.333333333333329,92.857142857142861,92.156862745098039,97.777777777777771,97.916666666666657,0.94736842105263153,{"$f":"METAS!F26","v":0.95},"NÃO ATINGIU"]
[280280,"ESTANCIA","INDIAROBA",17384,69,88,65,63,78,81,74,88,72,68,73,94,72,67,80,82,75,90,82,73,94.520547945205479,93.61702127659575,90.277777777777786,94.029850746268664,97.5,{"$f":"J27/T27*100","v":98.780487804878049},98.666666666666671,97.777777777777771,87.804878048780495,0.93150684931506844,{"$f":"METAS!F27","v":0.95},"NÃO ATINGIU"]
[280290,"ITABAIANA","ITABAIANA",93573,444,459,458,489,506,533,493,640,595,525,479,471,465,517,522,556,520,662,656,596,{"$f":"E28/O28*100","v":92.693110647181626},97.452229299363054,98.494623655913983,94.584139264990327,96.934865900383144,95.863309352517987,94.807692307692307,96.676737160120851,90.701219512195124,0.88087248322147649,{"$f":"METAS!F28","v":0.95},"NÃO ATINGIU"]
[280300,"ESTANCIA","ITABAIANINHA",41405,175,174,183,184,185,201,213,236,197,198,181,187,195,196,197,210,223,243,219,214,96.685082872928177,93.048128342245988,93.84615384615384,93.877551020408163,93.90862944162437,95.714285714285722,95.515695067264573,97.119341563786008,89.954337899543376,0.92523364485981308,{"$f":"METAS!F29","v":0.93},"NÃO ATINGIU"]
[280310,"GLORIA","ITABI",5017,18,19,22,26,26,29,25,21,17,29,20,24,31,30,33,32,34,39,42,35,90,79.166666666666657,70.967741935483872,86.666666666666671,78.787878787878782,90.625,73.529411764705884,53.846153846153847,40.476190476190474,0.82857142857142863,{"$f":"METAS!F30","v":0.95},"NÃO ATINGIU"]
[280320,"ARACAJU","ITAPORANGA D'AJUDA",33320,127,135,156,147,152,146,184,194,186,181,132,140,164,160,165,154,190,203,197,197,96.212121212121218,96.428571428571431,95.121951219512198,91.875,92.121212121212125,94.805194805194802,96.84210526315789,95.566502463054192,94.416243654822338,0.91878172588832485,{"$f":"METAS!F31","v":0.95},"NÃO ATINGIU"]
[280330,"SOCORRO","JAPARATUBA",18286,77,91,91,96,107,87,86,108,96,84,79,96,95,104,128,90,89,110,99,100,97.468354430379748,94.791666666666657,95.78947368421052,92.307692307692307,83.59375,96.666666666666671,96.629213483146074,98.181818181818187,96.969696969696969,0.84,{"$f":"METAS!F32","v":0.95},"NÃO ATINGIU"]
[280340,"PROPRIA","JAPOATÃ",13245,53,80,65,76,68,83,53,75,83,66,54,86,73,81,73,90,72,88,99,83,98.148148148148152,93.023255813953483,89.041095890410958,93.827160493827151,93.150684931506845,92.222222222222229,73.611111111111114,85.227272727272734,83.838383838383834,0.79518072289156627,{"$f":"METAS!F33","v":0.95},"NÃO ATINGIU"]
[280350,"LAGARTO","LAGARTO",102259,462,470,521,549,515,525,557,599,599,590,479,493,543,577,540,563,611,643,633,612,96.450939457202495,95.334685598377277,95.948434622467772,95.14731369150779,95.370370370370367,93.250444049733574,91.162029459901802,93.157076205287709,94.628751974723542,0.96405228758169936,{"$f":"METAS!F34","v":0.95},"ATINGIU"]
[280360,"ARACAJU","LARANJEIRAS",29127,112,106,116,136,132,129,152,169,180,130,117,113,119,141,137,130,157,172,185,134,95.726495726495727,93.805309734513273,97.47899159663865,96.453900709219852,96.350364963503651,99.230769230769226,96.815286624203821,98.255813953488371,97.297297297297305,0.97014925373134331,{"$f":"METAS!F35","v":0.95},"ATINGIU"]
[280370,"ITABAIANA","MACAMBIRA",6823,38,48,36,44,49,42,42,43,36,37,38,50,37,46,50,46,46,46,40,43,100,96,97.297297297297305,95.652173913043484,98,91.304347826086953,91.304347826086953,93.478260869565219,90,0.86046511627906974,{"$f":"METAS!F36","v":0.9},"NÃO ATINGIU"]
[280380,"PROPRIA","MALHADA DOS BOIS",3652,9,14,12,23,20,23,25,19,25,23,13,22,16,25,21,24,26,21,26,29,69.230769230769226,63.636363636363633,75,92,95.238095238095227,95.833333333333343,96.15384615384616,90.476190476190482,96.15384615384616,0.7931034482758621,{"$f":"METAS!F37","v":0.95},"NÃO ATINGIU"]
[280390,"ITABAIANA","MALHADOR",12601,59,72,68,58,63,58,84,82,83,75,61,75,69,61,65,62,86,84,85,83,96.721311475409834,96,98.550724637681171,95.081967213114751,96.92307692307692,93.548387096774192,97.674418604651152,97.61904761904762,97.647058823529406,0.90361445783132532,{"$f":"METAS!F38","v":0.95},"NÃO ATINGIU"]
[280400,"SOCORRO","MARUIM",17151,80,92,78,91,86,103,85,125,78,108,93,104,80,101,93,107,88,129,85,115,86.021505376344081,88.461538461538453,97.5,90.099009900990097,92.473118279569889,96.261682242990659,96.590909090909093,96.899224806201545,91.764705882352942,0.93913043478260871,{"$f":"METAS!F39","v":0.95},"NÃO ATINGIU"]
[280410,"ITABAIANA","MOITA BONITA",11399,48,70,60,76,64,72,65,72,78,78,50,73,62,80,74,74,70,75,86,82,96,95.890410958904098,96.774193548387103,95,86.486486486486484,97.297297297297305,92.857142857142861,96,90.697674418604649,0.95121951219512191,{"$f":"METAS!F40","v":0.83},"ATINGIU"]
[280420,"GLORIA","MONTE ALEGRE DE SERGIPE",14853,49,49,48,59,49,53,58,69,67,68,56,61,57,68,57,58,59,74,69,72,87.5,80.327868852459019,84.210526315789465,86.764705882352942,85.964912280701753,91.379310344827587,98.305084745762713,93.243243243243242,97.101449275362313,0.94444444444444442,{"$f":"METAS!F41","v":0.95},"NÃO ATINGIU"]
[280430,"PROPRIA","MURIBECA",7644,36,45,49,41,46,55,39,47,44,28,36,45,55,42,52,58,46,52,48,42,100,100,89.090909090909093,97.61904761904762,88.461538461538453,94.827586206896555,84.782608695652172,90.384615384615387,91.666666666666657,0.66666666666666663,{"$f":"METAS!F42","v":0.95},"NÃO ATINGIU"]
[280440,"PROPRIA","NEÓPOLIS",18958,105,108,104,118,117,127,98,123,117,113,107,112,106,126,129,131,105,128,127,132,98.130841121495322,96.428571428571431,98.113207547169807,93.650793650793645,90.697674418604649,96.946564885496173,93.333333333333329,96.09375,92.125984251968504,0.85606060606060608,{"$f":"METAS!F43","v":0.95},"NÃO ATINGIU"]
[280445,"ITABAIANA","NOSSA SENHORA APARECIDA",8830,38,31,35,34,36,61,44,45,45,37,42,33,36,44,43,64,48,52,52,46,90.476190476190482,93.939393939393938,97.222222222222214,77.272727272727266,83.720930232558146,95.3125,91.666666666666657,86.538461538461547,86.538461538461547,0.80434782608695654,{"$f":"METAS!F44","v":0.95},"NÃO ATINGIU"]
[280450,"GLORIA","NOSSA SENHORA DA GLÓRIA",35723,114,119,121,142,130,142,152,160,178,157,136,135,129,151,144,147,160,172,190,170,83.82352941176471,88.148148148148152,93.798449612403104,94.039735099337747,90.277777777777786,96.598639455782305,95,93.023255813953483,93.684210526315795,0.92352941176470593,{"$f":"METAS!F45","v":0.95},"NÃO ATINGIU"]
[280460,"SOCORRO","NOSSA SENHORA DAS DORES",26237,132,121,137,143,140,171,168,168,152,131,137,133,143,150,148,182,184,182,159,143,96.350364963503651,90.977443609022558,95.8041958041958,95.333333333333343,94.594594594594597,93.956043956043956,91.304347826086953,92.307692307692307,95.59748427672956,0.91608391608391604,{"$f":"METAS!F46","v":0.95},"NÃO ATINGIU"]
[280470,"PROPRIA","NOSSA SENHORA DE LOURDES",6494,31,25,29,27,23,23,33,22,22,34,33,27,30,32,31,30,46,36,26,42,93.939393939393938,92.592592592592595,96.666666666666671,84.375,74.193548387096769,76.666666666666671,71.739130434782609,61.111111111111114,84.615384615384613,0.80952380952380953,{"$f":"METAS!F47","v":0.91},"NÃO ATINGIU"]
[280480,"SOCORRO","NOSSA SENHORA DO SOCORRO",177340,627,599,640,676,776,755,827,896,871,921,649,647,663,708,817,782,853,936,904,962,96.610169491525426,92.581143740340039,96.530920060331823,95.480225988700568,94.981640146878817,96.547314578005114,96.951934349355213,95.726495726495727,96.349557522123902,0.95738045738045741,{"$f":"METAS!F48","v":0.94},"ATINGIU"]
[280490,"PROPRIA","PACATUBA",14164,62,55,53,79,69,71,65,64,60,75,67,58,58,81,73,78,65,67,63,81,92.537313432835816,94.827586206896555,91.379310344827587,97.53086419753086,94.520547945205479,91.025641025641022,100,95.522388059701484,95.238095238095227,0.92592592592592593,{"$f":"METAS!F49","v":0.95},"NÃO ATINGIU"]
[280500,"ITABAIANA","PEDRA MOLE",3199,14,13,16,11,16,17,21,18,17,11,14,13,16,11,17,17,21,20,24,14,100,100,100,100,94.117647058823522,100,100,90,70.833333333333343,0.7857142857142857,{"$f":"METAS!F50","v":1},"NÃO ATINGIU"]
[280510,"ESTANCIA","PEDRINHAS",9455,49,50,40,47,46,50,56,40,60,49,52,54,47,49,47,53,62,68,65,55,94.230769230769226,92.592592592592595,85.106382978723403,95.918367346938766,97.872340425531917,94.339622641509436,90.322580645161281,58.82352941176471,92.307692307692307,0.89090909090909087,{"$f":"METAS!F51","v":0.95},"NÃO ATINGIU"]
[280520,"ITABAIANA","PINHÃO",6439,25,40,38,22,42,33,44,32,47,20,29,43,41,25,43,34,45,38,55,25,86.206896551724128,93.023255813953483,92.682926829268297,88,97.674418604651152,97.058823529411768,97.777777777777771,84.210526315789465,85.454545454545453,0.8,{"$f":"METAS!F52","v":0.9},"NÃO ATINGIU"]
[280530,"SOCORRO","PIRAMBU",9058,27,35,48,46,38,33,33,40,42,48,30,36,49,46,38,35,38,47,52,54,90,97.222222222222214,97.959183673469383,100,100,94.285714285714278,86.842105263157904,85.106382978723403,80.769230769230774,0.88888888888888884,{"$f":"METAS!F53","v":0.95},"NÃO ATINGIU"]
[280540,"GLORIA","POÇO REDONDO",33756,105,121,108,108,115,90,112,156,117,135,119,123,116,132,148,116,129,159,130,160,88.235294117647058,98.373983739837399,93.103448275862064,81.818181818181827,77.702702702702695,77.58620689655173,86.821705426356587,98.113207547169807,90,0.84375,{"$f":"METAS!F54","v":0.95},"NÃO ATINGIU"]
[280550,"LAGARTO","POÇO VERDE",23413,107,127,110,125,140,125,106,98,112,108,128,136,119,139,157,156,154,163,172,163,83.59375,93.382352941176478,92.436974789915965,89.928057553956833,89.171974522292999,80.128205128205138,68.831168831168839,60.122699386503065,65.116279069767444,0.66257668711656437,{"$f":"METAS!F55","v":0.95},"NÃO ATINGIU"]
[280560,"GLORIA","PORTO DA FOLHA",28497,88,83,117,101,116,105,137,131,110,117,109,108,134,127,137,112,149,152,118,135,80.733944954128447,76.851851851851848,87.31343283582089,79.527559055118118,84.671532846715323,93.75,91.946308724832221,86.18421052631578,93.220338983050837,0.8666666666666667,{"$f":"METAS!F56","v":0.95},"NÃO ATINGIU"]
[280570,"PROPRIA","PROPRIÁ",29657,203,206,191,172,184,201,183,171,208,176,206,214,195,184,204,219,206,200,228,204,98.543689320388353,96.261682242990659,97.948717948717942,93.478260869565219,90.196078431372555,91.780821917808225,88.834951456310691,85.5,91.228070175438589,0.86274509803921573,{"$f":"METAS!F57","v":0.95},"NÃO ATINGIU"]
[280580,"LAGARTO","RIACHÃO DO DANTAS",19976,98,102,112,101,114,113,115,108,108,91,103,114,120,106,121,124,131,117,119,108,95.145631067961162,89.473684210526315,93.333333333333329,95.283018867924525,94.214876033057848,91.129032258064512,87.786259541984734,92.307692307692307,90.756302521008408,0.84259259259259256,{"$f":"METAS!F58","v":0.95},"NÃO ATINGIU"]
[280590,"ARACAJU","RIACHUELO",10033,50,45,43,52,55,46,56,54,59,58,52,46,48,55,61,49,61,58,65,63,96.15384615384616,97.826086956521735,89.583333333333343,94.545454545454547,90.163934426229503,93.877551020408163,91.803278688524586,93.103448275862064,90.769230769230774,0.92063492063492058,{"$f":"METAS!F59","v":0.95},"NÃO ATINGIU"]
[280600,"ITABAIANA","RIBEIRÓPOLIS",18363,93,96,77,96,91,86,126,119,123,120,99,102,81,105,111,96,136,126,131,149,{"$f":"E60/O60*100","v":93.939393939393938},94.117647058823522,95.061728395061735,91.428571428571431,81.981981981981974,89.583333333333343,92.64705882352942,94.444444444444443,93.893129770992374,0.80536912751677847,{"$f":"METAS!F60","v":0.95},"NÃO ATINGIU"]
[280610,"SOCORRO","ROSÁRIO DO CATETE",10367,32,41,39,48,45,47,37,53,51,45,35,42,41,50,47,51,38,54,55,49,91.428571428571431,97.61904761904762,95.121951219512198,96,95.744680851063833,92.156862745098039,97.368421052631575,98.148148148148152,92.72727272727272,0.91836734693877553,{"$f":"METAS!F61","v":0.95},"NÃO ATINGIU"]
[280620,"LAGARTO","SALGADO",20082,76,72,88,89,75,75,73,101,117,98,84,87,96,103,85,93,85,109,125,104,90.476190476190482,82.758620689655174,91.666666666666657,86.40776699029125,88.235294117647058,80.645161290322577,85.882352941176464,92.660550458715591,93.600000000000009,0.94230769230769229,{"$f":"METAS!F62","v":0.95},"NÃO ATINGIU"]
[280630,"ESTANCIA","SANTA LUZIA DO ITANHY",13838,53,55,59,50,52,61,51,74,58,64,55,60,62,63,57,69,54,81,66,71,96.36363636363636,91.666666666666657,95.161290322580655,79.365079365079367,91.228070175438589,88.405797101449281,94.444444444444443,91.358024691358025,87.878787878787875,0.90140845070422537,{"$f":"METAS!F63","v":0.95},"NÃO ATINGIU"]
[280650,"PROPRIA","SANTA ROSA DE LIMA",7607,33,28,39,40,37,21,40,40,30,31,33,28,40,43,42,22,42,46,41,35,100,100,97.5,93.023255813953483,88.095238095238088,95.454545454545453,95.238095238095227,86.956521739130437,73.170731707317074,0.88571428571428568,{"$f":"METAS!F64","v":0.95},"NÃO ATINGIU"]
[280640,"ARACAJU","SANTANA DO SÃO FRANCISCO",3912,29,21,21,22,21,19,21,14,26,18,29,22,22,25,23,24,24,19,35,22,100,95.454545454545453,95.454545454545453,88,91.304347826086953,79.166666666666657,87.5,73.68421052631578,74.285714285714292,0.81818181818181823,{"$f":"METAS!F65","v":0.95},"NÃO ATINGIU"]
[280660,"SOCORRO","SANTO AMARO DAS BROTAS",12024,66,46,69,71,67,81,46,74,77,48,70,49,71,71,72,87,47,76,81,56,94.285714285714278,93.877551020408163,97.183098591549296,100,93.055555555555557,93.103448275862064,97.872340425531917,97.368421052631575,95.061728395061735,0.8571428571428571,{"$f":"METAS!F66","v":0.95},"NÃO ATINGIU"]
[280670,"ARACAJU","SÃO CRISTÓVÃO",86979,310,344,364,386,354,402,436,433,468,494,367,400,406,444,415,458,486,474,514,540,84.46866485013625,86,89.65517241379311,86.936936936936931,85.301204819277103,87.772925764192138,89.711934156378604,91.350210970464133,91.050583657587552,{"$f":"N67/X67","v":0.91481481481481486},{"$f":"METAS!F67","v":0.95},"NÃO ATINGIU"]
[280680,"ITABAIANA","SÃO DOMINGOS",10971,45,61,49,54,51,58,55,62,85,57,48,61,50,56,53,62,58,66,91,62,93.75,100,98,96.428571428571431,96.226415094339629,93.548387096774192,94.827586206896555,93.939393939393938,93.406593406593402,0.91935483870967738,{"$f":"METAS!F68","v":0.95},"NÃO ATINGIU"]
[280690,"PROPRIA","SÃO FRANCISCO",3851,20,14,22,12,13,14,18,32,31,16,20,15,23,13,13,15,19,33,31,21,100,93.333333333333329,95.652173913043484,92.307692307692307,100,93.333333333333329,94.73684210526315,96.969696969696969,100,0.76190476190476186,{"$f":"METAS!F69","v":0.95},"NÃO ATINGIU"]
[280700,"ITABAIANA","SÃO MIGUEL DO ALEIXO",3902,18,20,14,16,17,17,22,23,15,17,20,21,14,18,22,21,24,26,23,21,90,95.238095238095227,100,88.888888888888886,77.272727272727266,80.952380952380949,91.666666666666657,88.461538461538453,65.217391304347828,0.80952380952380953,{"$f":"METAS!F70","v":0.95},{"$f":"IF(AH70>=AI70,\"ATINGIU\",\"NÃO ATINGIU\")","v":"NÃO ATINGIU"}]
[280710,"LAGARTO","SIMÃO DIAS",40530,223,185,247,245,261,250,266,289,301,253,263,217,271,265,281,270,287,310,321,292,84.790874524714837,85.253456221198149,91.14391143911439,92.452830188679243,92.882562277580078,92.592592592592595,92.682926829268297,93.225806451612897,93.769470404984418,0.86643835616438358,{"$f":"METAS!F71","v":0.95},"NÃO ATINGIU"]
[280720,"SOCORRO","SIRIRI",8675,22,28,44,37,39,39,35,49,38,40,25,29,44,41,42,40,39,51,40,43,88,96.551724137931032,100,90.243902439024396,92.857142857142861,97.5,89.743589743589752,96.078431372549019,95,0.93023255813953487,{"$f":"METAS!F72","v":0.93},"ATINGIU"]
[280730,"PROPRIA","TELHA",3171,12,15,12,19,18,13,15,14,12,16,12,15,14,22,18,17,16,15,13,20,100,100,85.714285714285708,86.36363636363636,100,76.470588235294116,93.75,93.333333333333329,92.307692307692307,0.8,{"$f":"METAS!F73","v":0.95},"NÃO ATINGIU"]
[280740,"LAGARTO","TOBIAS BARRETO",51374,274,260,298,263,291,310,292,305,285,281,281,272,318,285,328,341,326,367,327,319,97.508896797153028,95.588235294117652,93.710691823899367,92.280701754385959,88.719512195121951,90.909090909090907,89.570552147239269,83.106267029972742,87.155963302752298,0.88087774294670851,{"$f":"METAS!F74","v":0.95},"NÃO ATINGIU"]
[280750,"ESTANCIA","TOMAR DO GERU",13200,83,70,62,73,69,84,71,81,70,62,85,72,63,74,73,87,76,84,75,74,97.647058823529406,97.222222222222214,98.412698412698404,98.648648648648646,94.520547945205479,96.551724137931032,93.421052631578945,96.428571428571431,93.333333333333329,0.83783783783783783,{"$f":"METAS!F75","v":0.95},"NÃO ATINGIU"]
[280760,"ESTANCIA","UMBAÚBA",24542,109,102,138,122,132,134,127,147,134,122,111,106,143,130,133,136,139,158,149,142,98.198198198198199,96.226415094339629,96.503496503496507,93.84615384615384,99.248120300751879,98.529411764705884,91.366906474820141,93.037974683544306,89.932885906040269,0.85915492957746475,{"$f":"METAS!F76","v":0.95},"NÃO ATINGIU"]
[280000,"SERGIPE","SERGIPE",2242948,9596,10088,10384,10716,11088,11466,11486,12555,12561,11873,10251,10748,10949,11407,11851,12158,12243,13459,13510,12990,93.610379475173161,93.859322664681798,94.83971138916796,93.942316121679667,93.561724748966341,94.308274387234746,93.816874948950428,93.283304851772058,92.975573649148785,0.9140107775211701,{"$f":"METAS!F77","v":0.95},"NÃO ATINGIU"]
[]
[1,2,3,4,7,8,9,10,11,12,13,14,15,16,19,20,21,22,23,24,25,26,27,28,31,32,33,34,35,36,37,38,39,40,42,44]
[]
["[Opções]",null,null,null,null,null,"Base de dados 10/01/2018"]
["DEF=E:\\SUS\\Tabwin_SIM_E_SINASC\\tabdo\\OBITOWEB 2.def"]
["PATH=E:\\SUS\\Tabwin_SIM_E_SINASC\\tabdo\\DADOS\\DO*.DB?"]
["Linha=Munic Resid - SE"]
["Coluna=Ano do Obito"]
["Incremento=Freqüência"]
["Suprime_Linhas_Zeradas=false"]
["Suprime_Colunas_Zeradas=true"]
["Não_Classificados=0"]
["[Seleções_Ativas]"]
["Ano do Obito: 2017"]
["Tipo Obito: Não Fetal"]
["Causas Básicas: I.   Algumas doenças infecciosas e parasitárias"]
["    II.  Neoplasias (tumores)|III. Doenças sangue órgãos hemat e transt imunitár"]
["    IV.  Doenças endócrinas nutricionais e metabólicas"]
["    V.   Transtornos mentais e comportamentais|VI.  Doenças do sistema nervoso"]
["    VII. Doenças do olho e anexos|VIII.Doenças do ouvido e da apófise mastóide"]
["    IX.  Doenças do aparelho circulatório|X.   Doenças do aparelho respiratório"]
["    XI.  Doenças do aparelho digestivo"]
["    XII. Doenças da pele e do tecido subcutâneo"]
["    XIII.Doenças sist osteomuscular e tec conjuntivo"]
["    XIV. Doenças do aparelho geniturinário|XV.  Gravidez parto e puerpério"]
["    XVI. Algumas afec originadas no período perinatal"]
["    XVII.Malf cong deformid e anomalias cromossômicas"]
["    XIX. Lesões enven e alg out conseq causas externas"]
["    XX.  Causas externas de morbidade e mortalidade"]
["    XXI. Contatos com serviços de saúde"]
["[Arquivos]"]
["DO10012018.DBC"]
["Registros_Processados= 151251"]
["Tempo_Decorrido= 0:03"]

{"sheet":"OBITOS_CAUSAS_REG","index":96,"n_rows":11,"n_cols":35,"rows_kept":11,"cut":false,"hidden":true,"merged":[]}
["CÓD","REGIÃO","POP 2015","OBITOS CAUSAS BAS 2008","OBITOS CAUSAS BAS 2009","OBITOS CAUSAS BAS 2010","OBITOS CAUSAS BAS 2011","OBITOS CAUSAS BAS 2012","OBITOS CAUSAS BAS 2013","OBITOS CAUSAS BAS 2014","OBITOS CAUSAS BAS 2015","OBITOS CAUSAS BAS 2016","OBITOS CAUSAS BAS 2017","TOTAL OBITOS CAUSAS BAS 2008","TOTAL OBITOS CAUSAS BAS 2009","TOTAL OBITOS CAUSAS BAS 2010","TOTAL OBITOS CAUSAS BAS 2011","TOTAL OBITOS CAUSAS BAS 2012","TOTAL OBITOS CAUSAS BAS 2013","TOTAL OBITOS CAUSAS BAS 2014","TOTAL OBITOS CAUSAS BAS 2015","TOTAL OBITOS CAUSAS BAS 2016","TOTAL OBITOS CAUSAS BAS 2017","%OBITOS CAUSAS BAS 2008","%OBITOS CAUSAS BAS 2009","%OBITOS CAUSAS BAS 2010","%OBITOS CAUSAS BAS 2011","%OBITOS CAUSAS BAS 2012","%OBITOS CAUSAS BAS 2013","%OBITOS CAUSAS BAS 2014","%OBITOS CAUSAS BAS 2015","%OBITOS CAUSAS BAS 2016","%OBITOS CAUSAS BAS 2017","META PACTUADA 2017","SITUAÇÃO 2017"]
[1,"ARACAJU",{"$f":"SUMIF(OBITOS_CAUSAS!$B$2:$B$76,\"ARACAJU\",OBITOS_CAUSAS!D$2:D$76)","v":829684},{"$f":"SUMIF(OBITOS_CAUSAS!$B$2:$B$76,\"ARACAJU\",OBITOS_CAUSAS!E$2:E$76)","v":3360},{"$f":"SUMIF(OBITOS_CAUSAS!$B$2:$B$76,\"ARACAJU\",OBITOS_CAUSAS!F$2:F$76)","v":3601},{"$f":"SUMIF(OBITOS_CAUSAS!$B$2:$B$76,\"ARACAJU\",OBITOS_CAUSAS!G$2:G$76)","v":3709},{"$f":"SUMIF(OBITOS_CAUSAS!$B$2:$B$76,\"ARACAJU\",OBITOS_CAUSAS!H$2:H$76)","v":3816},{"$f":"SUMIF(OBITOS_CAUSAS!$B$2:$B$76,\"ARACAJU\",OBITOS_CAUSAS!I$2:I$76)","v":4024},{"$f":"SUMIF(OBITOS_CAUSAS!$B$2:$B$76,\"ARACAJU\",OBITOS_CAUSAS!J$2:J$76)","v":4124},{"$f":"SUMIF(OBITOS_CAUSAS!$B$2:$B$76,\"ARACAJU\",OBITOS_CAUSAS!K$2:K$76)","v":4260},{"$f":"SUMIF(OBITOS_CAUSAS!$B$2:$B$76,\"ARACAJU\",OBITOS_CAUSAS!L$2:L$76)","v":4524},{"$f":"SUMIF(OBITOS_CAUSAS!$B$2:$B$76,\"ARACAJU\",OBITOS_CAUSAS!M$2:M$76)","v":4695},{"$f":"SUMIF(OBITOS_CAUSAS!$B$2:$B$76,\"ARACAJU\",OBITOS_CAUSAS!N$2:N$76)","v":4427},{"$f":"SUMIF(OBITOS_CAUSAS!$B$2:$B$76,\"ARACAJU\",OBITOS_CAUSAS!O$2:O$76)","v":3611},{"$f":"SUMIF(OBITOS_CAUSAS!$B$2:$B$76,\"ARACAJU\",OBITOS_CAUSAS!P$2:P$76)","v":3832},{"$f":"SUMIF(OBITOS_CAUSAS!$B$2:$B$76,\"ARACAJU\",OBITOS_CAUSAS!Q$2:Q$76)","v":3903},{"$f":"SUMIF(OBITOS_CAUSAS!$B$2:$B$76,\"ARACAJU\",OBITOS_CAUSAS!R$2:R$76)","v":4008},{"$f":"SUMIF(OBITOS_CAUSAS!$B$2:$B$76,\"ARACAJU\",OBITOS_CAUSAS!S$2:S$76)","v":4214},{"$f":"SUMIF(OBITOS_CAUSAS!$B$2:$B$76,\"ARACAJU\",OBITOS_CAUSAS!T$2:T$76)","v":4312},{"$f":"SUMIF(OBITOS_CAUSAS!$B$2:$B$76,\"ARACAJU\",OBITOS_CAUSAS!U$2:U$76)","v":4430},{"$f":"SUMIF(OBITOS_CAUSAS!$B$2:$B$76,\"ARACAJU\",OBITOS_CAUSAS!V$2:V$76)","v":4709},{"$f":"SUMIF(OBITOS_CAUSAS!$B$2:$B$76,\"ARACAJU\",OBITOS_CAUSAS!W$2:W$76)","v":4904},{"$f":"SUMIF(OBITOS_CAUSAS!$B$2:$B$76,\"ARACAJU\",OBITOS_CAUSAS!X$2:X$76)","v":4666},{"$f":"D2/N2*100","v":93.049016892827467},93.971816283924852,95.029464514476047,95.209580838323348,95.49121974371144,95.640074211502778,96.162528216704288,96.07135272881716,95.738172920065253,{"$f":"M2/W2","v":0.9487783969138448},{"$f":"METAS!F81","v":0.95},{"$f":"IF(AG2>=AH2,\"ATINGIU\",\"NÃO ATINGIU\")","v":"NÃO ATINGIU"}]
[2,"ESTANCIA",{"$f":"SUMIF(OBITOS_CAUSAS!$B$2:$B$76,\"ESTANCIA\",OBITOS_CAUSAS!D$2:D$76)","v":243464},{"$f":"SUMIF(OBITOS_CAUSAS!$B$2:$B$76,\"ESTANCIA\",OBITOS_CAUSAS!E$2:E$76)","v":1141},{"$f":"SUMIF(OBITOS_CAUSAS!$B$2:$B$76,\"ESTANCIA\",OBITOS_CAUSAS!F$2:F$76)","v":1205},{"$f":"SUMIF(OBITOS_CAUSAS!$B$2:$B$76,\"ESTANCIA\",OBITOS_CAUSAS!G$2:G$76)","v":1174},{"$f":"SUMIF(OBITOS_CAUSAS!$B$2:$B$76,\"ESTANCIA\",OBITOS_CAUSAS!H$2:H$76)","v":1223},{"$f":"SUMIF(OBITOS_CAUSAS!$B$2:$B$76,\"ESTANCIA\",OBITOS_CAUSAS!I$2:I$76)","v":1196},{"$f":"SUMIF(OBITOS_CAUSAS!$B$2:$B$76,\"ESTANCIA\",OBITOS_CAUSAS!J$2:J$76)","v":1297},{"$f":"SUMIF(OBITOS_CAUSAS!$B$2:$B$76,\"ESTANCIA\",OBITOS_CAUSAS!K$2:K$76)","v":1263},{"$f":"SUMIF(OBITOS_CAUSAS!$B$2:$B$76,\"ESTANCIA\",OBITOS_CAUSAS!L$2:L$76)","v":1403},{"$f":"SUMIF(OBITOS_CAUSAS!$B$2:$B$76,\"ESTANCIA\",OBITOS_CAUSAS!M$2:M$76)","v":1367},{"$f":"SUMIF(OBITOS_CAUSAS!$B$2:$B$76,\"ESTANCIA\",OBITOS_CAUSAS!N$2:N$76)","v":1252},{"$f":"SUMIF(OBITOS_CAUSAS!$B$2:$B$76,\"ESTANCIA\",OBITOS_CAUSAS!O$2:O$76)","v":1180},{"$f":"SUMIF(OBITOS_CAUSAS!$B$2:$B$76,\"ESTANCIA\",OBITOS_CAUSAS!P$2:P$76)","v":1250},{"$f":"SUMIF(OBITOS_CAUSAS!$B$2:$B$76,\"ESTANCIA\",OBITOS_CAUSAS!Q$2:Q$76)","v":1227},{"$f":"SUMIF(OBITOS_CAUSAS!$B$2:$B$76,\"ESTANCIA\",OBITOS_CAUSAS!R$2:R$76)","v":1283},{"$f":"SUMIF(OBITOS_CAUSAS!$B$2:$B$76,\"ESTANCIA\",OBITOS_CAUSAS!S$2:S$76)","v":1242},{"$f":"SUMIF(OBITOS_CAUSAS!$B$2:$B$76,\"ESTANCIA\",OBITOS_CAUSAS!T$2:T$76)","v":1347},{"$f":"SUMIF(OBITOS_CAUSAS!$B$2:$B$76,\"ESTANCIA\",OBITOS_CAUSAS!U$2:U$76)","v":1309},{"$f":"SUMIF(OBITOS_CAUSAS!$B$2:$B$76,\"ESTANCIA\",OBITOS_CAUSAS!V$2:V$76)","v":1496},{"$f":"SUMIF(OBITOS_CAUSAS!$B$2:$B$76,\"ESTANCIA\",OBITOS_CAUSAS!W$2:W$76)","v":1462},{"$f":"SUMIF(OBITOS_CAUSAS!$B$2:$B$76,\"ESTANCIA\",OBITOS_CAUSAS!X$2:X$76)","v":1362},96.694915254237287,96.399999999999991,95.680521597392016,95.323460639127049,96.296296296296291,96.288047512991838,96.485867074102373,93.783422459893046,93.502051983584138,{"$f":"M3/W3","v":0.9192364170337739},{"$f":"METAS!F82","v":0.95},{"$f":"IF(AG3>=AH3,\"ATINGIU\",\"NÃO ATINGIU\")","v":"NÃO ATINGIU"}]
[3,"GLORIA",{"$f":"SUMIF(OBITOS_CAUSAS!$B$2:$B$76,\"GLORIA\",OBITOS_CAUSAS!D$2:D$76)","v":169266},{"$f":"SUMIF(OBITOS_CAUSAS!$B$2:$B$76,\"GLORIA\",OBITOS_CAUSAS!E$2:E$76)","v":556},{"$f":"SUMIF(OBITOS_CAUSAS!$B$2:$B$76,\"GLORIA\",OBITOS_CAUSAS!F$2:F$76)","v":607},{"$f":"SUMIF(OBITOS_CAUSAS!$B$2:$B$76,\"GLORIA\",OBITOS_CAUSAS!G$2:G$76)","v":618},{"$f":"SUMIF(OBITOS_CAUSAS!$B$2:$B$76,\"GLORIA\",OBITOS_CAUSAS!H$2:H$76)","v":655},{"$f":"SUMIF(OBITOS_CAUSAS!$B$2:$B$76,\"GLORIA\",OBITOS_CAUSAS!I$2:I$76)","v":679},{"$f":"SUMIF(OBITOS_CAUSAS!$B$2:$B$76,\"GLORIA\",OBITOS_CAUSAS!J$2:J$76)","v":654},{"$f":"SUMIF(OBITOS_CAUSAS!$B$2:$B$76,\"GLORIA\",OBITOS_CAUSAS!K$2:K$76)","v":722},{"$f":"SUMIF(OBITOS_CAUSAS!$B$2:$B$76,\"GLORIA\",OBITOS_CAUSAS!L$2:L$76)","v":771},{"$f":"SUMIF(OBITOS_CAUSAS!$B$2:$B$76,\"GLORIA\",OBITOS_CAUSAS!M$2:M$76)","v":724},{"$f":"SUMIF(OBITOS_CAUSAS!$B$2:$B$76,\"GLORIA\",OBITOS_CAUSAS!N$2:N$76)","v":763},{"$f":"SUMIF(OBITOS_CAUSAS!$B$2:$B$76,\"GLORIA\",OBITOS_CAUSAS!O$2:O$76)","v":635},{"$f":"SUMIF(OBITOS_CAUSAS!$B$2:$B$76,\"GLORIA\",OBITOS_CAUSAS!P$2:P$76)","v":673},{"$f":"SUMIF(OBITOS_CAUSAS!$B$2:$B$76,\"GLORIA\",OBITOS_CAUSAS!Q$2:Q$76)","v":680},{"$f":"SUMIF(OBITOS_CAUSAS!$B$2:$B$76,\"GLORIA\",OBITOS_CAUSAS!R$2:R$76)","v":741},{"$f":"SUMIF(OBITOS_CAUSAS!$B$2:$B$76,\"GLORIA\",OBITOS_CAUSAS!S$2:S$76)","v":782},{"$f":"SUMIF(OBITOS_CAUSAS!$B$2:$B$76,\"GLORIA\",OBITOS_CAUSAS!T$2:T$76)","v":711},{"$f":"SUMIF(OBITOS_CAUSAS!$B$2:$B$76,\"GLORIA\",OBITOS_CAUSAS!U$2:U$76)","v":789},{"$f":"SUMIF(OBITOS_CAUSAS!$B$2:$B$76,\"GLORIA\",OBITOS_CAUSAS!V$2:V$76)","v":863},{"$f":"SUMIF(OBITOS_CAUSAS!$B$2:$B$76,\"GLORIA\",OBITOS_CAUSAS!W$2:W$76)","v":818},{"$f":"SUMIF(OBITOS_CAUSAS!$B$2:$B$76,\"GLORIA\",OBITOS_CAUSAS!X$2:X$76)","v":860},87.559055118110237,90.193164933135222,90.882352941176464,88.394062078272611,86.828644501278774,91.983122362869196,91.50823827629911,89.339513325608351,88.508557457212717,0.88720930232558137,{"$f":"METAS!F83","v":0.95},"NÃO ATINGIU"]
[4,"ITABAIANA",{"$f":"SUMIF(OBITOS_CAUSAS!$B$2:$B$76,\"ITABAIANA\",OBITOS_CAUSAS!D$2:D$76)","v":248651},{"$f":"SUMIF(OBITOS_CAUSAS!$B$2:$B$76,\"ITABAIANA\",OBITOS_CAUSAS!E$2:E$76)","v":1138},{"$f":"SUMIF(OBITOS_CAUSAS!$B$2:$B$76,\"ITABAIANA\",OBITOS_CAUSAS!F$2:F$76)","v":1261},{"$f":"SUMIF(OBITOS_CAUSAS!$B$2:$B$76,\"ITABAIANA\",OBITOS_CAUSAS!G$2:G$76)","v":1222},{"$f":"SUMIF(OBITOS_CAUSAS!$B$2:$B$76,\"ITABAIANA\",OBITOS_CAUSAS!H$2:H$76)","v":1250},{"$f":"SUMIF(OBITOS_CAUSAS!$B$2:$B$76,\"ITABAIANA\",OBITOS_CAUSAS!I$2:I$76)","v":1286},{"$f":"SUMIF(OBITOS_CAUSAS!$B$2:$B$76,\"ITABAIANA\",OBITOS_CAUSAS!J$2:J$76)","v":1424},{"$f":"SUMIF(OBITOS_CAUSAS!$B$2:$B$76,\"ITABAIANA\",OBITOS_CAUSAS!K$2:K$76)","v":1350},{"$f":"SUMIF(OBITOS_CAUSAS!$B$2:$B$76,\"ITABAIANA\",OBITOS_CAUSAS!L$2:L$76)","v":1596},{"$f":"SUMIF(OBITOS_CAUSAS!$B$2:$B$76,\"ITABAIANA\",OBITOS_CAUSAS!M$2:M$76)","v":1579},{"$f":"SUMIF(OBITOS_CAUSAS!$B$2:$B$76,\"ITABAIANA\",OBITOS_CAUSAS!N$2:N$76)","v":1383},{"$f":"SUMIF(OBITOS_CAUSAS!$B$2:$B$76,\"ITABAIANA\",OBITOS_CAUSAS!O$2:O$76)","v":1219},{"$f":"SUMIF(OBITOS_CAUSAS!$B$2:$B$76,\"ITABAIANA\",OBITOS_CAUSAS!P$2:P$76)","v":1306},{"$f":"SUMIF(OBITOS_CAUSAS!$B$2:$B$76,\"ITABAIANA\",OBITOS_CAUSAS!Q$2:Q$76)","v":1253},{"$f":"SUMIF(OBITOS_CAUSAS!$B$2:$B$76,\"ITABAIANA\",OBITOS_CAUSAS!R$2:R$76)","v":1342},{"$f":"SUMIF(OBITOS_CAUSAS!$B$2:$B$76,\"ITABAIANA\",OBITOS_CAUSAS!S$2:S$76)","v":1384},{"$f":"SUMIF(OBITOS_CAUSAS!$B$2:$B$76,\"ITABAIANA\",OBITOS_CAUSAS!T$2:T$76)","v":1509},{"$f":"SUMIF(OBITOS_CAUSAS!$B$2:$B$76,\"ITABAIANA\",OBITOS_CAUSAS!U$2:U$76)","v":1451},{"$f":"SUMIF(OBITOS_CAUSAS!$B$2:$B$76,\"ITABAIANA\",OBITOS_CAUSAS!V$2:V$76)","v":1706},{"$f":"SUMIF(OBITOS_CAUSAS!$B$2:$B$76,\"ITABAIANA\",OBITOS_CAUSAS!W$2:W$76)","v":1740},{"$f":"SUMIF(OBITOS_CAUSAS!$B$2:$B$76,\"ITABAIANA\",OBITOS_CAUSAS!X$2:X$76)","v":1587},93.355209187858904,96.554364471669217,97.525937749401436,93.144560357675104,92.919075144508668,94.367130550033124,93.03928325292901,93.55216881594373,90.747126436781613,0.87145557655954631,{"$f":"METAS!F84","v":0.95},"NÃO ATINGIU"]
[5,"LAGARTO",{"$f":"SUMIF(OBITOS_CAUSAS!$B$2:$B$76,\"LAGARTO\",OBITOS_CAUSAS!D$2:D$76)","v":257634},{"$f":"SUMIF(OBITOS_CAUSAS!$B$2:$B$76,\"LAGARTO\",OBITOS_CAUSAS!E$2:E$76)","v":1240},{"$f":"SUMIF(OBITOS_CAUSAS!$B$2:$B$76,\"LAGARTO\",OBITOS_CAUSAS!F$2:F$76)","v":1216},{"$f":"SUMIF(OBITOS_CAUSAS!$B$2:$B$76,\"LAGARTO\",OBITOS_CAUSAS!G$2:G$76)","v":1376},{"$f":"SUMIF(OBITOS_CAUSAS!$B$2:$B$76,\"LAGARTO\",OBITOS_CAUSAS!H$2:H$76)","v":1372},{"$f":"SUMIF(OBITOS_CAUSAS!$B$2:$B$76,\"LAGARTO\",OBITOS_CAUSAS!I$2:I$76)","v":1396},{"$f":"SUMIF(OBITOS_CAUSAS!$B$2:$B$76,\"LAGARTO\",OBITOS_CAUSAS!J$2:J$76)","v":1398},{"$f":"SUMIF(OBITOS_CAUSAS!$B$2:$B$76,\"LAGARTO\",OBITOS_CAUSAS!K$2:K$76)","v":1409},{"$f":"SUMIF(OBITOS_CAUSAS!$B$2:$B$76,\"LAGARTO\",OBITOS_CAUSAS!L$2:L$76)","v":1500},{"$f":"SUMIF(OBITOS_CAUSAS!$B$2:$B$76,\"LAGARTO\",OBITOS_CAUSAS!M$2:M$76)","v":1522},{"$f":"SUMIF(OBITOS_CAUSAS!$B$2:$B$76,\"LAGARTO\",OBITOS_CAUSAS!N$2:N$76)","v":1421},{"$f":"SUMIF(OBITOS_CAUSAS!$B$2:$B$76,\"LAGARTO\",OBITOS_CAUSAS!O$2:O$76)","v":1338},{"$f":"SUMIF(OBITOS_CAUSAS!$B$2:$B$76,\"LAGARTO\",OBITOS_CAUSAS!P$2:P$76)","v":1319},{"$f":"SUMIF(OBITOS_CAUSAS!$B$2:$B$76,\"LAGARTO\",OBITOS_CAUSAS!Q$2:Q$76)","v":1467},{"$f":"SUMIF(OBITOS_CAUSAS!$B$2:$B$76,\"LAGARTO\",OBITOS_CAUSAS!R$2:R$76)","v":1475},{"$f":"SUMIF(OBITOS_CAUSAS!$B$2:$B$76,\"LAGARTO\",OBITOS_CAUSAS!S$2:S$76)","v":1512},{"$f":"SUMIF(OBITOS_CAUSAS!$B$2:$B$76,\"LAGARTO\",OBITOS_CAUSAS!T$2:T$76)","v":1547},{"$f":"SUMIF(OBITOS_CAUSAS!$B$2:$B$76,\"LAGARTO\",OBITOS_CAUSAS!U$2:U$76)","v":1594},{"$f":"SUMIF(OBITOS_CAUSAS!$B$2:$B$76,\"LAGARTO\",OBITOS_CAUSAS!V$2:V$76)","v":1709},{"$f":"SUMIF(OBITOS_CAUSAS!$B$2:$B$76,\"LAGARTO\",OBITOS_CAUSAS!W$2:W$76)","v":1697},{"$f":"SUMIF(OBITOS_CAUSAS!$B$2:$B$76,\"LAGARTO\",OBITOS_CAUSAS!X$2:X$76)","v":1598},92.675635276532148,92.19105382865807,93.796864349011585,93.016949152542367,92.328042328042329,90.368455074337433,88.393977415307404,87.770626097132833,89.687684148497354,0.88923654568210264,{"$f":"METAS!F85","v":0.95},"NÃO ATINGIU"]
[6,"PROPRIA",{"$f":"SUMIF(OBITOS_CAUSAS!$B$2:$B$76,\"PROPRIA\",OBITOS_CAUSAS!D$2:D$76)","v":158896},{"$f":"SUMIF(OBITOS_CAUSAS!$B$2:$B$76,\"PROPRIA\",OBITOS_CAUSAS!E$2:E$76)","v":830},{"$f":"SUMIF(OBITOS_CAUSAS!$B$2:$B$76,\"PROPRIA\",OBITOS_CAUSAS!F$2:F$76)","v":841},{"$f":"SUMIF(OBITOS_CAUSAS!$B$2:$B$76,\"PROPRIA\",OBITOS_CAUSAS!G$2:G$76)","v":853},{"$f":"SUMIF(OBITOS_CAUSAS!$B$2:$B$76,\"PROPRIA\",OBITOS_CAUSAS!H$2:H$76)","v":872},{"$f":"SUMIF(OBITOS_CAUSAS!$B$2:$B$76,\"PROPRIA\",OBITOS_CAUSAS!I$2:I$76)","v":882},{"$f":"SUMIF(OBITOS_CAUSAS!$B$2:$B$76,\"PROPRIA\",OBITOS_CAUSAS!J$2:J$76)","v":924},{"$f":"SUMIF(OBITOS_CAUSAS!$B$2:$B$76,\"PROPRIA\",OBITOS_CAUSAS!K$2:K$76)","v":850},{"$f":"SUMIF(OBITOS_CAUSAS!$B$2:$B$76,\"PROPRIA\",OBITOS_CAUSAS!L$2:L$76)","v":919},{"$f":"SUMIF(OBITOS_CAUSAS!$B$2:$B$76,\"PROPRIA\",OBITOS_CAUSAS!M$2:M$76)","v":946},{"$f":"SUMIF(OBITOS_CAUSAS!$B$2:$B$76,\"PROPRIA\",OBITOS_CAUSAS!N$2:N$76)","v":892},{"$f":"SUMIF(OBITOS_CAUSAS!$B$2:$B$76,\"PROPRIA\",OBITOS_CAUSAS!O$2:O$76)","v":866},{"$f":"SUMIF(OBITOS_CAUSAS!$B$2:$B$76,\"PROPRIA\",OBITOS_CAUSAS!P$2:P$76)","v":890},{"$f":"SUMIF(OBITOS_CAUSAS!$B$2:$B$76,\"PROPRIA\",OBITOS_CAUSAS!Q$2:Q$76)","v":911},{"$f":"SUMIF(OBITOS_CAUSAS!$B$2:$B$76,\"PROPRIA\",OBITOS_CAUSAS!R$2:R$76)","v":941},{"$f":"SUMIF(OBITOS_CAUSAS!$B$2:$B$76,\"PROPRIA\",OBITOS_CAUSAS!S$2:S$76)","v":985},{"$f":"SUMIF(OBITOS_CAUSAS!$B$2:$B$76,\"PROPRIA\",OBITOS_CAUSAS!T$2:T$76)","v":1006},{"$f":"SUMIF(OBITOS_CAUSAS!$B$2:$B$76,\"PROPRIA\",OBITOS_CAUSAS!U$2:U$76)","v":950},{"$f":"SUMIF(OBITOS_CAUSAS!$B$2:$B$76,\"PROPRIA\",OBITOS_CAUSAS!V$2:V$76)","v":1021},{"$f":"SUMIF(OBITOS_CAUSAS!$B$2:$B$76,\"PROPRIA\",OBITOS_CAUSAS!W$2:W$76)","v":1051},{"$f":"SUMIF(OBITOS_CAUSAS!$B$2:$B$76,\"PROPRIA\",OBITOS_CAUSAS!X$2:X$76)","v":1033},95.842956120092381,94.49438202247191,93.633369923161354,92.667375132837407,89.543147208121837,91.848906560636181,89.473684210526315,90.009794319294812,90.009514747859185,0.86350435624394961,{"$f":"METAS!F86","v":0.95},"NÃO ATINGIU"]
[7,"SOCORRO",{"$f":"SUMIF(OBITOS_CAUSAS!$B$2:$B$76,\"SOCORRO\",OBITOS_CAUSAS!D$2:D$76)","v":335353},{"$f":"SUMIF(OBITOS_CAUSAS!$B$2:$B$76,\"SOCORRO\",OBITOS_CAUSAS!E$2:E$76)","v":1307},{"$f":"SUMIF(OBITOS_CAUSAS!$B$2:$B$76,\"SOCORRO\",OBITOS_CAUSAS!F$2:F$76)","v":1334},{"$f":"SUMIF(OBITOS_CAUSAS!$B$2:$B$76,\"SOCORRO\",OBITOS_CAUSAS!G$2:G$76)","v":1396},{"$f":"SUMIF(OBITOS_CAUSAS!$B$2:$B$76,\"SOCORRO\",OBITOS_CAUSAS!H$2:H$76)","v":1491},{"$f":"SUMIF(OBITOS_CAUSAS!$B$2:$B$76,\"SOCORRO\",OBITOS_CAUSAS!I$2:I$76)","v":1581},{"$f":"SUMIF(OBITOS_CAUSAS!$B$2:$B$76,\"SOCORRO\",OBITOS_CAUSAS!J$2:J$76)","v":1595},{"$f":"SUMIF(OBITOS_CAUSAS!$B$2:$B$76,\"SOCORRO\",OBITOS_CAUSAS!K$2:K$76)","v":1600},{"$f":"SUMIF(OBITOS_CAUSAS!$B$2:$B$76,\"SOCORRO\",OBITOS_CAUSAS!L$2:L$76)","v":1815},{"$f":"SUMIF(OBITOS_CAUSAS!$B$2:$B$76,\"SOCORRO\",OBITOS_CAUSAS!M$2:M$76)","v":1702},{"$f":"SUMIF(OBITOS_CAUSAS!$B$2:$B$76,\"SOCORRO\",OBITOS_CAUSAS!N$2:N$76)","v":1728},{"$f":"SUMIF(OBITOS_CAUSAS!$B$2:$B$76,\"SOCORRO\",OBITOS_CAUSAS!O$2:O$76)","v":1376},{"$f":"SUMIF(OBITOS_CAUSAS!$B$2:$B$76,\"SOCORRO\",OBITOS_CAUSAS!P$2:P$76)","v":1445},{"$f":"SUMIF(OBITOS_CAUSAS!$B$2:$B$76,\"SOCORRO\",OBITOS_CAUSAS!Q$2:Q$76)","v":1455},{"$f":"SUMIF(OBITOS_CAUSAS!$B$2:$B$76,\"SOCORRO\",OBITOS_CAUSAS!R$2:R$76)","v":1568},{"$f":"SUMIF(OBITOS_CAUSAS!$B$2:$B$76,\"SOCORRO\",OBITOS_CAUSAS!S$2:S$76)","v":1678},{"$f":"SUMIF(OBITOS_CAUSAS!$B$2:$B$76,\"SOCORRO\",OBITOS_CAUSAS!T$2:T$76)","v":1665},{"$f":"SUMIF(OBITOS_CAUSAS!$B$2:$B$76,\"SOCORRO\",OBITOS_CAUSAS!U$2:U$76)","v":1685},{"$f":"SUMIF(OBITOS_CAUSAS!$B$2:$B$76,\"SOCORRO\",OBITOS_CAUSAS!V$2:V$76)","v":1912},{"$f":"SUMIF(OBITOS_CAUSAS!$B$2:$B$76,\"SOCORRO\",OBITOS_CAUSAS!W$2:W$76)","v":1808},{"$f":"SUMIF(OBITOS_CAUSAS!$B$2:$B$76,\"SOCORRO\",OBITOS_CAUSAS!X$2:X$76)","v":1870},94.985465116279073,92.318339100346023,95.945017182130584,95.089285714285708,94.219308700834318,95.795795795795797,94.955489614243334,94.926778242677827,94.137168141592923,0.92406417112299466,{"$f":"METAS!F87","v":0.95},"NÃO ATINGIU"]
[8,"SERGIPE",{"$f":"SUMIF(OBITOS_CAUSAS!$B$2:$B$77,\"SERGIPE\",OBITOS_CAUSAS!D$2:D$77)","v":2242948},{"$f":"OBITOS_CAUSAS!E77","v":9596},{"$f":"OBITOS_CAUSAS!F77","v":10088},{"$f":"OBITOS_CAUSAS!G77","v":10384},{"$f":"OBITOS_CAUSAS!H77","v":10716},{"$f":"OBITOS_CAUSAS!I77","v":11088},{"$f":"OBITOS_CAUSAS!J77","v":11466},{"$f":"OBITOS_CAUSAS!K77","v":11486},{"$f":"OBITOS_CAUSAS!L77","v":12555},{"$f":"OBITOS_CAUSAS!M77","v":12561},{"$f":"OBITOS_CAUSAS!N77","v":11873},{"$f":"OBITOS_CAUSAS!O77","v":10251},{"$f":"OBITOS_CAUSAS!P77","v":10748},{"$f":"OBITOS_CAUSAS!Q77","v":10949},{"$f":"OBITOS_CAUSAS!R77","v":11407},{"$f":"OBITOS_CAUSAS!S77","v":11851},{"$f":"OBITOS_CAUSAS!T77","v":12158},{"$f":"OBITOS_CAUSAS!U77","v":12243},{"$f":"OBITOS_CAUSAS!V77","v":13459},{"$f":"OBITOS_CAUSAS!W77","v":13510},{"$f":"OBITOS_CAUSAS!X77","v":12990},93.610379475173161,93.859322664681798,94.83971138916796,93.942316121679667,93.561724748966341,94.308274387234746,93.816874948950428,93.283304851772058,92.975573649148785,0.9140107775211701,0.95,"NÃO ATINGIU"]
[]
[1,2,3,4,5,6,7,8,9,10,11,12,13,14,15,16,17,18,19,20,21,22,23,24,25,26,27,28,29,30,31,32,33,34,35]

{"sheet":"CURA_CASOS_HANS","index":97,"n_rows":79,"n_cols":36,"rows_kept":79,"cut":false,"hidden":true,"merged":[]}
["COD IBGE","REGIÃO","MUNICÍPIO","POP 2015","CURA CASOS HAN 2008","CURA CASOS HAN 2009","CURA CASOS HAN 2010","CURA CASOS HAN 2011","CURA CASOS HAN 2012","CURA CASOS HAN 2013","CURA CASOS HAN 2014","CURA CASOS HAN 2015","CURA CASOS HAN 2016","CURA CASOS HAN 2017","TOTAL CASOS HANS 2008","TOTAL CASOS HANS 2009","TOTAL CASOS HANS 2010","TOTAL CASOS HANS 2011","TOTAL CASOS HANS 2012","TOTAL CASOS HANS 2013","TOTAL CASOS HANS 2014","TOTAL CASOS HANS 2015","TOTAL CASOS HANS 2016","TOTAL CASOS HANS 2017","% CURA CASOS HANS 2008","% CURA CASOS HANS 2009","% CURA CASOS HANS 2010","% CURA CASOS HANS 2011","% CURA CASOS HANS 2012","% CURA CASOS HANS 2013","% CURA CASOS HANS 2014","% CURA CASOS HANS 2015","% CURA CASOS HANS 2016","% CURA CASOS HANS 2017","META PACTUADA 2017","SITUAÇÃO"]
[280010,"PROPRIÁ","AMPARO DE SÃO FRANCISCO",2374,0,1,1,6,3,1,1,1,0,null,0,1,1,7,4,1,1,1,0,null,"SC",100,100,85.714285714285708,75,100,100,100,"SC","SC",0.9,{"$f":"IF(AH2=\"SC\",\"N/A\",IF(AH2>=AI2,\"ATINGIU\",\"NÃO ATINGIU\"))","v":"N/A"}]
[280020,"PROPRIÁ","AQUIDABÃ",21315,2,3,2,2,1,4,5,3,1,null,3,4,2,2,1,4,6,3,1,null,66.666666666666657,75,100,100,100,100,83.333333333333343,100,100,1,0.9,{"$f":"IF(AH3=\"SC\",\"N/A\",IF(AH3>=AI3,\"ATINGIU\",\"NÃO ATINGIU\"))","v":"ATINGIU"}]
[280030,"ARACAJU","ARACAJU",632745,132,134,142,121,117,123,106,103,92,null,147,150,152,130,126,128,114,108,106,null,89.795918367346943,89.333333333333329,93.421052631578945,93.07692307692308,92.857142857142861,96.09375,92.982456140350877,95.370370370370367,86.79245283018868,0.83560000000000001,0.9,"NÃO ATINGIU"]
[280040,"ESTÂNCIA","ARAUÁ",10572,0,0,1,0,1,1,2,1,1,null,0,0,1,0,1,1,2,1,1,null,"SC","SC",100,"SC",100,100,100,100,100,1,0.95,"ATINGIU"]
[280050,"ITABAIANA","AREIA BRANCA",18169,2,1,2,1,2,3,1,0,1,null,2,1,3,2,2,3,1,0,1,null,100,100,66.666666666666657,50,100,100,100,"SC",100,1,0.9,"ATINGIU"]
[280060,"ARACAJU","BARRA DOS COQUEIROS",28679,9,13,9,5,4,11,9,5,6,null,9,14,10,7,5,11,9,5,7,null,100,92.857142857142861,90,71.428571428571431,80,100,100,100,85.714285714285708,1,0.9,"ATINGIU"]
[280067,"ESTÂNCIA","BOQUIM",26750,1,2,4,4,1,1,7,4,0,null,1,2,4,4,2,1,7,4,1,null,100,100,100,100,50,100,100,100,0,1,0.95,"ATINGIU"]
[280070,"PROPRIÁ","BREJO GRANDE",8218,0,0,0,0,0,0,1,0,0,null,0,0,0,0,0,0,1,0,0,null,"SC","SC","SC","SC","SC","SC",100,"SC","SC",1,0.9,"ATINGIU"]
[280100,"ITABAIANA","CAMPO DO BRITO",17851,14,14,19,8,8,13,5,5,5,null,15,15,20,9,8,15,7,7,5,null,93.333333333333329,93.333333333333329,95,88.888888888888886,100,86.666666666666671,71.428571428571431,71.428571428571431,100,1,0.9,"ATINGIU"]
[280110,"PROPRIÁ","CANHOBA",4059,2,0,2,3,0,0,0,1,1,null,2,0,2,3,0,0,0,1,1,null,100,"SC",100,100,"SC","SC","SC",100,100,1,1,"ATINGIU"]
[280120,"GLÓRIA","CANINDÉ DE SÃO FRANCISCO",28279,4,5,3,3,5,1,5,3,3,null,6,6,4,3,5,1,6,3,4,null,66.666666666666657,83.333333333333343,75,100,100,100,83.333333333333343,100,75,1,0.95,"ATINGIU"]
[280130,"SOCORRO","CAPELA",33378,8,6,4,6,5,5,4,3,3,null,8,6,4,7,6,5,4,3,5,null,100,100,100,85.714285714285708,83.333333333333343,100,100,100,60,1,0.85,"ATINGIU"]
[280140,"ITABAIANA","CARIRA",21487,3,3,1,2,1,3,2,11,10,null,3,3,1,2,2,3,2,13,12,null,100,100,100,100,50,100,100,84.615384615384613,83.333333333333343,1,0.9,"ATINGIU"]
[280150,"SOCORRO","CARMÓPOLIS",15621,1,0,5,0,2,3,2,1,2,null,1,0,6,0,2,3,2,1,2,null,100,"SC",83.333333333333343,"SC",100,100,100,100,100,"SC",0.91,"N/A"]
[280160,"PROPRIÁ","CEDRO DE SÃO JOÃO",5890,0,0,0,0,0,1,0,1,0,null,2,0,0,0,0,1,0,1,0,null,0,"SC","SC","SC","SC",100,"SC",100,"SC",1,0.9,"ATINGIU"]
[280170,"ESTÂNCIA","CRISTINÁPOLIS",17911,0,1,0,0,1,0,0,0,0,null,0,1,0,0,1,0,0,0,0,null,"SC",100,"SC","SC",100,"SC","SC","SC","SC",1,0.9,"ATINGIU"]
[280190,"SOCORRO","CUMBE",3986,0,0,0,0,0,0,0,0,0,null,0,0,1,0,0,0,0,0,0,null,"SC","SC",0,"SC","SC","SC","SC","SC","SC","SC",0.9,"N/A"]
[280200,"ARACAJU","DIVINA PASTORA",4889,0,1,5,2,0,0,0,0,1,null,0,1,5,2,0,0,1,0,1,null,"SC",100,100,100,"SC","SC",0,"SC",100,"SC",1,"N/A"]
[280210,"ESTÂNCIA","ESTÂNCIA",68407,18,6,9,11,7,11,7,13,2,null,19,6,10,11,8,12,8,13,2,null,94.73684210526315,100,90,100,87.5,91.666666666666657,87.5,100,100,1,0.9,"ATINGIU"]
[280220,"GLÓRIA","FEIRA NOVA",5571,0,0,0,0,0,0,0,0,0,null,0,0,0,0,0,0,0,0,0,null,"SC","SC","SC","SC","SC","SC","SC","SC","SC","SC",0.9,"N/A"]
[280230,"ITABAIANA","FREI PAULO",15044,0,0,1,3,0,1,1,0,1,null,0,0,1,3,0,1,1,0,1,null,"SC","SC",100,100,"SC",100,100,"SC",100,"SC",1,"N/A"]
[280240,"GLÓRIA","GARARU",11724,3,0,0,1,0,0,0,0,0,null,3,0,0,1,0,0,0,0,0,null,100,"SC","SC",100,"SC","SC","SC","SC","SC","SC",0.9,"N/A"]
[280250,"SOCORRO","GENERAL MAYNARD",3230,0,0,0,1,0,1,0,0,1,null,0,0,0,1,0,1,0,0,1,null,"SC","SC","SC",100,"SC",100,"SC","SC",100,"SC",0.95,"N/A"]
[280260,"GLÓRIA","GRACHO CARDOSO",5846,2,3,3,1,2,0,3,2,3,null,2,3,4,1,3,0,3,2,4,null,100,100,75,100,66.666666666666657,"SC",100,100,75,"SC",1,"N/A"]
[280270,"PROPRIÁ","ILHA DAS FLORES",8597,1,0,1,0,0,0,0,0,0,null,1,1,1,0,0,0,0,0,0,null,100,0,100,"SC","SC","SC","SC","SC","SC","SC",0.9,"N/A"]
[280280,"ESTÂNCIA","INDIAROBA",17384,4,1,4,4,5,5,8,5,2,null,4,2,4,4,5,5,8,6,4,null,100,50,100,100,100,100,100,83.333333333333343,50,"SC",1,"N/A"]
[280290,"ITABAIANA","ITABAIANA",93573,56,42,50,42,33,55,30,30,29,null,58,42,53,42,35,56,30,30,29,null,96.551724137931032,100,94.339622641509436,100,94.285714285714278,98.214285714285708,100,100,100,0.95650000000000002,0.9,"ATINGIU"]
[280300,"ESTÂNCIA","ITABAIANINHA",41405,5,6,4,3,3,2,4,5,9,null,5,6,4,3,3,2,4,5,9,null,100,100,100,100,100,100,100,100,100,1,0.9,"ATINGIU"]
[280310,"GLÓRIA","ITABI",5017,0,2,2,0,0,0,0,0,0,null,0,3,2,0,0,0,0,0,0,null,"SC",66.666666666666657,100,"SC","SC","SC","SC","SC","SC",0,0.9,"NÃO ATINGIU"]
[280320,"ARACAJU","ITAPORANGA D'AJUDA",33320,4,2,0,2,3,3,6,6,3,null,4,2,0,3,3,3,7,6,5,null,100,100,"SC",66.666666666666657,100,100,85.714285714285708,100,60,1,0.9,"ATINGIU"]
[280330,"SOCORRO","JAPARATUBA",18286,1,2,0,1,1,2,2,1,1,null,1,2,0,1,1,4,2,1,1,null,100,100,"SC",100,100,50,100,100,100,"SC",0.9,"N/A"]
[280340,"PROPRIÁ","JAPOATÃ",13245,0,0,1,1,0,2,0,0,0,null,0,0,1,1,0,2,0,0,0,null,"SC","SC",100,100,"SC",100,"SC","SC","SC",1,0.9,"ATINGIU"]
[280350,"LAGARTO","LAGARTO",102259,19,14,34,28,21,15,12,9,14,null,21,14,35,29,21,17,14,10,17,null,90.476190476190482,100,97.142857142857139,96.551724137931032,100,88.235294117647058,85.714285714285708,90,82.35294117647058,0.66670000000000007,0.9,"NÃO ATINGIU"]
[280360,"ARACAJU","LARANJEIRAS",29127,2,0,2,3,3,1,3,4,0,null,2,0,2,3,3,1,4,5,0,null,100,"SC",100,100,100,100,75,80,"SC",1,0.88,"ATINGIU"]
[280370,"ITABAIANA","MACAMBIRA",6823,0,1,3,0,1,0,2,1,3,null,0,1,3,0,1,0,2,1,4,null,"SC",100,100,"SC",100,"SC",100,100,75,0,0.95,"NÃO ATINGIU"]
[280380,"PROPRIÁ","MALHADA DOS BOIS",3652,0,0,0,0,0,0,0,0,0,null,0,0,0,1,0,0,0,0,0,null,"SC","SC","SC",0,"SC","SC","SC","SC","SC","SC",0.9,"N/A"]
[280390,"ITABAIANA","MALHADOR",12601,1,0,0,3,0,2,1,0,1,null,1,0,0,3,0,2,1,0,1,null,100,"SC","SC",100,"SC",100,100,"SC",100,"SC",1,"N/A"]
[280400,"SOCORRO","MARUIM",17151,1,0,1,0,1,0,1,2,0,null,1,0,1,0,1,0,1,3,0,null,100,"SC",100,"SC",100,"SC",100,66.666666666666657,"SC",0.5,0.9,"NÃO ATINGIU"]
[280410,"ITABAIANA","MOITA BONITA",11399,2,3,1,2,1,3,0,1,2,null,2,3,1,2,1,3,1,2,2,null,100,100,100,100,100,100,0,50,100,1,0.9,"ATINGIU"]
[280420,"GLÓRIA","MONTE ALEGRE DE SERGIPE",14853,7,10,2,3,2,1,3,1,0,null,7,10,2,3,2,1,4,1,1,null,100,100,100,100,100,100,75,100,0,0.75,0.9,"NÃO ATINGIU"]
[280430,"PROPRIÁ","MURIBECA",7644,2,0,0,0,0,0,1,1,0,null,3,0,0,0,0,0,1,1,0,null,66.666666666666657,"SC","SC","SC","SC","SC",100,100,"SC",0,0.9,"NÃO ATINGIU"]
[280440,"PROPRIÁ","NEÓPOLIS",18958,2,1,1,1,2,1,1,0,1,null,3,1,1,1,2,2,1,0,2,null,66.666666666666657,100,100,100,100,50,100,"SC",50,"SC",0.9,"N/A"]
[280445,"ITABAIANA","NOSSA SENHORA APARECIDA",8830,2,3,0,1,2,1,1,1,0,null,2,4,0,2,2,1,1,1,0,null,100,75,"SC",50,100,100,100,100,"SC","SC",1,"N/A"]
[280450,"GLÓRIA","NOSSA SENHORA DA GLÓRIA",35723,5,4,2,5,2,3,3,3,1,null,5,5,5,7,4,4,3,6,1,null,100,80,40,71.428571428571431,50,75,100,50,100,1,0.9,"ATINGIU"]
[280460,"SOCORRO","NOSSA SENHORA DAS DORES",26237,6,4,7,4,7,2,2,3,5,null,6,4,8,5,7,3,2,5,7,null,100,100,87.5,80,100,66.666666666666657,100,60,71.428571428571431,0.83329999999999993,0.9,"NÃO ATINGIU"]
[280470,"PROPRIÁ","NOSSA SENHORA DE LOURDES",6494,1,0,3,1,0,4,4,4,4,null,1,0,4,1,0,5,5,4,5,null,100,"SC",75,100,"SC",80,80,100,80,1,0.95,"ATINGIU"]
[280480,"SOCORRO","NOSSA SENHORA DO SOCORRO",177340,41,37,30,14,29,25,32,39,10,null,46,43,36,18,35,32,34,41,24,null,89.130434782608688,86.04651162790698,83.333333333333343,77.777777777777786,82.857142857142861,78.125,94.117647058823522,95.121951219512198,41.666666666666671,0.72089999999999999,0.9,"NÃO ATINGIU"]
[280490,"PROPRIÁ","PACATUBA",14164,1,0,0,0,1,1,0,1,1,null,1,1,0,0,1,1,0,1,1,null,100,0,"SC","SC",100,100,"SC",100,100,1,0.9,"ATINGIU"]
[280500,"ITABAIANA","PEDRA MOLE",3199,1,1,1,0,2,1,0,0,1,null,1,1,1,0,2,1,0,0,1,null,100,100,100,"SC",100,100,"SC","SC",100,1,0.9,"ATINGIU"]
[280510,"ESTÂNCIA","PEDRINHAS",9455,0,1,0,1,1,2,8,3,1,null,0,1,1,1,1,2,8,4,1,null,"SC",100,0,100,100,100,100,75,100,1,0.9,"ATINGIU"]
[280520,"ITABAIANA","PINHÃO",6439,13,9,6,0,0,6,1,1,2,null,17,12,6,0,0,6,1,1,2,null,76.470588235294116,75,100,"SC","SC",100,100,100,100,0,1,"NÃO ATINGIU"]
[280530,"SOCORRO","PIRAMBU",9058,0,0,1,1,4,1,1,0,0,null,0,0,1,2,4,1,2,1,0,null,"SC","SC",100,50,100,100,50,0,"SC","SC",0.95,"N/A"]
[280540,"GLÓRIA","POÇO REDONDO",33756,6,10,8,4,12,18,12,10,12,null,6,12,9,4,13,19,13,13,13,null,100,83.333333333333343,88.888888888888886,100,92.307692307692307,94.73684210526315,92.307692307692307,76.923076923076934,92.307692307692307,0.73329999999999995,0.9,"NÃO ATINGIU"]
[280550,"LAGARTO","POÇO VERDE",23413,2,3,7,1,5,11,4,5,5,null,2,3,7,3,5,12,5,5,5,null,100,100,100,33.333333333333329,100,91.666666666666657,80,100,100,0.4,0.9,"NÃO ATINGIU"]
[280560,"GLÓRIA","PORTO DA FOLHA",28497,2,2,3,0,0,1,4,2,4,null,2,2,3,0,0,1,4,3,4,null,100,100,100,"SC","SC",100,100,66.666666666666657,100,1,0.9,"ATINGIU"]
[280570,"PROPRIÁ","PROPRIÁ",29657,7,5,0,2,9,4,7,8,7,null,7,6,0,2,9,5,7,9,8,null,100,83.333333333333343,"SC",100,100,80,100,88.888888888888886,87.5,0.83329999999999993,0.9,"NÃO ATINGIU"]
[280580,"LAGARTO","RIACHÃO DO DANTAS",19976,3,4,1,2,2,0,2,2,1,null,3,4,1,2,3,1,2,2,1,null,100,100,100,100,66.666666666666657,0,100,100,100,1,0.9,"ATINGIU"]
[280590,"ARACAJU","RIACHUELO",10033,0,0,1,3,2,1,2,1,0,null,0,0,1,3,2,1,2,1,0,null,"SC","SC",100,100,100,100,100,100,"SC",1,0.9,"ATINGIU"]
[280600,"ITABAIANA","RIBEIRÓPOLIS",18363,1,0,0,2,0,1,1,1,1,null,1,0,0,2,0,1,2,1,1,null,100,"SC","SC",100,"SC",100,50,100,100,0,0.9,"NÃO ATINGIU"]
[280610,"SOCORRO","ROSÁRIO DO CATETE",10367,1,1,0,0,0,0,0,1,0,null,1,1,0,0,0,0,0,1,0,null,100,100,"SC","SC","SC","SC","SC",100,"SC",1,0.95,"ATINGIU"]
[280620,"LAGARTO","SALGADO",20082,1,0,0,0,1,0,1,0,2,null,1,1,0,0,1,1,1,3,2,null,100,0,"SC","SC",100,0,100,0,100,"SC",0.95,"N/A"]
[280630,"ESTÂNCIA","SANTA LUZIA DO ITANHY",13838,0,0,1,0,0,0,1,0,1,null,0,0,1,0,0,0,1,0,1,null,"SC","SC",100,"SC","SC","SC","SC","SC",100,"SC",0.95,"N/A"]
[280640,"PROPRIÁ","SANTA ROSA DE LIMA",7607,2,2,2,0,2,2,1,2,0,null,2,2,2,1,2,3,1,2,0,null,100,100,100,0,100,66.666666666666657,100,100,"SC","SC",0.9,"N/A"]
[280650,"ARACAJU","SANTANA DO SÃO FRANCISCO",3912,0,0,0,0,0,0,0,0,1,null,0,0,0,0,0,0,0,0,1,null,"SC","SC","SC","SC","SC","SC","SC","SC",100,"SC",0.9,"N/A"]
[280660,"SOCORRO","SANTO AMARO DAS BROTAS",12024,3,2,4,2,0,3,0,0,1,null,3,2,4,3,0,4,0,0,1,null,100,100,100,66.666666666666657,"SC",75,"SC","SC",100,"SC",0.9,"N/A"]
[280670,"ARACAJU","SÃO CRISTÓVÃO",86979,7,20,17,12,19,13,17,17,10,null,11,22,19,14,20,16,17,21,18,null,63.636363636363633,90.909090909090907,89.473684210526315,85.714285714285708,95,81.25,100,80.952380952380949,55.555555555555557,0.5625,0.9,{"$f":"IF(AH67=\"SC\",\"N/A\",IF(AH67>=AI67,\"ATINGIU\",\"NÃO ATINGIU\"))","v":"NÃO ATINGIU"}]
[280680,"ITABAIANA","SÃO DOMINGOS",10971,0,0,0,0,0,2,0,0,0,null,0,0,0,0,0,3,0,0,0,null,"SC","SC","SC","SC","SC",66.666666666666657,"SC","SC","SC",1,0.9,"ATINGIU"]
[280690,"PROPRIÁ","SÃO FRANCISCO",3851,0,0,0,2,0,2,0,0,1,null,0,0,0,2,0,2,0,0,1,null,"SC","SC","SC",100,"SC",100,"SC","SC",100,1,0.9,"ATINGIU"]
[280700,"ITABAIANA","SÃO MIGUEL DO ALEIXO",3902,1,0,1,1,0,1,1,0,0,null,1,0,1,1,0,2,1,0,0,null,100,"SC",100,100,"SC",50,100,"SC","SC","SC",1,"N/A"]
[280710,"LAGARTO","SIMÃO DIAS",40530,1,6,10,4,10,15,8,3,10,null,3,6,11,4,10,16,9,4,11,null,33.333333333333329,100,90.909090909090907,100,100,93.75,88.888888888888886,75,90.909090909090907,1,0.9,"ATINGIU"]
[280720,"SOCORRO","SIRIRI",8675,0,0,1,1,1,1,1,0,0,null,0,0,1,1,1,1,1,0,0,null,"SC","SC",100,100,100,100,100,"SC","SC","SC",0.9,"N/A"]
[280730,"PROPRIÁ","TELHA",3171,1,0,1,0,0,0,0,0,2,null,1,0,1,0,0,0,0,0,2,null,100,"SC",100,"SC","SC","SC","SC","SC",100,"SC",0.9,"N/A"]
[280740,"LAGARTO","TOBIAS BARRETO",51374,15,6,5,6,10,5,16,14,11,null,17,8,5,6,11,5,19,16,11,null,88.235294117647058,75,100,100,90.909090909090907,100,84.210526315789465,87.5,100,0.83329999999999993,1,"NÃO ATINGIU"]
[280750,"ESTÂNCIA","TOMAR DO GERU",13200,2,1,0,0,0,0,1,2,4,null,2,1,0,0,0,0,2,2,4,null,100,100,"SC","SC","SC","SC",50,100,100,1,0.9,"ATINGIU"]
[280760,"ESTÂNCIA","UMBAÚBA",24542,1,0,1,2,2,0,0,0,0,null,2,0,1,2,2,0,0,0,0,null,50,"SC",100,100,100,"SC","SC","SC","SC","SC",0.9,"N/A"]
[280000,"SERGIPE","SERGIPE",2242948,434,398,432,344,359,401,366,346,296,null,480,441,470,377,389,438,398,384,356,null,90.416666666666671,90.249433106575964,91.914893617021278,91.246684350132625,92.287917737789201,91.552511415525117,91.959798994974875,90.104166666666657,83.146067415730343,0.8095,0.9,"NÃO ATINGIU"]
[]
[1,2,3,4,5,6,7,8,9,10,11,12,13,14,15,16,17,18,19,20,21,22,23,null,24,25,26,27,28,29,30,31,32,null,33,34]

{"sheet":"CURA_CASOS_HANS_REG","index":98,"n_rows":9,"n_cols":35,"rows_kept":9,"cut":false,"hidden":true,"merged":[]}
["CÓD","REGIÃO","POP 2015","CURA CASOS HAN 2008","CURA CASOS HAN 2009","CURA CASOS HAN 2010","CURA CASOS HAN 2011","CURA CASOS HAN 2012","CURA CASOS HAN 2013","CURA CASOS HAN 2014","CURA CASOS HAN 2015","CURA CASOS HAN 2016","CURA CASOS HAN 2017","TOTAL CASOS HANS 2008","TOTAL CASOS HANS 2009","TOTAL CASOS HANS 2010","TOTAL CASOS HANS 2011","TOTAL CASOS HANS 2012","TOTAL CASOS HANS 2013","TOTAL CASOS HANS 2014","TOTAL CASOS HANS 2015","TOTAL CASOS HANS 2016","TOTAL CASOS HANS 2017","% CURA CASOS HANS 2008","% CURA CASOS HANS 2009","% CURA CASOS HANS 2010","% CURA CASOS HANS 2011","% CURA CASOS HANS 2012","% CURA CASOS HANS 2013","% CURA CASOS HANS 2014","% CURA CASOS HANS 2015","% CURA CASOS HANS 2016","% CURA CASOS HANS 2017","META PACTUADA 2017","SITUAÇÃO"]
[1,"ARACAJU",{"$f":"SUMIF(CURA_CASOS_HANS!$B$2:$B$77,\"ARACAJU\",CURA_CASOS_HANS!D$2:D$77)","v":829684},{"$f":"SUMIF(CURA_CASOS_HANS!$B$2:$B$77,\"ARACAJU\",CURA_CASOS_HANS!E$2:E$77)","v":154},{"$f":"SUMIF(CURA_CASOS_HANS!$B$2:$B$77,\"ARACAJU\",CURA_CASOS_HANS!F$2:F$77)","v":170},{"$f":"SUMIF(CURA_CASOS_HANS!$B$2:$B$77,\"ARACAJU\",CURA_CASOS_HANS!G$2:G$77)","v":176},{"$f":"SUMIF(CURA_CASOS_HANS!$B$2:$B$77,\"ARACAJU\",CURA_CASOS_HANS!H$2:H$77)","v":148},{"$f":"SUMIF(CURA_CASOS_HANS!$B$2:$B$77,\"ARACAJU\",CURA_CASOS_HANS!I$2:I$77)","v":148},{"$f":"SUMIF(CURA_CASOS_HANS!$B$2:$B$77,\"ARACAJU\",CURA_CASOS_HANS!J$2:J$77)","v":152},{"$f":"SUMIF(CURA_CASOS_HANS!$B$2:$B$77,\"ARACAJU\",CURA_CASOS_HANS!K$2:K$77)","v":143},{"$f":"SUMIF(CURA_CASOS_HANS!$B$2:$B$77,\"ARACAJU\",CURA_CASOS_HANS!L$2:L$77)","v":136},{"$f":"SUMIF(CURA_CASOS_HANS!$B$2:$B$77,\"ARACAJU\",CURA_CASOS_HANS!M$2:M$77)","v":113},{"$f":"SUMIF(CURA_CASOS_HANS!$B$2:$B$77,\"ARACAJU\",CURA_CASOS_HANS!N$2:N$77)","v":0},{"$f":"SUMIF(CURA_CASOS_HANS!$B$2:$B$77,\"ARACAJU\",CURA_CASOS_HANS!O$2:O$77)","v":173},{"$f":"SUMIF(CURA_CASOS_HANS!$B$2:$B$77,\"ARACAJU\",CURA_CASOS_HANS!P$2:P$77)","v":189},{"$f":"SUMIF(CURA_CASOS_HANS!$B$2:$B$77,\"ARACAJU\",CURA_CASOS_HANS!Q$2:Q$77)","v":189},{"$f":"SUMIF(CURA_CASOS_HANS!$B$2:$B$77,\"ARACAJU\",CURA_CASOS_HANS!R$2:R$77)","v":162},{"$f":"SUMIF(CURA_CASOS_HANS!$B$2:$B$77,\"ARACAJU\",CURA_CASOS_HANS!S$2:S$77)","v":159},{"$f":"SUMIF(CURA_CASOS_HANS!$B$2:$B$77,\"ARACAJU\",CURA_CASOS_HANS!T$2:T$77)","v":160},{"$f":"SUMIF(CURA_CASOS_HANS!$B$2:$B$77,\"ARACAJU\",CURA_CASOS_HANS!U$2:U$77)","v":154},{"$f":"SUMIF(CURA_CASOS_HANS!$B$2:$B$77,\"ARACAJU\",CURA_CASOS_HANS!V$2:V$77)","v":146},{"$f":"SUMIF(CURA_CASOS_HANS!$B$2:$B$77,\"ARACAJU\",CURA_CASOS_HANS!W$2:W$77)","v":138},{"$f":"SUMIF(CURA_CASOS_HANS!$B$2:$B$77,\"ARACAJU\",CURA_CASOS_HANS!X$2:X$77)","v":0},{"$f":"D2/N2","v":0.89017341040462428},{"$f":"E2/O2","v":0.89947089947089942},0.93121693121693117,0.9135802469135802,0.9308176100628931,0.95,0.9285714285714286,0.93150684931506844,0.8188405797101449,0.81730000000000003,{"$f":"METAS!I81","v":0.9},{"$f":"IF(AG2=\"SC\",\"N/A\",IF(AG2>=AH2,\"ATINGIU\",\"NÃO ATINGIU\"))","v":"NÃO ATINGIU"}]
[2,"ESTÂNCIA",{"$f":"SUMIF(CURA_CASOS_HANS!$B$2:$B$77,\"ESTÂNCIA\",CURA_CASOS_HANS!D$2:D$77)","v":243464},{"$f":"SUMIF(CURA_CASOS_HANS!$B$2:$B$77,\"ESTÂNCIA\",CURA_CASOS_HANS!E$2:E$77)","v":31},{"$f":"SUMIF(CURA_CASOS_HANS!$B$2:$B$77,\"ESTÂNCIA\",CURA_CASOS_HANS!F$2:F$77)","v":18},{"$f":"SUMIF(CURA_CASOS_HANS!$B$2:$B$77,\"ESTÂNCIA\",CURA_CASOS_HANS!G$2:G$77)","v":24},{"$f":"SUMIF(CURA_CASOS_HANS!$B$2:$B$77,\"ESTÂNCIA\",CURA_CASOS_HANS!H$2:H$77)","v":25},{"$f":"SUMIF(CURA_CASOS_HANS!$B$2:$B$77,\"ESTÂNCIA\",CURA_CASOS_HANS!I$2:I$77)","v":21},{"$f":"SUMIF(CURA_CASOS_HANS!$B$2:$B$77,\"ESTÂNCIA\",CURA_CASOS_HANS!J$2:J$77)","v":22},{"$f":"SUMIF(CURA_CASOS_HANS!$B$2:$B$77,\"ESTÂNCIA\",CURA_CASOS_HANS!K$2:K$77)","v":38},{"$f":"SUMIF(CURA_CASOS_HANS!$B$2:$B$77,\"ESTÂNCIA\",CURA_CASOS_HANS!L$2:L$77)","v":33},{"$f":"SUMIF(CURA_CASOS_HANS!$B$2:$B$77,\"ESTÂNCIA\",CURA_CASOS_HANS!M$2:M$77)","v":20},{"$f":"SUMIF(CURA_CASOS_HANS!$B$2:$B$77,\"ESTÂNCIA\",CURA_CASOS_HANS!N$2:N$77)","v":0},{"$f":"SUMIF(CURA_CASOS_HANS!$B$2:$B$77,\"ESTÂNCIA\",CURA_CASOS_HANS!O$2:O$77)","v":33},{"$f":"SUMIF(CURA_CASOS_HANS!$B$2:$B$77,\"ESTÂNCIA\",CURA_CASOS_HANS!P$2:P$77)","v":19},{"$f":"SUMIF(CURA_CASOS_HANS!$B$2:$B$77,\"ESTÂNCIA\",CURA_CASOS_HANS!Q$2:Q$77)","v":26},{"$f":"SUMIF(CURA_CASOS_HANS!$B$2:$B$77,\"ESTÂNCIA\",CURA_CASOS_HANS!R$2:R$77)","v":25},{"$f":"SUMIF(CURA_CASOS_HANS!$B$2:$B$77,\"ESTÂNCIA\",CURA_CASOS_HANS!S$2:S$77)","v":23},{"$f":"SUMIF(CURA_CASOS_HANS!$B$2:$B$77,\"ESTÂNCIA\",CURA_CASOS_HANS!T$2:T$77)","v":23},{"$f":"SUMIF(CURA_CASOS_HANS!$B$2:$B$77,\"ESTÂNCIA\",CURA_CASOS_HANS!U$2:U$77)","v":40},{"$f":"SUMIF(CURA_CASOS_HANS!$B$2:$B$77,\"ESTÂNCIA\",CURA_CASOS_HANS!V$2:V$77)","v":35},{"$f":"SUMIF(CURA_CASOS_HANS!$B$2:$B$77,\"ESTÂNCIA\",CURA_CASOS_HANS!W$2:W$77)","v":23},{"$f":"SUMIF(CURA_CASOS_HANS!$B$2:$B$77,\"ESTÂNCIA\",CURA_CASOS_HANS!X$2:X$77)","v":0},{"$f":"D3/N3","v":0.93939393939393945},0.94736842105263153,0.92307692307692313,1,0.91304347826086951,0.95652173913043481,0.95,0.94285714285714284,0.86956521739130432,1,{"$f":"METAS!I82","v":0.9},{"$f":"IF(AG3=\"SC\",\"N/A\",IF(AG3>=AH3,\"ATINGIU\",\"NÃO ATINGIU\"))","v":"ATINGIU"}]
[3,"GLÓRIA",{"$f":"SUMIF(CURA_CASOS_HANS!$B$2:$B$77,\"GLÓRIA\",CURA_CASOS_HANS!D$2:D$77)","v":169266},{"$f":"SUMIF(CURA_CASOS_HANS!$B$2:$B$77,\"GLÓRIA\",CURA_CASOS_HANS!E$2:E$77)","v":29},{"$f":"SUMIF(CURA_CASOS_HANS!$B$2:$B$77,\"GLÓRIA\",CURA_CASOS_HANS!F$2:F$77)","v":36},{"$f":"SUMIF(CURA_CASOS_HANS!$B$2:$B$77,\"GLÓRIA\",CURA_CASOS_HANS!G$2:G$77)","v":23},{"$f":"SUMIF(CURA_CASOS_HANS!$B$2:$B$77,\"GLÓRIA\",CURA_CASOS_HANS!H$2:H$77)","v":17},{"$f":"SUMIF(CURA_CASOS_HANS!$B$2:$B$77,\"GLÓRIA\",CURA_CASOS_HANS!I$2:I$77)","v":23},{"$f":"SUMIF(CURA_CASOS_HANS!$B$2:$B$77,\"GLÓRIA\",CURA_CASOS_HANS!J$2:J$77)","v":24},{"$f":"SUMIF(CURA_CASOS_HANS!$B$2:$B$77,\"GLÓRIA\",CURA_CASOS_HANS!K$2:K$77)","v":30},{"$f":"SUMIF(CURA_CASOS_HANS!$B$2:$B$77,\"GLÓRIA\",CURA_CASOS_HANS!L$2:L$77)","v":21},{"$f":"SUMIF(CURA_CASOS_HANS!$B$2:$B$77,\"GLÓRIA\",CURA_CASOS_HANS!M$2:M$77)","v":23},{"$f":"SUMIF(CURA_CASOS_HANS!$B$2:$B$77,\"GLÓRIA\",CURA_CASOS_HANS!N$2:N$77)","v":0},{"$f":"SUMIF(CURA_CASOS_HANS!$B$2:$B$77,\"GLÓRIA\",CURA_CASOS_HANS!O$2:O$77)","v":31},{"$f":"SUMIF(CURA_CASOS_HANS!$B$2:$B$77,\"GLÓRIA\",CURA_CASOS_HANS!P$2:P$77)","v":41},{"$f":"SUMIF(CURA_CASOS_HANS!$B$2:$B$77,\"GLÓRIA\",CURA_CASOS_HANS!Q$2:Q$77)","v":29},{"$f":"SUMIF(CURA_CASOS_HANS!$B$2:$B$77,\"GLÓRIA\",CURA_CASOS_HANS!R$2:R$77)","v":19},{"$f":"SUMIF(CURA_CASOS_HANS!$B$2:$B$77,\"GLÓRIA\",CURA_CASOS_HANS!S$2:S$77)","v":27},{"$f":"SUMIF(CURA_CASOS_HANS!$B$2:$B$77,\"GLÓRIA\",CURA_CASOS_HANS!T$2:T$77)","v":26},{"$f":"SUMIF(CURA_CASOS_HANS!$B$2:$B$77,\"GLÓRIA\",CURA_CASOS_HANS!U$2:U$77)","v":33},{"$f":"SUMIF(CURA_CASOS_HANS!$B$2:$B$77,\"GLÓRIA\",CURA_CASOS_HANS!V$2:V$77)","v":28},{"$f":"SUMIF(CURA_CASOS_HANS!$B$2:$B$77,\"GLÓRIA\",CURA_CASOS_HANS!W$2:W$77)","v":27},{"$f":"SUMIF(CURA_CASOS_HANS!$B$2:$B$77,\"GLÓRIA\",CURA_CASOS_HANS!X$2:X$77)","v":0},0.93548387096774188,0.87804878048780488,0.7931034482758621,0.89473684210526316,0.85185185185185186,0.92307692307692313,0.90909090909090906,0.75,0.85185185185185186,0.75,{"$f":"METAS!I83","v":0.9},"NÃO ATINGIU"]
[4,"ITABAIANA",{"$f":"SUMIF(CURA_CASOS_HANS!$B$2:$B$77,\"ITABAIANA\",CURA_CASOS_HANS!D$2:D$77)","v":248651},{"$f":"SUMIF(CURA_CASOS_HANS!$B$2:$B$77,\"ITABAIANA\",CURA_CASOS_HANS!E$2:E$77)","v":96},{"$f":"SUMIF(CURA_CASOS_HANS!$B$2:$B$77,\"ITABAIANA\",CURA_CASOS_HANS!F$2:F$77)","v":77},{"$f":"SUMIF(CURA_CASOS_HANS!$B$2:$B$77,\"ITABAIANA\",CURA_CASOS_HANS!G$2:G$77)","v":85},{"$f":"SUMIF(CURA_CASOS_HANS!$B$2:$B$77,\"ITABAIANA\",CURA_CASOS_HANS!H$2:H$77)","v":65},{"$f":"SUMIF(CURA_CASOS_HANS!$B$2:$B$77,\"ITABAIANA\",CURA_CASOS_HANS!I$2:I$77)","v":50},{"$f":"SUMIF(CURA_CASOS_HANS!$B$2:$B$77,\"ITABAIANA\",CURA_CASOS_HANS!J$2:J$77)","v":92},{"$f":"SUMIF(CURA_CASOS_HANS!$B$2:$B$77,\"ITABAIANA\",CURA_CASOS_HANS!K$2:K$77)","v":46},{"$f":"SUMIF(CURA_CASOS_HANS!$B$2:$B$77,\"ITABAIANA\",CURA_CASOS_HANS!L$2:L$77)","v":51},{"$f":"SUMIF(CURA_CASOS_HANS!$B$2:$B$77,\"ITABAIANA\",CURA_CASOS_HANS!M$2:M$77)","v":56},{"$f":"SUMIF(CURA_CASOS_HANS!$B$2:$B$77,\"ITABAIANA\",CURA_CASOS_HANS!N$2:N$77)","v":0},{"$f":"SUMIF(CURA_CASOS_HANS!$B$2:$B$77,\"ITABAIANA\",CURA_CASOS_HANS!O$2:O$77)","v":103},{"$f":"SUMIF(CURA_CASOS_HANS!$B$2:$B$77,\"ITABAIANA\",CURA_CASOS_HANS!P$2:P$77)","v":82},{"$f":"SUMIF(CURA_CASOS_HANS!$B$2:$B$77,\"ITABAIANA\",CURA_CASOS_HANS!Q$2:Q$77)","v":90},{"$f":"SUMIF(CURA_CASOS_HANS!$B$2:$B$77,\"ITABAIANA\",CURA_CASOS_HANS!R$2:R$77)","v":68},{"$f":"SUMIF(CURA_CASOS_HANS!$B$2:$B$77,\"ITABAIANA\",CURA_CASOS_HANS!S$2:S$77)","v":53},{"$f":"SUMIF(CURA_CASOS_HANS!$B$2:$B$77,\"ITABAIANA\",CURA_CASOS_HANS!T$2:T$77)","v":97},{"$f":"SUMIF(CURA_CASOS_HANS!$B$2:$B$77,\"ITABAIANA\",CURA_CASOS_HANS!U$2:U$77)","v":50},{"$f":"SUMIF(CURA_CASOS_HANS!$B$2:$B$77,\"ITABAIANA\",CURA_CASOS_HANS!V$2:V$77)","v":56},{"$f":"SUMIF(CURA_CASOS_HANS!$B$2:$B$77,\"ITABAIANA\",CURA_CASOS_HANS!W$2:W$77)","v":59},{"$f":"SUMIF(CURA_CASOS_HANS!$B$2:$B$77,\"ITABAIANA\",CURA_CASOS_HANS!X$2:X$77)","v":0},0.93203883495145634,0.93902439024390238,0.94444444444444442,0.95588235294117652,0.94339622641509435,0.94845360824742264,0.92,0.9107142857142857,0.94915254237288138,0.88639999999999997,{"$f":"METAS!I84","v":0.9},"NÃO ATINGIU"]
[5,"LAGARTO",{"$f":"SUMIF(CURA_CASOS_HANS!$B$2:$B$77,\"LAGARTO\",CURA_CASOS_HANS!D$2:D$77)","v":257634},{"$f":"SUMIF(CURA_CASOS_HANS!$B$2:$B$77,\"LAGARTO\",CURA_CASOS_HANS!E$2:E$77)","v":41},{"$f":"SUMIF(CURA_CASOS_HANS!$B$2:$B$77,\"LAGARTO\",CURA_CASOS_HANS!F$2:F$77)","v":33},{"$f":"SUMIF(CURA_CASOS_HANS!$B$2:$B$77,\"LAGARTO\",CURA_CASOS_HANS!G$2:G$77)","v":57},{"$f":"SUMIF(CURA_CASOS_HANS!$B$2:$B$77,\"LAGARTO\",CURA_CASOS_HANS!H$2:H$77)","v":41},{"$f":"SUMIF(CURA_CASOS_HANS!$B$2:$B$77,\"LAGARTO\",CURA_CASOS_HANS!I$2:I$77)","v":49},{"$f":"SUMIF(CURA_CASOS_HANS!$B$2:$B$77,\"LAGARTO\",CURA_CASOS_HANS!J$2:J$77)","v":46},{"$f":"SUMIF(CURA_CASOS_HANS!$B$2:$B$77,\"LAGARTO\",CURA_CASOS_HANS!K$2:K$77)","v":43},{"$f":"SUMIF(CURA_CASOS_HANS!$B$2:$B$77,\"LAGARTO\",CURA_CASOS_HANS!L$2:L$77)","v":33},{"$f":"SUMIF(CURA_CASOS_HANS!$B$2:$B$77,\"LAGARTO\",CURA_CASOS_HANS!M$2:M$77)","v":43},{"$f":"SUMIF(CURA_CASOS_HANS!$B$2:$B$77,\"LAGARTO\",CURA_CASOS_HANS!N$2:N$77)","v":0},{"$f":"SUMIF(CURA_CASOS_HANS!$B$2:$B$77,\"LAGARTO\",CURA_CASOS_HANS!O$2:O$77)","v":47},{"$f":"SUMIF(CURA_CASOS_HANS!$B$2:$B$77,\"LAGARTO\",CURA_CASOS_HANS!P$2:P$77)","v":36},{"$f":"SUMIF(CURA_CASOS_HANS!$B$2:$B$77,\"LAGARTO\",CURA_CASOS_HANS!Q$2:Q$77)","v":59},{"$f":"SUMIF(CURA_CASOS_HANS!$B$2:$B$77,\"LAGARTO\",CURA_CASOS_HANS!R$2:R$77)","v":44},{"$f":"SUMIF(CURA_CASOS_HANS!$B$2:$B$77,\"LAGARTO\",CURA_CASOS_HANS!S$2:S$77)","v":51},{"$f":"SUMIF(CURA_CASOS_HANS!$B$2:$B$77,\"LAGARTO\",CURA_CASOS_HANS!T$2:T$77)","v":52},{"$f":"SUMIF(CURA_CASOS_HANS!$B$2:$B$77,\"LAGARTO\",CURA_CASOS_HANS!U$2:U$77)","v":50},{"$f":"SUMIF(CURA_CASOS_HANS!$B$2:$B$77,\"LAGARTO\",CURA_CASOS_HANS!V$2:V$77)","v":40},{"$f":"SUMIF(CURA_CASOS_HANS!$B$2:$B$77,\"LAGARTO\",CURA_CASOS_HANS!W$2:W$77)","v":47},{"$f":"SUMIF(CURA_CASOS_HANS!$B$2:$B$77,\"LAGARTO\",CURA_CASOS_HANS!X$2:X$77)","v":0},0.87234042553191493,0.91666666666666663,0.96610169491525422,0.93181818181818177,0.96078431372549022,0.88461538461538458,0.86,0.82499999999999996,0.91489361702127658,0.72729999999999995,{"$f":"METAS!I85","v":0.9},"NÃO ATINGIU"]
[6,"PROPRIÁ",{"$f":"SUMIF(CURA_CASOS_HANS!$B$2:$B$77,\"PROPRIÁ\",CURA_CASOS_HANS!D$2:D$77)","v":158896},{"$f":"SUMIF(CURA_CASOS_HANS!$B$2:$B$77,\"PROPRIÁ\",CURA_CASOS_HANS!E$2:E$77)","v":21},{"$f":"SUMIF(CURA_CASOS_HANS!$B$2:$B$77,\"PROPRIÁ\",CURA_CASOS_HANS!F$2:F$77)","v":12},{"$f":"SUMIF(CURA_CASOS_HANS!$B$2:$B$77,\"PROPRIÁ\",CURA_CASOS_HANS!G$2:G$77)","v":14},{"$f":"SUMIF(CURA_CASOS_HANS!$B$2:$B$77,\"PROPRIÁ\",CURA_CASOS_HANS!H$2:H$77)","v":18},{"$f":"SUMIF(CURA_CASOS_HANS!$B$2:$B$77,\"PROPRIÁ\",CURA_CASOS_HANS!I$2:I$77)","v":18},{"$f":"SUMIF(CURA_CASOS_HANS!$B$2:$B$77,\"PROPRIÁ\",CURA_CASOS_HANS!J$2:J$77)","v":22},{"$f":"SUMIF(CURA_CASOS_HANS!$B$2:$B$77,\"PROPRIÁ\",CURA_CASOS_HANS!K$2:K$77)","v":21},{"$f":"SUMIF(CURA_CASOS_HANS!$B$2:$B$77,\"PROPRIÁ\",CURA_CASOS_HANS!L$2:L$77)","v":22},{"$f":"SUMIF(CURA_CASOS_HANS!$B$2:$B$77,\"PROPRIÁ\",CURA_CASOS_HANS!M$2:M$77)","v":18},{"$f":"SUMIF(CURA_CASOS_HANS!$B$2:$B$77,\"PROPRIÁ\",CURA_CASOS_HANS!N$2:N$77)","v":0},{"$f":"SUMIF(CURA_CASOS_HANS!$B$2:$B$77,\"PROPRIÁ\",CURA_CASOS_HANS!O$2:O$77)","v":26},{"$f":"SUMIF(CURA_CASOS_HANS!$B$2:$B$77,\"PROPRIÁ\",CURA_CASOS_HANS!P$2:P$77)","v":16},{"$f":"SUMIF(CURA_CASOS_HANS!$B$2:$B$77,\"PROPRIÁ\",CURA_CASOS_HANS!Q$2:Q$77)","v":15},{"$f":"SUMIF(CURA_CASOS_HANS!$B$2:$B$77,\"PROPRIÁ\",CURA_CASOS_HANS!R$2:R$77)","v":21},{"$f":"SUMIF(CURA_CASOS_HANS!$B$2:$B$77,\"PROPRIÁ\",CURA_CASOS_HANS!S$2:S$77)","v":19},{"$f":"SUMIF(CURA_CASOS_HANS!$B$2:$B$77,\"PROPRIÁ\",CURA_CASOS_HANS!T$2:T$77)","v":26},{"$f":"SUMIF(CURA_CASOS_HANS!$B$2:$B$77,\"PROPRIÁ\",CURA_CASOS_HANS!U$2:U$77)","v":23},{"$f":"SUMIF(CURA_CASOS_HANS!$B$2:$B$77,\"PROPRIÁ\",CURA_CASOS_HANS!V$2:V$77)","v":23},{"$f":"SUMIF(CURA_CASOS_HANS!$B$2:$B$77,\"PROPRIÁ\",CURA_CASOS_HANS!W$2:W$77)","v":21},{"$f":"SUMIF(CURA_CASOS_HANS!$B$2:$B$77,\"PROPRIÁ\",CURA_CASOS_HANS!X$2:X$77)","v":0},0.80769230769230771,0.75,0.93333333333333335,0.8571428571428571,0.94736842105263153,0.84615384615384615,0.91304347826086951,0.95652173913043481,0.8571428571428571,0.84209999999999996,{"$f":"METAS!I86","v":0.9},"NÃO ATINGIU"]
[7,"SOCORRO",{"$f":"SUMIF(CURA_CASOS_HANS!$B$2:$B$77,\"SOCORRO\",CURA_CASOS_HANS!D$2:D$77)","v":335353},{"$f":"SUMIF(CURA_CASOS_HANS!$B$2:$B$77,\"SOCORRO\",CURA_CASOS_HANS!E$2:E$77)","v":62},{"$f":"SUMIF(CURA_CASOS_HANS!$B$2:$B$77,\"SOCORRO\",CURA_CASOS_HANS!F$2:F$77)","v":52},{"$f":"SUMIF(CURA_CASOS_HANS!$B$2:$B$77,\"SOCORRO\",CURA_CASOS_HANS!G$2:G$77)","v":53},{"$f":"SUMIF(CURA_CASOS_HANS!$B$2:$B$77,\"SOCORRO\",CURA_CASOS_HANS!H$2:H$77)","v":30},{"$f":"SUMIF(CURA_CASOS_HANS!$B$2:$B$77,\"SOCORRO\",CURA_CASOS_HANS!I$2:I$77)","v":50},{"$f":"SUMIF(CURA_CASOS_HANS!$B$2:$B$77,\"SOCORRO\",CURA_CASOS_HANS!J$2:J$77)","v":43},{"$f":"SUMIF(CURA_CASOS_HANS!$B$2:$B$77,\"SOCORRO\",CURA_CASOS_HANS!K$2:K$77)","v":45},{"$f":"SUMIF(CURA_CASOS_HANS!$B$2:$B$77,\"SOCORRO\",CURA_CASOS_HANS!L$2:L$77)","v":50},{"$f":"SUMIF(CURA_CASOS_HANS!$B$2:$B$77,\"SOCORRO\",CURA_CASOS_HANS!M$2:M$77)","v":23},{"$f":"SUMIF(CURA_CASOS_HANS!$B$2:$B$77,\"SOCORRO\",CURA_CASOS_HANS!N$2:N$77)","v":0},{"$f":"SUMIF(CURA_CASOS_HANS!$B$2:$B$77,\"SOCORRO\",CURA_CASOS_HANS!O$2:O$77)","v":67},{"$f":"SUMIF(CURA_CASOS_HANS!$B$2:$B$77,\"SOCORRO\",CURA_CASOS_HANS!P$2:P$77)","v":58},{"$f":"SUMIF(CURA_CASOS_HANS!$B$2:$B$77,\"SOCORRO\",CURA_CASOS_HANS!Q$2:Q$77)","v":62},{"$f":"SUMIF(CURA_CASOS_HANS!$B$2:$B$77,\"SOCORRO\",CURA_CASOS_HANS!R$2:R$77)","v":38},{"$f":"SUMIF(CURA_CASOS_HANS!$B$2:$B$77,\"SOCORRO\",CURA_CASOS_HANS!S$2:S$77)","v":57},{"$f":"SUMIF(CURA_CASOS_HANS!$B$2:$B$77,\"SOCORRO\",CURA_CASOS_HANS!T$2:T$77)","v":54},{"$f":"SUMIF(CURA_CASOS_HANS!$B$2:$B$77,\"SOCORRO\",CURA_CASOS_HANS!U$2:U$77)","v":48},{"$f":"SUMIF(CURA_CASOS_HANS!$B$2:$B$77,\"SOCORRO\",CURA_CASOS_HANS!V$2:V$77)","v":56},{"$f":"SUMIF(CURA_CASOS_HANS!$B$2:$B$77,\"SOCORRO\",CURA_CASOS_HANS!W$2:W$77)","v":41},{"$f":"SUMIF(CURA_CASOS_HANS!$B$2:$B$77,\"SOCORRO\",CURA_CASOS_HANS!X$2:X$77)","v":0},0.92537313432835822,0.89655172413793105,0.85483870967741937,0.78947368421052633,0.8771929824561403,0.79629629629629628,0.9375,0.8928571428571429,0.56097560975609762,0.74250000000000005,{"$f":"METAS!I87","v":0.9},"NÃO ATINGIU"]
[8,"SERGIPE",{"$f":"SUMIF(CURA_CASOS_HANS!$B$2:$B$77,\"SERGIPE\",CURA_CASOS_HANS!D$2:D$77)","v":2242948},{"$f":"SUMIF(CURA_CASOS_HANS!$B$2:$B$77,\"SERGIPE\",CURA_CASOS_HANS!E$2:E$77)","v":434},{"$f":"SUMIF(CURA_CASOS_HANS!$B$2:$B$77,\"SERGIPE\",CURA_CASOS_HANS!F$2:F$77)","v":398},{"$f":"SUMIF(CURA_CASOS_HANS!$B$2:$B$77,\"SERGIPE\",CURA_CASOS_HANS!G$2:G$77)","v":432},{"$f":"SUMIF(CURA_CASOS_HANS!$B$2:$B$77,\"SERGIPE\",CURA_CASOS_HANS!H$2:H$77)","v":344},{"$f":"SUMIF(CURA_CASOS_HANS!$B$2:$B$77,\"SERGIPE\",CURA_CASOS_HANS!I$2:I$77)","v":359},{"$f":"SUMIF(CURA_CASOS_HANS!$B$2:$B$77,\"SERGIPE\",CURA_CASOS_HANS!J$2:J$77)","v":401},{"$f":"SUMIF(CURA_CASOS_HANS!$B$2:$B$77,\"SERGIPE\",CURA_CASOS_HANS!K$2:K$77)","v":366},{"$f":"SUMIF(CURA_CASOS_HANS!$B$2:$B$77,\"SERGIPE\",CURA_CASOS_HANS!L$2:L$77)","v":346},{"$f":"SUMIF(CURA_CASOS_HANS!$B$2:$B$77,\"SERGIPE\",CURA_CASOS_HANS!M$2:M$77)","v":296},{"$f":"SUMIF(CURA_CASOS_HANS!$B$2:$B$77,\"SERGIPE\",CURA_CASOS_HANS!N$2:N$77)","v":0},{"$f":"SUMIF(CURA_CASOS_HANS!$B$2:$B$77,\"SERGIPE\",CURA_CASOS_HANS!O$2:O$77)","v":480},{"$f":"SUMIF(CURA_CASOS_HANS!$B$2:$B$77,\"SERGIPE\",CURA_CASOS_HANS!P$2:P$77)","v":441},{"$f":"SUMIF(CURA_CASOS_HANS!$B$2:$B$77,\"SERGIPE\",CURA_CASOS_HANS!Q$2:Q$77)","v":470},{"$f":"SUMIF(CURA_CASOS_HANS!$B$2:$B$77,\"SERGIPE\",CURA_CASOS_HANS!R$2:R$77)","v":377},{"$f":"SUMIF(CURA_CASOS_HANS!$B$2:$B$77,\"SERGIPE\",CURA_CASOS_HANS!S$2:S$77)","v":389},{"$f":"SUMIF(CURA_CASOS_HANS!$B$2:$B$77,\"SERGIPE\",CURA_CASOS_HANS!T$2:T$77)","v":438},{"$f":"SUMIF(CURA_CASOS_HANS!$B$2:$B$77,\"SERGIPE\",CURA_CASOS_HANS!U$2:U$77)","v":398},{"$f":"SUMIF(CURA_CASOS_HANS!$B$2:$B$77,\"SERGIPE\",CURA_CASOS_HANS!V$2:V$77)","v":384},{"$f":"SUMIF(CURA_CASOS_HANS!$B$2:$B$77,\"SERGIPE\",CURA_CASOS_HANS!W$2:W$77)","v":356},{"$f":"SUMIF(CURA_CASOS_HANS!$B$2:$B$77,\"SERGIPE\",CURA_CASOS_HANS!X$2:X$77)","v":0},0.90416666666666667,0.9024943310657596,0.91914893617021276,0.91246684350132623,0.92287917737789205,0.91552511415525117,0.91959798994974873,0.90104166666666663,0.8314606741573034,{"$f":"CURA_CASOS_HANS!AH77","v":0.8095},{"$f":"METAS!I77","v":0.9},"NÃO ATINGIU"]

{"sheet":"SIFILIS_CONG_1ANO","index":99,"n_rows":99,"n_cols":16,"rows_kept":99,"cut":false,"hidden":true,"merged":[]}
[" INVESTIGAÇÃO DE SÍFILIS CONGENITA - Sinan NET"]
["Freqüência por Ano Diagnóstico segundo Mun Resid SE"]
["COD IBGE","REGIÃO","MUNICIPIO","POP 2015","SIFILIS CONG < 1 ANO 2008","SIFILIS CONG < 1 ANO 2009","SIFILIS CONG < 1 ANO 2010","SIFILIS CONG < 1 ANO 2011","SIFILIS CONG < 1 ANO 2012","SIFILIS CONG < 1 ANO 2013","SIFILIS CONG < 1 ANO 2014","SIFILIS CONG < 1 ANO 2015","SIFILIS CONG < 1 ANO 2016","SIFILIS CONG < 1 ANO 2017","META PACTUADA 2017","SITUAÇÃO"]
[280010,"PROPRIÁ","AMPARO DE SÃO FRANCISCO",2374,0,1,0,0,0,1,0,0,0,0,0,{"$f":"IF(N4<=O4,\"ATINGIU\",\"NÃO ATINGIU\")","v":"ATINGIU"}]
[280020,"PROPRIÁ","AQUIDABÃ",21315,2,2,2,0,5,8,1,6,3,2,2,"ATINGIU"]
[280030,"ARACAJU","ARACAJU",632745,33,43,49,66,119,99,104,71,100,69,71,"ATINGIU"]
[280040,"ESTÂNCIA","ARAUÁ",10572,1,2,0,1,3,2,4,6,1,4,2,"NÃO ATINGIU"]
[280050,"ITABAIANA","AREIA BRANCA",18169,0,4,7,5,0,1,1,1,3,1,1,"ATINGIU"]
[280060,"ARACAJU","BARRA DOS COQUEIROS",28679,4,5,6,7,4,7,13,19,4,5,8,"ATINGIU"]
[280067,"ESTÂNCIA","BOQUIM",26750,3,2,5,0,3,3,2,3,3,7,2,{"$f":"IF(N10<=O10,\"ATINGIU\",\"NÃO ATINGIU\")","v":"NÃO ATINGIU"}]
[280070,"PROPRIÁ","BREJO GRANDE",8218,0,0,0,1,0,0,0,0,0,0,0,"ATINGIU"]
[280100,"ITABAIANA","CAMPO DO BRITO",17851,3,0,6,7,10,14,3,5,4,1,1,"ATINGIU"]
[280110,"PROPRIÁ","CANHOBA",4059,0,0,1,1,1,1,0,0,0,0,0,"ATINGIU"]
[280120,"GLÓRIA","CANINDÉ DE SÃO FRANCISCO",28279,1,0,1,3,3,4,6,3,1,4,1,"NÃO ATINGIU"]
[280130,"SOCORRO","CAPELA",33378,6,3,5,6,6,10,9,8,6,5,5,"ATINGIU"]
[280140,"ITABAIANA","CARIRA",21487,2,1,0,2,2,3,0,2,2,0,1,"ATINGIU"]
[280150,"SOCORRO","CARMÓPOLIS",15621,2,0,2,3,3,2,3,3,1,2,1,"NÃO ATINGIU"]
[280160,"PROPRIÁ","CEDRO DE SÃO JOÃO",5890,0,1,0,0,0,0,0,1,0,1,0,"NÃO ATINGIU"]
[280170,"ESTÂNCIA","CRISTINÁPOLIS",17911,0,1,1,2,2,2,6,6,3,2,2,"ATINGIU"]
[280190,"SOCORRO","CUMBE",3986,0,0,0,0,0,0,1,1,0,0,0,"ATINGIU"]
[280200,"ARACAJU","DIVINA PASTORA",4889,1,1,1,2,3,2,1,1,1,1,0,"NÃO ATINGIU"]
[280210,"ESTÂNCIA","ESTÂNCIA",68407,11,10,16,16,14,17,16,10,15,16,14,"NÃO ATINGIU"]
[280220,"GLÓRIA","FEIRA NOVA",5571,0,0,0,2,0,0,1,4,2,4,1,"NÃO ATINGIU"]
[280230,"ITABAIANA","FREI PAULO",15044,0,1,1,0,1,1,2,3,0,0,1,"ATINGIU"]
[280240,"GLÓRIA","GARARU",11724,0,0,0,0,0,0,1,0,2,0,1,"ATINGIU"]
[280250,"SOCORRO","GENERAL MAYNARD",3230,0,0,2,0,0,1,0,0,1,0,0,"ATINGIU"]
[280260,"GLÓRIA","GRACHO CARDOSO",5846,0,0,0,0,1,2,1,1,1,0,1,"ATINGIU"]
[280270,"PROPRIÁ","ILHA DAS FLORES",8597,0,0,2,0,1,0,2,0,0,0,0,"ATINGIU"]
[280280,"ESTÂNCIA","INDIAROBA",17384,0,1,3,1,2,3,1,5,0,3,0,"NÃO ATINGIU"]
[280290,"ITABAIANA","ITABAIANA",93573,2,4,4,16,19,23,24,16,10,14,7,"NÃO ATINGIU"]
[280300,"ESTÂNCIA","ITABAIANINHA",41405,0,2,4,6,5,4,8,6,17,13,14,"ATINGIU"]
[280310,"GLÓRIA","ITABI",5017,0,0,0,0,0,1,0,0,0,0,0,"ATINGIU"]
[280320,"ARACAJU","ITAPORANGA D'AJUDA",33320,1,4,2,1,4,2,7,5,9,10,5,"NÃO ATINGIU"]
[280330,"SOCORRO","JAPARATUBA",18286,1,2,1,2,6,3,1,2,0,2,2,"ATINGIU"]
[280340,"PROPRIÁ","JAPOATÃ",13245,2,0,1,1,3,1,1,3,0,2,0,"NÃO ATINGIU"]
[280350,"LAGARTO","LAGARTO",102259,1,2,4,13,21,12,6,7,7,10,5,"NÃO ATINGIU"]
[280360,"ARACAJU","LARANJEIRAS",29127,0,0,0,3,9,13,4,7,7,5,5,"ATINGIU"]
[280370,"ITABAIANA","MACAMBIRA",6823,0,1,2,1,2,3,1,2,1,0,0,"ATINGIU"]
[280380,"PROPRIÁ","MALHADA DOS BOIS",3652,0,2,1,0,0,2,3,0,0,0,0,"ATINGIU"]
[280390,"ITABAIANA","MALHADOR",12601,0,2,0,0,0,3,0,2,2,1,1,"ATINGIU"]
[280400,"SOCORRO","MARUIM",17151,0,1,1,1,6,3,5,3,6,7,4,"NÃO ATINGIU"]
[280410,"ITABAIANA","MOITA BONITA",11399,0,0,0,0,1,2,0,2,1,1,2,"ATINGIU"]
[280420,"GLÓRIA","MONTE ALEGRE DE SERGIPE",14853,0,0,1,0,1,4,1,4,2,1,1,"ATINGIU"]
[280430,"PROPRIÁ","MURIBECA",7644,3,0,0,1,1,4,1,1,0,1,0,"NÃO ATINGIU"]
[280440,"PROPRIÁ","NEÓPOLIS",18958,2,2,0,0,3,2,0,2,2,3,1,"NÃO ATINGIU"]
[280445,"ITABAIANA","NOSSA SENHORA APARECIDA",8830,0,0,0,2,1,0,1,1,0,0,0,"ATINGIU"]
[280450,"GLÓRIA","NOSSA SENHORA DA GLÓRIA",35723,0,0,5,3,2,0,5,4,1,0,1,"ATINGIU"]
[280460,"SOCORRO","NOSSA SENHORA DAS DORES",26237,5,1,1,11,5,8,6,7,2,3,3,"ATINGIU"]
[280470,"PROPRIÁ","NOSSA SENHORA DE LOURDES",6494,0,0,0,1,0,0,1,0,0,0,0,"ATINGIU"]
[280480,"SOCORRO","NOSSA SENHORA DO SOCORRO",177340,7,18,17,30,29,65,71,71,50,35,55,"ATINGIU"]
[280490,"PROPRIÁ","PACATUBA",14164,0,0,2,0,0,0,2,1,1,3,2,"NÃO ATINGIU"]
[280500,"ITABAIANA","PEDRA MOLE",3199,0,0,0,0,0,0,0,0,0,0,0,"ATINGIU"]
[280510,"ESTÂNCIA","PEDRINHAS",9455,0,2,0,2,2,2,0,2,0,1,0,"NÃO ATINGIU"]
[280520,"ITABAIANA","PINHÃO",6439,0,1,0,2,0,0,1,0,1,2,1,"NÃO ATINGIU"]
[280530,"SOCORRO","PIRAMBU",9058,1,2,0,0,0,1,3,2,8,3,6,"ATINGIU"]
[280540,"GLÓRIA","POÇO REDONDO",33756,0,0,0,4,6,3,3,3,5,1,2,"ATINGIU"]
[280550,"LAGARTO","POÇO VERDE",23413,0,1,0,0,1,0,4,0,0,2,0,"NÃO ATINGIU"]
[280560,"GLÓRIA","PORTO DA FOLHA",28497,0,0,3,1,1,4,0,1,3,0,2,"ATINGIU"]
[280570,"PROPRIÁ","PROPRIÁ",29657,3,1,2,3,6,4,4,1,3,8,1,"NÃO ATINGIU"]
[280580,"LAGARTO","RIACHÃO DO DANTAS",19976,0,1,1,1,1,1,0,2,0,0,0,"ATINGIU"]
[280590,"ARACAJU","RIACHUELO",10033,2,0,0,6,2,6,7,6,3,1,5,"ATINGIU"]
[280600,"ITABAIANA","RIBEIRÓPOLIS",18363,1,1,1,1,2,0,0,0,0,0,0,"ATINGIU"]
[280610,"SOCORRO","ROSÁRIO DO CATETE",10367,1,1,1,2,0,5,6,4,7,6,5,"NÃO ATINGIU"]
[280620,"LAGARTO","SALGADO",20082,0,0,0,1,3,2,3,1,0,1,0,"NÃO ATINGIU"]
[280630,"ESTÂNCIA","SANTA LUZIA DO ITANHY",13838,0,1,2,0,0,0,2,5,4,0,3,"ATINGIU"]
[280640,"PROPRIÁ","SANTANA DO SÃO FRANCISCO",7607,1,0,1,0,2,0,0,1,0,0,0,"ATINGIU"]
[280650,"ARACAJU","SANTA ROSA DE LIMA",3912,0,0,1,1,0,1,0,2,1,0,1,"ATINGIU"]
[280660,"SOCORRO","SANTO AMARO DAS BROTAS",12024,0,0,0,0,2,2,5,3,2,5,3,"NÃO ATINGIU"]
[280670,"ARACAJU","SÃO CRISTÓVÃO",86979,6,7,7,10,23,19,19,23,21,9,15,"ATINGIU"]
[280680,"ITABAIANA","SÃO DOMINGOS",10971,0,0,3,0,0,3,0,1,1,2,0,"NÃO ATINGIU"]
[280690,"PROPRIÁ","SÃO FRANCISCO",3851,1,0,0,0,0,0,0,1,0,0,0,"ATINGIU"]
[280700,"ITABAIANA","SÃO MIGUEL DO ALEIXO",3902,0,0,1,0,1,1,1,0,0,0,0,"ATINGIU"]
[280710,"LAGARTO","SIMÃO DIAS",40530,2,0,0,2,3,4,2,3,4,1,4,"ATINGIU"]
[280720,"SOCORRO","SIRIRI",8675,1,1,1,0,1,5,1,2,0,3,1,"NÃO ATINGIU"]
[280730,"PROPRIÁ","TELHA",3171,0,0,0,0,0,1,0,0,0,0,0,{"$f":"IF(N75<=O75,\"ATINGIU\",\"NÃO ATINGIU\")","v":"ATINGIU"}]
[280740,"LAGARTO","TOBIAS BARRETO",51374,1,3,0,8,11,4,4,2,2,4,2,"NÃO ATINGIU"]
[280750,"ESTÂNCIA","TOMAR DO GERU",13200,0,1,1,1,0,1,4,7,3,0,2,"ATINGIU"]
[280760,"ESTÂNCIA","UMBAÚBA",24542,3,6,3,1,0,4,8,7,9,9,6,"NÃO ATINGIU"]
[280000,"SERGIPE","SERGIPE",2242948,116,148,184,263,368,411,403,384,348,296,300,"ATINGIU"]
[]
[1,2,3,4,5,6,7,8,9,10,11,12,13,14,15,16]
[]
["[Opções]",null,null,null,null,"[Opções]"]
["DEF=F:\\Users\\ECPSANTOS\\Documents\\SUS SES\\SINAN\\BaseDBF\\SifilisNET.def",null,null,null,null,"DEF=E:\\SUS\\SINAN\\SifilisNET.def"]
["PATH=F:\\Users\\ECPSANTOS\\Documents\\SUS SES\\SINAN\\BaseDBF\\SifiCN*.DBF",null,null,null,null,"PATH=E:\\SUS\\SINAN\\basedbf 16.10.2017 sinan net\\SifiCN*.DBF"]
["Linha=Mun Resid SE",null,null,null,null,"Linha=Mun Resid SE"]
["Coluna=Ano Diagnóstico",null,null,null,null,"Coluna=Ano Diagnóstico"]
["Incremento=Freqüência",null,null,null,null,"Incremento=Freqüência"]
["Suprime_Linhas_Zeradas=false",null,null,null,null,"Suprime_Linhas_Zeradas=false"]
["Suprime_Colunas_Zeradas=true",null,null,null,null,"Suprime_Colunas_Zeradas=true"]
["Não_Classificados=0",null,null,null,null,"Não_Classificados=0"]
["[Seleções_Ativas]",null,null,null,null,"[Seleções_Ativas]"]
["Ano Diagnóstico: 2007|2008|2009|2010|2011|2012|2013|2014|2015|2016",null,null,null,null,"Mes Diagnóstico: Janeiro|Fevereiro|Marco|Abril|Maio|Junho|Julho|Agosto"]
["Fx Etária (5): <1 Ano",null,null,null,null,"Ano Diagnóstico: 2007|2008|2009|2010|2011|2012|2013|2014|2015|2016|2017"]
["[Arquivos]",null,null,null,null,"Fx Etária (5): <1 Ano"]
["SIFICNET.DBF",null,null,null,null,"[Arquivos]"]
["Registros_Processados= 2822",null,null,null,null,"SIFICNET.DBF"]
["Tempo_Decorrido= 0:00",null,null,null,null,"Registros_Processados= 3145"]
[null,null,null,null,null,"Tempo_Decorrido= 0:00"]

{"sheet":"SIFILIS_CONG_1ANO_REG","index":100,"n_rows":9,"n_cols":15,"rows_kept":9,"cut":false,"hidden":true,"merged":[]}
["COD IBGE","REGIÃO","POP 2015","SIFILIS CONG < 1 ANO 2008","SIFILIS CONG < 1 ANO 2009","SIFILIS CONG < 1 ANO 2010","SIFILIS CONG < 1 ANO 2011","SIFILIS CONG < 1 ANO 2012","SIFILIS CONG < 1 ANO 2013","SIFILIS CONG < 1 ANO 2014","SIFILIS CONG < 1 ANO 2015","SIFILIS CONG < 1 ANO 2016","SIFILIS CONG < 1 ANO 2017","META PACTUADA 2017","SITUAÇÃO"]
[1,"ARACAJU",{"$f":"SUMIF(SIFILIS_CONG_1ANO!$B$4:$B$79,\"ARACAJU\",SIFILIS_CONG_1ANO!D$4:D$79)","v":829684},{"$f":"SUMIF(SIFILIS_CONG_1ANO!$B$4:$B$79,\"ARACAJU\",SIFILIS_CONG_1ANO!E$4:E$79)","v":47},{"$f":"SUMIF(SIFILIS_CONG_1ANO!$B$4:$B$79,\"ARACAJU\",SIFILIS_CONG_1ANO!F$4:F$79)","v":60},{"$f":"SUMIF(SIFILIS_CONG_1ANO!$B$4:$B$79,\"ARACAJU\",SIFILIS_CONG_1ANO!G$4:G$79)","v":66},{"$f":"SUMIF(SIFILIS_CONG_1ANO!$B$4:$B$79,\"ARACAJU\",SIFILIS_CONG_1ANO!H$4:H$79)","v":96},{"$f":"SUMIF(SIFILIS_CONG_1ANO!$B$4:$B$79,\"ARACAJU\",SIFILIS_CONG_1ANO!I$4:I$79)","v":164},{"$f":"SUMIF(SIFILIS_CONG_1ANO!$B$4:$B$79,\"ARACAJU\",SIFILIS_CONG_1ANO!J$4:J$79)","v":149},{"$f":"SUMIF(SIFILIS_CONG_1ANO!$B$4:$B$79,\"ARACAJU\",SIFILIS_CONG_1ANO!K$4:K$79)","v":155},{"$f":"SUMIF(SIFILIS_CONG_1ANO!$B$4:$B$79,\"ARACAJU\",SIFILIS_CONG_1ANO!L$4:L$79)","v":134},{"$f":"SUMIF(SIFILIS_CONG_1ANO!$B$4:$B$79,\"ARACAJU\",SIFILIS_CONG_1ANO!M$4:M$79)","v":146},{"$f":"SUMIF(SIFILIS_CONG_1ANO!$B$4:$B$79,\"ARACAJU\",SIFILIS_CONG_1ANO!N$4:N$79)","v":100},{"$f":"METAS!J81","v":94},{"$f":"IF(M2<=N2,\"ATINGIU\",\"NÃO ATINGIU\")","v":"NÃO ATINGIU"}]
[2,"ESTÂNCIA",{"$f":"SUMIF(SIFILIS_CONG_1ANO!$B$4:$B$79,\"ESTÂNCIA\",SIFILIS_CONG_1ANO!D$4:D$79)","v":243464},{"$f":"SUMIF(SIFILIS_CONG_1ANO!$B$4:$B$79,\"ESTÂNCIA\",SIFILIS_CONG_1ANO!E$4:E$79)","v":18},{"$f":"SUMIF(SIFILIS_CONG_1ANO!$B$4:$B$79,\"ESTÂNCIA\",SIFILIS_CONG_1ANO!F$4:F$79)","v":28},{"$f":"SUMIF(SIFILIS_CONG_1ANO!$B$4:$B$79,\"ESTÂNCIA\",SIFILIS_CONG_1ANO!G$4:G$79)","v":35},{"$f":"SUMIF(SIFILIS_CONG_1ANO!$B$4:$B$79,\"ESTÂNCIA\",SIFILIS_CONG_1ANO!H$4:H$79)","v":30},{"$f":"SUMIF(SIFILIS_CONG_1ANO!$B$4:$B$79,\"ESTÂNCIA\",SIFILIS_CONG_1ANO!I$4:I$79)","v":31},{"$f":"SUMIF(SIFILIS_CONG_1ANO!$B$4:$B$79,\"ESTÂNCIA\",SIFILIS_CONG_1ANO!J$4:J$79)","v":38},{"$f":"SUMIF(SIFILIS_CONG_1ANO!$B$4:$B$79,\"ESTÂNCIA\",SIFILIS_CONG_1ANO!K$4:K$79)","v":51},{"$f":"SUMIF(SIFILIS_CONG_1ANO!$B$4:$B$79,\"ESTÂNCIA\",SIFILIS_CONG_1ANO!L$4:L$79)","v":57},{"$f":"SUMIF(SIFILIS_CONG_1ANO!$B$4:$B$79,\"ESTÂNCIA\",SIFILIS_CONG_1ANO!M$4:M$79)","v":55},{"$f":"SUMIF(SIFILIS_CONG_1ANO!$B$4:$B$79,\"ESTÂNCIA\",SIFILIS_CONG_1ANO!N$4:N$79)","v":55},{"$f":"METAS!J82","v":43},{"$f":"IF(M3<=N3,\"ATINGIU\",\"NÃO ATINGIU\")","v":"NÃO ATINGIU"}]
[3,"GLÓRIA",{"$f":"SUMIF(SIFILIS_CONG_1ANO!$B$4:$B$79,\"GLÓRIA\",SIFILIS_CONG_1ANO!D$4:D$79)","v":169266},{"$f":"SUMIF(SIFILIS_CONG_1ANO!$B$4:$B$79,\"GLÓRIA\",SIFILIS_CONG_1ANO!E$4:E$79)","v":1},{"$f":"SUMIF(SIFILIS_CONG_1ANO!$B$4:$B$79,\"GLÓRIA\",SIFILIS_CONG_1ANO!F$4:F$79)","v":0},{"$f":"SUMIF(SIFILIS_CONG_1ANO!$B$4:$B$79,\"GLÓRIA\",SIFILIS_CONG_1ANO!G$4:G$79)","v":10},{"$f":"SUMIF(SIFILIS_CONG_1ANO!$B$4:$B$79,\"GLÓRIA\",SIFILIS_CONG_1ANO!H$4:H$79)","v":13},{"$f":"SUMIF(SIFILIS_CONG_1ANO!$B$4:$B$79,\"GLÓRIA\",SIFILIS_CONG_1ANO!I$4:I$79)","v":14},{"$f":"SUMIF(SIFILIS_CONG_1ANO!$B$4:$B$79,\"GLÓRIA\",SIFILIS_CONG_1ANO!J$4:J$79)","v":18},{"$f":"SUMIF(SIFILIS_CONG_1ANO!$B$4:$B$79,\"GLÓRIA\",SIFILIS_CONG_1ANO!K$4:K$79)","v":18},{"$f":"SUMIF(SIFILIS_CONG_1ANO!$B$4:$B$79,\"GLÓRIA\",SIFILIS_CONG_1ANO!L$4:L$79)","v":20},{"$f":"SUMIF(SIFILIS_CONG_1ANO!$B$4:$B$79,\"GLÓRIA\",SIFILIS_CONG_1ANO!M$4:M$79)","v":17},{"$f":"SUMIF(SIFILIS_CONG_1ANO!$B$4:$B$79,\"GLÓRIA\",SIFILIS_CONG_1ANO!N$4:N$79)","v":10},{"$f":"METAS!J83","v":10},"ATINGIU"]
[4,"ITABAIANA",{"$f":"SUMIF(SIFILIS_CONG_1ANO!$B$4:$B$79,\"ITABAIANA\",SIFILIS_CONG_1ANO!D$4:D$79)","v":248651},{"$f":"SUMIF(SIFILIS_CONG_1ANO!$B$4:$B$79,\"ITABAIANA\",SIFILIS_CONG_1ANO!E$4:E$79)","v":8},{"$f":"SUMIF(SIFILIS_CONG_1ANO!$B$4:$B$79,\"ITABAIANA\",SIFILIS_CONG_1ANO!F$4:F$79)","v":15},{"$f":"SUMIF(SIFILIS_CONG_1ANO!$B$4:$B$79,\"ITABAIANA\",SIFILIS_CONG_1ANO!G$4:G$79)","v":25},{"$f":"SUMIF(SIFILIS_CONG_1ANO!$B$4:$B$79,\"ITABAIANA\",SIFILIS_CONG_1ANO!H$4:H$79)","v":36},{"$f":"SUMIF(SIFILIS_CONG_1ANO!$B$4:$B$79,\"ITABAIANA\",SIFILIS_CONG_1ANO!I$4:I$79)","v":39},{"$f":"SUMIF(SIFILIS_CONG_1ANO!$B$4:$B$79,\"ITABAIANA\",SIFILIS_CONG_1ANO!J$4:J$79)","v":54},{"$f":"SUMIF(SIFILIS_CONG_1ANO!$B$4:$B$79,\"ITABAIANA\",SIFILIS_CONG_1ANO!K$4:K$79)","v":34},{"$f":"SUMIF(SIFILIS_CONG_1ANO!$B$4:$B$79,\"ITABAIANA\",SIFILIS_CONG_1ANO!L$4:L$79)","v":35},{"$f":"SUMIF(SIFILIS_CONG_1ANO!$B$4:$B$79,\"ITABAIANA\",SIFILIS_CONG_1ANO!M$4:M$79)","v":25},{"$f":"SUMIF(SIFILIS_CONG_1ANO!$B$4:$B$79,\"ITABAIANA\",SIFILIS_CONG_1ANO!N$4:N$79)","v":22},{"$f":"METAS!J84","v":15},"NÃO ATINGIU"]
[5,"LAGARTO",{"$f":"SUMIF(SIFILIS_CONG_1ANO!$B$4:$B$79,\"LAGARTO\",SIFILIS_CONG_1ANO!D$4:D$79)","v":257634},{"$f":"SUMIF(SIFILIS_CONG_1ANO!$B$4:$B$79,\"LAGARTO\",SIFILIS_CONG_1ANO!E$4:E$79)","v":4},{"$f":"SUMIF(SIFILIS_CONG_1ANO!$B$4:$B$79,\"LAGARTO\",SIFILIS_CONG_1ANO!F$4:F$79)","v":7},{"$f":"SUMIF(SIFILIS_CONG_1ANO!$B$4:$B$79,\"LAGARTO\",SIFILIS_CONG_1ANO!G$4:G$79)","v":5},{"$f":"SUMIF(SIFILIS_CONG_1ANO!$B$4:$B$79,\"LAGARTO\",SIFILIS_CONG_1ANO!H$4:H$79)","v":25},{"$f":"SUMIF(SIFILIS_CONG_1ANO!$B$4:$B$79,\"LAGARTO\",SIFILIS_CONG_1ANO!I$4:I$79)","v":40},{"$f":"SUMIF(SIFILIS_CONG_1ANO!$B$4:$B$79,\"LAGARTO\",SIFILIS_CONG_1ANO!J$4:J$79)","v":23},{"$f":"SUMIF(SIFILIS_CONG_1ANO!$B$4:$B$79,\"LAGARTO\",SIFILIS_CONG_1ANO!K$4:K$79)","v":19},{"$f":"SUMIF(SIFILIS_CONG_1ANO!$B$4:$B$79,\"LAGARTO\",SIFILIS_CONG_1ANO!L$4:L$79)","v":15},{"$f":"SUMIF(SIFILIS_CONG_1ANO!$B$4:$B$79,\"LAGARTO\",SIFILIS_CONG_1ANO!M$4:M$79)","v":13},{"$f":"SUMIF(SIFILIS_CONG_1ANO!$B$4:$B$79,\"LAGARTO\",SIFILIS_CONG_1ANO!N$4:N$79)","v":18},{"$f":"METAS!J85","v":11},"NÃO ATINGIU"]
[6,"PROPRIÁ",{"$f":"SUMIF(SIFILIS_CONG_1ANO!$B$4:$B$79,\"PROPRIÁ\",SIFILIS_CONG_1ANO!D$4:D$79)","v":158896},{"$f":"SUMIF(SIFILIS_CONG_1ANO!$B$4:$B$79,\"PROPRIÁ\",SIFILIS_CONG_1ANO!E$4:E$79)","v":14},{"$f":"SUMIF(SIFILIS_CONG_1ANO!$B$4:$B$79,\"PROPRIÁ\",SIFILIS_CONG_1ANO!F$4:F$79)","v":9},{"$f":"SUMIF(SIFILIS_CONG_1ANO!$B$4:$B$79,\"PROPRIÁ\",SIFILIS_CONG_1ANO!G$4:G$79)","v":12},{"$f":"SUMIF(SIFILIS_CONG_1ANO!$B$4:$B$79,\"PROPRIÁ\",SIFILIS_CONG_1ANO!H$4:H$79)","v":8},{"$f":"SUMIF(SIFILIS_CONG_1ANO!$B$4:$B$79,\"PROPRIÁ\",SIFILIS_CONG_1ANO!I$4:I$79)","v":22},{"$f":"SUMIF(SIFILIS_CONG_1ANO!$B$4:$B$79,\"PROPRIÁ\",SIFILIS_CONG_1ANO!J$4:J$79)","v":24},{"$f":"SUMIF(SIFILIS_CONG_1ANO!$B$4:$B$79,\"PROPRIÁ\",SIFILIS_CONG_1ANO!K$4:K$79)","v":15},{"$f":"SUMIF(SIFILIS_CONG_1ANO!$B$4:$B$79,\"PROPRIÁ\",SIFILIS_CONG_1ANO!L$4:L$79)","v":17},{"$f":"SUMIF(SIFILIS_CONG_1ANO!$B$4:$B$79,\"PROPRIÁ\",SIFILIS_CONG_1ANO!M$4:M$79)","v":9},{"$f":"SUMIF(SIFILIS_CONG_1ANO!$B$4:$B$79,\"PROPRIÁ\",SIFILIS_CONG_1ANO!N$4:N$79)","v":20},{"$f":"METAS!J86","v":5},"NÃO ATINGIU"]
[7,"SOCORRO",{"$f":"SUMIF(SIFILIS_CONG_1ANO!$B$4:$B$79,\"SOCORRO\",SIFILIS_CONG_1ANO!D$4:D$79)","v":335353},{"$f":"SUMIF(SIFILIS_CONG_1ANO!$B$4:$B$79,\"SOCORRO\",SIFILIS_CONG_1ANO!E$4:E$79)","v":24},{"$f":"SUMIF(SIFILIS_CONG_1ANO!$B$4:$B$79,\"SOCORRO\",SIFILIS_CONG_1ANO!F$4:F$79)","v":29},{"$f":"SUMIF(SIFILIS_CONG_1ANO!$B$4:$B$79,\"SOCORRO\",SIFILIS_CONG_1ANO!G$4:G$79)","v":31},{"$f":"SUMIF(SIFILIS_CONG_1ANO!$B$4:$B$79,\"SOCORRO\",SIFILIS_CONG_1ANO!H$4:H$79)","v":55},{"$f":"SUMIF(SIFILIS_CONG_1ANO!$B$4:$B$79,\"SOCORRO\",SIFILIS_CONG_1ANO!I$4:I$79)","v":58},{"$f":"SUMIF(SIFILIS_CONG_1ANO!$B$4:$B$79,\"SOCORRO\",SIFILIS_CONG_1ANO!J$4:J$79)","v":105},{"$f":"SUMIF(SIFILIS_CONG_1ANO!$B$4:$B$79,\"SOCORRO\",SIFILIS_CONG_1ANO!K$4:K$79)","v":111},{"$f":"SUMIF(SIFILIS_CONG_1ANO!$B$4:$B$79,\"SOCORRO\",SIFILIS_CONG_1ANO!L$4:L$79)","v":106},{"$f":"SUMIF(SIFILIS_CONG_1ANO!$B$4:$B$79,\"SOCORRO\",SIFILIS_CONG_1ANO!M$4:M$79)","v":83},{"$f":"SUMIF(SIFILIS_CONG_1ANO!$B$4:$B$79,\"SOCORRO\",SIFILIS_CONG_1ANO!N$4:N$79)","v":71},{"$f":"METAS!J87","v":80},"ATINGIU"]
[8,"SERGIPE",{"$f":"SUMIF(SIFILIS_CONG_1ANO!$B$4:$B$79,\"SERGIPE\",SIFILIS_CONG_1ANO!D$4:D$79)","v":2242948},{"$f":"SUMIF(SIFILIS_CONG_1ANO!$B$4:$B$79,\"SERGIPE\",SIFILIS_CONG_1ANO!E$4:E$79)","v":116},{"$f":"SUMIF(SIFILIS_CONG_1ANO!$B$4:$B$79,\"SERGIPE\",SIFILIS_CONG_1ANO!F$4:F$79)","v":148},{"$f":"SUMIF(SIFILIS_CONG_1ANO!$B$4:$B$79,\"SERGIPE\",SIFILIS_CONG_1ANO!G$4:G$79)","v":184},{"$f":"SUMIF(SIFILIS_CONG_1ANO!$B$4:$B$79,\"SERGIPE\",SIFILIS_CONG_1ANO!H$4:H$79)","v":263},{"$f":"SUMIF(SIFILIS_CONG_1ANO!$B$4:$B$79,\"SERGIPE\",SIFILIS_CONG_1ANO!I$4:I$79)","v":368},{"$f":"SUMIF(SIFILIS_CONG_1ANO!$B$4:$B$79,\"SERGIPE\",SIFILIS_CONG_1ANO!J$4:J$79)","v":411},{"$f":"SUMIF(SIFILIS_CONG_1ANO!$B$4:$B$79,\"SERGIPE\",SIFILIS_CONG_1ANO!K$4:K$79)","v":403},{"$f":"SUMIF(SIFILIS_CONG_1ANO!$B$4:$B$79,\"SERGIPE\",SIFILIS_CONG_1ANO!L$4:L$79)","v":384},{"$f":"SUMIF(SIFILIS_CONG_1ANO!$B$4:$B$79,\"SERGIPE\",SIFILIS_CONG_1ANO!M$4:M$79)","v":348},{"$f":"SUMIF(SIFILIS_CONG_1ANO!$B$4:$B$79,\"SERGIPE\",SIFILIS_CONG_1ANO!N$4:N$79)","v":296},{"$f":"METAS!J77","v":300},"ATINGIU"]

{"sheet":"AIDS_MENOR5","index":101,"n_rows":98,"n_cols":17,"rows_kept":98,"cut":false,"hidden":true,"merged":[]}
["COD IBGE","REGIÃO","MUNICIPIO","POP 2015","AIDS < 5 2007","AIDS < 5 2008","AIDS < 5 2009","AIDS < 5 2010","AIDS < 5 2011","AIDS < 5 2012","AIDS < 5 2013","AIDS < 5 2014","AIDS < 5 2015","AIDS < 5 2016","AIDS < 5 2017","META PACTUADA 2017","SITUAÇÃO"]
[280010,"PROPRIÁ","AMPARO DE SÃO FRANCISCO",2374,0,0,0,0,0,0,0,0,0,0,0,0,{"$f":"IF(O2<=P2,\"ATINGIU\",\"NÃO ATINGIU\")","v":"ATINGIU"}]
[280020,"PROPRIÁ","AQUIDABÃ",21315,0,0,0,0,0,0,0,0,0,0,0,0,{"$f":"IF(O3<=P3,\"ATINGIU\",\"NÃO ATINGIU\")","v":"ATINGIU"}]
[280030,"ARACAJU","ARACAJU",632745,2,3,0,1,1,1,3,1,1,1,1,1,"ATINGIU"]
[280040,"ESTÂNCIA","ARAUÁ",10572,0,0,0,0,0,0,0,0,0,0,0,0,"ATINGIU"]
[280050,"ITABAIANA","AREIA BRANCA",18169,0,0,0,0,0,0,0,0,0,0,0,0,"ATINGIU"]
[280060,"ARACAJU","BARRA DOS COQUEIROS",28679,0,0,0,1,0,0,0,0,0,0,0,0,"ATINGIU"]
[280067,"ESTÂNCIA","BOQUIM",26750,0,0,0,0,0,0,0,0,0,0,0,0,"ATINGIU"]
[280070,"PROPRIÁ","BREJO GRANDE",8218,0,0,0,0,0,0,0,0,0,0,0,0,"ATINGIU"]
[280100,"ITABAIANA","CAMPO DO BRITO",17851,0,0,0,0,0,0,0,0,0,0,0,0,"ATINGIU"]
[280110,"PROPRIÁ","CANHOBA",4059,0,0,0,0,0,0,0,0,0,0,0,0,"ATINGIU"]
[280120,"GLÓRIA","CANINDÉ DE SÃO FRANCISCO",28279,0,0,0,0,0,0,0,0,0,0,0,0,"ATINGIU"]
[280130,"SOCORRO","CAPELA",33378,0,0,0,0,0,0,0,0,0,0,0,0,"ATINGIU"]
[280140,"ITABAIANA","CARIRA",21487,0,0,0,0,0,0,0,0,0,0,0,0,"ATINGIU"]
[280150,"SOCORRO","CARMÓPOLIS",15621,0,0,0,0,0,0,0,0,0,0,0,0,"ATINGIU"]
[280160,"PROPRIÁ","CEDRO DE SÃO JOÃO",5890,0,0,0,0,0,1,0,0,0,0,0,0,"ATINGIU"]
[280170,"ESTÂNCIA","CRISTINÁPOLIS",17911,0,0,0,0,0,0,0,0,0,0,0,0,"ATINGIU"]
[280190,"SOCORRO","CUMBE",3986,0,0,0,0,0,0,0,0,0,0,0,0,"ATINGIU"]
[280200,"ARACAJU","DIVINA PASTORA",4889,0,0,0,0,0,0,0,0,0,0,0,0,"ATINGIU"]
[280210,"ESTÂNCIA","ESTÂNCIA",68407,2,1,2,0,0,0,0,0,0,0,0,0,"ATINGIU"]
[280220,"GLÓRIA","FEIRA NOVA",5571,0,0,0,0,0,0,0,0,0,0,0,0,"ATINGIU"]
[280230,"ITABAIANA","FREI PAULO",15044,0,0,0,0,0,0,0,0,0,0,0,0,"ATINGIU"]
[280240,"GLÓRIA","GARARU",11724,0,0,0,0,0,0,0,0,0,0,0,0,"ATINGIU"]
[280250,"SOCORRO","GENERAL MAYNARD",3230,0,0,0,0,0,0,0,0,0,0,0,0,"ATINGIU"]
[280260,"GLÓRIA","GRACHO CARDOSO",5846,0,0,0,0,0,0,0,0,0,0,0,0,"ATINGIU"]
[280270,"PROPRIÁ","ILHA DAS FLORES",8597,0,0,0,0,0,0,0,0,0,0,0,0,"ATINGIU"]
[280280,"ESTÂNCIA","INDIAROBA",17384,0,0,0,1,0,0,0,0,0,0,0,0,"ATINGIU"]
[280290,"ITABAIANA","ITABAIANA",93573,2,0,0,0,1,1,0,0,0,0,0,0,"ATINGIU"]
[280300,"ESTÂNCIA","ITABAIANINHA",41405,0,0,0,2,1,0,0,0,0,0,1,0,"NÃO ATINGIU"]
[280310,"GLÓRIA","ITABI",5017,0,0,0,0,0,0,0,0,0,0,0,0,"ATINGIU"]
[280320,"ARACAJU","ITAPORANGA D'AJUDA",33320,0,0,0,0,0,0,0,0,0,0,0,0,"ATINGIU"]
[280330,"SOCORRO","JAPARATUBA",18286,0,0,0,0,0,0,0,0,1,0,0,0,"ATINGIU"]
[280340,"PROPRIÁ","JAPOATÃ",13245,0,0,0,0,0,0,0,0,0,0,0,0,"ATINGIU"]
[280350,"LAGARTO","LAGARTO",102259,1,0,1,0,0,0,0,0,0,0,0,0,"ATINGIU"]
[280360,"ARACAJU","LARANJEIRAS",29127,0,0,0,0,0,0,0,0,0,0,0,0,"ATINGIU"]
[280370,"ITABAIANA","MACAMBIRA",6823,0,0,0,0,0,0,0,0,0,0,0,0,"ATINGIU"]
[280380,"PROPRIÁ","MALHADA DOS BOIS",3652,0,0,0,0,0,0,0,0,0,0,0,0,"ATINGIU"]
[280390,"ITABAIANA","MALHADOR",12601,0,0,0,0,0,0,0,0,0,0,0,0,"ATINGIU"]
[280400,"SOCORRO","MARUIM",17151,0,0,0,1,0,0,0,0,0,0,0,0,"ATINGIU"]
[280410,"ITABAIANA","MOITA BONITA",11399,0,0,0,0,0,0,0,0,0,0,0,0,"ATINGIU"]
[280420,"GLÓRIA","MONTE ALEGRE DE SERGIPE",14853,0,0,0,0,0,0,0,0,0,0,0,0,"ATINGIU"]
[280430,"PROPRIÁ","MURIBECA",7644,0,0,0,0,0,0,0,0,0,0,0,0,"ATINGIU"]
[280440,"PROPRIÁ","NEÓPOLIS",18958,0,0,0,0,0,0,0,0,0,0,0,0,"ATINGIU"]
[280445,"ITABAIANA","NOSSA SENHORA APARECIDA",8830,0,0,0,0,0,0,0,0,0,0,0,0,"ATINGIU"]
[280450,"GLÓRIA","NOSSA SENHORA DA GLÓRIA",35723,0,0,1,0,0,0,0,0,0,0,0,0,"ATINGIU"]
[280460,"SOCORRO","NOSSA SENHORA DAS DORES",26237,1,0,0,0,0,0,0,0,0,0,0,0,"ATINGIU"]
[280470,"PROPRIÁ","NOSSA SENHORA DE LOURDES",6494,0,0,0,0,0,0,0,0,0,0,0,0,"ATINGIU"]
[280480,"SOCORRO","NOSSA SENHORA DO SOCORRO",177340,0,1,1,0,0,0,1,1,0,1,0,0,"ATINGIU"]
[280490,"PROPRIÁ","PACATUBA",14164,0,0,0,0,0,0,0,0,0,0,0,0,"ATINGIU"]
[280500,"ITABAIANA","PEDRA MOLE",3199,0,1,0,0,0,0,0,0,0,0,0,0,"ATINGIU"]
[280510,"ESTÂNCIA","PEDRINHAS",9455,0,0,0,0,0,0,0,0,0,0,0,0,"ATINGIU"]
[280520,"ITABAIANA","PINHÃO",6439,0,0,0,0,0,0,0,0,0,0,0,0,"ATINGIU"]
[280530,"SOCORRO","PIRAMBU",9058,0,0,0,0,0,0,0,0,0,0,0,0,"ATINGIU"]
[280540,"GLÓRIA","POÇO REDONDO",33756,0,0,0,0,0,0,0,0,0,0,0,0,"ATINGIU"]
[280550,"LAGARTO","POÇO VERDE",23413,0,0,0,0,0,0,0,0,0,0,0,0,"ATINGIU"]
[280560,"GLÓRIA","PORTO DA FOLHA",28497,0,0,0,0,0,0,0,0,0,0,0,0,"ATINGIU"]
[280570,"PROPRIÁ","PROPRIÁ",29657,1,1,0,0,0,0,0,0,1,0,0,0,"ATINGIU"]
[280580,"LAGARTO","RIACHÃO DO DANTAS",19976,0,0,0,0,0,0,0,0,0,0,0,0,"ATINGIU"]
[280590,"ARACAJU","RIACHUELO",10033,0,0,0,0,0,0,0,0,0,0,0,0,"ATINGIU"]
[280600,"ITABAIANA","RIBEIRÓPOLIS",18363,0,0,0,0,0,0,0,0,0,0,0,0,"ATINGIU"]
[280610,"SOCORRO","ROSÁRIO DO CATETE",10367,0,0,0,0,0,0,0,0,0,0,0,0,"ATINGIU"]
[280620,"LAGARTO","SALGADO",20082,0,0,0,0,0,0,0,0,0,0,0,0,"ATINGIU"]
[280630,"ESTÂNCIA","SANTA LUZIA DO ITANHY",13838,0,0,0,0,0,0,0,0,0,0,0,0,"ATINGIU"]
[280640,"PROPRIÁ","SANTANA DO SÃO FRANCISCO",7607,0,0,0,0,0,0,0,0,0,0,0,0,"ATINGIU"]
[280650,"ARACAJU","SANTA ROSA DE LIMA",3912,0,0,0,0,0,0,0,0,0,0,0,0,"ATINGIU"]
[280660,"SOCORRO","SANTO AMARO DAS BROTAS",12024,0,0,0,0,0,0,0,0,0,0,0,0,"ATINGIU"]
[280670,"ARACAJU","SÃO CRISTÓVÃO",86979,0,0,0,0,1,0,0,0,0,0,0,0,{"$f":"IF(O67<=P67,\"ATINGIU\",\"NÃO ATINGIU\")","v":"ATINGIU"}]
[280680,"ITABAIANA","SÃO DOMINGOS",10971,0,0,0,0,0,0,1,0,0,0,0,0,"ATINGIU"]
[280690,"PROPRIÁ","SÃO FRANCISCO",3851,0,0,0,0,0,0,0,0,0,0,0,0,"ATINGIU"]
[280700,"ITABAIANA","SÃO MIGUEL DO ALEIXO",3902,0,0,0,0,0,0,0,0,0,0,0,0,"ATINGIU"]
[280710,"LAGARTO","SIMÃO DIAS",40530,0,0,0,0,0,0,0,0,0,0,0,0,"ATINGIU"]
[280720,"SOCORRO","SIRIRI",8675,0,0,0,0,0,0,0,0,0,0,0,0,"ATINGIU"]
[280730,"PROPRIÁ","TELHA",3171,0,0,0,0,0,0,0,0,0,0,0,0,"ATINGIU"]
[280740,"LAGARTO","TOBIAS BARRETO",51374,0,0,0,0,0,0,0,0,0,0,0,0,"ATINGIU"]
[280750,"ESTÂNCIA","TOMAR DO GERU",13200,0,0,0,0,0,0,0,0,0,0,0,0,"ATINGIU"]
[280760,"ESTÂNCIA","UMBAÚBA",24542,0,0,0,1,0,0,0,0,0,0,0,0,"ATINGIU"]
[280000,"SERGIPE","SERGIPE",2242948,9,7,5,7,4,3,5,2,3,2,2,3,"ATINGIU"]
[]
[1,2,3,4,5,6,7,8,9,10,11,12,13,14,15,16,17]
["[Opções]"]
["DEF=F:\\Users\\ECPSANTOS\\Documents\\SUS SES\\SINAN\\BaseDBF\\AidsCriNET.def"]
["PATH=F:\\Users\\ECPSANTOS\\Documents\\SUS SES\\SINAN\\basedbf 06_02_2017\\AidsCN*.DBF"]
["Linha=Mun Resid SE"]
["Coluna=Ano Diagnóstico"]
["Incremento=Freqüência"]
["Suprime_Linhas_Zeradas=false"]
["Suprime_Colunas_Zeradas=true"]
["Não_Classificados=0"]
["[Seleções_Ativas]"]
["Ano Diagnóstico: 2007|2008|2009|2010|2011|2012|2013|2014|2015|2016"]
["Critério de confirmação: CDC|CDC + CDC/LABORATÓRIO"]
["    CDC + CDC/LABORATÓRIO + SINAIS MAIORES E MENORES"]
["    CDC + SINAIS MAIORES E MENORES|CDC/LABORATÓRIO + SINAIS MAIORES E MENORES"]
["    CDC/LABORATÓRIO|SINAIS MAIORES E MENORES|ARC + ÓBITO|ÓBITO|DESCARTADO"]
["[Arquivos]"]
["AIDSCNET.DBF"]
["Registros_Processados= 63"]
["Tempo_Decorrido= 0:00"]

{"sheet":"AIDS_MENOR5_REG","index":102,"n_rows":9,"n_cols":16,"rows_kept":9,"cut":false,"hidden":true,"merged":[]}
["COD IBGE","REGIÃO","POP 2015","AIDS < 5 2007","AIDS < 5 2008","AIDS < 5 2009","AIDS < 5 2010","AIDS < 5 2011","AIDS < 5 2012","AIDS < 5 2013","AIDS < 5 2014","AIDS < 5 2015","AIDS < 5 2016","AIDS < 5 2017","META PACTUADA 2017","SITUAÇÃO"]
[1,"ARACAJU",{"$f":"SUMIF(AIDS_MENOR5!$B$4:$B$79,\"ARACAJU\",AIDS_MENOR5!D$4:D$79)","v":829684},{"$f":"SUMIF(AIDS_MENOR5!$B$4:$B$79,\"ARACAJU\",AIDS_MENOR5!E$4:E$79)","v":2},{"$f":"SUMIF(AIDS_MENOR5!$B$4:$B$79,\"ARACAJU\",AIDS_MENOR5!F$4:F$79)","v":3},{"$f":"SUMIF(AIDS_MENOR5!$B$4:$B$79,\"ARACAJU\",AIDS_MENOR5!G$4:G$79)","v":0},{"$f":"SUMIF(AIDS_MENOR5!$B$4:$B$79,\"ARACAJU\",AIDS_MENOR5!H$4:H$79)","v":2},{"$f":"SUMIF(AIDS_MENOR5!$B$4:$B$79,\"ARACAJU\",AIDS_MENOR5!I$4:I$79)","v":2},{"$f":"SUMIF(AIDS_MENOR5!$B$4:$B$79,\"ARACAJU\",AIDS_MENOR5!J$4:J$79)","v":1},{"$f":"SUMIF(AIDS_MENOR5!$B$4:$B$79,\"ARACAJU\",AIDS_MENOR5!K$4:K$79)","v":3},{"$f":"SUMIF(AIDS_MENOR5!$B$4:$B$79,\"ARACAJU\",AIDS_MENOR5!L$4:L$79)","v":1},{"$f":"SUMIF(AIDS_MENOR5!$B$4:$B$79,\"ARACAJU\",AIDS_MENOR5!M$4:M$79)","v":1},{"$f":"SUMIF(AIDS_MENOR5!$B$4:$B$79,\"ARACAJU\",AIDS_MENOR5!N$4:N$79)","v":1},{"$f":"SUMIF(AIDS_MENOR5!$B$4:$B$79,\"ARACAJU\",AIDS_MENOR5!O$4:O$79)","v":1},{"$f":"METAS!K81","v":1},{"$f":"IF(N2<=O2,\"ATINGIU\",\"NÃO ATINGIU\")","v":"ATINGIU"}]
[2,"ESTÂNCIA",{"$f":"SUMIF(AIDS_MENOR5!$B$4:$B$79,\"ESTÂNCIA\",AIDS_MENOR5!D$4:D$79)","v":243464},{"$f":"SUMIF(AIDS_MENOR5!$B$4:$B$79,\"ESTÂNCIA\",AIDS_MENOR5!E$4:E$79)","v":2},{"$f":"SUMIF(AIDS_MENOR5!$B$4:$B$79,\"ESTÂNCIA\",AIDS_MENOR5!F$4:F$79)","v":1},{"$f":"SUMIF(AIDS_MENOR5!$B$4:$B$79,\"ESTÂNCIA\",AIDS_MENOR5!G$4:G$79)","v":2},{"$f":"SUMIF(AIDS_MENOR5!$B$4:$B$79,\"ESTÂNCIA\",AIDS_MENOR5!H$4:H$79)","v":4},{"$f":"SUMIF(AIDS_MENOR5!$B$4:$B$79,\"ESTÂNCIA\",AIDS_MENOR5!I$4:I$79)","v":1},{"$f":"SUMIF(AIDS_MENOR5!$B$4:$B$79,\"ESTÂNCIA\",AIDS_MENOR5!J$4:J$79)","v":0},{"$f":"SUMIF(AIDS_MENOR5!$B$4:$B$79,\"ESTÂNCIA\",AIDS_MENOR5!K$4:K$79)","v":0},{"$f":"SUMIF(AIDS_MENOR5!$B$4:$B$79,\"ESTÂNCIA\",AIDS_MENOR5!L$4:L$79)","v":0},{"$f":"SUMIF(AIDS_MENOR5!$B$4:$B$79,\"ESTÂNCIA\",AIDS_MENOR5!M$4:M$79)","v":0},{"$f":"SUMIF(AIDS_MENOR5!$B$4:$B$79,\"ESTÂNCIA\",AIDS_MENOR5!N$4:N$79)","v":0},{"$f":"SUMIF(AIDS_MENOR5!$B$4:$B$79,\"ESTÂNCIA\",AIDS_MENOR5!O$4:O$79)","v":1},{"$f":"METAS!K82","v":0},{"$f":"IF(N3<=O3,\"ATINGIU\",\"NÃO ATINGIU\")","v":"NÃO ATINGIU"}]
[3,"GLÓRIA",{"$f":"SUMIF(AIDS_MENOR5!$B$4:$B$79,\"GLÓRIA\",AIDS_MENOR5!D$4:D$79)","v":169266},{"$f":"SUMIF(AIDS_MENOR5!$B$4:$B$79,\"GLÓRIA\",AIDS_MENOR5!E$4:E$79)","v":0},{"$f":"SUMIF(AIDS_MENOR5!$B$4:$B$79,\"GLÓRIA\",AIDS_MENOR5!F$4:F$79)","v":0},{"$f":"SUMIF(AIDS_MENOR5!$B$4:$B$79,\"GLÓRIA\",AIDS_MENOR5!G$4:G$79)","v":1},{"$f":"SUMIF(AIDS_MENOR5!$B$4:$B$79,\"GLÓRIA\",AIDS_MENOR5!H$4:H$79)","v":0},{"$f":"SUMIF(AIDS_MENOR5!$B$4:$B$79,\"GLÓRIA\",AIDS_MENOR5!I$4:I$79)","v":0},{"$f":"SUMIF(AIDS_MENOR5!$B$4:$B$79,\"GLÓRIA\",AIDS_MENOR5!J$4:J$79)","v":0},{"$f":"SUMIF(AIDS_MENOR5!$B$4:$B$79,\"GLÓRIA\",AIDS_MENOR5!K$4:K$79)","v":0},{"$f":"SUMIF(AIDS_MENOR5!$B$4:$B$79,\"GLÓRIA\",AIDS_MENOR5!L$4:L$79)","v":0},{"$f":"SUMIF(AIDS_MENOR5!$B$4:$B$79,\"GLÓRIA\",AIDS_MENOR5!M$4:M$79)","v":0},{"$f":"SUMIF(AIDS_MENOR5!$B$4:$B$79,\"GLÓRIA\",AIDS_MENOR5!N$4:N$79)","v":0},{"$f":"SUMIF(AIDS_MENOR5!$B$4:$B$79,\"GLÓRIA\",AIDS_MENOR5!O$4:O$79)","v":0},{"$f":"METAS!K83","v":0},"ATINGIU"]
[4,"ITABAIANA",{"$f":"SUMIF(AIDS_MENOR5!$B$4:$B$79,\"ITABAIANA\",AIDS_MENOR5!D$4:D$79)","v":248651},{"$f":"SUMIF(AIDS_MENOR5!$B$4:$B$79,\"ITABAIANA\",AIDS_MENOR5!E$4:E$79)","v":2},{"$f":"SUMIF(AIDS_MENOR5!$B$4:$B$79,\"ITABAIANA\",AIDS_MENOR5!F$4:F$79)","v":1},{"$f":"SUMIF(AIDS_MENOR5!$B$4:$B$79,\"ITABAIANA\",AIDS_MENOR5!G$4:G$79)","v":0},{"$f":"SUMIF(AIDS_MENOR5!$B$4:$B$79,\"ITABAIANA\",AIDS_MENOR5!H$4:H$79)","v":0},{"$f":"SUMIF(AIDS_MENOR5!$B$4:$B$79,\"ITABAIANA\",AIDS_MENOR5!I$4:I$79)","v":1},{"$f":"SUMIF(AIDS_MENOR5!$B$4:$B$79,\"ITABAIANA\",AIDS_MENOR5!J$4:J$79)","v":1},{"$f":"SUMIF(AIDS_MENOR5!$B$4:$B$79,\"ITABAIANA\",AIDS_MENOR5!K$4:K$79)","v":1},{"$f":"SUMIF(AIDS_MENOR5!$B$4:$B$79,\"ITABAIANA\",AIDS_MENOR5!L$4:L$79)","v":0},{"$f":"SUMIF(AIDS_MENOR5!$B$4:$B$79,\"ITABAIANA\",AIDS_MENOR5!M$4:M$79)","v":0},{"$f":"SUMIF(AIDS_MENOR5!$B$4:$B$79,\"ITABAIANA\",AIDS_MENOR5!N$4:N$79)","v":0},{"$f":"SUMIF(AIDS_MENOR5!$B$4:$B$79,\"ITABAIANA\",AIDS_MENOR5!O$4:O$79)","v":0},{"$f":"METAS!K84","v":0},"ATINGIU"]
[5,"LAGARTO",{"$f":"SUMIF(AIDS_MENOR5!$B$4:$B$79,\"LAGARTO\",AIDS_MENOR5!D$4:D$79)","v":257634},{"$f":"SUMIF(AIDS_MENOR5!$B$4:$B$79,\"LAGARTO\",AIDS_MENOR5!E$4:E$79)","v":1},{"$f":"SUMIF(AIDS_MENOR5!$B$4:$B$79,\"LAGARTO\",AIDS_MENOR5!F$4:F$79)","v":0},{"$f":"SUMIF(AIDS_MENOR5!$B$4:$B$79,\"LAGARTO\",AIDS_MENOR5!G$4:G$79)","v":1},{"$f":"SUMIF(AIDS_MENOR5!$B$4:$B$79,\"LAGARTO\",AIDS_MENOR5!H$4:H$79)","v":0},{"$f":"SUMIF(AIDS_MENOR5!$B$4:$B$79,\"LAGARTO\",AIDS_MENOR5!I$4:I$79)","v":0},{"$f":"SUMIF(AIDS_MENOR5!$B$4:$B$79,\"LAGARTO\",AIDS_MENOR5!J$4:J$79)","v":0},{"$f":"SUMIF(AIDS_MENOR5!$B$4:$B$79,\"LAGARTO\",AIDS_MENOR5!K$4:K$79)","v":0},{"$f":"SUMIF(AIDS_MENOR5!$B$4:$B$79,\"LAGARTO\",AIDS_MENOR5!L$4:L$79)","v":0},{"$f":"SUMIF(AIDS_MENOR5!$B$4:$B$79,\"LAGARTO\",AIDS_MENOR5!M$4:M$79)","v":0},{"$f":"SUMIF(AIDS_MENOR5!$B$4:$B$79,\"LAGARTO\",AIDS_MENOR5!N$4:N$79)","v":0},{"$f":"SUMIF(AIDS_MENOR5!$B$4:$B$79,\"LAGARTO\",AIDS_MENOR5!O$4:O$79)","v":0},{"$f":"METAS!K85","v":0},"ATINGIU"]
[6,"PROPRIÁ",{"$f":"SUMIF(AIDS_MENOR5!$B$4:$B$79,\"PROPRIÁ\",AIDS_MENOR5!D$4:D$79)","v":135207},{"$f":"SUMIF(AIDS_MENOR5!$B$4:$B$79,\"PROPRIÁ\",AIDS_MENOR5!E$4:E$79)","v":1},{"$f":"SUMIF(AIDS_MENOR5!$B$4:$B$79,\"PROPRIÁ\",AIDS_MENOR5!F$4:F$79)","v":1},{"$f":"SUMIF(AIDS_MENOR5!$B$4:$B$79,\"PROPRIÁ\",AIDS_MENOR5!G$4:G$79)","v":0},{"$f":"SUMIF(AIDS_MENOR5!$B$4:$B$79,\"PROPRIÁ\",AIDS_MENOR5!H$4:H$79)","v":0},{"$f":"SUMIF(AIDS_MENOR5!$B$4:$B$79,\"PROPRIÁ\",AIDS_MENOR5!I$4:I$79)","v":0},{"$f":"SUMIF(AIDS_MENOR5!$B$4:$B$79,\"PROPRIÁ\",AIDS_MENOR5!J$4:J$79)","v":1},{"$f":"SUMIF(AIDS_MENOR5!$B$4:$B$79,\"PROPRIÁ\",AIDS_MENOR5!K$4:K$79)","v":0},{"$f":"SUMIF(AIDS_MENOR5!$B$4:$B$79,\"PROPRIÁ\",AIDS_MENOR5!L$4:L$79)","v":0},{"$f":"SUMIF(AIDS_MENOR5!$B$4:$B$79,\"PROPRIÁ\",AIDS_MENOR5!M$4:M$79)","v":1},{"$f":"SUMIF(AIDS_MENOR5!$B$4:$B$79,\"PROPRIÁ\",AIDS_MENOR5!N$4:N$79)","v":0},{"$f":"SUMIF(AIDS_MENOR5!$B$4:$B$79,\"PROPRIÁ\",AIDS_MENOR5!O$4:O$79)","v":0},{"$f":"METAS!K86","v":0},"ATINGIU"]
[7,"SOCORRO",{"$f":"SUMIF(AIDS_MENOR5!$B$4:$B$79,\"SOCORRO\",AIDS_MENOR5!D$4:D$79)","v":335353},{"$f":"SUMIF(AIDS_MENOR5!$B$4:$B$79,\"SOCORRO\",AIDS_MENOR5!E$4:E$79)","v":1},{"$f":"SUMIF(AIDS_MENOR5!$B$4:$B$79,\"SOCORRO\",AIDS_MENOR5!F$4:F$79)","v":1},{"$f":"SUMIF(AIDS_MENOR5!$B$4:$B$79,\"SOCORRO\",AIDS_MENOR5!G$4:G$79)","v":1},{"$f":"SUMIF(AIDS_MENOR5!$B$4:$B$79,\"SOCORRO\",AIDS_MENOR5!H$4:H$79)","v":1},{"$f":"SUMIF(AIDS_MENOR5!$B$4:$B$79,\"SOCORRO\",AIDS_MENOR5!I$4:I$79)","v":0},{"$f":"SUMIF(AIDS_MENOR5!$B$4:$B$79,\"SOCORRO\",AIDS_MENOR5!J$4:J$79)","v":0},{"$f":"SUMIF(AIDS_MENOR5!$B$4:$B$79,\"SOCORRO\",AIDS_MENOR5!K$4:K$79)","v":1},{"$f":"SUMIF(AIDS_MENOR5!$B$4:$B$79,\"SOCORRO\",AIDS_MENOR5!L$4:L$79)","v":1},{"$f":"SUMIF(AIDS_MENOR5!$B$4:$B$79,\"SOCORRO\",AIDS_MENOR5!M$4:M$79)","v":1},{"$f":"SUMIF(AIDS_MENOR5!$B$4:$B$79,\"SOCORRO\",AIDS_MENOR5!N$4:N$79)","v":1},{"$f":"SUMIF(AIDS_MENOR5!$B$4:$B$79,\"SOCORRO\",AIDS_MENOR5!O$4:O$79)","v":0},{"$f":"METAS!K87","v":0},"ATINGIU"]
[8,"SERGIPE",{"$f":"SUMIF(AIDS_MENOR5!$B$4:$B$79,\"SERGIPE\",AIDS_MENOR5!D$4:D$79)","v":2242948},{"$f":"SUMIF(AIDS_MENOR5!$B$4:$B$79,\"SERGIPE\",AIDS_MENOR5!E$4:E$79)","v":9},{"$f":"SUMIF(AIDS_MENOR5!$B$4:$B$79,\"SERGIPE\",AIDS_MENOR5!F$4:F$79)","v":7},{"$f":"SUMIF(AIDS_MENOR5!$B$4:$B$79,\"SERGIPE\",AIDS_MENOR5!G$4:G$79)","v":5},{"$f":"SUMIF(AIDS_MENOR5!$B$4:$B$79,\"SERGIPE\",AIDS_MENOR5!H$4:H$79)","v":7},{"$f":"SUMIF(AIDS_MENOR5!$B$4:$B$79,\"SERGIPE\",AIDS_MENOR5!I$4:I$79)","v":4},{"$f":"SUMIF(AIDS_MENOR5!$B$4:$B$79,\"SERGIPE\",AIDS_MENOR5!J$4:J$79)","v":3},{"$f":"SUMIF(AIDS_MENOR5!$B$4:$B$79,\"SERGIPE\",AIDS_MENOR5!K$4:K$79)","v":5},{"$f":"SUMIF(AIDS_MENOR5!$B$4:$B$79,\"SERGIPE\",AIDS_MENOR5!L$4:L$79)","v":2},{"$f":"SUMIF(AIDS_MENOR5!$B$4:$B$79,\"SERGIPE\",AIDS_MENOR5!M$4:M$79)","v":3},{"$f":"SUMIF(AIDS_MENOR5!$B$4:$B$79,\"SERGIPE\",AIDS_MENOR5!N$4:N$79)","v":2},{"$f":"SUMIF(AIDS_MENOR5!$B$4:$B$79,\"SERGIPE\",AIDS_MENOR5!O$4:O$79)","v":2},{"$f":"METAS!K77","v":3},"ATINGIU"]

{"sheet":"ANALISE_AGUA_2017","index":103,"n_rows":81,"n_cols":15,"rows_kept":81,"cut":false,"hidden":true,"merged":[]}
[null,null,"Município","COLIFORMES TOTAIS",null,"TURBIDEZ",null,"CLORO RESIDUAL LIVRE"]
["COD IBGE","REGIÃO",null,"Total de Amostras Obrigatórias","Total de Amostras Realizadas","Total de Amostras Obrigatórias","Total de Amostras Realizadas","Total de Amostras Obrigatórias","Total de Amostras Realizadas","(%) RESULTADO DO INDICADOR 10","META 2017","SITUAÇÃO"]
[280010,"PROPRIA","AMPARO DE SAO FRANCISCO",72,70,72,78,72,1,0.70746527777777768,{"$f":"METAS!L2","v":0.5},{"$f":"IF(J3>=K3,\"ATINGIU\",\"NÃO ATINGIU\")","v":"ATINGIU"},{"$f":"SUM(D3,F3,H3)","v":216},{"$f":"SUM(E3,G3,I3)","v":149},{"$f":"N3/M3","v":0.68981481481481477}]
[280020,"PROPRIA","AQUIDABA",132,106,132,161,132,0,0.68229166666666652,{"$f":"METAS!L3","v":0.4},{"$f":"IF(J4>=K4,\"ATINGIU\",\"NÃO ATINGIU\")","v":"ATINGIU"},{"$f":"SUM(D4,F4,H4)","v":396},{"$f":"SUM(E4,G4,I4)","v":267},{"$f":"N4/M4","v":0.6742424242424242}]
[280030,"ARACAJU","ARACAJU",576,408,576,588,576,559,0.88791232638888884,{"$f":"METAS!L4","v":1},"NÃO ATINGIU",1728,1555,0.8998842592592593]
[280040,"ESTANCIA","ARAUA",108,122,108,193,108,67,1.175925925925926,{"$f":"METAS!L5","v":0.7},"ATINGIU",324,382,1.1790123456790123]
[280050,"ITABAIANA","AREIA BRANCA",120,124,120,196,120,1,0.90052083333333333,{"$f":"METAS!L6","v":0.85},"ATINGIU",360,321,0.89166666666666672]
[280060,"ARACAJU","BARRA DOS COQUEIROS",144,178,144,286,144,238,1.6006944444444442,{"$f":"METAS!L7","v":1},"ATINGIU",432,702,1.625]
[280067,"ESTANCIA","BOQUIM",144,164,144,247,144,0,0.96310763888888884,{"$f":"METAS!L8","v":0.8},"ATINGIU",432,411,0.95138888888888884]
[280070,"PROPRIA","BREJO GRANDE",108,12,108,50,108,0,0.18634259259259259,{"$f":"METAS!L9","v":0.6},"NÃO ATINGIU",324,62,0.19135802469135801]
[280100,"ITABAIANA","CAMPO DO BRITO",120,144,120,215,120,0,1.0098958333333332,{"$f":"METAS!L10","v":1},"ATINGIU",360,359,0.99722222222222223]
[280110,"PROPRIA","CANHOBA",72,40,72,59,72,0,0.46440972222222215,{"$f":"METAS!L11","v":0.3},"ATINGIU",216,99,0.45833333333333331]
[280120,"GLORIA","CANINDE DE SAO FRANCISCO",144,163,144,176,144,5,0.81727430555555547,{"$f":"METAS!L12","v":0.7},"ATINGIU",432,344,0.79629629629629628]
[280130,"SOCORRO","CAPELA",144,135,144,196,144,1,0.77907986111111116,{"$f":"METAS!L13","v":1},"NÃO ATINGIU",432,332,0.76851851851851849]
[280140,"ITABAIANA","CARIRA",132,93,132,181,132,0,0.69270833333333326,{"$f":"METAS!L14","v":0.8},"NÃO ATINGIU",396,274,0.69191919191919193]
[280150,"SOCORRO","CARMOPOLIS",120,115,120,161,120,107,1.0572916666666665,{"$f":"METAS!L15","v":0.5},"ATINGIU",360,383,1.0638888888888889]
[280160,"PROPRIA","CEDRO DE SAO JOAO",108,69,108,109,108,13,0.59259259259259256,{"$f":"METAS!L16","v":0.8},"NÃO ATINGIU",324,191,0.58950617283950613]
[280170,"ESTANCIA","CRISTINAPOLIS",120,88,120,161,120,0,0.69427083333333317,{"$f":"METAS!L17","v":0.8},"NÃO ATINGIU",360,249,0.69166666666666665]
[280190,"SOCORRO","CUMBE",72,36,72,86,72,1,0.56510416666666663,{"$f":"METAS!L18","v":0.4},"ATINGIU",216,123,0.56944444444444442]
[280200,"ARACAJU","DIVINA PASTORA",72,61,72,101,72,0,0.75607638888888884,{"$f":"METAS!L19","v":0.9},"NÃO ATINGIU",216,162,0.75]
[280210,"ESTANCIA","ESTANCIA",204,232,204,428,204,0,1.0821078431372548,{"$f":"METAS!L20","v":0.8},"ATINGIU",612,660,1.0784313725490196]
[280220,"GLORIA","FEIRA NOVA",108,20,108,69,108,20,0.32696759259259262,{"$f":"METAS!L21","v":0.4},"NÃO ATINGIU",324,109,0.33641975308641975]
[280230,"ITABAIANA","FREI PAULO",120,53,120,106,120,0,0.4416666666666666,{"$f":"METAS!L22","v":0.5},"NÃO ATINGIU",360,159,0.44166666666666665]
[280240,"GLORIA","GARARU",120,130,120,138,120,16,0.80729166666666641,{"$f":"METAS!L23","v":0.5},"ATINGIU",360,284,0.78888888888888886]
[280250,"SOCORRO","GENERAL MAYNARD",72,89,72,117,72,0,0.97135416666666674,{"$f":"METAS!L24","v":0.8},"ATINGIU",216,206,0.95370370370370372]
[280260,"GLORIA","GRACHO CARDOSO",108,0,108,10,108,0,2.8935185185185185E-2,{"$f":"METAS!L25","v":0.3},"NÃO ATINGIU",324,10,3.0864197530864196E-2]
[280270,"PROPRIA","ILHA DAS FLORES",108,89,108,110,108,0,0.62731481481481488,{"$f":"METAS!L26","v":0.8},"NÃO ATINGIU",324,199,0.61419753086419748]
[280280,"ESTANCIA","INDIAROBA",120,78,120,162,120,0,0.66562500000000002,{"$f":"METAS!L27","v":0.8},"NÃO ATINGIU",360,240,0.66666666666666663]
[280290,"ITABAIANA","ITABAIANA",228,263,228,369,228,333,1.3947368421052631,{"$f":"METAS!L28","v":0.5},"ATINGIU",684,965,1.4108187134502923]
[280300,"ESTANCIA","ITABAIANINHA",168,76,168,138,168,0,0.42633928571428564,{"$f":"METAS!L29","v":0.65},"NÃO ATINGIU",504,214,0.42460317460317459]
[280310,"GLORIA","ITABI",108,0,108,0,108,0,0,{"$f":"METAS!L30","v":0.6},"NÃO ATINGIU",324,0,0]
[280320,"ARACAJU","ITAPORANGA D'AJUDA",144,139,144,259,144,0,0.92404513888888884,{"$f":"METAS!L31","v":1},"NÃO ATINGIU",432,398,0.92129629629629628]
[280330,"SOCORRO","JAPARATUBA",120,10,120,27,120,0,0.1015625,{"$f":"METAS!L32","v":1},"NÃO ATINGIU",360,37,0.10277777777777777]
[280340,"PROPRIA","JAPOATA",120,4,120,9,120,0,3.5937499999999997E-2,{"$f":"METAS!L33","v":0.3},"NÃO ATINGIU",360,13,3.6111111111111108E-2]
[280350,"LAGARTO","LAGARTO",240,270,240,430,240,157,1.1861979166666667,{"$f":"METAS!L34","v":0.9},"ATINGIU",720,857,1.1902777777777778]
[280360,"ARACAJU","LARANJEIRAS",144,157,144,155,144,0,0.74522569444444431,{"$f":"METAS!L35","v":1},"NÃO ATINGIU",432,312,0.72222222222222221]
[280370,"ITABAIANA","MACAMBIRA",108,80,108,120,108,0,0.625,{"$f":"METAS!L36","v":0.9},"NÃO ATINGIU",324,200,0.61728395061728392]
[280380,"PROPRIA","MALHADA DOS BOIS",72,69,72,109,72,0,0.83246527777777757,{"$f":"METAS!L37","v":0.4},"ATINGIU",216,178,0.82407407407407407]
[280390,"ITABAIANA","MALHADOR",120,55,120,132,120,0,0.515625,{"$f":"METAS!L38","v":0.8},"NÃO ATINGIU",360,187,0.51944444444444449]
[280400,"SOCORRO","MARUIM",120,79,120,99,120,0,0.50468749999999996,{"$f":"METAS!L39","v":0.4},"ATINGIU",360,178,0.49444444444444446]
[280410,"ITABAIANA","MOITA BONITA",120,67,120,134,120,0,0.55833333333333335,{"$f":"METAS!L40","v":0.85},"NÃO ATINGIU",360,201,0.55833333333333335]
[280420,"GLORIA","MONTE ALEGRE DE SERGIPE",120,132,120,234,120,5,1.0348958333333333,{"$f":"METAS!L41","v":0.5},"ATINGIU",360,371,1.0305555555555554]
[280430,"PROPRIA","MURIBECA",108,8,108,18,108,0,7.9861111111111091E-2,{"$f":"METAS!L42","v":0.3},"NÃO ATINGIU",324,26,8.0246913580246909E-2]
[280440,"PROPRIA","NEOPOLIS",132,90,132,177,132,0,0.67471590909090906,{"$f":"METAS!L43","v":0.8},"NÃO ATINGIU",396,267,0.6742424242424242]
[280445,"ITABAIANA","NOSSA SENHORA APARECIDA",108,64,108,65,108,0,0.41030092592592582,{"$f":"METAS!L44","v":0.5},"NÃO ATINGIU",324,129,0.39814814814814814]
[280450,"GLORIA","NOSSA SENHORA DA GLORIA",156,87,156,163,156,0,0.53565705128205121,{"$f":"METAS!L45","v":0.6},"NÃO ATINGIU",468,250,0.53418803418803418]
[280460,"SOCORRO","NOSSA SENHORA DAS DORES",144,97,144,171,144,0,0.62369791666666652,{"$f":"METAS!L46","v":0.3},"ATINGIU",432,268,0.62037037037037035]
[280470,"PROPRIA","NOSSA SENHORA DE LOURDES",108,74,108,107,108,89,0.82407407407407407,{"$f":"METAS!L47","v":0.7},"ATINGIU",324,270,0.83333333333333337]
[280480,"SOCORRO","NOSSA SENHORA DO SOCORRO",336,379,336,606,336,0,0.98660714285714268,{"$f":"METAS!L48","v":1},"NÃO ATINGIU",1008,985,0.97718253968253965]
[280490,"PROPRIA","PACATUBA",120,108,120,195,120,0,0.84531250000000002,{"$f":"METAS!L49","v":1},"NÃO ATINGIU",360,303,0.84166666666666667]
[280500,"ITABAIANA","PEDRA MOLE",72,78,72,110,72,0,0.88368055555555525,{"$f":"METAS!L50","v":1},"NÃO ATINGIU",216,188,0.87037037037037035]
[280510,"ESTANCIA","PEDRINHAS",108,30,108,70,108,0,0.30671296296296291,{"$f":"METAS!L51","v":0.7},"NÃO ATINGIU",324,100,0.30864197530864196]
[280520,"ITABAIANA","PINHAO",108,50,108,77,108,0,0.39641203703703703,{"$f":"METAS!L52","v":0.5},"NÃO ATINGIU",324,127,0.39197530864197533]
[280530,"SOCORRO","PIRAMBU",108,79,108,123,108,0,0.63020833333333326,{"$f":"METAS!L53","v":0.6},"ATINGIU",324,202,0.62345679012345678]
[280540,"GLORIA","POCO REDONDO",156,83,156,142,156,0,0.48397435897435892,{"$f":"METAS!L54","v":0.6},"NÃO ATINGIU",468,225,0.48076923076923078]
[280550,"LAGARTO","POCO VERDE",132,150,132,245,132,0,1.0061553030303032,{"$f":"METAS!L55","v":1},"ATINGIU",396,395,0.99747474747474751]
[280560,"GLORIA","PORTO DA FOLHA",144,201,144,299,144,13,1.200520833333333,{"$f":"METAS!L56","v":0.5},"ATINGIU",432,513,1.1875]
[280570,"PROPRIA","PROPRIA",144,166,144,251,144,0,0.9769965277777779,{"$f":"METAS!L57","v":0.5},"ATINGIU",432,417,0.96527777777777779]
[280580,"LAGARTO","RIACHAO DO DANTAS",132,66,132,105,132,0,0.43607954545454547,{"$f":"METAS!L58","v":0.5},"NÃO ATINGIU",396,171,0.43181818181818182]
[280590,"ARACAJU","RIACHUELO",108,17,108,41,108,10,0.20659722222222221,{"$f":"METAS!L59","v":0.65},"NÃO ATINGIU",324,68,0.20987654320987653]
[280600,"ITABAIANA","RIBEIROPOLIS",120,126,120,210,120,157,1.3494791666666666,{"$f":"METAS!L60","v":0.8},"ATINGIU",360,493,1.3694444444444445]
[280610,"SOCORRO","ROSARIO DO CATETE",108,38,108,96,108,21,0.47048611111111116,{"$f":"METAS!L61","v":0.5},"NÃO ATINGIU",324,155,0.47839506172839508]
[280620,"LAGARTO","SALGADO",132,0,132,11,132,0,2.6041666666666661E-2,{"$f":"METAS!L62","v":0.5},"NÃO ATINGIU",396,11,2.7777777777777776E-2]
[280630,"ESTANCIA","SANTA LUZIA DO ITANHY",120,133,120,156,120,0,0.82187500000000002,{"$f":"METAS!L63","v":0.8},"ATINGIU",360,289,0.80277777777777781]
[280640,"PROPRIA","SANTANA DO SAO FRANCISCO",108,30,108,50,108,0,0.24884259259259256,{"$f":"METAS!L64","v":0.8},"NÃO ATINGIU",324,80,0.24691358024691357]
[280650,"ARACAJU","SANTA ROSA DE LIMA",72,66,72,108,72,92,1.2118055555555554,{"$f":"METAS!L65","v":1},"ATINGIU",216,266,1.2314814814814814]
[280660,"SOCORRO","SANTO AMARO DAS BROTAS",120,3,120,3,120,0,1.7187500000000001E-2,{"$f":"METAS!L66","v":0.4},"NÃO ATINGIU",360,6,1.6666666666666666E-2]
[280670,"ARACAJU","SAO CRISTOVAO",228,206,228,320,228,1,0.77878289473684204,{"$f":"METAS!L67","v":0.8},{"$f":"IF(J68>=K68,\"ATINGIU\",\"NÃO ATINGIU\")","v":"NÃO ATINGIU"},{"$f":"SUM(D68,F68,H68)","v":684},{"$f":"SUM(E68,G68,I68)","v":527},{"$f":"N68/M68","v":0.77046783625730997}]
[280680,"ITABAIANA","SAO DOMINGOS",108,125,108,196,108,0,1.0011574074074074,{"$f":"METAS!L68","v":0.8},"ATINGIU",324,321,0.9907407407407407]
[280690,"PROPRIA","SAO FRANCISCO",72,45,72,83,72,0,0.59461805555555547,{"$f":"METAS!L69","v":0.7},"NÃO ATINGIU",216,128,0.59259259259259256]
[280700,"ITABAIANA","SAO MIGUEL DO ALEIXO",72,37,72,58,72,0,0.44444444444444442,{"$f":"METAS!L70","v":0.5},"NÃO ATINGIU",216,95,0.43981481481481483]
[280710,"LAGARTO","SIMAO DIAS",156,165,156,276,156,271,1.4923878205128205,{"$f":"METAS!L71","v":0.8},"ATINGIU",468,712,1.5213675213675213]
[280720,"SOCORRO","SIRIRI",108,60,108,97,108,0,0.48900462962962954,{"$f":"METAS!L72","v":0.5},"NÃO ATINGIU",324,157,0.48456790123456789]
[280730,"PROPRIA","TELHA",72,30,72,40,72,0,0.32986111111111105,{"$f":"METAS!L73","v":0.4},"NÃO ATINGIU",216,70,0.32407407407407407]
[280740,"LAGARTO","TOBIAS BARRETO",180,152,180,298,180,55,0.92951388888888875,{"$f":"METAS!L74","v":1},"NÃO ATINGIU",540,505,0.93518518518518523]
[280750,"ESTANCIA","TOMAR DO GERU",120,122,120,189,120,0,0.87343749999999998,{"$f":"METAS!L75","v":1},"NÃO ATINGIU",360,311,0.86388888888888893]
[280760,"ESTANCIA","UMBAUBA",132,150,132,198,132,0,0.89488636363636365,{"$f":"METAS!L76","v":0.9},"NÃO ATINGIU",396,348,0.87878787878787878]
[280000,"SERGIPE","ESTADO",{"$f":"SUM(D3:D77)","v":9852},{"$f":"SUM(E3:E77)","v":7535},{"$f":"SUM(F3:F77)","v":9852},{"$f":"SUM(G3:G77)","v":11953},9852,{"$f":"SUM(I3:I77)","v":2233},0.73677933414535102,{"$f":"METAS!L77","v":0.6},{"$f":"IF(J78>=K78,\"Atingiu\",\"Não atingiu\")","v":"Atingiu"}]
[]
[]
[null,null,null,null,null,null,null,null,4968,2719,{"$f":"J81/I81","v":0.54730273752012881}]

{"sheet":"CITOPATOLOGICO","index":104,"n_rows":224,"n_cols":41,"rows_kept":224,"cut":false,"hidden":true,"merged":[[3,39,3,40]]}
["CÓD","REGIÃO","MUNICÍPIO","POP 2015","POP FEM 25 A 64 2008","POP FEM 25 A 64 2009","POP FEM 25 A 64 2010","POP FEM 25 A 64 2011","POP FEM 25 A 64 2012","POP FEM 25 A 64 2013","POP FEM 25 A 64 2014","POP FEM 25 A 64 2015","PROPORÇÃO POP FEM 25 A 64","EXAME CITO 2008","EXAME CITO 2009","EXAME CITO 2010","EXAME CITO 2011","EXAME CITO 2012","EXAME CITO 2013","EXAME CITO 2014","EXAME CITO 2015","EXAME CITO 2016","EXAME CITO 2017","RAZÃO CITO 2008","RAZÃO CITO 2009","RAZÃO CITO 2010","RAZÃO CITO 2011","RAZÃO CITO 2012","RAZÃO CITO 2013","RAZÃO CITO 2014","RAZÃO CITO 2015","RAZÃO CITO 2016","RAZÃO CITO 2017","META 2017","META 2018","NÚMERO DE EXAME A SER EXECUTADO EM 2017","PARÂMETRO","SITUAÇÃO 2017"]
[280010,"PROPRIA","AMPARO DE SÃO FRANCISCO",2374,474,483,494,500,508,520,529,539,{"$f":"L2/D2*100","v":22.704296545914069},69,141,214,105,80,193,135,117,65,56,{"$f":"N2/(E2/3)","v":0.43670886075949367},0.87577639751552794,1.299595141700405,0.63,0.47244094488188976,1.1134615384615385,0.7655954631379962,{"$f":"U2/($L2/3)","v":0.65120593692022266},0.36178107606679039,0.31168831168831168,{"$f":"METAS!M2","v":0.78},null,{"$f":"L2/3","v":179.66666666666666},{"$f":"IF(AG2<=0.25,\"Insatisfatório\",IF(AG2<=0.51,\"Alerta\",IF(AG2>0.78,\"Ótimo\",\"Bom\")))","v":"Alerta"},{"$f":"IF(AG2>=AH2,\"ATINGIU\",\"NÃO ATINGIU\")","v":"NÃO ATINGIU"}]
[280020,"PROPRIA","AQUIDABA",21315,4294,4375,4613,4644,4807,4924,4994,5086,23.861130659160214,698,946,634,767,478,784,670,720,834,774,0.48765719608756408,0.64868571428571431,0.4123130283980056,0.49547803617571057,0.29831495735385899,0.47766043866774982,0.40248297957549056,0.42469524184034607,0.49193865513173418,0.456547384978372,{"$f":"METAS!M3","v":0.57999999999999996},null,1695.3333333333333,"Alerta",{"$f":"IF(AG3>=AH3,\"ATINGIU\",\"NÃO ATINGIU\")","v":"NÃO ATINGIU"}]
[280030,"ARACAJU","ARACAJU",632745,148949,153069,165333,167768,173656,177921,182275,186400,29.458944756576503,21362,21485,19910,19728,18291,16560,13276,17072,12936,14300,0.43025465092078496,0.42108460890186777,0.36127088965905174,0.35277287682990799,0.31598677845856177,0.27922504931964187,0.21850500617199287,0.27476394849785407,0.20819742489270385,0.23015021459227467,{"$f":"METAS!M4","v":0.32},null,62133.333333333336,"Insatisfatório","NÃO ATINGIU",null,"ESCORES:"]
[280040,"ESTANCIA","ARAUA",10572,2470,2527,2437,2411,2441,2451,2502,2540,24.025728339008705,753,880,383,531,900,480,517,767,673,509,0.91457489878542508,1.0447170557973882,0.47148132950348787,0.66072169224388222,1.1061040557148709,0.58751529987760098,0.61990407673860914,0.90590551181102363,0.7948818897637796,0.60118110236220479,{"$f":"METAS!M5","v":0.8},null,846.66666666666663,"Bom","NÃO ATINGIU",null,"Ótimo",">0,78"]
[280050,"ITABAIANA","AREIA BRANCA",18169,3500,3598,3727,3761,3873,3959,4044,4124,22.698002091474489,562,571,237,281,735,488,572,465,439,499,0.48171428571428571,0.47609783212896056,0.19077005634558628,0.22414251528848708,0.56932610379550741,0.36979035109876229,0.42433234421364985,0.33826382153249268,0.31935014548981572,0.3629970902036857,{"$f":"METAS!M6","v":0.49},null,1374.6666666666667,"Alerta","NÃO ATINGIU",null,"Bom","0,52 a 0,78"]
[280060,"ARACAJU","BARRA DOS COQUEIROS",28679,4613,4719,6242,6380,6639,6864,7096,7316,25.509955019352137,754,883,1109,1147,1229,1205,1117,1362,1367,797,0.49035334923043572,0.56134774316592495,0.53300224287087472,0.53934169278996869,0.55535472209670134,0.52666083916083917,0.47223788049605409,0.5585019136139967,0.56055221432476765,0.32681793329688358,{"$f":"METAS!M7","v":0.55000000000000004},null,2438.6666666666665,"Alerta","NÃO ATINGIU",null,"Alerta!","0,26 a 0,51"]
[280067,"ESTANCIA","BOQUIM",26750,5734,5828,6101,6121,6294,6421,6495,6586,24.62056074766355,899,753,584,746,1568,1401,1240,1065,831,893,0.47035228461806766,0.38761153054220998,0.2871660383543681,0.36562653161248165,0.74737845567206862,0.65457093910605824,0.5727482678983834,0.48511995141208619,0.37853021560886729,0.40677194047980564,{"$f":"METAS!M8","v":0.52},null,2195.3333333333335,"Alerta","NÃO ATINGIU",null,"Insatisfatório","<=0,25"]
[280070,"PROPRIA","BREJO GRANDE",8218,1388,1418,1470,1480,1522,1558,1608,1651,20.090046239961062,252,153,291,260,227,130,137,328,151,91,0.54466858789625361,0.3236953455571227,0.59387755102040818,0.52702702702702708,0.44743758212877793,0.25032092426187419,0.25559701492537312,0.59600242277407622,0.27437916414294367,0.1653543307086614,{"$f":"METAS!M9","v":0.56000000000000005},null,550.33333333333337,"Insatisfatório","NÃO ATINGIU"]
[280100,"ITABAIANA","CAMPO DO BRITO",17851,3640,3706,4004,4033,4159,4238,4321,4394,24.614867514424962,364,376,274,285,407,638,858,620,462,445,0.30000000000000004,0.3043712898003238,0.20529470529470528,0.21200099181750559,0.29358018754508297,0.4516281264747522,0.59569544087016901,0.4233045061447428,0.31543013199817932,0.30382339553937188,{"$f":"METAS!M10","v":0.57999999999999996},null,1464.6666666666667,"Alerta","NÃO ATINGIU"]
[280110,"PROPRIA","CANHOBA",4059,735,742,806,806,823,837,849,862,21.236757822123675,179,290,243,144,268,284,143,212,162,122,0.73061224489795917,1.1725067385444743,0.90446650124069472,0.53598014888337464,0.97691373025516415,1.0179211469534051,0.5053003533568905,0.73781902552204182,0.56380510440835274,0.42459396751740142,{"$f":"METAS!M11","v":0.65},null,287.33333333333331,"Alerta","NÃO ATINGIU"]
[280120,"GLORIA","CANINDE DE SÃO FRANCISCO",28279,4058,4178,5088,5197,5501,5757,5945,6167,21.807701828211748,1411,1989,1522,1362,1149,1287,1433,870,465,379,1.0431246919664858,1.4281953087601722,0.89740566037735847,0.7862228208581874,0.62661334302854022,0.67066180302240752,0.72312867956265769,0.42322036646667749,0.22620398897356903,0.18436841251824226,{"$f":"METAS!M12","v":0.6},null,2055.6666666666665,"Insatisfatório","NÃO ATINGIU"]
[280130,"SOCORRO","CAPELA",33378,6024,6175,6758,6831,7084,7276,7477,7674,22.991191802984002,1535,1182,1331,1125,1115,867,1359,904,830,1080,0.7644422310756972,0.57425101214574892,0.59085528262799647,0.49407114624505927,0.4721908526256352,0.35747663551401865,0.54527216798181088,0.35340109460516028,0.32447224394057855,0.42220484753713838,{"$f":"METAS!M13","v":0.57999999999999996},null,2558,"Alerta","NÃO ATINGIU"]
[280140,"ITABAIANA","CARIRA",21487,4177,4258,4566,4606,4780,4920,5014,5131,23.879555079815702,284,664,153,523,571,896,543,469,472,465,0.20397414412257603,0.4678252700798497,0.10052562417871222,0.34064264003473732,0.35836820083682008,0.54634146341463419,0.32489030714000799,0.27421555252387447,0.27596959656986941,0.27187682712921457,{"$f":"METAS!M14","v":0.57999999999999996},null,1710.3333333333333,"Alerta","NÃO ATINGIU"]
[280150,"SOCORRO","CARMOPOLIS",15621,2772,2885,3141,3216,3348,3469,3604,3730,23.878112796876,571,543,400,285,482,397,411,468,448,377,0.61796536796536794,0.56464471403812833,0.38204393505253104,0.26585820895522388,0.43189964157706096,0.3433266070913808,0.3421198668146504,0.37640750670241291,0.3603217158176944,0.30321715817694372,{"$f":"METAS!M15","v":0.45},null,1243.3333333333333,"Alerta","NÃO ATINGIU"]
[280160,"PROPRIA","CEDRO DE SÃO JOAO",5890,1203,1207,1347,1355,1379,1402,1406,1415,24.02376910016978,200,262,224,222,255,327,274,201,325,200,0.49875311720698257,0.65120132560066279,0.49888641425389757,0.4915129151291513,0.55474981870920959,0.69971469329529246,0.5846372688477951,0.42614840989399294,0.68904593639575973,0.42402826855123671,{"$f":"METAS!M16","v":0.62},null,471.66666666666669,"Alerta","NÃO ATINGIU"]
[280170,"ESTANCIA","CRISTINAPOLIS",17911,3169,3177,3458,3494,3637,3747,3848,3955,22.081402490089889,355,266,271,548,780,516,680,595,216,266,0.33606816030293468,0.25118035882908402,0.23510699826489298,0.47052089295935889,0.64338740720373944,0.41313050440352284,0.53014553014553012,0.45132743362831862,0.1638432364096081,0.2017699115044248,{"$f":"METAS!M17","v":0.55000000000000004},null,1318.3333333333333,"Insatisfatório","NÃO ATINGIU"]
[280190,"SOCORRO","CUMBE",3986,880,892,911,918,936,952,957,966,24.234821876567988,265,255,310,264,275,257,270,243,248,223,0.90340909090909094,0.85762331838565031,1.0208562019758507,0.86274509803921573,0.88141025641025639,0.80987394957983194,0.84639498432601878,0.75465838509316774,0.77018633540372672,0.69254658385093171,{"$f":"METAS!M18","v":0.8},null,322,"Bom","NÃO ATINGIU"]
[280200,"ARACAJU","DIVINA PASTORA",4889,933,976,967,984,1025,1060,1090,1121,22.929024340355898,81,144,75,100,217,81,78,106,127,196,0.26045016077170419,0.44262295081967218,0.23267838676318511,0.3048780487804878,0.6351219512195122,0.22924528301886793,0.21467889908256882,0.28367528991971452,0.33987511150758248,0.52453166815343444,{"$f":"METAS!M19","v":0.5},null,373.66666666666669,"Bom","ATINGIU"]
[280210,"ESTANCIA","ESTANCIA",68407,14325,14666,15592,15693,16176,16522,16921,17282,25.263496425804377,3676,4344,3834,3557,3783,3402,3536,3709,3096,3121,0.76984293193717279,0.88858584481112768,0.73768599281682923,0.67998470655706367,0.70159495548961426,0.61772182544486143,0.6269133029962769,0.64384909154033099,0.53743779655132506,0.5417775720402731,{"$f":"METAS!M20","v":0.57999999999999996},null,5760.666666666667,"Bom","NÃO ATINGIU"]
[280220,"GLORIA","FEIRA NOVA",5571,1247,1283,1201,1207,1250,1282,1297,1319,23.676180218991206,193,129,150,101,172,120,171,201,30,124,0.46431435445068159,0.30163678877630551,0.37468776019983346,0.25103562551781278,0.4128,0.28081123244929801,0.39552814186584428,0.45716451857467777,6.8233510235026537E-2,0.28203184230477635,{"$f":"METAS!M21","v":0.57999999999999996},null,439.66666666666669,"Alerta","NÃO ATINGIU"]
[280230,"ITABAIANA","FREI PAULO",15044,2878,2933,3298,3334,3421,3501,3586,3664,24.355224674288753,306,436,268,263,462,367,444,262,231,444,0.31897150799166085,0.44595976815547222,0.24378411158277746,0.2366526694661068,0.40514469453376206,0.31448157669237359,0.37144450641383159,0.21451965065502185,0.18913755458515286,0.36353711790393017,{"$f":"METAS!M22","v":0.5},null,1221.3333333333333,"Alerta","NÃO ATINGIU"]
[280240,"GLORIA","GARARU",11724,2325,2363,2495,2497,2559,2598,2644,2684,22.893210508358923,136,143,182,217,335,279,187,114,50,130,0.17548387096774193,0.18154887854422344,0.21883767535070142,0.26071285542651179,0.39273153575615477,0.32217090069284066,0.21217851739788199,0.12742175856929955,5.5886736214605069E-2,0.14530551415797319,{"$f":"METAS!M23","v":0.45},null,894.66666666666663,"Insatisfatório","NÃO ATINGIU"]
[280250,"SOCORRO","GENERAL MAYNARD",3230,657,678,715,721,756,779,810,837,25.913312693498451,62,206,123,77,139,133,115,148,117,181,0.28310502283105021,0.91150442477876104,0.51608391608391602,0.32038834951456308,0.55158730158730163,0.51219512195121952,0.42592592592592593,0.53046594982078854,0.41935483870967744,0.64874551971326166,{"$f":"METAS!M24","v":0.54},null,279,"Bom","ATINGIU"]
[280260,"GLORIA","GRACHO CARDOSO",5846,1225,1254,1279,1287,1316,1340,1364,1386,23.708518645227507,387,196,109,211,273,4,137,76,116,146,0.94775510204081637,0.46889952153110048,0.25566849100860051,0.49184149184149184,0.62234042553191482,8.9552238805970137E-3,0.30131964809384165,0.16450216450216451,0.25108225108225107,0.31601731601731603,{"$f":"METAS!M25","v":0.4},null,462,"Alerta","NÃO ATINGIU"]
[280270,"PROPRIA","ILHA DAS FLORES",8597,1719,1759,1723,1726,1742,1758,1788,1810,21.053855996277772,165,248,168,164,131,296,150,399,344,388,0.2879581151832461,0.4229675952245594,0.29251305861868832,0.2850521436848204,0.22560275545350172,0.50511945392491464,0.25167785234899331,0.66132596685082867,0.5701657458563536,0.64309392265193366,{"$f":"METAS!M26","v":0.56000000000000005},null,603.33333333333337,"Bom","ATINGIU"]
[280280,"ESTANCIA","INDIAROBA",17384,3284,3421,3154,3196,3305,3403,3519,3626,20.858260469397148,475,150,141,127,426,576,73,62,49,42,0.43392204628501824,0.13154048523823444,0.13411540900443883,0.11921151439299124,0.38668683812405441,0.50778724654716434,6.2233589087809037E-2,5.1296194153337006E-2,4.0540540540540536E-2,3.4749034749034749E-2,{"$f":"METAS!M27","v":0.48},null,1208.6666666666667,"Insatisfatório","NÃO ATINGIU"]
[280290,"ITABAIANA","ITABAIANA",93573,20141,20626,21700,21895,22594,23089,23609,24094,25.748880553151015,2160,2164,2838,2594,2990,2368,2030,2388,2367,2166,0.3217317908743359,0.31474837583632309,0.39235023041474654,0.35542361269696277,0.39700805523590338,0.30767898133310234,0.25795247575077301,0.29733543620818464,0.29472067734705737,0.26969369967626794,{"$f":"METAS!M28","v":0.46},null,8031.333333333333,"Alerta","NÃO ATINGIU"]
[280300,"ESTANCIA","ITABAIANINHA",41405,7790,8000,8497,8556,8843,9063,9307,9539,23.038280400917763,1108,1375,773,1395,1530,1365,1469,1727,1514,1365,0.42670089858793325,0.515625,0.272919854066141,0.4891304347826087,0.51905461947302955,0.45183714001986097,0.47351455893413558,0.5431386937834155,0.47615053988887729,0.42929028200020969,{"$f":"METAS!M29","v":0.55000000000000004},null,3179.6666666666665,"Alerta","NÃO ATINGIU"]
[280310,"GLORIA","ITABI",5017,1076,1084,1203,1195,1228,1243,1254,1266,25.234203707394858,60,178,133,132,265,155,150,62,27,86,0.16728624535315983,0.49261992619926204,0.33167082294264338,0.33138075313807536,0.64739413680781766,0.37409493161705554,0.35885167464114831,0.14691943127962084,6.398104265402843E-2,0.20379146919431279,{"$f":"METAS!M30","v":0.44},null,422,"Insatisfatório","NÃO ATINGIU"]
[280320,"ARACAJU","ITAPORANGA D'AJUDA",33320,5947,6115,6743,6827,7085,7288,7503,7705,23.12424969987995,1042,1117,624,1117,1519,611,1331,1305,1339,546,0.52564318143601818,0.54799672935404742,0.27762123683820261,0.49084517357550905,0.64318983768525062,0.25150933040614709,0.53218712514994004,0.5081116158338741,0.52134977287475659,0.21258922777417261,{"$f":"METAS!M31","v":0.55000000000000004},null,2568.3333333333335,"Insatisfatório","NÃO ATINGIU"]
[280330,"SOCORRO","JAPARATUBA",18286,3351,3428,3868,3906,4095,4230,4359,4497,24.592584490867331,1067,1137,1100,1501,1085,948,514,851,598,349,0.955237242614145,0.99504084014002325,0.85315408479834542,1.15284178187404,0.79487179487179482,0.67234042553191486,0.35375086028905711,0.56771180787191466,0.39893262174783189,0.23282188125416944,{"$f":"METAS!M32","v":0.57999999999999996},null,1499,"Insatisfatório","NÃO ATINGIU"]
[280340,"PROPRIA","JAPOATA",13245,2859,2933,2783,2779,2849,2902,2922,2955,22.310305775764437,588,591,342,324,538,857,479,441,506,769,0.61699895068205668,0.60450051142175254,0.36866690621631337,0.34976610291471749,0.56651456651456655,0.88594073053066846,0.49178644763860369,0.44771573604060916,0.51370558375634523,0.78071065989847721,{"$f":"METAS!M33","v":0.55000000000000004},null,985,"Ótimo","ATINGIU"]
[280350,"LAGARTO","LAGARTO",102259,20583,20998,22845,23058,23929,24560,25095,25678,25.110748198202604,4382,3982,3741,4133,4632,3835,3845,4039,3600,3534,{"$f":"N34/(E34/3)","v":0.63868240781227226},0.5689113248880846,0.49126723571897568,0.5377309393702836,0.58071795729031717,0.46844462540716608,0.45965331739390319,{"$f":"U34/($L34/3)","v":0.47188254536957702},0.42059350416699115,0.41288262325726299,{"$f":"METAS!M34","v":0.62},null,8559.3333333333339,"Alerta","NÃO ATINGIU"]
[280360,"ARACAJU","LARANJEIRAS",29127,5578,5712,6362,6427,6629,6796,6962,7123,24.454973049061007,897,906,671,655,1244,999,977,1215,1100,1048,0.48243097884546432,0.47584033613445376,0.31640993398302425,0.30574140345417766,0.562980841755921,0.44099470276633312,0.4209997127262281,0.51172258879685517,0.46328794047451916,0.4413870560157237,{"$f":"METAS!M35","v":0.52},null,2374.3333333333335,"Alerta","NÃO ATINGIU"]
[280370,"ITABAIANA","MACAMBIRA",6823,1434,1465,1532,1539,1589,1619,1656,1690,24.769163124725193,151,113,92,116,154,127,165,108,122,248,0.31589958158995818,0.23139931740614336,0.18015665796344646,0.22612085769980506,0.29074889867841414,0.23533045089561461,0.29891304347826086,0.19171597633136092,0.21656804733727808,0.44023668639053254,{"$f":"METAS!M36","v":0.16},null,563.33333333333337,"Alerta","ATINGIU"]
[280380,"PROPRIA","MALHADA DOS BOIS",3652,758,780,761,768,777,790,804,819,22.42606790799562,110,142,72,72,120,243,137,222,209,193,0.43535620052770452,0.5461538461538461,0.28383705650459923,0.28125,0.46332046332046334,0.92278481012658231,0.51119402985074625,0.81318681318681318,0.76556776556776551,0.706959706959707,{"$f":"METAS!M37","v":0.65},null,273,"Bom","ATINGIU"]
[280390,"ITABAIANA","MALHADOR",12601,2559,2613,2792,2799,2867,2911,2976,3026,24.013967145464648,477,539,226,317,623,471,475,544,585,659,0.5592028135990621,0.61882893226176805,0.24283667621776506,0.33976420150053588,0.65190094175095925,0.48540020611473716,0.47883064516129031,0.5393258426966292,0.57997356245869136,0.65333773959021813,{"$f":"METAS!M38","v":0.57999999999999996},null,1008.6666666666666,"Bom","ATINGIU"]
[280400,"SOCORRO","MARUIM",17151,3552,3604,3857,3876,3927,3977,4015,4053,23.631275144306453,345,648,435,539,306,471,251,455,373,299,0.29138513513513514,0.53940066592674807,0.33834586466165412,0.41718266253869968,0.23376623376623376,0.3552929343726427,0.18754669987546702,0.33678756476683935,0.27609178386380456,0.22131754256106587,{"$f":"METAS!M39","v":0.49},null,1351,"Insatisfatório","NÃO ATINGIU"]
[280410,"ITABAIANA","MOITA BONITA",11399,2477,2518,2624,2632,2693,2727,2775,2810,24.651285200456179,298,306,131,200,390,405,507,352,356,384,0.36092046830843766,0.36457505957108816,0.14977134146341464,0.22796352583586627,0.4344597103601931,0.44554455445544555,0.54810810810810806,0.37580071174377228,0.38007117437722421,0.4099644128113879,{"$f":"METAS!M40","v":0.57999999999999996},null,936.66666666666663,"Alerta","NÃO ATINGIU"]
[280420,"GLORIA","MONTE ALEGRE DE SERGIPE",14853,2644,2719,2874,2907,3031,3137,3200,3286,22.123476738705985,198,251,121,309,374,502,474,150,18,171,0.22465960665658094,0.27694005148951817,0.12630480167014613,0.31888544891640869,0.37017485978225007,0.48007650621613002,0.44437499999999996,0.13694461351186854,1.6433353621424226E-2,0.15611685940353015,{"$f":"METAS!M41","v":0.5},null,1095.3333333333333,"Insatisfatório","NÃO ATINGIU"]
[280430,"PROPRIA","MURIBECA",7644,1562,1600,1674,1681,1745,1787,1826,1870,24.46363160648875,553,523,279,301,510,558,387,336,522,330,1.0620998719590269,0.98062499999999997,0.5,0.53718024985127899,0.87679083094555876,0.93676552881925024,0.63581599123767807,0.53903743315508013,0.83743315508021388,0.52941176470588236,{"$f":"METAS!M42","v":0.82},null,623.33333333333337,"Bom","NÃO ATINGIU"]
[280440,"PROPRIA","NEOPOLIS",18958,4021,4111,4121,4117,4218,4283,4366,4438,23.409642367338325,336,407,286,452,781,645,573,1136,927,716,0.25068390947525493,0.29700802724397957,0.20820189274447948,0.32936604323536556,0.55547652916073964,0.45178613121643707,0.39372423270728357,0.76791347453808023,0.62663361874718349,0.48400180261379,{"$f":"METAS!M43","v":0.6},null,1479.3333333333333,"Alerta","NÃO ATINGIU"]
[280445,"ITABAIANA","NOSSA SENHORA APARECIDA",8830,1950,1987,2024,2031,2091,2127,2152,2184,24.733861834654586,66,132,123,149,118,130,231,116,134,170,0.10153846153846154,0.19929542023150476,0.18231225296442688,0.22008862629246675,0.16929698708751795,0.18335684062059238,0.32202602230483268,0.15934065934065933,0.18406593406593408,0.23351648351648352,{"$f":"METAS!M44","v":0.4},null,728,"Insatisfatório","NÃO ATINGIU"]
[280450,"GLORIA","NOSSA SENHORA DA GLORIA",35723,6704,6873,7618,7718,8072,8337,8570,8814,24.673179744142431,699,1132,972,1072,1306,983,1187,866,515,1203,0.31279832935560864,0.49410737669140115,0.38277763192438957,0.41668826120756675,0.48538156590683851,0.35372436128103635,0.41551925320886818,0.29475833900612664,0.17528931245745405,0.40946221919673248,{"$f":"METAS!M45","v":0.5},null,2938,"Alerta","NÃO ATINGIU"]
[280460,"SOCORRO","NOSSA SENHORA DAS DORES",26237,5301,5427,5646,5688,5883,6026,6146,6277,23.924229142051303,808,1190,801,886,940,1250,1076,1341,1570,1408,0.4572722127900396,0.6578220011055832,0.42561105207226357,0.46729957805907174,0.479347271800102,0.62230335214072352,0.52521965506020185,0.64091126334236093,0.75035845148956504,0.67293292974350805,{"$f":"METAS!M46","v":0.65},null,2092.3333333333335,"Bom","ATINGIU"]
[280470,"PROPRIA","NOSSA SENHORA DE LOURDES",6494,1398,1430,1428,1436,1470,1503,1526,1551,23.883584847551585,248,298,206,151,382,399,223,535,318,253,0.53218884120171672,0.62517482517482514,0.4327731092436975,0.31545961002785516,0.7795918367346939,0.79640718562874246,0.4384010484927916,1.0348162475822051,0.61508704061895547,0.48936170212765956,{"$f":"METAS!M47","v":0.6},null,517,"Alerta","NÃO ATINGIU"]
[280480,"SOCORRO","NOSSA SENHORA DO SOCORRO",177340,37207,38293,40956,41521,42676,43785,44932,46014,25.946768918461711,7596,8400,6379,5387,5620,5379,3585,3609,3856,3285,0.61246539629639585,0.65808372287363226,0.46725754468209785,0.38922472965487342,0.39506982847502109,0.3685508735868448,0.23936170212765956,0.23529795279697482,0.25140174729430176,0.21417394705959056,{"$f":"METAS!M48","v":0.48},null,15338,"Insatisfatório","NÃO ATINGIU"]
[280490,"PROPRIA","PACATUBA",14164,2344,2417,2695,2718,2841,2927,3053,3162,22.32420220276758,239,391,342,353,539,608,441,609,396,482,0.30588737201365185,0.48531237070748867,0.38070500927643786,0.38962472406181015,0.56916578669482576,0.62316364878715413,0.43334425155584672,0.57779886148007586,0.37571157495256169,0.45730550284629978,{"$f":"METAS!M49","v":0.57999999999999996},null,1054,"Alerta","NÃO ATINGIU"]
[280500,"ITABAIANA","PEDRA MOLE",3199,640,652,723,729,758,778,798,817,25.539231009690528,218,220,117,124,263,292,216,274,212,252,1.0218749999999999,1.0122699386503067,0.48547717842323651,0.51028806584362141,1.0408970976253298,1.1259640102827764,0.81203007518796988,1.0061199510403918,0.77845777233782132,0.92533659730722162,{"$f":"METAS!M50","v":0.83},null,272.33333333333331,"Ótimo","ATINGIU"]
[280510,"ESTANCIA","PEDRINHAS",9455,1819,1855,1978,1996,2075,2131,2172,2222,23.500793231094658,290,203,225,173,539,325,376,285,182,417,0.47828477185266627,0.32830188679245281,0.34125379170879677,0.26002004008016033,0.77927710843373499,0.45753167526982635,0.51933701657458564,0.38478847884788481,0.24572457245724574,0.56300630063006307,{"$f":"METAS!M51","v":0.57999999999999996},null,740.66666666666663,"Bom","NÃO ATINGIU"]
[280520,"ITABAIANA","PINHAO",6439,1272,1302,1448,1461,1518,1564,1606,1651,25.640627426619041,109,296,26,27,164,138,66,107,114,190,0.25707547169811323,0.6820276497695853,5.3867403314917128E-2,5.5441478439425054E-2,0.32411067193675891,0.26470588235294118,0.12328767123287671,0.19442761962447,0.20714718352513628,0.34524530587522712,{"$f":"METAS!M52","v":0.35},null,550.33333333333337,"Alerta","NÃO ATINGIU"]
[280530,"SOCORRO","PIRAMBU",9058,1760,1828,1829,1847,1915,1967,2028,2082,22.985206447339369,336,242,227,194,329,384,117,270,315,296,0.57272727272727275,0.39715536105032823,0.37233460907599786,0.31510557661072008,0.51540469973890335,0.58566344687341132,0.17307692307692307,0.38904899135446686,0.45389048991354469,0.4265129682997118,{"$f":"METAS!M53","v":0.5},null,694,"Alerta","NÃO ATINGIU"]
[280540,"GLORIA","POCO REDONDO",33756,5275,5384,6047,6121,6348,6556,6720,6905,20.45562270411186,594,635,718,590,1212,759,742,415,149,504,0.33781990521327016,0.35382615156017827,0.35620969075574666,0.28916843652997876,0.57277882797731572,0.34731543624161071,0.33124999999999999,0.18030412744388125,6.4735698769007963E-2,0.21897175959449675,{"$f":"METAS!M54","v":0.43},null,2301.6666666666665,"Insatisfatório","NÃO ATINGIU"]
[280550,"LAGARTO","POCO VERDE",23413,4598,4672,5021,5056,5231,5357,5441,5546,23.687694870371161,2692,3016,3158,2317,992,830,693,650,253,857,1.7564158329708568,1.9366438356164384,1.8868751244771957,1.3748022151898736,0.56891607723188675,0.4648123949971999,0.38209887888255833,0.35160476018752251,0.13685539127298954,0.46357735304724124,{"$f":"METAS!M55","v":0.5},null,1848.6666666666667,"Alerta","NÃO ATINGIU"]
[280560,"GLORIA","PORTO DA FOLHA",28497,5225,5331,5669,5692,5866,6000,6143,6273,22.012843457206021,915,539,515,367,601,762,1058,400,387,537,0.52535885167464114,0.30332020258863251,0.2725348385958723,0.19342937456078707,0.30736447323559496,0.38100000000000001,0.5166856584730587,0.19129603060736489,0.18507890961262555,0.25681492109038739,{"$f":"METAS!M56","v":0.57999999999999996},null,2091,"Alerta","NÃO ATINGIU"]
[280570,"PROPRIA","PROPRIA",29657,6492,6611,6887,6906,7072,7184,7320,7445,25.103685470546584,1461,83,612,1326,918,1800,1452,1534,1474,1321,0.67513863216266179,3.766449856300106E-2,0.26658922607811819,0.5760208514335361,0.38942307692307687,0.75167037861915376,0.59508196721311479,0.61813297515110821,0.59395567494963064,0.53230355943586305,{"$f":"METAS!M57","v":0.57999999999999996},null,2481.6666666666665,"Bom","NÃO ATINGIU"]
[280580,"LAGARTO","RIACHAO DO DANTAS",19976,3819,3866,4211,4220,4332,4408,4480,4549,22.772326792150579,1025,977,538,374,549,692,676,1082,743,872,0.80518460329929298,0.75814795654423173,0.3832818807884113,0.2658767772511848,0.38019390581717449,0.47096188747731399,0.45267857142857143,0.71356342053198507,0.48999780171466256,0.57507144427346668,{"$f":"METAS!M58","v":0.51},null,1516.3333333333333,"Bom","ATINGIU"]
[280590,"ARACAJU","RIACHUELO",10033,2003,2055,2145,2163,2221,2271,2328,2379,23.711751220970797,138,249,142,163,293,217,230,273,244,229,0.20668996505242138,0.36350364963503651,0.19860139860139861,0.22607489597780861,0.39576767221972081,0.2866578599735799,0.29639175257731959,0.34426229508196721,0.30769230769230771,0.28877679697351827,{"$f":"METAS!M59","v":0.6},null,793,"Alerta","NÃO ATINGIU"]
[280600,"ITABAIANA","RIBEIROPOLIS",18363,3730,3797,4203,4237,4377,4460,4557,4640,25.268202363448239,291,263,185,132,323,371,443,524,516,436,0.23404825737265417,0.20779562812746905,0.13204853675945752,9.3462355440169939E-2,0.22138450993831391,0.24955156950672644,0.29163923633969718,0.33879310344827585,0.33362068965517239,0.28189655172413791,{"$f":"METAS!M60","v":0.5},null,1546.6666666666667,"Alerta","NÃO ATINGIU"]
[280610,"SOCORRO","ROSARIO DO CATETE",10367,1993,2063,2244,2286,2377,2459,2541,2622,25.291791260731166,451,501,385,459,470,462,477,489,493,394,0.67887606623181129,0.72855065438681532,0.51470588235294112,0.60236220472440949,0.59318468657972234,0.56364375762505081,0.56316410861865407,0.55949656750572085,0.56407322654462244,0.45080091533180777,{"$f":"METAS!M61","v":0.66},null,874,"Alerta","NÃO ATINGIU"]
[280620,"LAGARTO","SALGADO",20082,4104,4172,4463,4467,4604,4689,4760,4834,24.071307638681404,1023,975,890,825,861,732,846,635,703,716,0.7478070175438597,0.70110258868648123,0.59825229666143842,0.55406312961719273,0.56103388357949602,0.46833013435700577,0.53319327731092436,0.39408357467935456,0.43628465039304926,0.44435250310302027,{"$f":"METAS!M62","v":0.5},null,1611.3333333333333,"Alerta","NÃO ATINGIU"]
[280630,"ESTANCIA","SANTA LUZIA DO ITANHY",13838,2416,2471,2560,2579,2672,2749,2814,2880,20.812256106373752,1367,738,452,476,761,561,80,75,485,531,1.697433774834437,0.89599352488870909,0.52968749999999998,0.55370298565335407,0.85441616766467066,0.61222262640960345,8.5287846481876331E-2,7.8125E-2,0.50520833333333337,0.55312499999999998,{"$f":"METAS!M63","v":0.57999999999999996},null,960,"Bom","NÃO ATINGIU"]
[280650,"PROPRIA","SANTANA DO SÃO FRANCISCO",7607,1277,1315,1464,1479,1543,1592,1633,1680,22.084921782568685,304,250,131,321,299,249,253,299,236,357,0.71417384494909941,0.57034220532319391,0.26844262295081966,0.65111561866125756,0.58133506156837322,0.46922110552763824,0.46478873239436619,0.53392857142857142,0.42142857142857143,0.63749999999999996,{"$f":"METAS!M64","v":0.55000000000000004},null,560,"Bom","ATINGIU"]
[280640,"ARACAJU","SANTA ROSA DE LIMA",3912,846,866,807,816,829,840,845,851,21.753578732106341,114,180,159,159,189,185,148,115,73,108,0.40425531914893614,0.62355658198614317,0.59107806691449816,0.5845588235294118,0.68395657418576605,0.6607142857142857,0.52544378698224847,0.40540540540540537,0.25734430082256166,0.3807285546415981,{"$f":"METAS!M65","v":0.59},null,283.66666666666669,"Alerta","NÃO ATINGIU"]
[280660,"SOCORRO","SANTO AMARO DAS BROTAS",12024,2629,2705,2671,2685,2731,2777,2834,2878,{"$f":"L66/D66*100","v":23.935462408516301},246,317,163,177,256,247,221,412,248,61,{"$f":"N66/(E66/3)","v":0.28071510079878281},0.3515711645101664,0.18307749906402096,0.19776536312849163,0.28121567191504943,0.26683471371984158,0.23394495412844038,{"$f":"U66/($L66/3)","v":0.42946490618485056},0.25851285615010422,6.3585823488533699E-2,{"$f":"METAS!M66","v":0.57999999999999996},null,{"$f":"L66/3","v":959.33333333333337},{"$f":"IF(AG66<=0.25,\"Insatisfatório\",IF(AG66<=0.51,\"Alerta\",IF(AG66>0.78,\"Ótimo\",\"Bom\")))","v":"Insatisfatório"},"NÃO ATINGIU"]
[280670,"ARACAJU","SÃO CRISTOVAO",86979,18072,18604,19904,20178,20747,21259,21822,22331,25.674013267570334,2000,2622,2737,2049,1921,1538,1630,1673,1632,1463,0.33200531208499334,0.4228122984304451,0.41253014469453375,0.30463871543264942,0.27777510001445993,0.2170374900042335,0.22408578498762716,0.22475482513098383,0.21924678697774394,0.19654292239487706,{"$f":"METAS!M67","v":0.4},null,7443.666666666667,"Insatisfatório",{"$f":"IF(AG67>=AH67,\"ATINGIU\",\"NÃO ATINGIU\")","v":"NÃO ATINGIU"}]
[280680,"ITABAIANA","SÃO DOMINGOS",10971,2258,2316,2404,2421,2522,2586,2636,2692,24.537416826178106,99,242,153,211,238,360,341,333,385,371,0.13153232949512844,0.31347150259067358,0.19093178036605657,0.26146220570012391,0.28310864393338619,0.41763341067285381,0.38808801213960548,0.37109955423476965,0.4290490341753343,0.41344725111441305,{"$f":"METAS!M68","v":0.52},null,897.33333333333337,"Alerta","NÃO ATINGIU"]
[280690,"PROPRIA","SÃO FRANCISCO",3851,652,669,784,800,844,880,899,928,24.097636977408467,139,126,148,126,215,236,157,225,150,247,0.63957055214723924,0.56502242152466364,0.56632653061224492,0.47249999999999998,0.76421800947867302,0.80454545454545456,0.52391546162402669,0.72737068965517249,0.48491379310344829,0.79849137931034486,{"$f":"METAS!M69","v":0.7},null,309.33333333333331,"Ótimo","ATINGIU"]
[280700,"ITABAIANA","SÃO MIGUEL DO ALEIXO",3902,803,822,831,838,867,886,904,924,23.680164018452075,175,168,134,99,195,156,68,147,142,175,0.65379825653798251,0.61313868613138689,0.48375451263537905,0.35441527446300719,0.67474048442906576,0.52821670428893908,0.22566371681415931,0.47727272727272729,0.46103896103896103,0.56818181818181823,{"$f":"METAS!M70","v":0.57999999999999996},null,308,"Bom","NÃO ATINGIU"]
[280710,"LAGARTO","SIMÃO DIAS",40530,8364,8487,9051,9086,9403,9611,9779,9969,24.59659511472983,1434,1346,1457,1695,1717,1357,1237,1490,1476,1426,0.51434720229555242,0.47578649699540476,0.48293006297646668,0.55965221219458505,0.547803892374774,0.42357715118093853,0.3794866550772063,0.44839000902798676,0.44417694854047546,0.4291303039422209,{"$f":"METAS!M71","v":0.57999999999999996},null,3323,"Alerta","NÃO ATINGIU"]
[280720,"SOCORRO","SIRIRI",8675,1663,1703,1754,1772,1807,1840,1879,1911,22.028818443804035,431,493,420,368,414,430,335,615,133,637,0.77751052315093194,0.86846741045214337,0.71835803876852911,0.62302483069977432,0.68732706142778077,0.70108695652173914,0.53485896753592332,0.96546310832025117,0.2087912087912088,1,{"$f":"METAS!M72","v":0.6},null,637,"Ótimo","ATINGIU"]
[280730,"PROPRIA","TELHA",3171,629,652,699,707,724,736,752,763,24.061810154525386,124,90,50,44,90,189,120,165,98,134,0.59141494435612085,0.41411042944785276,0.21459227467811159,0.18670438472418671,0.3729281767955801,0.77038043478260865,0.47872340425531917,0.64875491480996061,0.38532110091743116,0.52686762778505891,{"$f":"METAS!M73","v":0.6},null,254.33333333333334,"Bom","NÃO ATINGIU"]
[280740,"LAGARTO","TOBIAS BARRETO",51374,10876,11126,11414,11501,11944,12253,12481,12744,24.806322264180324,9406,8156,6556,5361,2243,2265,1992,2685,2092,2847,2.5945200441338727,2.1991731080352328,1.7231470124408621,1.3984001391183376,0.56337910247823175,0.55455806741206237,0.47880778783751304,0.63206214689265539,0.49246704331450092,0.67019774011299438,{"$f":"METAS!M74","v":0.59},null,4248,"Bom","ATINGIU"]
[280750,"ESTANCIA","TOMAR DO GERU",13200,2530,2656,2722,2723,2820,2885,2931,2985,22.613636363636363,261,1094,455,482,548,427,523,762,341,484,0.30948616600790513,1.2356927710843373,0.5014695077149155,0.5310319500550863,0.58297872340425527,0.44402079722703641,0.53531218014329585,0.76582914572864325,0.34271356783919599,0.48643216080402008,{"$f":"METAS!M75","v":0.57999999999999996},null,995,"Alerta","NÃO ATINGIU"]
[280760,"ESTANCIA","UMBAUBA",24542,4432,4554,5060,5123,5370,5559,5707,5878,23.95077825768071,1727,1958,1661,1299,933,667,688,644,361,481,1.1689981949458483,1.2898550724637681,0.98478260869565215,0.76068709740386486,0.52122905027932964,0.3599568267674042,0.36166111792535482,0.32868322558693436,0.18424634229329706,0.24549166383123514,{"$f":"METAS!M76","v":0.57999999999999996},null,1959.3333333333333,"Insatisfatório","NÃO ATINGIU"]
[280000,"SERGIPE","SERGIPE",2242948,468086,479837,514516,520129,537586,550843,563801,576495,25.702557526968974,86792,89536,76241,75233,78247,71908,64218,70540,59673,62255,0.5562567562371018,0.55979009538655844,0.44454011148341349,0.43392889071749507,0.43665757664820137,0.39162519992084854,0.34170567274623492,0.36708037363723883,0.31053001326984625,0.32396638305622771,{"$f":"METAS!M77","v":0.57999999999999996},null,192165,"Alerta","NÃO ATINGIU"]
[]
[1,2,3,4,5,6,7,8,9,10,11,12,13,14,15,16,17,18,19,20,21,22,23,24,25,26,27,28,29,30,31,32,33,34,35,36,37,39]
[]
[]
[]
[null,null,null,"Fonte:DATASUS/SIASUS/ATUALIZAÇÃO DO BANCO EM 05/02/18. DADOS ATÉ DEZEMBRO 2017."]
[]
[]
["[Opções]"]
["DEF=E:\\SUS\\SIA 2017\\SIA_COAP 3.def"]
["PATH=E:\\SUS\\SIA 2017\\DADOS\\PA*.*"]
["Linha=Munic.da Resid.Pac."]
["Coluna=Ano de Atendimento"]
["Incremento=Qtd.Apresentada"]
["Suprime_Linhas_Zeradas=false"]
["Suprime_Colunas_Zeradas=true"]
["Não_Classificados=0"]
["[Seleções_Ativas]"]
["CITOPATOLOGICO: Exame cito cervico vaginal/microflora"]
["    Exame cito cervico vaginal/microflo-Rastreamento"]
["Sexo: Feminino"]
["Faixa Etaria18: 25-29a|30-34a|35-39a|40-44a|45-49a|50-54a|55-59a|60-64a"]
["[Arquivos]"]
["PASE0801.dbc"]
["PASE0802.dbc"]
["PASE0803.dbc"]
["PASE0804.dbc"]
["PASE0805.dbc"]
["PASE0806.dbc"]
["PASE0807.dbc"]
["PASE0808.dbc"]
["PASE0809.dbc"]
["PASE0810.dbc"]
["PASE0811.dbc"]
["PASE0812.dbc"]
["PASE0901.dbc"]
["PASE0902.dbc"]
["PASE0903.dbc"]
["PASE0904.dbc"]
["PASE0905.dbc"]
["PASE0906.dbc"]
["PASE0907.dbc"]
["PASE0908.dbc"]
["PASE0909.dbc"]
["PASE0910.dbc"]
["PASE0911.dbc"]
["PASE0912.dbc"]
["PASE1001.dbc"]
["PASE1002.dbc"]
["PASE1003.dbc"]
["PASE1004.dbc"]
["PASE1005.dbc"]
["PASE1006.dbc"]
["PASE1007.dbc"]
["PASE1008.dbc"]
["PASE1009.dbc"]
["PASE1010.dbc"]
["PASE1011.dbc"]
["PASE1012.dbc"]
["PASE1101.dbc"]
["PASE1102.dbc"]
["PASE1103.dbc"]
["PASE1104.dbc"]
["PASE1105.dbc"]
["PASE1106.dbc"]
["PASE1107.dbc"]
["PASE1109.dbc"]
["PASE1110.dbc"]
["PASE1111.dbc"]
["PASE1112.dbc"]
["PASE1201.dbc"]
["PASE1202.dbc"]
["PASE1203.dbc"]
["PASE1204.dbc"]
["PASE1205.dbc"]
["PASE1206.dbc"]
["PASE1207.dbc"]
["PASE1208.dbc"]
["PASE1209.dbc"]
["PASE1210.dbc"]
["PASE1211.dbc"]
["PASE1212.dbc"]
["PASE1301.dbc"]
["PASE1302.dbc"]
["PASE1303.dbc"]
["PASE1304.dbc"]
["PASE1305.dbc"]
["PASE1306.dbc"]
["PASE1307.dbc"]
["PASE1308.dbc"]
["PASE1309.dbc"]
["PASE1310.dbc"]
["PASE1311.dbc"]
["PASE1312.dbc"]
["PASE1401.dbc"]
["PASE1402.dbc"]
["PASE1404.dbc"]
["PASE1405.dbc"]
["PASE1406.dbc"]
["PASE1407.dbc"]
["PASE1408.dbc"]
["PASE1409.dbc"]
["PASE1410.dbc"]
["PASE1411.dbc"]
["PASE1412.dbc"]
["PASE1501.dbc"]
["PASE1502.dbc"]
["PASE1503.dbc"]
["PASE1504.dbc"]
["PASE1505.dbc"]
["PASE1506.dbc"]
["PASE1507.dbc"]
["PASE1508.dbc"]
["PASE1509.dbc"]
["PASE1510.dbc"]
["PASE1511.dbc"]
["PASE1512.dbc"]
["PASE1601.dbc"]
["PASE1602.dbc"]
["PASE1603.dbc"]
["PASE1604.dbc"]
["PASE1605.dbc"]
["PASE1606.dbc"]
["PASE1607.dbc"]
["PASE1608.dbc"]
["PASE1609.dbc"]
["PASE1610.dbc"]
["PASE1611.dbc"]
["PASE1612.dbc"]
["PASE1701.dbc"]
["PASE1702.dbc"]
["PASE1703.dbc"]
["PASE1704.dbc"]
["PASE1705.dbc"]
["PASE1706.dbc"]
["PASE1707.dbc"]
["PASE1708.dbc"]
["PASE1709.dbc"]
["PASE1710.dbc"]
["PASE1711.dbc"]
["PASE1712.dbc"]
["Registros_Processados= 29543289"]
["Tempo_Decorrido= 0:56"]
[]
["Tempo_Decorrido= 0:59",null,null,"Registros_Processados= 27429558"]
["Registros_Processados= 18093599",null,null,"Tempo_Decorrido= 1:16"]
["Tempo_Decorrido= 0:42"]

{"sheet":"CITOPATOLOGICO_REG","index":105,"n_rows":150,"n_cols":39,"rows_kept":150,"cut":false,"hidden":true,"merged":[[3,37,3,38]]}
["CÓD","REGIÃO","POP 2015","POP FEM 25 A 64 2008","POP FEM 25 A 64 2009","POP FEM 25 A 64 2010","POP FEM 25 A 64 2011","POP FEM 25 A 64 2012","POP FEM 25 A 64 2013","POP FEM 25 A 64 2014","POP FEM 25 A 64 2015","PROPORÇÃO POP FEM 25 A 64","EXAME CITO 2008","EXAME CITO 2009","EXAME CITO 2010","EXAME CITO 2011","EXAME CITO 2012","EXAME CITO 2013","EXAME CITO 2014","EXAME CITO 2015","EXAME CITO 2016","EXAME CITO 2017","RAZÃO CITO 2008","RAZÃO CITO 2009","RAZÃO CITO 2010","RAZÃO CITO 2011","RAZÃO CITO 2012","RAZÃO CITO 2013","RAZÃO CITO 2014","RAZÃO CITO 2015","RAZÃO CITO 2016","RAZÃO CITO 2017","META 2017","NÚMERO DE EXAME A SER EXECUTADO EM 2017","PARÂMETRO","SITUAÇÃO 2017"]
[1,"ARACAJU",{"$f":"SUMIF(CITOPATOLOGICO!$B$2:$B$77,\"ARACAJU\",CITOPATOLOGICO!D$2:D$77)","v":829684},{"$f":"SUMIF(CITOPATOLOGICO!$B$2:$B$77,\"ARACAJU\",CITOPATOLOGICO!E$2:E$77)","v":186941},{"$f":"SUMIF(CITOPATOLOGICO!$B$2:$B$77,\"ARACAJU\",CITOPATOLOGICO!F$2:F$77)","v":192116},{"$f":"SUMIF(CITOPATOLOGICO!$B$2:$B$77,\"ARACAJU\",CITOPATOLOGICO!G$2:G$77)","v":208503},{"$f":"SUMIF(CITOPATOLOGICO!$B$2:$B$77,\"ARACAJU\",CITOPATOLOGICO!H$2:H$77)","v":211543},{"$f":"SUMIF(CITOPATOLOGICO!$B$2:$B$77,\"ARACAJU\",CITOPATOLOGICO!I$2:I$77)","v":218831},{"$f":"SUMIF(CITOPATOLOGICO!$B$2:$B$77,\"ARACAJU\",CITOPATOLOGICO!J$2:J$77)","v":224299},{"$f":"SUMIF(CITOPATOLOGICO!$B$2:$B$77,\"ARACAJU\",CITOPATOLOGICO!K$2:K$77)","v":229921},{"$f":"SUMIF(CITOPATOLOGICO!$B$2:$B$77,\"ARACAJU\",CITOPATOLOGICO!L$2:L$77)","v":235226},{"$f":"K2/C2*100","v":28.351275907453921},{"$f":"SUMIF(CITOPATOLOGICO!$B$2:$B$77,\"ARACAJU\",CITOPATOLOGICO!N$2:N$77)","v":26388},{"$f":"SUMIF(CITOPATOLOGICO!$B$2:$B$77,\"ARACAJU\",CITOPATOLOGICO!O$2:O$77)","v":27586},{"$f":"SUMIF(CITOPATOLOGICO!$B$2:$B$77,\"ARACAJU\",CITOPATOLOGICO!P$2:P$77)","v":25427},{"$f":"SUMIF(CITOPATOLOGICO!$B$2:$B$77,\"ARACAJU\",CITOPATOLOGICO!Q$2:Q$77)","v":25118},{"$f":"SUMIF(CITOPATOLOGICO!$B$2:$B$77,\"ARACAJU\",CITOPATOLOGICO!R$2:R$77)","v":24903},{"$f":"SUMIF(CITOPATOLOGICO!$B$2:$B$77,\"ARACAJU\",CITOPATOLOGICO!S$2:S$77)","v":21396},{"$f":"SUMIF(CITOPATOLOGICO!$B$2:$B$77,\"ARACAJU\",CITOPATOLOGICO!T$2:T$77)","v":18787},{"$f":"SUMIF(CITOPATOLOGICO!$B$2:$B$77,\"ARACAJU\",CITOPATOLOGICO!U$2:U$77)","v":23121},{"$f":"SUMIF(CITOPATOLOGICO!$B$2:$B$77,\"ARACAJU\",CITOPATOLOGICO!V$2:V$77)","v":18818},{"$f":"SUMIF(CITOPATOLOGICO!$B$2:$B$77,\"ARACAJU\",CITOPATOLOGICO!W$2:W$77)","v":18687},{"$f":"M2/(D2/3)","v":0.42347050673741987},0.43077099252534928,0.36585085106689114,0.3562112667400954,0.34140044143654236,0.28617158346671184,0.2451320236081089,{"$f":"T2/($K2/3)","v":0.29487811721493373},0.23999897970462447,0.23832824602722485,{"$f":"METAS!M81","v":0.48},{"$f":"K2/3","v":78408.666666666672},{"$f":"IF(AF2<=0.25,\"Insatisfatório\",IF(AF2<=0.51,\"Alerta\",IF(AF2>0.78,\"Ótimo\",\"Bom\")))","v":"Insatisfatório"},{"$f":"IF(AF2>=AG2,\"ATINGIU\",\"NÃO ATINGIU\")","v":"NÃO ATINGIU"}]
[2,"ESTANCIA",{"$f":"SUMIF(CITOPATOLOGICO!$B$2:$B$77,\"ESTANCIA\",CITOPATOLOGICO!D$2:D$77)","v":243464},{"$f":"SUMIF(CITOPATOLOGICO!$B$2:$B$77,\"ESTANCIA\",CITOPATOLOGICO!E$2:E$77)","v":47969},{"$f":"SUMIF(CITOPATOLOGICO!$B$2:$B$77,\"ESTANCIA\",CITOPATOLOGICO!F$2:F$77)","v":49155},{"$f":"SUMIF(CITOPATOLOGICO!$B$2:$B$77,\"ESTANCIA\",CITOPATOLOGICO!G$2:G$77)","v":51559},{"$f":"SUMIF(CITOPATOLOGICO!$B$2:$B$77,\"ESTANCIA\",CITOPATOLOGICO!H$2:H$77)","v":51892},{"$f":"SUMIF(CITOPATOLOGICO!$B$2:$B$77,\"ESTANCIA\",CITOPATOLOGICO!I$2:I$77)","v":53633},{"$f":"SUMIF(CITOPATOLOGICO!$B$2:$B$77,\"ESTANCIA\",CITOPATOLOGICO!J$2:J$77)","v":54931},{"$f":"SUMIF(CITOPATOLOGICO!$B$2:$B$77,\"ESTANCIA\",CITOPATOLOGICO!K$2:K$77)","v":56216},{"$f":"SUMIF(CITOPATOLOGICO!$B$2:$B$77,\"ESTANCIA\",CITOPATOLOGICO!L$2:L$77)","v":57493},{"$f":"K3/C3*100","v":23.614579568231854},{"$f":"SUMIF(CITOPATOLOGICO!$B$2:$B$77,\"ESTANCIA\",CITOPATOLOGICO!N$2:N$77)","v":10911},{"$f":"SUMIF(CITOPATOLOGICO!$B$2:$B$77,\"ESTANCIA\",CITOPATOLOGICO!O$2:O$77)","v":11761},{"$f":"SUMIF(CITOPATOLOGICO!$B$2:$B$77,\"ESTANCIA\",CITOPATOLOGICO!P$2:P$77)","v":8779},{"$f":"SUMIF(CITOPATOLOGICO!$B$2:$B$77,\"ESTANCIA\",CITOPATOLOGICO!Q$2:Q$77)","v":9334},{"$f":"SUMIF(CITOPATOLOGICO!$B$2:$B$77,\"ESTANCIA\",CITOPATOLOGICO!R$2:R$77)","v":11768},{"$f":"SUMIF(CITOPATOLOGICO!$B$2:$B$77,\"ESTANCIA\",CITOPATOLOGICO!S$2:S$77)","v":9720},{"$f":"SUMIF(CITOPATOLOGICO!$B$2:$B$77,\"ESTANCIA\",CITOPATOLOGICO!T$2:T$77)","v":9182},{"$f":"SUMIF(CITOPATOLOGICO!$B$2:$B$77,\"ESTANCIA\",CITOPATOLOGICO!U$2:U$77)","v":9691},{"$f":"SUMIF(CITOPATOLOGICO!$B$2:$B$77,\"ESTANCIA\",CITOPATOLOGICO!V$2:V$77)","v":7748},{"$f":"SUMIF(CITOPATOLOGICO!$B$2:$B$77,\"ESTANCIA\",CITOPATOLOGICO!W$2:W$77)","v":8109},0.68237820258917214,0.71779066219102838,0.51081285517562403,0.53962075079010252,0.65825144966718252,0.5308477908649033,0.49000284616479289,0.50567895222027037,0.40429269650218291,0.42312977232010857,{"$f":"METAS!M82","v":0.48},19164.333333333332,"Alerta",{"$f":"IF(AF3>=AG3,\"ATINGIU\",\"NÃO ATINGIU\")","v":"NÃO ATINGIU"}]
[3,"GLORIA",{"$f":"SUMIF(CITOPATOLOGICO!$B$2:$B$77,\"GLORIA\",CITOPATOLOGICO!D$2:D$77)","v":169266},{"$f":"SUMIF(CITOPATOLOGICO!$B$2:$B$77,\"GLORIA\",CITOPATOLOGICO!E$2:E$77)","v":29779},{"$f":"SUMIF(CITOPATOLOGICO!$B$2:$B$77,\"GLORIA\",CITOPATOLOGICO!F$2:F$77)","v":30469},{"$f":"SUMIF(CITOPATOLOGICO!$B$2:$B$77,\"GLORIA\",CITOPATOLOGICO!G$2:G$77)","v":33474},{"$f":"SUMIF(CITOPATOLOGICO!$B$2:$B$77,\"GLORIA\",CITOPATOLOGICO!H$2:H$77)","v":33821},{"$f":"SUMIF(CITOPATOLOGICO!$B$2:$B$77,\"GLORIA\",CITOPATOLOGICO!I$2:I$77)","v":35171},{"$f":"SUMIF(CITOPATOLOGICO!$B$2:$B$77,\"GLORIA\",CITOPATOLOGICO!J$2:J$77)","v":36250},{"$f":"SUMIF(CITOPATOLOGICO!$B$2:$B$77,\"GLORIA\",CITOPATOLOGICO!K$2:K$77)","v":37137},{"$f":"SUMIF(CITOPATOLOGICO!$B$2:$B$77,\"GLORIA\",CITOPATOLOGICO!L$2:L$77)","v":38100},22.508950409414769,{"$f":"SUMIF(CITOPATOLOGICO!$B$2:$B$77,\"GLORIA\",CITOPATOLOGICO!N$2:N$77)","v":4593},{"$f":"SUMIF(CITOPATOLOGICO!$B$2:$B$77,\"GLORIA\",CITOPATOLOGICO!O$2:O$77)","v":5192},{"$f":"SUMIF(CITOPATOLOGICO!$B$2:$B$77,\"GLORIA\",CITOPATOLOGICO!P$2:P$77)","v":4422},{"$f":"SUMIF(CITOPATOLOGICO!$B$2:$B$77,\"GLORIA\",CITOPATOLOGICO!Q$2:Q$77)","v":4361},{"$f":"SUMIF(CITOPATOLOGICO!$B$2:$B$77,\"GLORIA\",CITOPATOLOGICO!R$2:R$77)","v":5687},{"$f":"SUMIF(CITOPATOLOGICO!$B$2:$B$77,\"GLORIA\",CITOPATOLOGICO!S$2:S$77)","v":4851},{"$f":"SUMIF(CITOPATOLOGICO!$B$2:$B$77,\"GLORIA\",CITOPATOLOGICO!T$2:T$77)","v":5539},{"$f":"SUMIF(CITOPATOLOGICO!$B$2:$B$77,\"GLORIA\",CITOPATOLOGICO!U$2:U$77)","v":3154},{"$f":"SUMIF(CITOPATOLOGICO!$B$2:$B$77,\"GLORIA\",CITOPATOLOGICO!V$2:V$77)","v":1757},{"$f":"SUMIF(CITOPATOLOGICO!$B$2:$B$77,\"GLORIA\",CITOPATOLOGICO!W$2:W$77)","v":3280},0.46270862016857517,0.51120811316419967,0.39630758200394334,0.38683066733686172,0.48508714565977656,0.40146206896551723,0.44745132886339767,0.24834645669291339,0.13834645669291337,0.25826771653543307,{"$f":"METAS!M83","v":0.48},12700,"Alerta","NÃO ATINGIU",null,"ESCORES:"]
[4,"ITABAIANA",{"$f":"SUMIF(CITOPATOLOGICO!$B$2:$B$77,\"ITABAIANA\",CITOPATOLOGICO!D$2:D$77)","v":248651},{"$f":"SUMIF(CITOPATOLOGICO!$B$2:$B$77,\"ITABAIANA\",CITOPATOLOGICO!E$2:E$77)","v":51459},{"$f":"SUMIF(CITOPATOLOGICO!$B$2:$B$77,\"ITABAIANA\",CITOPATOLOGICO!F$2:F$77)","v":52593},{"$f":"SUMIF(CITOPATOLOGICO!$B$2:$B$77,\"ITABAIANA\",CITOPATOLOGICO!G$2:G$77)","v":55876},{"$f":"SUMIF(CITOPATOLOGICO!$B$2:$B$77,\"ITABAIANA\",CITOPATOLOGICO!H$2:H$77)","v":56316},{"$f":"SUMIF(CITOPATOLOGICO!$B$2:$B$77,\"ITABAIANA\",CITOPATOLOGICO!I$2:I$77)","v":58109},{"$f":"SUMIF(CITOPATOLOGICO!$B$2:$B$77,\"ITABAIANA\",CITOPATOLOGICO!J$2:J$77)","v":59365},{"$f":"SUMIF(CITOPATOLOGICO!$B$2:$B$77,\"ITABAIANA\",CITOPATOLOGICO!K$2:K$77)","v":60634},{"$f":"SUMIF(CITOPATOLOGICO!$B$2:$B$77,\"ITABAIANA\",CITOPATOLOGICO!L$2:L$77)","v":61841},24.870601767135465,{"$f":"SUMIF(CITOPATOLOGICO!$B$2:$B$77,\"ITABAIANA\",CITOPATOLOGICO!N$2:N$77)","v":5560},{"$f":"SUMIF(CITOPATOLOGICO!$B$2:$B$77,\"ITABAIANA\",CITOPATOLOGICO!O$2:O$77)","v":6490},{"$f":"SUMIF(CITOPATOLOGICO!$B$2:$B$77,\"ITABAIANA\",CITOPATOLOGICO!P$2:P$77)","v":4957},{"$f":"SUMIF(CITOPATOLOGICO!$B$2:$B$77,\"ITABAIANA\",CITOPATOLOGICO!Q$2:Q$77)","v":5321},{"$f":"SUMIF(CITOPATOLOGICO!$B$2:$B$77,\"ITABAIANA\",CITOPATOLOGICO!R$2:R$77)","v":7633},{"$f":"SUMIF(CITOPATOLOGICO!$B$2:$B$77,\"ITABAIANA\",CITOPATOLOGICO!S$2:S$77)","v":7207},{"$f":"SUMIF(CITOPATOLOGICO!$B$2:$B$77,\"ITABAIANA\",CITOPATOLOGICO!T$2:T$77)","v":6959},{"$f":"SUMIF(CITOPATOLOGICO!$B$2:$B$77,\"ITABAIANA\",CITOPATOLOGICO!U$2:U$77)","v":6709},{"$f":"SUMIF(CITOPATOLOGICO!$B$2:$B$77,\"ITABAIANA\",CITOPATOLOGICO!V$2:V$77)","v":6537},{"$f":"SUMIF(CITOPATOLOGICO!$B$2:$B$77,\"ITABAIANA\",CITOPATOLOGICO!W$2:W$77)","v":6904},0.32414154958316327,0.37020135759511724,0.26614288782303674,0.28345408054549331,0.39406976544080946,0.36420449759959572,0.34431177227298215,0.32546368913827395,0.31711971022460828,0.33492343267411584,{"$f":"METAS!M84","v":0.48},20613.666666666668,"Alerta","NÃO ATINGIU",null,"Ótimo",">0,78"]
[5,"LAGARTO",{"$f":"SUMIF(CITOPATOLOGICO!$B$2:$B$77,\"LAGARTO\",CITOPATOLOGICO!D$2:D$77)","v":257634},{"$f":"SUMIF(CITOPATOLOGICO!$B$2:$B$77,\"LAGARTO\",CITOPATOLOGICO!E$2:E$77)","v":52344},{"$f":"SUMIF(CITOPATOLOGICO!$B$2:$B$77,\"LAGARTO\",CITOPATOLOGICO!F$2:F$77)","v":53321},{"$f":"SUMIF(CITOPATOLOGICO!$B$2:$B$77,\"LAGARTO\",CITOPATOLOGICO!G$2:G$77)","v":57005},{"$f":"SUMIF(CITOPATOLOGICO!$B$2:$B$77,\"LAGARTO\",CITOPATOLOGICO!H$2:H$77)","v":57388},{"$f":"SUMIF(CITOPATOLOGICO!$B$2:$B$77,\"LAGARTO\",CITOPATOLOGICO!I$2:I$77)","v":59443},{"$f":"SUMIF(CITOPATOLOGICO!$B$2:$B$77,\"LAGARTO\",CITOPATOLOGICO!J$2:J$77)","v":60878},{"$f":"SUMIF(CITOPATOLOGICO!$B$2:$B$77,\"LAGARTO\",CITOPATOLOGICO!K$2:K$77)","v":62036},{"$f":"SUMIF(CITOPATOLOGICO!$B$2:$B$77,\"LAGARTO\",CITOPATOLOGICO!L$2:L$77)","v":63320},24.577501416738475,{"$f":"SUMIF(CITOPATOLOGICO!$B$2:$B$77,\"LAGARTO\",CITOPATOLOGICO!N$2:N$77)","v":19962},{"$f":"SUMIF(CITOPATOLOGICO!$B$2:$B$77,\"LAGARTO\",CITOPATOLOGICO!O$2:O$77)","v":18452},{"$f":"SUMIF(CITOPATOLOGICO!$B$2:$B$77,\"LAGARTO\",CITOPATOLOGICO!P$2:P$77)","v":16340},{"$f":"SUMIF(CITOPATOLOGICO!$B$2:$B$77,\"LAGARTO\",CITOPATOLOGICO!Q$2:Q$77)","v":14705},{"$f":"SUMIF(CITOPATOLOGICO!$B$2:$B$77,\"LAGARTO\",CITOPATOLOGICO!R$2:R$77)","v":10994},{"$f":"SUMIF(CITOPATOLOGICO!$B$2:$B$77,\"LAGARTO\",CITOPATOLOGICO!S$2:S$77)","v":9711},{"$f":"SUMIF(CITOPATOLOGICO!$B$2:$B$77,\"LAGARTO\",CITOPATOLOGICO!T$2:T$77)","v":9289},{"$f":"SUMIF(CITOPATOLOGICO!$B$2:$B$77,\"LAGARTO\",CITOPATOLOGICO!U$2:U$77)","v":10581},{"$f":"SUMIF(CITOPATOLOGICO!$B$2:$B$77,\"LAGARTO\",CITOPATOLOGICO!V$2:V$77)","v":8867},{"$f":"SUMIF(CITOPATOLOGICO!$B$2:$B$77,\"LAGARTO\",CITOPATOLOGICO!W$2:W$77)","v":10252},1.1440852819807428,1.0381650756737495,0.859924568020349,0.76871471387746571,0.55485086553505036,0.47854725845132884,0.44920691211554581,0.50131080227416291,0.42010423246999368,0.48572331017056219,{"$f":"METAS!M85","v":0.48},21106.666666666668,"Alerta","ATINGIU",null,"Bom","0,52 a 0,78"]
[6,"PROPRIA",{"$f":"SUMIF(CITOPATOLOGICO!$B$2:$B$77,\"PROPRIA\",CITOPATOLOGICO!D$2:D$77)","v":158896},{"$f":"SUMIF(CITOPATOLOGICO!$B$2:$B$77,\"PROPRIA\",CITOPATOLOGICO!E$2:E$77)","v":31805},{"$f":"SUMIF(CITOPATOLOGICO!$B$2:$B$77,\"PROPRIA\",CITOPATOLOGICO!F$2:F$77)","v":32502},{"$f":"SUMIF(CITOPATOLOGICO!$B$2:$B$77,\"PROPRIA\",CITOPATOLOGICO!G$2:G$77)","v":33749},{"$f":"SUMIF(CITOPATOLOGICO!$B$2:$B$77,\"PROPRIA\",CITOPATOLOGICO!H$2:H$77)","v":33902},{"$f":"SUMIF(CITOPATOLOGICO!$B$2:$B$77,\"PROPRIA\",CITOPATOLOGICO!I$2:I$77)","v":34864},{"$f":"SUMIF(CITOPATOLOGICO!$B$2:$B$77,\"PROPRIA\",CITOPATOLOGICO!J$2:J$77)","v":35583},{"$f":"SUMIF(CITOPATOLOGICO!$B$2:$B$77,\"PROPRIA\",CITOPATOLOGICO!K$2:K$77)","v":36275},{"$f":"SUMIF(CITOPATOLOGICO!$B$2:$B$77,\"PROPRIA\",CITOPATOLOGICO!L$2:L$77)","v":36974},23.269308226764675,{"$f":"SUMIF(CITOPATOLOGICO!$B$2:$B$77,\"PROPRIA\",CITOPATOLOGICO!N$2:N$77)","v":5665},{"$f":"SUMIF(CITOPATOLOGICO!$B$2:$B$77,\"PROPRIA\",CITOPATOLOGICO!O$2:O$77)","v":4941},{"$f":"SUMIF(CITOPATOLOGICO!$B$2:$B$77,\"PROPRIA\",CITOPATOLOGICO!P$2:P$77)","v":4242},{"$f":"SUMIF(CITOPATOLOGICO!$B$2:$B$77,\"PROPRIA\",CITOPATOLOGICO!Q$2:Q$77)","v":5132},{"$f":"SUMIF(CITOPATOLOGICO!$B$2:$B$77,\"PROPRIA\",CITOPATOLOGICO!R$2:R$77)","v":5831},{"$f":"SUMIF(CITOPATOLOGICO!$B$2:$B$77,\"PROPRIA\",CITOPATOLOGICO!S$2:S$77)","v":7798},{"$f":"SUMIF(CITOPATOLOGICO!$B$2:$B$77,\"PROPRIA\",CITOPATOLOGICO!T$2:T$77)","v":5731},{"$f":"SUMIF(CITOPATOLOGICO!$B$2:$B$77,\"PROPRIA\",CITOPATOLOGICO!U$2:U$77)","v":7479},{"$f":"SUMIF(CITOPATOLOGICO!$B$2:$B$77,\"PROPRIA\",CITOPATOLOGICO!V$2:V$77)","v":6717},{"$f":"SUMIF(CITOPATOLOGICO!$B$2:$B$77,\"PROPRIA\",CITOPATOLOGICO!W$2:W$77)","v":6433},0.53434994497720489,0.45606424220047997,0.37707783934338795,0.45413249955754825,0.50174965580541531,0.65744878172160859,0.47396278428669886,0.60683182777086608,0.54500459782549904,0.52196137826580846,{"$f":"METAS!M86","v":0.48},12324.666666666666,"Bom","ATINGIU",null,"Alerta!","0,26 a 0,51"]
[7,"SOCORRO",{"$f":"SUMIF(CITOPATOLOGICO!$B$2:$B$77,\"SOCORRO\",CITOPATOLOGICO!D$2:D$77)","v":335353},{"$f":"SUMIF(CITOPATOLOGICO!$B$2:$B$77,\"SOCORRO\",CITOPATOLOGICO!E$2:E$77)","v":67789},{"$f":"SUMIF(CITOPATOLOGICO!$B$2:$B$77,\"SOCORRO\",CITOPATOLOGICO!F$2:F$77)","v":69681},{"$f":"SUMIF(CITOPATOLOGICO!$B$2:$B$77,\"SOCORRO\",CITOPATOLOGICO!G$2:G$77)","v":74350},{"$f":"SUMIF(CITOPATOLOGICO!$B$2:$B$77,\"SOCORRO\",CITOPATOLOGICO!H$2:H$77)","v":75267},{"$f":"SUMIF(CITOPATOLOGICO!$B$2:$B$77,\"SOCORRO\",CITOPATOLOGICO!I$2:I$77)","v":77535},{"$f":"SUMIF(CITOPATOLOGICO!$B$2:$B$77,\"SOCORRO\",CITOPATOLOGICO!J$2:J$77)","v":79537},{"$f":"SUMIF(CITOPATOLOGICO!$B$2:$B$77,\"SOCORRO\",CITOPATOLOGICO!K$2:K$77)","v":81582},{"$f":"SUMIF(CITOPATOLOGICO!$B$2:$B$77,\"SOCORRO\",CITOPATOLOGICO!L$2:L$77)","v":83541},24.911362057294852,{"$f":"SUMIF(CITOPATOLOGICO!$B$2:$B$77,\"SOCORRO\",CITOPATOLOGICO!N$2:N$77)","v":13713},{"$f":"SUMIF(CITOPATOLOGICO!$B$2:$B$77,\"SOCORRO\",CITOPATOLOGICO!O$2:O$77)","v":15114},{"$f":"SUMIF(CITOPATOLOGICO!$B$2:$B$77,\"SOCORRO\",CITOPATOLOGICO!P$2:P$77)","v":12074},{"$f":"SUMIF(CITOPATOLOGICO!$B$2:$B$77,\"SOCORRO\",CITOPATOLOGICO!Q$2:Q$77)","v":11262},{"$f":"SUMIF(CITOPATOLOGICO!$B$2:$B$77,\"SOCORRO\",CITOPATOLOGICO!R$2:R$77)","v":11431},{"$f":"SUMIF(CITOPATOLOGICO!$B$2:$B$77,\"SOCORRO\",CITOPATOLOGICO!S$2:S$77)","v":11225},{"$f":"SUMIF(CITOPATOLOGICO!$B$2:$B$77,\"SOCORRO\",CITOPATOLOGICO!T$2:T$77)","v":8731},{"$f":"SUMIF(CITOPATOLOGICO!$B$2:$B$77,\"SOCORRO\",CITOPATOLOGICO!U$2:U$77)","v":9805},{"$f":"SUMIF(CITOPATOLOGICO!$B$2:$B$77,\"SOCORRO\",CITOPATOLOGICO!V$2:V$77)","v":9229},{"$f":"SUMIF(CITOPATOLOGICO!$B$2:$B$77,\"SOCORRO\",CITOPATOLOGICO!W$2:W$77)","v":8590},0.60686837097464197,0.65070822749386492,0.48718224613315403,0.44888198015066366,0.44229057844844266,0.42338785722368211,0.32106346988306245,0.35210256041943477,0.3314181060796495,0.30847128954645026,{"$f":"METAS!M87","v":0.48},27847,"Alerta","NÃO ATINGIU",null,"Insatisfatório","<=0,25"]
[8,"SERGIPE",{"$f":"SUMIF(CITOPATOLOGICO!$B$2:$B$77,\"SERGIPE\",CITOPATOLOGICO!D$2:D$77)","v":2242948},{"$f":"SUMIF(CITOPATOLOGICO!$B$2:$B$77,\"SERGIPE\",CITOPATOLOGICO!E$2:E$77)","v":468086},{"$f":"SUMIF(CITOPATOLOGICO!$B$2:$B$77,\"SERGIPE\",CITOPATOLOGICO!F$2:F$77)","v":479837},{"$f":"SUMIF(CITOPATOLOGICO!$B$2:$B$77,\"SERGIPE\",CITOPATOLOGICO!G$2:G$77)","v":514516},{"$f":"SUMIF(CITOPATOLOGICO!$B$2:$B$77,\"SERGIPE\",CITOPATOLOGICO!H$2:H$77)","v":520129},{"$f":"SUMIF(CITOPATOLOGICO!$B$2:$B$77,\"SERGIPE\",CITOPATOLOGICO!I$2:I$77)","v":537586},{"$f":"SUMIF(CITOPATOLOGICO!$B$2:$B$77,\"SERGIPE\",CITOPATOLOGICO!J$2:J$77)","v":550843},{"$f":"SUMIF(CITOPATOLOGICO!$B$2:$B$77,\"SERGIPE\",CITOPATOLOGICO!K$2:K$77)","v":563801},{"$f":"SUMIF(CITOPATOLOGICO!$B$2:$B$77,\"SERGIPE\",CITOPATOLOGICO!L$2:L$77)","v":576495},25.702557526968974,{"$f":"SUMIF(CITOPATOLOGICO!$B$2:$B$77,\"SERGIPE\",CITOPATOLOGICO!N$2:N$77)","v":86792},{"$f":"SUMIF(CITOPATOLOGICO!$B$2:$B$77,\"SERGIPE\",CITOPATOLOGICO!O$2:O$77)","v":89536},{"$f":"SUMIF(CITOPATOLOGICO!$B$2:$B$77,\"SERGIPE\",CITOPATOLOGICO!P$2:P$77)","v":76241},{"$f":"SUMIF(CITOPATOLOGICO!$B$2:$B$77,\"SERGIPE\",CITOPATOLOGICO!Q$2:Q$77)","v":75233},{"$f":"SUMIF(CITOPATOLOGICO!$B$2:$B$77,\"SERGIPE\",CITOPATOLOGICO!R$2:R$77)","v":78247},{"$f":"SUMIF(CITOPATOLOGICO!$B$2:$B$77,\"SERGIPE\",CITOPATOLOGICO!S$2:S$77)","v":71908},{"$f":"SUMIF(CITOPATOLOGICO!$B$2:$B$77,\"SERGIPE\",CITOPATOLOGICO!T$2:T$77)","v":64218},{"$f":"SUMIF(CITOPATOLOGICO!$B$2:$B$77,\"SERGIPE\",CITOPATOLOGICO!U$2:U$77)","v":70540},{"$f":"SUMIF(CITOPATOLOGICO!$B$2:$B$77,\"SERGIPE\",CITOPATOLOGICO!V$2:V$77)","v":59673},{"$f":"SUMIF(CITOPATOLOGICO!$B$2:$B$77,\"SERGIPE\",CITOPATOLOGICO!W$2:W$77)","v":62255},0.5562567562371018,0.55979009538655844,0.44454011148341349,0.43392889071749507,0.43665757664820137,0.39162519992084854,0.34170567274623492,0.36708037363723883,0.31053001326984625,0.32396638305622771,{"$f":"METAS!M77","v":0.57999999999999996},192165,"Alerta","NÃO ATINGIU"]
[]
[]
[1,2,3,4,5,6,7,8,9,10,11,12,13,14,15,16,17,18,19,20,21,22,23,24,25,26,27,28,29,30,31,32,33,34,35,36]
[]
[]
[]
[null,null,"Fonte:DATASUS/SIASUS/ATUALIZAÇÃO DO BANCO EM 08/09/17."]
[null,null,"DADOS ATÉ JULHO 2017"]
[]
["[Opções]"]
["DEF=E:\\SUS\\SIA 2017\\SIA_COAP 3.def"]
["PATH=E:\\SUS\\SIA 2017\\DADOS\\PA*.*"]
["Linha=Munic.da Resid.Pac."]
["Coluna=Ano de Atendimento"]
["Incremento=Qtd.Apresentada"]
["Suprime_Linhas_Zeradas=false"]
["Suprime_Colunas_Zeradas=true"]
["Não_Classificados=0"]
["[Seleções_Ativas]"]
["Sexo: Feminino"]
["Faixa Etaria18: 25-29a|30-34a|35-39a|40-44a|45-49a|50-54a|55-59a|60-64a"]
["CITOPATOLOGICO: Exame cito cervico vaginal/microflora"]
["    Exame cito cervico vaginal/microflo-Rastreamento"]
["[Arquivos]"]
["PASE0801.dbc"]
["PASE0802.dbc"]
["PASE0803.dbc"]
["PASE0804.dbc"]
["PASE0805.dbc"]
["PASE0806.dbc"]
["PASE0807.dbc"]
["PASE0808.dbc"]
["PASE0809.dbc"]
["PASE0810.dbc"]
["PASE0811.dbc"]
["PASE0812.dbc"]
["PASE0901.dbc"]
["PASE0902.dbc"]
["PASE0903.dbc"]
["PASE0904.dbc"]
["PASE0905.dbc"]
["PASE0906.dbc"]
["PASE0907.dbc"]
["PASE0908.dbc"]
["PASE0909.dbc"]
["PASE0910.dbc"]
["PASE0911.dbc"]
["PASE0912.dbc"]
["PASE1001.dbc"]
["PASE1002.dbc"]
["PASE1003.dbc"]
["PASE1004.dbc"]
["PASE1005.dbc"]
["PASE1006.dbc"]
["PASE1007.dbc"]
["PASE1008.dbc"]
["PASE1009.dbc"]
["PASE1010.dbc"]
["PASE1011.dbc"]
["PASE1012.dbc"]
["PASE1101.dbc"]
["PASE1102.dbc"]
["PASE1103.dbc"]
["PASE1104.dbc"]
["PASE1105.dbc"]
["PASE1106.dbc"]
["PASE1107.dbc"]
["PASE1109.dbc"]
["PASE1110.dbc"]
["PASE1111.dbc"]
["PASE1112.dbc"]
["PASE1201.dbc"]
["PASE1202.dbc"]
["PASE1203.dbc"]
["PASE1204.dbc"]
["PASE1205.dbc"]
["PASE1206.dbc"]
["PASE1207.dbc"]
["PASE1208.dbc"]
["PASE1209.dbc"]
["PASE1210.dbc"]
["PASE1211.dbc"]
["PASE1212.dbc"]
["PASE1301.dbc"]
["PASE1302.dbc"]
["PASE1303.dbc"]
["PASE1304.dbc"]
["PASE1305.dbc"]
["PASE1306.dbc"]
["PASE1307.dbc"]
["PASE1308.dbc"]
["PASE1309.dbc"]
["PASE1310.dbc"]
["PASE1311.dbc"]
["PASE1312.dbc"]
["PASE1401.dbc"]
["PASE1402.dbc"]
["PASE1404.dbc"]
["PASE1405.dbc"]
["PASE1406.dbc"]
["PASE1407.dbc"]
["PASE1408.dbc"]
["PASE1409.dbc"]
["PASE1410.dbc"]
["PASE1411.dbc"]
["PASE1412.dbc"]
["PASE1501.dbc"]
["PASE1502.dbc"]
["PASE1503.dbc"]
["PASE1504.dbc"]
["PASE1505.dbc"]
["PASE1506.dbc"]
["PASE1507.dbc"]
["PASE1508.dbc"]
["PASE1509.dbc"]
["PASE1510.dbc"]
["PASE1511.dbc"]
["PASE1512.dbc"]
["PASE1601.dbc"]
["PASE1602.dbc"]
["PASE1603.dbc"]
["PASE1604.dbc"]
["PASE1605.dbc"]
["PASE1606.dbc"]
["PASE1607.dbc"]
["PASE1608.dbc"]
["PASE1609.dbc"]
["PASE1610.dbc"]
["PASE1611.dbc"]
["PASE1612.dbc"]
["PASE1701.dbc"]
["PASE1702.dbc"]
["PASE1703.dbc"]
["PASE1704.dbc"]
["PASE1705.dbc"]
["PASE1706.dbc"]
["PASE1707.dbc"]
["Registros_Processados= 26791507"]
["Tempo_Decorrido= 0:59"]
["Registros_Processados= 18093599"]
["Tempo_Decorrido= 0:42"]

{"sheet":"MAMOGRAFIA","index":106,"n_rows":224,"n_cols":37,"rows_kept":224,"cut":false,"hidden":true,"merged":[[7,35,7,36]]}
["CÓD","REGIÃO","MUNICIPIO","POP 2015","%POP FEM DE 50 A 69 ANOS 2015","POP FEM DE 50 A 69 ANOS 2009","POP FEM DE 50 A 69 ANOS 2010","POP FEM DE 50 A 69 ANOS 2011","POP FEM DE 50 A 69 ANOS 2012","POP FEM DE 50 A 69 ANOS 2013","POP FEM DE 50 A 69 ANOS 2014","POP FEM DE 50 A 69 ANOS 2015","MAMOGRAFIA BILATERAL 50 A 69 2009","MAMOGRAFIA BILATERAL 50 A 69 2010","MAMOGRAFIA BILATERAL 50 A 69 2011","MAMOGRAFIA BILATERAL 50 A 69 2012","MAMOGRAFIA BILATERAL 50 A 69 2013","MAMOGRAFIA BILATERAL 50 A 69 2014","MAMOGRAFIA BILATERAL 50 A 69 2015","MAMOGRAFIA BILATERAL 50 A 69 2016","MAMOGRAFIA BILATERAL 50 A 69 2017","RAZÃO MAMOGRAFIA BILATERAL 50 A 69 2009","RAZÃO MAMOGRAFIA BILATERAL 50 A 69 2010","RAZÃO MAMOGRAFIA BILATERAL 50 A 69 2011","RAZÃO MAMOGRAFIA BILATERAL 50 A 69 2012","RAZÃO MAMOGRAFIA BILATERAL 50 A 69 2013","RAZÃO MAMOGRAFIA BILATERAL 50 A 69 2014","RAZÃO MAMOGRAFIA BILATERAL 50 A 69 2015","RAZÃO MAMOGRAFIA BILATERAL 50 A 69 2016","RAZÃO MAMOGRAFIA BILATERAL 50 A 69 2017","META 2017","PARÂMETRO","SITUAÇÃO 2017"]
[1,"PROPRIA","AMPARO DE SÃO FRANCISCO",2374,{"$f":"L2/D2*100","v":6.7396798652064023},146,146,147,144,147,154,160,0,1,8,10,26,27,1,0,70,{"$f":"M2/(F2/2)","v":0},1.3698630136986301E-2,0.10884353741496598,0.1388888888888889,0.35374149659863946,0.35064935064935066,{"$f":"S2/($L2/2)","v":1.2500000000000001E-2},{"$f":"T2/($L2/2)","v":0},{"$f":"ROUND(U2/($L2/2),2)","v":0.88},{"$f":"METAS!N2","v":0.15},{"$f":"IF(AD2<=0.25,\"INSATISFATÓRIO\",IF(AD2<=0.51,\"ALERTA\",IF(AD2>=0.78,\"ÓTIMO\",\"BOM\")))","v":"ÓTIMO"},{"$f":"IF(AD2>=AE2,\"ATINGIU\",\"NÃO ATINGIU\")","v":"ATINGIU"}]
[2,"PROPRIA","AQUIDABA",21315,{"$f":"L3/D3*100","v":7.6753460004691538},1407,1498,1508,1516,1561,1595,1636,7,30,58,87,88,419,113,121,345,9.9502487562189053E-3,4.0053404539385849E-2,7.6923076923076927E-2,0.11477572559366754,0.11274823830877642,0.52539184952978057,{"$f":"S3/($L3/2)","v":0.13814180929095354},0.14792176039119803,{"$f":"ROUND(U3/($L3/2),2)","v":0.42},{"$f":"METAS!N3","v":0.22},"ALERTA","ATINGIU"]
[3,"ARACAJU","ARACAJU",632745,8.8364190945799663,42592,46175,46856,48821,51130,53490,55912,566,1524,3891,5848,5111,5618,6345,5996,7225,2.6577761081893313E-2,6.6009745533297234E-2,0.16608331910534405,0.23956903791401241,0.19992176804224526,0.21005795475789868,0.22696380025754759,0.21447989698097009,0.26,{"$f":"METAS!N4","v":0.35},"ALERTA","NÃO ATINGIU"]
[4,"ESTANCIA","ARAUA",10572,7.3401437760121073,700,718,709,701,706,748,776,6,20,23,194,158,283,137,111,112,1.7142857142857144E-2,5.5710306406685235E-2,6.488011283497884E-2,0.55349500713266764,0.44759206798866857,0.75668449197860965,0.35309278350515466,0.28608247422680411,0.28999999999999998,{"$f":"METAS!N5","v":0.3},"ALERTA","NÃO ATINGIU"]
[5,"ITABAIANA","AREIA BRANCA",18169,6.1533381033628709,931,981,989,1005,1046,1081,1118,22,65,61,86,127,127,125,164,221,4.7261009667024706E-2,0.1325178389398573,0.12335692618806876,0.17114427860696518,0.24282982791586999,0.23496762257169287,0.22361359570661896,0.29338103756708406,0.4,{"$f":"METAS!N6","v":0.26},"ALERTA","ATINGIU"]
[6,"ARACAJU","BARRA DOS COQUEIROS",28679,6.7470971791206109,1089,1478,1513,1603,1705,1819,1935,7,18,60,23,131,231,241,352,463,1.2855831037649219E-2,2.4357239512855209E-2,7.9312623925974879E-2,2.8696194635059263E-2,0.15366568914956011,0.25398570643210555,0.24909560723514212,0.36382428940568473,0.48,{"$f":"METAS!N7","v":0.22},"ALERTA","ATINGIU"]
[7,"ESTANCIA","BOQUIM",26750,7.6523364485981311,1795,1857,1864,1889,1958,1995,2047,33,42,69,355,228,528,234,248,468,3.6768802228412258E-2,4.5234248788368334E-2,7.4034334763948495E-2,0.37586024351508734,0.23289070480081717,0.52932330827067664,0.22862725940400586,0.2423058133854421,0.46,{"$f":"METAS!N8","v":0.22},"ALERTA","ATINGIU",null,null,"ESCORES:"]
[8,"PROPRIA","BREJO GRANDE",8218,5.6096373813579943,420,426,429,421,432,448,461,1,6,8,11,5,180,5,5,149,4.7619047619047623E-3,2.8169014084507043E-2,3.7296037296037296E-2,5.2256532066508314E-2,2.3148148148148147E-2,0.8035714285714286,2.1691973969631236E-2,2.1691973969631236E-2,0.65,{"$f":"METAS!N9","v":0.28000000000000003},"BOM","ATINGIU",null,null,"Ótimo",">=0,78"]
[9,"ITABAIANA","CAMPO DO BRITO",17851,7.5794073161167441,1117,1245,1254,1259,1287,1322,1353,10,42,31,61,106,103,125,126,60,1.7905102954341987E-2,6.746987951807229E-2,4.9441786283891544E-2,9.690230341540905E-2,0.16472416472416473,0.15582450832072617,0.18477457501847747,0.18625277161862527,0.09,{"$f":"METAS!N10","v":0.2},"INSATISFATÓRIO","NÃO ATINGIU",null,null,"Bom","0,52 a 0,77"]
[10,"PROPRIA","CANHOBA",4059,6.3069721606306972,237,244,244,242,250,250,256,0,0,3,6,19,126,4,5,79,0,0,2.4590163934426229E-2,4.9586776859504134E-2,0.152,1.008,3.125E-2,3.90625E-2,0.62,{"$f":"METAS!N11","v":0.1},"BOM","ATINGIU",null,null,"Alerta!","0,26 a 0,51"]
[11,"GLORIA","CANINDE DE SÃO FRANCISCO",28279,4.7137451819371261,939,1110,1134,1158,1219,1274,1333,0,136,142,140,116,449,138,64,29,0,0.24504504504504504,0.25044091710758376,0.24179620034542315,0.19031993437243641,0.70486656200941911,0.20705176294073518,9.6024006001500378E-2,0.04,{"$f":"METAS!N12","v":0.22},"INSATISFATÓRIO","NÃO ATINGIU",null,null,"Insatisfatório","<=0,25"]
[12,"SOCORRO","CAPELA",33378,6.474324405296902,1830,1973,1996,1977,2026,2100,2161,12,57,49,72,49,80,73,104,262,1.3114754098360656E-2,5.7780030410542318E-2,4.9098196392785572E-2,7.2837632776934752E-2,4.8371174728529122E-2,7.6190476190476197E-2,6.7561314206385933E-2,9.6251735307727904E-2,0.24,{"$f":"METAS!N13","v":0.1},"INSATISFATÓRIO","ATINGIU"]
[13,"ITABAIANA","CARIRA",21487,7.6092521059245115,1419,1511,1525,1513,1551,1595,1635,10,109,104,59,118,134,110,131,264,1.4094432699083862E-2,0.1442753143613501,0.13639344262295083,7.7990746860541971E-2,0.1521598968407479,0.16802507836990596,0.13455657492354739,0.1602446483180428,0.32,{"$f":"METAS!N14","v":0.17},"ALERTA","ATINGIU"]
[14,"SOCORRO","CARMOPOLIS",15621,5.6206388835541894,607,714,732,742,775,831,878,24,28,29,80,35,92,111,99,272,7.907742998352553E-2,7.8431372549019607E-2,7.9234972677595633E-2,0.215633423180593,9.0322580645161285E-2,0.22141997593261131,0.2528473804100228,0.2255125284738041,0.62,{"$f":"METAS!N15","v":0.35},"BOM","ATINGIU"]
[15,"PROPRIA","CEDRO DE SÃO JOAO",5890,7.1986417657045845,404,453,457,437,441,430,424,0,10,14,24,84,152,15,34,131,0,4.4150110375275942E-2,6.1269146608315096E-2,0.10983981693363844,0.38095238095238093,0.7069767441860465,7.0754716981132074E-2,0.16037735849056603,0.62,{"$f":"METAS!N16","v":0.18},"BOM","ATINGIU"]
[16,"ESTANCIA","CRISTINAPOLIS",17911,5.5999106694210257,772,886,895,908,944,970,1003,0,18,20,97,140,154,126,122,236,0,4.0632054176072234E-2,4.4692737430167599E-2,0.21365638766519823,0.29661016949152541,0.31752577319587627,0.25124626121635096,0.24327018943170489,0.47,{"$f":"METAS!N17","v":0.26},"ALERTA","ATINGIU"]
[17,"SOCORRO","CUMBE",3986,8.3793276467636737,266,304,307,309,319,325,334,0,12,6,20,40,45,44,31,121,0,7.8947368421052627E-2,3.9087947882736153E-2,0.12944983818770225,0.2507836990595611,0.27692307692307694,0.26347305389221559,0.18562874251497005,0.72,{"$f":"METAS!N18","v":0.22},"BOM","ATINGIU"]
[18,"ARACAJU","DIVINA PASTORA",4889,6.6066680302720391,231,254,257,274,288,306,323,2,4,11,5,32,31,21,40,84,1.7316017316017316E-2,3.1496062992125984E-2,8.5603112840466927E-2,3.6496350364963501E-2,0.22222222222222221,0.20261437908496732,0.13003095975232198,0.24767801857585139,0.52,{"$f":"METAS!N19","v":0.22},"BOM","ATINGIU"]
[19,"ESTANCIA","ESTANCIA",68407,7.5401640183022201,4054,4467,4496,4580,4739,4962,5158,52,116,1203,996,903,919,980,954,939,2.5653675382338433E-2,5.1936422655025745E-2,0.53514234875444844,0.43493449781659388,0.38109305760709011,0.37041515517936319,0.37999224505622337,0.36991081814656845,0.36,{"$f":"METAS!N20","v":0.33},"ALERTA","ATINGIU"]
[20,"GLORIA","FEIRA NOVA",5571,7.215939687668282,340,350,353,360,377,389,402,0,33,16,33,17,97,8,16,131,0,0.18857142857142858,9.0651558073654395E-2,0.18333333333333332,9.0185676392572939E-2,0.49871465295629819,3.9800995024875621E-2,7.9601990049751242E-2,0.65,{"$f":"METAS!N21","v":0.22},"BOM","ATINGIU"]
[21,"ITABAIANA","FREI PAULO",15044,7.1457059292741292,864,937,947,968,1005,1037,1075,2,32,38,37,44,66,89,79,254,4.6296296296296294E-3,6.8303094983991466E-2,8.0253431890179514E-2,7.6446280991735532E-2,8.7562189054726375E-2,0.12729026036644167,0.1655813953488372,0.1469767441860465,0.47,{"$f":"METAS!N22","v":0.2},"ALERTA","ATINGIU"]
[22,"GLORIA","GARARU",11724,6.4994882292732852,661,739,740,734,751,753,762,0,27,40,15,14,19,6,15,10,0,7.307171853856563E-2,0.10810810810810811,4.0871934604904632E-2,3.7283621837549935E-2,5.0464807436918988E-2,1.5748031496062992E-2,3.937007874015748E-2,0.03,{"$f":"METAS!N23","v":0.2},"INSATISFATÓRIO","NÃO ATINGIU"]
[23,"SOCORRO","GENERAL MAYNARD",3230,7.0278637770897836,203,203,203,203,210,221,227,22,9,12,13,15,6,9,3,68,0.21674876847290642,8.8669950738916259E-2,0.11822660098522167,0.12807881773399016,0.14285714285714285,5.4298642533936653E-2,7.9295154185022032E-2,2.643171806167401E-2,0.6,{"$f":"METAS!N24","v":0.12},"BOM","ATINGIU"]
[24,"GLORIA","GRACHO CARDOSO",5846,8.1765309613410881,391,406,409,422,442,459,478,0,96,107,120,45,175,12,20,48,0,0.47290640394088668,0.52322738386308065,0.56872037914691942,0.20361990950226244,0.76252723311546844,5.0209205020920501E-2,8.3682008368200833E-2,0.2,{"$f":"METAS!N25","v":0.24},"INSATISFATÓRIO","NÃO ATINGIU"]
[25,"PROPRIA","ILHA DAS FLORES",8597,6.2696289403280216,503,520,521,512,519,529,539,2,7,14,27,21,216,56,55,159,7.9522862823061622E-3,2.6923076923076925E-2,5.3742802303262956E-2,0.10546875,8.0924855491329481E-2,0.81663516068052933,0.20779220779220781,0.20408163265306123,0.59,{"$f":"METAS!N26","v":0.28000000000000003},"BOM","ATINGIU"]
[26,"ESTANCIA","INDIAROBA",17384,5.4820524620340549,955,880,892,880,905,928,953,5,4,8,128,108,214,57,49,185,1.0471204188481676E-2,9.0909090909090905E-3,1.7937219730941704E-2,0.29090909090909089,0.23867403314917127,0.46120689655172414,0.11962224554039874,0.10283315844700944,0.39,{"$f":"METAS!N27","v":0.24},"ALERTA","ATINGIU"]
[27,"ITABAIANA","ITABAIANA",93573,7.3792653863828246,5479,5982,6035,6177,6415,6658,6905,117,618,620,952,1173,1114,1167,1260,1021,4.2708523453184891E-2,0.20661985957873621,0.20546810273405136,0.30824024607414602,0.36570537802026498,0.33463502553319313,0.33801593048515566,0.36495293265749457,0.3,{"$f":"METAS!N28","v":0.3},"ALERTA",{"$f":"IF(AD28>=AE28,\"ATINGIU\",\"NÃO ATINGIU\")","v":"ATINGIU"}]
[28,"ESTANCIA","ITABAIANINHA",41405,6.7093346214225331,2152,2425,2441,2479,2567,2675,2778,11,46,79,187,258,690,281,411,203,1.0223048327137546E-2,3.7938144329896908E-2,6.472757066775911E-2,0.15086728519564341,0.20101285547331516,0.51588785046728969,0.20230381569474443,0.29589632829373652,0.15,{"$f":"METAS!N29","v":0.25},"INSATISFATÓRIO","NÃO ATINGIU"]
[29,"GLORIA","ITABI",5017,9.3282838349611321,349,417,413,424,436,453,468,2,89,108,61,34,166,13,9,144,1.1461318051575931E-2,0.42685851318944845,0.52300242130750607,0.28773584905660377,0.15596330275229359,0.73289183222958054,5.5555555555555552E-2,3.8461538461538464E-2,0.62,{"$f":"METAS!N30","v":0.2},"BOM","ATINGIU"]
[30,"ARACAJU","ITAPORANGA D'AJUDA",33320,5.9933973589435769,1520,1747,1768,1795,1862,1928,1997,12,16,58,40,253,249,263,275,449,1.5789473684210527E-2,1.8317115054378934E-2,6.561085972850679E-2,4.456824512534819E-2,0.27175080558539205,0.25829875518672202,0.26339509263895844,0.27541311967951926,0.45,{"$f":"METAS!N31","v":0.3},"ALERTA","ATINGIU"]
[31,"SOCORRO","JAPARATUBA",18286,7.1366072405118661,957,1109,1120,1155,1206,1251,1305,23,40,44,26,33,98,93,83,437,4.8066875653082548E-2,7.2137060414788096E-2,7.857142857142857E-2,4.5021645021645025E-2,5.4726368159203981E-2,0.15667466027178256,0.14252873563218391,0.12720306513409962,0.67,{"$f":"METAS!N32","v":0.16},"BOM","ATINGIU"]
[32,"PROPRIA","JAPOATA",13245,6.3420158550396373,794,814,813,809,829,830,840,12,15,23,36,70,394,27,21,175,3.0226700251889168E-2,3.6855036855036855E-2,5.6580565805658053E-2,8.8998763906056863E-2,0.16887816646562123,0.94939759036144578,6.4285714285714279E-2,0.05,0.42,{"$f":"METAS!N33","v":0.1},"ALERTA","ATINGIU"]
[33,"LAGARTO","LAGARTO",102259,7.7509070106298701,6228,6900,6963,7125,7402,7653,7926,2,32,280,628,680,758,919,787,252,6.4226075786769424E-4,9.2753623188405795E-3,8.0425104121786592E-2,0.17628070175438595,0.18373412591191571,0.1980922514046779,0.23189502901842038,0.19858692909412062,0.06,{"$f":"METAS!N34","v":0.25},"INSATISFATÓRIO","NÃO ATINGIU"]
[34,"ARACAJU","LARANJEIRAS",29127,6.0631029628866688,1251,1488,1504,1545,1613,1689,1766,7,58,57,31,74,167,188,176,451,1.1191047162270184E-2,7.7956989247311828E-2,7.5797872340425537E-2,4.0129449838187704E-2,9.1754494730316175E-2,0.19775014801657786,0.21291053227633069,0.19932049830124576,0.51,{"$f":"METAS!N35","v":0.22},"ALERTA","ATINGIU"]
[35,"ITABAIANA","MACAMBIRA",6823,7.8118129854902536,465,493,495,502,512,522,533,5,17,28,34,33,36,31,68,199,2.1505376344086023E-2,6.8965517241379309E-2,0.11313131313131314,0.13545816733067728,0.12890625,0.13793103448275862,0.11632270168855535,0.25515947467166977,0.75,{"$f":"METAS!N36","v":0.1},"BOM","ATINGIU"]
[36,"PROPRIA","MALHADA DOS BOIS",3652,5.4216867469879517,190,199,202,190,193,195,198,0,4,14,11,59,79,2,3,108,0,4.0201005025125629E-2,0.13861386138613863,0.11578947368421053,0.6113989637305699,0.81025641025641026,2.0202020202020204E-2,3.0303030303030304E-2,1.0900000000000001,{"$f":"METAS!N37","v":0.17},"ÓTIMO","ATINGIU"]
[37,"ITABAIANA","MALHADOR",12601,7.3168796127291493,718,833,834,833,853,893,922,15,47,65,72,94,107,143,166,119,4.1782729805013928E-2,0.11284513805522209,0.15587529976019185,0.17286914765906364,0.22039859320046892,0.23964165733482642,0.31019522776572667,0.36008676789587851,0.26,{"$f":"METAS!N38","v":0.32},"ALERTA","NÃO ATINGIU"]
[38,"SOCORRO","MARUIM",17151,6.2911783569471167,935,1008,1013,1003,1027,1053,1079,9,13,40,23,51,68,82,77,211,1.9251336898395723E-2,2.5793650793650792E-2,7.8973346495557747E-2,4.5862412761714856E-2,9.9318403115871465E-2,0.1291547958214625,0.1519925857275255,0.14272474513438368,0.39,{"$f":"METAS!N39","v":0.14000000000000001},"ALERTA","ATINGIU"]
[39,"ITABAIANA","MOITA BONITA",11399,8.1322923063426611,828,883,887,884,899,913,927,35,65,61,81,114,105,132,128,114,8.4541062801932368E-2,0.14722536806342015,0.1375422773393461,0.18325791855203619,0.25361512791991103,0.23001095290251916,0.28478964401294499,0.27615965480043148,0.25,{"$f":"METAS!N40","v":0.28999999999999998},"INSATISFATÓRIO","NÃO ATINGIU"]
[40,"GLORIA","MONTE ALEGRE DE SERGIPE",14853,5.6890863798559215,731,766,774,771,795,821,845,0,21,45,120,72,145,14,29,35,0,5.4830287206266322E-2,0.11627906976744186,0.31128404669260701,0.1811320754716981,0.35322777101096225,3.3136094674556214E-2,6.8639053254437865E-2,0.08,{"$f":"METAS!N41","v":0.3},"INSATISFATÓRIO","NÃO ATINGIU"]
[41,"PROPRIA","MURIBECA",7644,7.5745682888540031,463,511,514,520,539,559,579,5,7,19,42,63,140,7,19,347,2.159827213822894E-2,2.7397260273972601E-2,7.3929961089494164E-2,0.16153846153846155,0.23376623376623376,0.50089445438282643,2.4179620034542316E-2,6.563039723661486E-2,1.2,{"$f":"METAS!N42","v":0.17},"ÓTIMO","ATINGIU"]
[42,"PROPRIA","NEOPOLIS",18958,7.1051798712944398,1102,1226,1225,1226,1257,1305,1347,5,13,33,41,188,415,39,150,233,9.0744101633393835E-3,2.1207177814029365E-2,5.3877551020408164E-2,6.6884176182707991E-2,0.29912490055688146,0.63601532567049812,5.7906458797327393E-2,0.22271714922048999,0.35,{"$f":"METAS!N43","v":0.2},"ALERTA","ATINGIU"]
[43,"ITABAIANA","NOSSA SENHORA APARECIDA",8830,7.814269535673839,634,620,624,639,665,672,690,1,107,95,59,75,78,70,115,236,3.1545741324921135E-3,0.34516129032258064,0.30448717948717946,{"$f":"P44/(I44/2)","v":0.18466353677621283},0.22556390977443608,0.23214285714285715,0.20289855072463769,0.33333333333333331,0.68,{"$f":"METAS!N44","v":0.26},"BOM","ATINGIU"]
[44,"GLORIA","NOSSA SENHORA DA GLORIA",35723,6.8135374968507687,2016,2086,2113,2171,2271,2344,2434,0,286,347,399,182,448,685,217,119,{"$f":"M45/(F45/2)","v":0},0.274209012464046,0.32844297207761475,0.36757254721326577,0.16028181417877588,0.38225255972696248,0.56285949055053408,0.17830731306491374,0.1,{"$f":"METAS!N45","v":0.25},"INSATISFATÓRIO","NÃO ATINGIU"]
[45,"SOCORRO","NOSSA SENHORA DAS DORES",26237,7.4474978084384649,1647,1757,1769,1780,1829,1895,1954,25,43,79,74,22,61,61,97,316,3.0358227079538554E-2,4.8947068867387596E-2,8.9315997738835501E-2,8.3146067415730343E-2,2.4056861673045379E-2,6.4379947229551454E-2,6.2436028659160696E-2,9.9283520982599793E-2,0.32,{"$f":"METAS!N46","v":0.1},"ALERTA","ATINGIU"]
[46,"PROPRIA","NOSSA SENHORA DE LOURDES",6494,7.3914382506929472,396,440,443,439,449,467,480,0,40,45,71,95,180,2,66,164,0,0.18181818181818182,0.20316027088036118,0.32346241457858771,0.42316258351893093,0.77087794432548185,8.3333333333333332E-3,0.27500000000000002,0.68,{"$f":"METAS!N47","v":0.19},"BOM","ATINGIU"]
[47,"SOCORRO","NOSSA SENHORA DO SOCORRO",177340,6.8112101048832754,7347,8953,9075,9865,10591,11312,12079,139,236,414,698,401,758,1142,1269,1490,3.7838573567442496E-2,5.2719758740087122E-2,9.1239669421487604E-2,0.14151039026862647,7.5724671891228404E-2,0.13401697312588401,0.18908850070370065,0.21011673151750973,0.25,{"$f":"METAS!N48","v":0.24},"INSATISFATÓRIO","ATINGIU"]
[48,"PROPRIA","PACATUBA",14164,6.1988138943801188,765,790,798,791,809,847,878,0,6,14,45,29,263,7,38,11,0,1.5189873417721518E-2,3.5087719298245612E-2,0.11378002528445007,7.1693448702101356E-2,0.62101534828807559,1.5945330296127564E-2,8.656036446469248E-2,0.03,{"$f":"METAS!N49","v":0.25},"INSATISFATÓRIO","NÃO ATINGIU"]
[49,"ITABAIANA","PEDRA MOLE",3199,7.5961237886839648,204,217,219,221,228,236,243,4,12,20,29,51,37,53,39,35,3.9215686274509803E-2,0.11059907834101383,0.18264840182648401,0.26244343891402716,0.44736842105263158,0.3135593220338983,0.43621399176954734,0.32098765432098764,0.28999999999999998,{"$f":"METAS!N50","v":0.45},"ALERTA","NÃO ATINGIU"]
[50,"ESTANCIA","PEDRINHAS",9455,6.906398730830249,538,583,587,595,612,633,653,1,13,18,150,133,188,149,72,246,3.7174721189591076E-3,4.4596912521440824E-2,6.1328790459965928E-2,0.50420168067226889,0.434640522875817,0.59399684044233803,0.45635528330781011,0.22052067381316998,0.75,{"$f":"METAS!N51","v":0.36},"BOM","ATINGIU"]
[51,"ITABAIANA","PINHAO",6439,8.8367758968783967,399,494,498,509,524,548,569,1,15,22,32,42,36,46,44,146,5.0125313283208017E-3,6.0728744939271252E-2,8.8353413654618476E-2,0.12573673870333987,0.16030534351145037,0.13138686131386862,0.16168717047451669,0.15465729349736379,0.51,{"$f":"METAS!N52","v":0.22},"ALERTA","ATINGIU"]
[52,"SOCORRO","PIRAMBU",9058,6.0167807463016114,414,465,470,481,500,524,545,2,7,24,17,41,26,25,37,201,9.6618357487922701E-3,3.0107526881720432E-2,0.10212765957446808,7.068607068607069E-2,0.16400000000000001,9.9236641221374045E-2,9.1743119266055051E-2,0.13577981651376148,0.74,{"$f":"METAS!N53","v":0.15},"BOM","ATINGIU"]
[53,"GLORIA","POCO REDONDO",33756,5.4834696054034842,1369,1642,1663,1671,1732,1791,1851,0,24,85,154,30,263,32,61,200,0,2.9232643118148598E-2,0.10222489476849068,0.18432076600837821,3.4642032332563508E-2,0.29369067560022333,3.4575904916261481E-2,6.5910318746623453E-2,0.22,{"$f":"METAS!N54","v":0.23},"INSATISFATÓRIO","NÃO ATINGIU"]
[54,"LAGARTO","POCO VERDE",23413,8.2945372229103498,1605,1746,1759,1784,1842,1890,1942,0,13,35,127,133,111,126,79,125,0,1.4891179839633447E-2,3.9795338260375214E-2,0.14237668161434977,0.14440825190010859,0.11746031746031746,0.12976313079299692,8.1359423274974252E-2,0.13,{"$f":"METAS!N55","v":0.17},"INSATISFATÓRIO","NÃO ATINGIU"]
[55,"GLORIA","PORTO DA FOLHA",28497,6.4217286030108429,1585,1660,1667,1674,1726,1777,1830,0,116,95,178,78,260,82,101,152,0,0.13975903614457832,0.11397720455908818,0.2126642771804062,9.0382387022016217E-2,0.29262802476083288,8.9617486338797819E-2,0.11038251366120219,0.17,{"$f":"METAS!N56","v":0.22},"INSATISFATÓRIO","NÃO ATINGIU"]
[56,"PROPRIA","PROPRIA",29657,7.6575513369524897,1786,1977,1982,2015,2083,2180,2271,8,18,75,208,539,150,151,114,15,8.9585666293393058E-3,1.8209408194233688E-2,7.5681130171543889E-2,0.20645161290322581,0.51752280364858372,0.13761467889908258,0.1329810656098635,0.10039630118890357,0.01,{"$f":"METAS!N57","v":0.22},"INSATISFATÓRIO","NÃO ATINGIU"]
[57,"LAGARTO","RIACHAO DO DANTAS",19976,6.753103724469363,1185,1295,1298,1280,1301,1325,1349,1,7,43,66,60,69,79,70,98,1.6877637130801688E-3,1.0810810810810811E-2,6.6255778120184905E-2,0.10312499999999999,9.2236740968485775E-2,0.10415094339622641,0.11712379540400296,0.10378057820607858,0.15,{"$f":"METAS!N58","v":0.13},"INSATISFATÓRIO","ATINGIU"]
[58,"ARACAJU","RIACHUELO",10033,6.3291139240506329,493,539,543,559,586,608,635,0,4,14,12,29,49,41,68,159,0,1.4842300556586271E-2,5.1565377532228361E-2,4.2933810375670838E-2,9.8976109215017066E-2,0.16118421052631579,0.12913385826771653,0.21417322834645669,0.5,{"$f":"METAS!N59","v":0.2},"ALERTA","ATINGIU"]
[59,"ITABAIANA","RIBEIROPOLIS",18363,7.678483907858193,1231,1317,1328,1324,1356,1383,1410,5,47,71,86,103,109,140,146,94,8.1234768480909821E-3,7.1374335611237655E-2,0.10692771084337349,0.12990936555891239,0.15191740412979352,0.15762834417932031,0.19858156028368795,0.20709219858156028,0.13,{"$f":"METAS!N60","v":0.18},"INSATISFATÓRIO","NÃO ATINGIU"]
[60,"SOCORRO","ROSARIO DO CATETE",10367,6.1541429536027783,515,541,552,564,588,613,638,1,9,17,22,14,17,21,33,179,3.8834951456310678E-3,3.3271719038817003E-2,6.1594202898550728E-2,7.8014184397163122E-2,4.7619047619047616E-2,5.5464926590538338E-2,6.5830721003134793E-2,0.10344827586206896,0.56000000000000005,{"$f":"METAS!N61","v":0.1},"BOM","ATINGIU"]
[61,"LAGARTO","SALGADO",20082,6.7572950901304649,1186,1276,1277,1274,1307,1331,1357,4,9,49,72,101,59,106,95,92,6.7453625632377737E-3,1.4106583072100314E-2,7.6742364917776043E-2,0.11302982731554161,0.15455241009946441,8.8655146506386173E-2,0.15622697126013266,0.14001473839351511,0.14000000000000001,{"$f":"METAS!N62","v":0.22},"INSATISFATÓRIO","NÃO ATINGIU"]
[62,"ESTANCIA","SANTA LUZIA DO ITANHY",13838,5.7089174736233561,623,712,717,713,732,766,790,0,8,12,37,102,152,65,93,367,0,2.247191011235955E-2,3.3472803347280332E-2,0.10378681626928471,0.27868852459016391,0.39686684073107048,0.16455696202531644,0.23544303797468355,0.93,{"$f":"METAS!N63","v":0.24},"ÓTIMO","ATINGIU"]
[63,"PROPRIA","SANTANA DO SÃO FRANCISCO",7607,3.2733009070592871,393,410,243,240,243,246,249,3,2,15,22,20,106,73,9,112,1.5267175572519083E-2,9.7560975609756097E-3,0.12345679012345678,0.18333333333333332,0.16460905349794239,0.86178861788617889,0.58634538152610438,7.2289156626506021E-2,0.9,{"$f":"METAS!N64","v":0.2},"ÓTIMO","ATINGIU"]
[64,"ARACAJU","SANTA ROSA DE LIMA",3912,11.170756646216768,248,240,413,402,408,425,437,0,2,7,4,16,54,38,21,31,0,1.6666666666666666E-2,3.3898305084745763E-2,1.9900497512437811E-2,7.8431372549019607E-2,0.2541176470588235,0.17391304347826086,9.6109839816933634E-2,0.14000000000000001,{"$f":"METAS!N65","v":0.17},"INSATISFATÓRIO","NÃO ATINGIU"]
[65,"SOCORRO","SANTO AMARO DAS BROTAS",12024,6.9111776447105786,774,754,757,758,783,808,831,0,6,16,14,12,34,28,41,194,0,1.5915119363395226E-2,4.2272126816380449E-2,3.6939313984168866E-2,3.0651340996168581E-2,8.4158415841584164E-2,6.7388688327316482E-2,9.8676293622142003E-2,0.47,{"$f":"METAS!N66","v":0.22},{"$f":"IF(AD66<=0.25,\"INSATISFATÓRIO\",IF(AD66<=0.51,\"ALERTA\",IF(AD66>=0.78,\"ÓTIMO\",\"BOM\")))","v":"ALERTA"},{"$f":"IF(AD66>=AE66,\"ATINGIU\",\"NÃO ATINGIU\")","v":"ATINGIU"}]
[66,"ARACAJU","SÃO CRISTOVAO",86979,{"$f":"L67/D67*100","v":7.1672472665815885},4334,5076,5146,5362,5625,5938,6234,30,142,227,187,298,509,503,419,853,1.384402399630826E-2,5.5949566587864458E-2,8.8223863194714341E-2,6.9750093248787767E-2,0.10595555555555555,0.17143819467834287,{"$f":"S67/($L67/2)","v":0.16137311517484762},0.13442412576195059,{"$f":"ROUND(U67/($L67/2),2)","v":0.27},{"$f":"METAS!N67","v":0.22},"ALERTA","ATINGIU"]
[67,"ITABAIANA","SÃO DOMINGOS",10971,7.5471698113207548,683,771,777,775,791,811,828,11,30,35,35,78,110,100,113,173,3.2210834553440704E-2,7.7821011673151752E-2,9.0090090090090086E-2,9.0322580645161285E-2,0.19721871049304679,0.2712700369913687,0.24154589371980675,0.27294685990338163,0.42,{"$f":"METAS!N68","v":0.25},"ALERTA","ATINGIU"]
[68,"PROPRIA","SÃO FRANCISCO",3851,7.7122825240197352,182,236,241,252,270,281,297,7,7,7,17,60,62,4,7,142,7.6923076923076927E-2,5.9322033898305086E-2,5.8091286307053944E-2,0.13492063492063491,0.44444444444444442,0.44128113879003561,2.6936026936026935E-2,4.7138047138047139E-2,0.96,{"$f":"METAS!N69","v":0.24},"ÓTIMO","ATINGIU"]
[69,"ITABAIANA","SÃO MIGUEL DO ALEIXO",3902,7.5858534085084566,271,258,262,266,279,286,296,0,16,43,40,36,28,34,42,112,0,0.12403100775193798,0.3282442748091603,0.3007518796992481,0.25806451612903225,0.19580419580419581,0.22972972972972974,0.28378378378378377,0.76,{"$f":"METAS!N70","v":0.26},"BOM","ATINGIU"]
[70,"LAGARTO","SIMÃO DIAS",40530,7.6535899333826789,2667,2839,2850,2878,2974,3023,3102,1,5,22,70,82,51,125,141,148,7.4990626171728538E-4,3.522367030644593E-3,1.5438596491228071E-2,4.8644892286309936E-2,5.5144586415601882E-2,3.3741316572940785E-2,8.0593165699548677E-2,9.0909090909090912E-2,0.1,{"$f":"METAS!N71","v":0.22},"INSATISFATÓRIO","NÃO ATINGIU"]
[71,"SOCORRO","SIRIRI",8675,6.2708933717579258,469,508,513,508,518,533,544,9,11,18,21,16,44,39,37,306,3.8379530916844352E-2,4.3307086614173228E-2,7.0175438596491224E-2,8.2677165354330714E-2,6.1776061776061778E-2,0.16510318949343339,0.14338235294117646,0.13602941176470587,1.1299999999999999,{"$f":"METAS!N72","v":0.12},"ÓTIMO","ATINGIU"]
[72,"PROPRIA","TELHA",3171,6.0864080731630406,157,170,173,176,185,187,193,0,2,6,7,36,76,5,1,60,0,2.3529411764705882E-2,6.9364161849710976E-2,7.9545454545454544E-2,0.38918918918918921,0.81283422459893051,5.181347150259067E-2,1.0362694300518135E-2,0.62,{"$f":"METAS!N73","v":0.19},"BOM","ATINGIU"]
[73,"LAGARTO","TOBIAS BARRETO",51374,7.9008837154981126,3461,3603,3631,3684,3808,3933,4059,9,19,67,109,129,609,711,496,669,5.2008090147356257E-3,1.0546766583402719E-2,3.6904434040209308E-2,5.9174809989142235E-2,6.775210084033613E-2,0.30968726163234173,0.35033259423503327,0.24439517122443952,0.33,{"$f":"METAS!N74","v":0.27},"ALERTA","ATINGIU"]
[74,"ESTANCIA","TOMAR DO GERU",13200,6.2803030303030303,786,783,784,780,802,812,829,4,8,5,54,85,272,57,119,87,1.0178117048346057E-2,2.0434227330779056E-2,1.2755102040816327E-2,0.13846153846153847,0.21197007481296759,0.66995073891625612,0.13751507840772015,0.28709288299155611,0.21,{"$f":"METAS!N75","v":0.28000000000000003},"INSATISFATÓRIO","NÃO ATINGIU"]
[75,"ESTANCIA","UMBAUBA",24542,6.9472740607937418,1164,1408,1426,1468,1531,1624,1705,14,52,30,326,176,491,164,169,379,2.4054982817869417E-2,7.3863636363636367E-2,4.2075736325385693E-2,0.44414168937329701,0.22991508817766165,0.60467980295566504,0.19237536656891496,0.19824046920821115,0.44,{"$f":"METAS!N76","v":0.26},"ALERTA","ATINGIU"]
[76,"SERGIPE","SERGIPE",2242948,7.4881807335702835,130562,143442,144976,148914,155086,161458,167956,1323,4869,9671,14374,14333,20982,17550,17075,24594,2.0266233666763684E-2,6.7888066256744886E-2,0.13341518596181437,0.19305102273795613,0.18483937944108431,0.25990660109749902,0.20898330515134916,0.20332706184953203,0.28999999999999998,{"$f":"METAS!N77","v":0.22},"ALERTA","ATINGIU"]
[]
[1,2,3,4,5,6,7,8,9,10,11,12,13,14,15,16,17,18,19,20,21,22,23,24,25,26,27,28,29,30,32,33,35]
[]
[]
["Fonte:DATASUS/SIASUS/ATUALIZAÇÃO DO BANCO EM 05/02/18."]
["DADOS ATÉ DEZEMBRO 2017"]
[]
["[Opções]"]
["DEF=E:\\SUS\\SIA 2017\\SIA_COAP 3.def"]
["PATH=E:\\SUS\\SIA 2017\\DADOS\\PA*.*"]
["Linha=Munic.da Resid.Pac."]
["Coluna=Ano de Atendimento"]
["Incremento=Qtd.Apresentada"]
["Suprime_Linhas_Zeradas=false"]
["Suprime_Colunas_Zeradas=true"]
["Não_Classificados=0"]
["[Seleções_Ativas]"]
["Sexo: Feminino"]
["Faixa Etaria18: 50-54a|55-59a|60-64a|65-69a"]
["MAMOGRAFIA: MAMOGRAFIA BILATERAL PARA RASTREAMENTO"]
["[Arquivos]"]
["PASE0801.dbc"]
["PASE0802.dbc"]
["PASE0803.dbc"]
["PASE0804.dbc"]
["PASE0805.dbc"]
["PASE0806.dbc"]
["PASE0807.dbc"]
["PASE0808.dbc"]
["PASE0809.dbc"]
["PASE0810.dbc"]
["PASE0811.dbc"]
["PASE0812.dbc"]
["PASE0901.dbc"]
["PASE0902.dbc"]
["PASE0903.dbc"]
["PASE0904.dbc"]
["PASE0905.dbc"]
["PASE0906.dbc"]
["PASE0907.dbc"]
["PASE0908.dbc"]
["PASE0909.dbc"]
["PASE0910.dbc"]
["PASE0911.dbc"]
["PASE0912.dbc"]
["PASE1001.dbc"]
["PASE1002.dbc"]
["PASE1003.dbc"]
["PASE1004.dbc"]
["PASE1005.dbc"]
["PASE1006.dbc"]
["PASE1007.dbc"]
["PASE1008.dbc"]
["PASE1009.dbc"]
["PASE1010.dbc"]
["PASE1011.dbc"]
["PASE1012.dbc"]
["PASE1101.dbc"]
["PASE1102.dbc"]
["PASE1103.dbc"]
["PASE1104.dbc"]
["PASE1105.dbc"]
["PASE1106.dbc"]
["PASE1107.dbc"]
["PASE1109.dbc"]
["PASE1110.dbc"]
["PASE1111.dbc"]
["PASE1112.dbc"]
["PASE1201.dbc"]
["PASE1202.dbc"]
["PASE1203.dbc"]
["PASE1204.dbc"]
["PASE1205.dbc"]
["PASE1206.dbc"]
["PASE1207.dbc"]
["PASE1208.dbc"]
["PASE1209.dbc"]
["PASE1210.dbc"]
["PASE1211.dbc"]
["PASE1212.dbc"]
["PASE1301.dbc"]
["PASE1302.dbc"]
["PASE1303.dbc"]
["PASE1304.dbc"]
["PASE1305.dbc"]
["PASE1306.dbc"]
["PASE1307.dbc"]
["PASE1308.dbc"]
["PASE1309.dbc"]
["PASE1310.dbc"]
["PASE1311.dbc"]
["PASE1312.dbc"]
["PASE1401.dbc"]
["PASE1402.dbc"]
["PASE1404.dbc"]
["PASE1405.dbc"]
["PASE1406.dbc"]
["PASE1407.dbc"]
["PASE1408.dbc"]
["PASE1409.dbc"]
["PASE1410.dbc"]
["PASE1411.dbc"]
["PASE1412.dbc"]
["PASE1501.dbc"]
["PASE1502.dbc"]
["PASE1503.dbc"]
["PASE1504.dbc"]
["PASE1505.dbc"]
["PASE1506.dbc"]
["PASE1507.dbc"]
["PASE1508.dbc"]
["PASE1509.dbc"]
["PASE1510.dbc"]
["PASE1511.dbc"]
["PASE1512.dbc"]
["PASE1601.dbc"]
["PASE1602.dbc"]
["PASE1603.dbc"]
["PASE1604.dbc"]
["PASE1605.dbc"]
["PASE1606.dbc"]
["PASE1607.dbc"]
["PASE1608.dbc"]
["PASE1609.dbc"]
["PASE1610.dbc"]
["PASE1611.dbc"]
["PASE1612.dbc"]
["PASE1701.dbc"]
["PASE1702.dbc"]
["PASE1703.dbc"]
["PASE1704.dbc"]
["PASE1705.dbc"]
["PASE1706.dbc"]
["PASE1707.dbc"]
["PASE1708.dbc"]
["PASE1709.dbc"]
["PASE1710.dbc"]
["PASE1711.dbc"]
["PASE1712.dbc"]
["Registros_Processados= 29543289"]
["Tempo_Decorrido= 0:55"]
[]
[]
[]
["Tempo_Decorrido= 0:50"]
["Registros_Processados= 26791507"]
["Tempo_Decorrido= 0:50"]

{"sheet":"MAMOGRAFIA_REG","index":107,"n_rows":9,"n_cols":31,"rows_kept":9,"cut":false,"hidden":true,"merged":[]}
["CÓD","REGIÃO","POP 2015","POP FEM DE 50 A 69 ANOS 2009","POP FEM DE 50 A 69 ANOS 2010","POP FEM DE 50 A 69 ANOS 2011","POP FEM DE 50 A 69 ANOS 2012","POP FEM DE 50 A 69 ANOS 2013","POP FEM DE 50 A 69 ANOS 2014","POP FEM DE 50 A 69 ANOS 2015","MAMOGRAFIA BILATERAL 50 A 69 2009","MAMOGRAFIA BILATERAL 50 A 69 2010","MAMOGRAFIA BILATERAL 50 A 69 2011","MAMOGRAFIA BILATERAL 50 A 69 2012","MAMOGRAFIA BILATERAL 50 A 69 2013","MAMOGRAFIA BILATERAL 50 A 69 2014","MAMOGRAFIA BILATERAL 50 A 69 2015","MAMOGRAFIA BILATERAL 50 A 69 2016","MAMOGRAFIA BILATERAL 50 A 69 2017","RAZÃO MAMOGRAFIA BILATERAL 50 A 69 2009","RAZÃO MAMOGRAFIA BILATERAL 50 A 69 2010","RAZÃO MAMOGRAFIA BILATERAL 50 A 69 2011","RAZÃO MAMOGRAFIA BILATERAL 50 A 69 2012","RAZÃO MAMOGRAFIA BILATERAL 50 A 69 2013","RAZÃO MAMOGRAFIA BILATERAL 50 A 69 2014","RAZÃO MAMOGRAFIA BILATERAL 50 A 69 2015","RAZÃO MAMOGRAFIA BILATERAL 50 A 69 2016","RAZÃO MAMOGRAFIA BILATERAL 50 A 69 2017","META 2017","PARÂMETRO","SITUAÇÃO"]
[1,"ARACAJU",{"$f":"SUMIF(MAMOGRAFIA!$B$2:$B$77,\"ARACAJU\",MAMOGRAFIA!D$2:D$77)","v":829684},{"$f":"SUMIF(MAMOGRAFIA!$B2:$B77,\"ARACAJU\",MAMOGRAFIA!F2:F77)","v":51758},{"$f":"SUMIF(MAMOGRAFIA!$B2:$B77,\"ARACAJU\",MAMOGRAFIA!G2:G77)","v":56997},{"$f":"SUMIF(MAMOGRAFIA!$B2:$B77,\"ARACAJU\",MAMOGRAFIA!H2:H77)","v":58000},{"$f":"SUMIF(MAMOGRAFIA!$B2:$B77,\"ARACAJU\",MAMOGRAFIA!I2:I77)","v":60361},{"$f":"SUMIF(MAMOGRAFIA!$B2:$B77,\"ARACAJU\",MAMOGRAFIA!J2:J77)","v":63217},{"$f":"SUMIF(MAMOGRAFIA!$B2:$B77,\"ARACAJU\",MAMOGRAFIA!K2:K77)","v":66203},{"$f":"SUMIF(MAMOGRAFIA!$B2:$B77,\"ARACAJU\",MAMOGRAFIA!L2:L77)","v":69239},{"$f":"SUMIF(MAMOGRAFIA!$B2:$B77,\"ARACAJU\",MAMOGRAFIA!M2:M77)","v":624},{"$f":"SUMIF(MAMOGRAFIA!$B2:$B77,\"ARACAJU\",MAMOGRAFIA!N2:N77)","v":1768},{"$f":"SUMIF(MAMOGRAFIA!$B2:$B77,\"ARACAJU\",MAMOGRAFIA!O2:O77)","v":4325},{"$f":"SUMIF(MAMOGRAFIA!$B2:$B77,\"ARACAJU\",MAMOGRAFIA!P2:P77)","v":6150},{"$f":"SUMIF(MAMOGRAFIA!$B2:$B77,\"ARACAJU\",MAMOGRAFIA!Q2:Q77)","v":5944},{"$f":"SUMIF(MAMOGRAFIA!$B2:$B77,\"ARACAJU\",MAMOGRAFIA!R2:R77)","v":6908},{"$f":"SUMIF(MAMOGRAFIA!$B2:$B77,\"ARACAJU\",MAMOGRAFIA!S2:S77)","v":7640},{"$f":"SUMIF(MAMOGRAFIA!$B2:$B77,\"ARACAJU\",MAMOGRAFIA!T2:T77)","v":7347},{"$f":"SUMIF(MAMOGRAFIA!$B2:$B77,\"ARACAJU\",MAMOGRAFIA!U2:U77)","v":9715},{"$f":"K2/(D2/2)","v":2.4112214536883187E-2},6.2038352895766445E-2,0.14913793103448275,0.20377396000728948,0.18805068256956198,0.20869144902798967,{"$f":"Q2/($J2/2)","v":0.22068487413163101},{"$f":"R2/($J2/2)","v":0.2122214358959546},{"$f":"S2/($J2/2)","v":0.28062219269486849},{"$f":"METAS!N81","v":0.16},{"$f":"IF(Y2<=0.25,\"INSATISFATÓRIO\",IF(Y2<=0.51,\"ALERTA\",IF(Y2>=0.78,\"ÓTIMO\",\"BOM\")))","v":"INSATISFATÓRIO"},{"$f":"IF(AB2>=AC2,\"ATINGIU\",\"NÃO ATINGIU\")","v":"ATINGIU"}]
[2,"ESTANCIA",{"$f":"SUMIF(MAMOGRAFIA!$B$2:$B$77,\"ESTANCIA\",MAMOGRAFIA!$D$2:$D$77)","v":243464},{"$f":"SUMIF(MAMOGRAFIA!$B2:$B77,\"ESTANCIA\",MAMOGRAFIA!F2:F77)","v":13539},{"$f":"SUMIF(MAMOGRAFIA!$B2:$B77,\"ESTANCIA\",MAMOGRAFIA!G2:G77)","v":14719},{"$f":"SUMIF(MAMOGRAFIA!$B2:$B77,\"ESTANCIA\",MAMOGRAFIA!H2:H77)","v":14811},{"$f":"SUMIF(MAMOGRAFIA!$B2:$B77,\"ESTANCIA\",MAMOGRAFIA!I2:I77)","v":14993},{"$f":"SUMIF(MAMOGRAFIA!$B2:$B77,\"ESTANCIA\",MAMOGRAFIA!J2:J77)","v":15496},{"$f":"SUMIF(MAMOGRAFIA!$B2:$B77,\"ESTANCIA\",MAMOGRAFIA!K2:K77)","v":16113},{"$f":"SUMIF(MAMOGRAFIA!$B2:$B77,\"ESTANCIA\",MAMOGRAFIA!L2:L77)","v":16692},{"$f":"SUMIF(MAMOGRAFIA!$B2:$B77,\"ESTANCIA\",MAMOGRAFIA!M2:M77)","v":126},{"$f":"SUMIF(MAMOGRAFIA!$B2:$B77,\"ESTANCIA\",MAMOGRAFIA!N2:N77)","v":327},{"$f":"SUMIF(MAMOGRAFIA!$B2:$B77,\"ESTANCIA\",MAMOGRAFIA!O2:O77)","v":1467},{"$f":"SUMIF(MAMOGRAFIA!$B2:$B77,\"ESTANCIA\",MAMOGRAFIA!P2:P77)","v":2524},{"$f":"SUMIF(MAMOGRAFIA!$B2:$B77,\"ESTANCIA\",MAMOGRAFIA!Q2:Q77)","v":2291},{"$f":"SUMIF(MAMOGRAFIA!$B2:$B77,\"ESTANCIA\",MAMOGRAFIA!R2:R77)","v":3891},{"$f":"SUMIF(MAMOGRAFIA!$B2:$B77,\"ESTANCIA\",MAMOGRAFIA!S2:S77)","v":2250},{"$f":"SUMIF(MAMOGRAFIA!$B2:$B77,\"ESTANCIA\",MAMOGRAFIA!T2:T77)","v":2348},{"$f":"SUMIF(MAMOGRAFIA!$B2:$B77,\"ESTANCIA\",MAMOGRAFIA!U2:U77)","v":3222},1.8612896077996897E-2,4.4432366329234321E-2,0.19809600972250355,0.33669045554592142,0.29568921011874033,{"$f":"P3/($H3/2)","v":0.50219411461022201},{"$f":"Q3/($J3/2)","v":0.26959022286125089},0.2813323747903187,0.38605319913731129,{"$f":"METAS!N82","v":0.16},{"$f":"IF(Y3<=0.25,\"INSATISFATÓRIO\",IF(Y3<=0.51,\"ALERTA\",IF(Y3>=0.78,\"ÓTIMO\",\"BOM\")))","v":"ALERTA"},{"$f":"IF(AB3>=AC3,\"ATINGIU\",\"NÃO ATINGIU\")","v":"ATINGIU"}]
[3,"GLORIA",{"$f":"SUMIF(MAMOGRAFIA!$B$2:$B$77,\"GLORIA\",MAMOGRAFIA!$D$2:$D$77)","v":169266},{"$f":"SUMIF(MAMOGRAFIA!$B2:$B77,\"GLORIA\",MAMOGRAFIA!F2:F77)","v":8381},{"$f":"SUMIF(MAMOGRAFIA!$B2:$B77,\"GLORIA\",MAMOGRAFIA!G2:G77)","v":9176},{"$f":"SUMIF(MAMOGRAFIA!$B2:$B77,\"GLORIA\",MAMOGRAFIA!H2:H77)","v":9266},{"$f":"SUMIF(MAMOGRAFIA!$B2:$B77,\"GLORIA\",MAMOGRAFIA!I2:I77)","v":9385},{"$f":"SUMIF(MAMOGRAFIA!$B2:$B77,\"GLORIA\",MAMOGRAFIA!J2:J77)","v":9749},{"$f":"SUMIF(MAMOGRAFIA!$B2:$B77,\"GLORIA\",MAMOGRAFIA!K2:K77)","v":10061},{"$f":"SUMIF(MAMOGRAFIA!$B2:$B77,\"GLORIA\",MAMOGRAFIA!L2:L77)","v":10403},{"$f":"SUMIF(MAMOGRAFIA!$B2:$B77,\"GLORIA\",MAMOGRAFIA!M2:M77)","v":2},{"$f":"SUMIF(MAMOGRAFIA!$B2:$B77,\"GLORIA\",MAMOGRAFIA!N2:N77)","v":828},{"$f":"SUMIF(MAMOGRAFIA!$B2:$B77,\"GLORIA\",MAMOGRAFIA!O2:O77)","v":985},{"$f":"SUMIF(MAMOGRAFIA!$B2:$B77,\"GLORIA\",MAMOGRAFIA!P2:P77)","v":1220},{"$f":"SUMIF(MAMOGRAFIA!$B2:$B77,\"GLORIA\",MAMOGRAFIA!Q2:Q77)","v":588},{"$f":"SUMIF(MAMOGRAFIA!$B2:$B77,\"GLORIA\",MAMOGRAFIA!R2:R77)","v":2022},{"$f":"SUMIF(MAMOGRAFIA!$B2:$B77,\"GLORIA\",MAMOGRAFIA!S2:S77)","v":990},{"$f":"SUMIF(MAMOGRAFIA!$B2:$B77,\"GLORIA\",MAMOGRAFIA!T2:T77)","v":532},{"$f":"SUMIF(MAMOGRAFIA!$B2:$B77,\"GLORIA\",MAMOGRAFIA!U2:U77)","v":868},4.7727001551127549E-4,0.18047079337401917,0.2126052233973667,0.25998934469898777,0.12062775669299415,0.41481177556672477,0.19032971258290879,0.10227818898394694,0.16687493992117658,{"$f":"METAS!N83","v":0.16},"ALERTA","ATINGIU"]
[4,"ITABAIANA",{"$f":"SUMIF(MAMOGRAFIA!$B$2:$B$77,\"ITABAIANA\",MAMOGRAFIA!$D$2:$D$77)","v":248651},{"$f":"SUMIF(MAMOGRAFIA!$B2:$B77,\"ITABAIANA\",MAMOGRAFIA!F2:F77)","v":15243},{"$f":"SUMIF(MAMOGRAFIA!$B2:$B77,\"ITABAIANA\",MAMOGRAFIA!G2:G77)","v":16542},{"$f":"SUMIF(MAMOGRAFIA!$B2:$B77,\"ITABAIANA\",MAMOGRAFIA!H2:H77)","v":16674},{"$f":"SUMIF(MAMOGRAFIA!$B2:$B77,\"ITABAIANA\",MAMOGRAFIA!I2:I77)","v":16875},{"$f":"SUMIF(MAMOGRAFIA!$B2:$B77,\"ITABAIANA\",MAMOGRAFIA!J2:J77)","v":17411},{"$f":"SUMIF(MAMOGRAFIA!$B2:$B77,\"ITABAIANA\",MAMOGRAFIA!K2:K77)","v":17957},{"$f":"SUMIF(MAMOGRAFIA!$B2:$B77,\"ITABAIANA\",MAMOGRAFIA!L2:L77)","v":18504},{"$f":"SUMIF(MAMOGRAFIA!$B2:$B77,\"ITABAIANA\",MAMOGRAFIA!M2:M77)","v":238},{"$f":"SUMIF(MAMOGRAFIA!$B2:$B77,\"ITABAIANA\",MAMOGRAFIA!N2:N77)","v":1222},{"$f":"SUMIF(MAMOGRAFIA!$B2:$B77,\"ITABAIANA\",MAMOGRAFIA!O2:O77)","v":1294},{"$f":"SUMIF(MAMOGRAFIA!$B2:$B77,\"ITABAIANA\",MAMOGRAFIA!P2:P77)","v":1663},{"$f":"SUMIF(MAMOGRAFIA!$B2:$B77,\"ITABAIANA\",MAMOGRAFIA!Q2:Q77)","v":2194},{"$f":"SUMIF(MAMOGRAFIA!$B2:$B77,\"ITABAIANA\",MAMOGRAFIA!R2:R77)","v":2190},{"$f":"SUMIF(MAMOGRAFIA!$B2:$B77,\"ITABAIANA\",MAMOGRAFIA!S2:S77)","v":2365},{"$f":"SUMIF(MAMOGRAFIA!$B2:$B77,\"ITABAIANA\",MAMOGRAFIA!T2:T77)","v":2621},{"$f":"SUMIF(MAMOGRAFIA!$B2:$B77,\"ITABAIANA\",MAMOGRAFIA!U2:U77)","v":3048},3.1227448664960966E-2,0.14774513359932293,0.15521170684898644,0.1970962962962963,0.252024582160703,0.25156510252139452,0.2556204063986165,0.28329009943795935,0.32944228274967574,{"$f":"METAS!N84","v":0.16},"ALERTA","ATINGIU"]
[5,"LAGARTO",{"$f":"SUMIF(MAMOGRAFIA!$B$2:$B$77,\"LAGARTO\",MAMOGRAFIA!$D$2:$D$77)","v":257634},{"$f":"SUMIF(MAMOGRAFIA!$B2:$B77,\"LAGARTO\",MAMOGRAFIA!F2:F77)","v":16332},{"$f":"SUMIF(MAMOGRAFIA!$B2:$B77,\"LAGARTO\",MAMOGRAFIA!G2:G77)","v":17659},{"$f":"SUMIF(MAMOGRAFIA!$B2:$B77,\"LAGARTO\",MAMOGRAFIA!H2:H77)","v":17778},{"$f":"SUMIF(MAMOGRAFIA!$B2:$B77,\"LAGARTO\",MAMOGRAFIA!I2:I77)","v":18025},{"$f":"SUMIF(MAMOGRAFIA!$B2:$B77,\"LAGARTO\",MAMOGRAFIA!J2:J77)","v":18634},{"$f":"SUMIF(MAMOGRAFIA!$B2:$B77,\"LAGARTO\",MAMOGRAFIA!K2:K77)","v":19155},{"$f":"SUMIF(MAMOGRAFIA!$B2:$B77,\"LAGARTO\",MAMOGRAFIA!L2:L77)","v":19735},{"$f":"SUMIF(MAMOGRAFIA!$B2:$B77,\"LAGARTO\",MAMOGRAFIA!M2:M77)","v":17},{"$f":"SUMIF(MAMOGRAFIA!$B2:$B77,\"LAGARTO\",MAMOGRAFIA!N2:N77)","v":85},{"$f":"SUMIF(MAMOGRAFIA!$B2:$B77,\"LAGARTO\",MAMOGRAFIA!O2:O77)","v":496},{"$f":"SUMIF(MAMOGRAFIA!$B2:$B77,\"LAGARTO\",MAMOGRAFIA!P2:P77)","v":1072},{"$f":"SUMIF(MAMOGRAFIA!$B2:$B77,\"LAGARTO\",MAMOGRAFIA!Q2:Q77)","v":1185},{"$f":"SUMIF(MAMOGRAFIA!$B2:$B77,\"LAGARTO\",MAMOGRAFIA!R2:R77)","v":1657},{"$f":"SUMIF(MAMOGRAFIA!$B2:$B77,\"LAGARTO\",MAMOGRAFIA!S2:S77)","v":2066},{"$f":"SUMIF(MAMOGRAFIA!$B2:$B77,\"LAGARTO\",MAMOGRAFIA!T2:T77)","v":1668},{"$f":"SUMIF(MAMOGRAFIA!$B2:$B77,\"LAGARTO\",MAMOGRAFIA!U2:U77)","v":1384},2.0818025961302964E-3,9.6268191856843533E-3,5.5799302508718639E-2,0.11894590846047157,0.1271868627240528,0.17784694644198776,0.20937420825943756,0.16903977704585763,0.1402584241195845,{"$f":"METAS!N85","v":0.16},"INSATISFATÓRIO","NÃO ATINGIU"]
[6,"PROPRIA",{"$f":"SUMIF(MAMOGRAFIA!$B$2:$B$77,\"PROPRIA\",MAMOGRAFIA!$D$2:$D$77)","v":158896},{"$f":"SUMIF(MAMOGRAFIA!$B2:$B77,\"PROPRIA\",MAMOGRAFIA!F2:F77)","v":9345},{"$f":"SUMIF(MAMOGRAFIA!$B2:$B77,\"PROPRIA\",MAMOGRAFIA!G2:G77)","v":10060},{"$f":"SUMIF(MAMOGRAFIA!$B2:$B77,\"PROPRIA\",MAMOGRAFIA!H2:H77)","v":9940},{"$f":"SUMIF(MAMOGRAFIA!$B2:$B77,\"PROPRIA\",MAMOGRAFIA!I2:I77)","v":9930},{"$f":"SUMIF(MAMOGRAFIA!$B2:$B77,\"PROPRIA\",MAMOGRAFIA!J2:J77)","v":10207},{"$f":"SUMIF(MAMOGRAFIA!$B2:$B77,\"PROPRIA\",MAMOGRAFIA!K2:K77)","v":10503},{"$f":"SUMIF(MAMOGRAFIA!$B2:$B77,\"PROPRIA\",MAMOGRAFIA!L2:L77)","v":10808},{"$f":"SUMIF(MAMOGRAFIA!$B2:$B77,\"PROPRIA\",MAMOGRAFIA!M2:M77)","v":50},{"$f":"SUMIF(MAMOGRAFIA!$B2:$B77,\"PROPRIA\",MAMOGRAFIA!N2:N77)","v":168},{"$f":"SUMIF(MAMOGRAFIA!$B2:$B77,\"PROPRIA\",MAMOGRAFIA!O2:O77)","v":356},{"$f":"SUMIF(MAMOGRAFIA!$B2:$B77,\"PROPRIA\",MAMOGRAFIA!P2:P77)","v":665},{"$f":"SUMIF(MAMOGRAFIA!$B2:$B77,\"PROPRIA\",MAMOGRAFIA!Q2:Q77)","v":1402},{"$f":"SUMIF(MAMOGRAFIA!$B2:$B77,\"PROPRIA\",MAMOGRAFIA!R2:R77)","v":2985},{"$f":"SUMIF(MAMOGRAFIA!$B2:$B77,\"PROPRIA\",MAMOGRAFIA!S2:S77)","v":511},{"$f":"SUMIF(MAMOGRAFIA!$B2:$B77,\"PROPRIA\",MAMOGRAFIA!T2:T77)","v":648},{"$f":"SUMIF(MAMOGRAFIA!$B2:$B77,\"PROPRIA\",MAMOGRAFIA!U2:U77)","v":2300},1.0700909577314071E-2,3.3399602385685886E-2,7.1629778672032199E-2,0.13393756294058409,0.27471343195845987,0.58489272068188503,9.4559585492227982E-2,0.11991117690599556,0.42561065877128051,{"$f":"METAS!N86","v":0.16},"BOM","ATINGIU"]
[7,"SOCORRO",{"$f":"SUMIF(MAMOGRAFIA!$B$2:$B$77,\"SOCORRO\",MAMOGRAFIA!$D$2:$D$77)","v":335353},{"$f":"SUMIF(MAMOGRAFIA!$B2:$B77,\"SOCORRO\",MAMOGRAFIA!F2:F77)","v":15964},{"$f":"SUMIF(MAMOGRAFIA!$B2:$B77,\"SOCORRO\",MAMOGRAFIA!G2:G77)","v":18289},{"$f":"SUMIF(MAMOGRAFIA!$B2:$B77,\"SOCORRO\",MAMOGRAFIA!H2:H77)","v":18507},{"$f":"SUMIF(MAMOGRAFIA!$B2:$B77,\"SOCORRO\",MAMOGRAFIA!I2:I77)","v":19345},{"$f":"SUMIF(MAMOGRAFIA!$B2:$B77,\"SOCORRO\",MAMOGRAFIA!J2:J77)","v":20372},{"$f":"SUMIF(MAMOGRAFIA!$B2:$B77,\"SOCORRO\",MAMOGRAFIA!K2:K77)","v":21466},{"$f":"SUMIF(MAMOGRAFIA!$B2:$B77,\"SOCORRO\",MAMOGRAFIA!L2:L77)","v":22575},{"$f":"SUMIF(MAMOGRAFIA!$B2:$B77,\"SOCORRO\",MAMOGRAFIA!M2:M77)","v":266},{"$f":"SUMIF(MAMOGRAFIA!$B2:$B77,\"SOCORRO\",MAMOGRAFIA!N2:N77)","v":471},{"$f":"SUMIF(MAMOGRAFIA!$B2:$B77,\"SOCORRO\",MAMOGRAFIA!O2:O77)","v":748},{"$f":"SUMIF(MAMOGRAFIA!$B2:$B77,\"SOCORRO\",MAMOGRAFIA!P2:P77)","v":1080},{"$f":"SUMIF(MAMOGRAFIA!$B2:$B77,\"SOCORRO\",MAMOGRAFIA!Q2:Q77)","v":729},{"$f":"SUMIF(MAMOGRAFIA!$B2:$B77,\"SOCORRO\",MAMOGRAFIA!R2:R77)","v":1329},{"$f":"SUMIF(MAMOGRAFIA!$B2:$B77,\"SOCORRO\",MAMOGRAFIA!S2:S77)","v":1728},{"$f":"SUMIF(MAMOGRAFIA!$B2:$B77,\"SOCORRO\",MAMOGRAFIA!T2:T77)","v":1911},{"$f":"SUMIF(MAMOGRAFIA!$B2:$B77,\"SOCORRO\",MAMOGRAFIA!U2:U77)","v":4057},3.3324981207717361E-2,5.1506369949149762E-2,8.0834278921489172E-2,0.11165675885241665,7.1568819948949536E-2,0.13047319850775574,0.15308970099667774,0.16930232558139535,0.35942414174972315,{"$f":"METAS!N87","v":0.16},"INSATISFATÓRIO","ATINGIU"]
[8,"SERGIPE",{"$f":"SUMIF(MAMOGRAFIA!$B$2:$B$77,\"SERGIPE\",MAMOGRAFIA!$D$2:$D$77)","v":2242948},{"$f":"SUMIF(MAMOGRAFIA!$B2:$B77,\"SERGIPE\",MAMOGRAFIA!F2:F77)","v":130562},{"$f":"SUMIF(MAMOGRAFIA!$B2:$B77,\"SERGIPE\",MAMOGRAFIA!G2:G77)","v":143442},{"$f":"SUMIF(MAMOGRAFIA!$B2:$B77,\"SERGIPE\",MAMOGRAFIA!H2:H77)","v":144976},{"$f":"SUMIF(MAMOGRAFIA!$B2:$B77,\"SERGIPE\",MAMOGRAFIA!I2:I77)","v":148914},{"$f":"SUMIF(MAMOGRAFIA!$B2:$B77,\"SERGIPE\",MAMOGRAFIA!J2:J77)","v":155086},{"$f":"SUMIF(MAMOGRAFIA!$B2:$B77,\"SERGIPE\",MAMOGRAFIA!K2:K77)","v":161458},{"$f":"SUMIF(MAMOGRAFIA!$B2:$B77,\"SERGIPE\",MAMOGRAFIA!L2:L77)","v":167956},{"$f":"SUMIF(MAMOGRAFIA!$B2:$B77,\"SERGIPE\",MAMOGRAFIA!M2:M77)","v":1323},{"$f":"SUMIF(MAMOGRAFIA!$B2:$B77,\"SERGIPE\",MAMOGRAFIA!N2:N77)","v":4869},{"$f":"SUMIF(MAMOGRAFIA!$B2:$B77,\"SERGIPE\",MAMOGRAFIA!O2:O77)","v":9671},{"$f":"SUMIF(MAMOGRAFIA!$B2:$B77,\"SERGIPE\",MAMOGRAFIA!P2:P77)","v":14374},{"$f":"SUMIF(MAMOGRAFIA!$B2:$B77,\"SERGIPE\",MAMOGRAFIA!Q2:Q77)","v":14333},{"$f":"SUMIF(MAMOGRAFIA!$B2:$B77,\"SERGIPE\",MAMOGRAFIA!R2:R77)","v":20982},{"$f":"SUMIF(MAMOGRAFIA!$B2:$B77,\"SERGIPE\",MAMOGRAFIA!S2:S77)","v":17550},{"$f":"SUMIF(MAMOGRAFIA!$B2:$B77,\"SERGIPE\",MAMOGRAFIA!T2:T77)","v":17075},{"$f":"SUMIF(MAMOGRAFIA!$B2:$B77,\"SERGIPE\",MAMOGRAFIA!U2:U77)","v":24594},2.0266233666763684E-2,6.7888066256744886E-2,0.13341518596181437,0.19305102273795613,0.18483937944108431,0.25990660109749902,0.20898330515134916,0.20332706184953203,0.29286241634713855,{"$f":"METAS!N77","v":0.22},"ALERTA","ATINGIU"]

{"sheet":"PARTO_NORMAL","index":108,"n_rows":99,"n_cols":36,"rows_kept":99,"cut":false,"hidden":true,"merged":[]}
["COD_MUNI","REGIÃO","MUNICÍPIO","POP 2015","NV 2008","NV 2009","NV 2010","NV 2011","NV 2012","NV 2013","NV 2014","NV 2015","NV 2016","NV 2017","PARTO VAGINAL 2008","PARTO VAGINAL 2009","PARTO VAGINAL 2010","PARTO VAGINAL 2011","PARTO VAGINAL 2012","PARTO VAGINAL 2013","PARTO VAGINAL 2014","PARTO VAGINAL 2015","PARTO VAGINAL 2016","PARTO VAGINAL 2017","%PARTO VAGINAL 2008","%PARTO VAGINAL 2009","%PARTO VAGINAL 2010","%PARTO VAGINAL 2011","%PARTO VAGINAL 2012","%PARTO VAGINAL 2013","%PARTO VAGINAL 2014","%PARTO VAGINAL 2015","%PARTO VAGINAL 2016","%PARTO VAGINAL 2017","META PACTUADA","SITUAÇÃO"]
[280010,"PROPRIA","AMPARO DE SAO FRANCISCO",2374,38,37,39,42,38,36,56,30,39,37,25,28,28,30,28,22,32,18,26,15,{"$f":"O2/E2*100","v":65.789473684210535},{"$f":"P2/F2*100","v":75.675675675675677},{"$f":"Q2/G2*100","v":71.794871794871796},{"$f":"R2/H2*100","v":71.428571428571431},{"$f":"S2/I2*100","v":73.68421052631578},{"$f":"T2/J2*100","v":61.111111111111114},{"$f":"U2/K2*100","v":57.142857142857139},{"$f":"V2/L2*100","v":60},{"$f":"W2/M2*100","v":66.666666666666657},{"$f":"X2/N2","v":0.40540540540540543},{"$f":"METAS!O2","v":0.65},{"$f":"IF(AH2>=AI2,\"ATINGIU\",\"NÃO ATINGIU\")","v":"NÃO ATINGIU"}]
[280020,"PROPRIA","AQUIDABA",21315,357,318,268,293,284,289,292,285,254,279,281,235,199,211,194,183,167,196,146,173,78.71148459383754,73.899371069182379,74.253731343283576,72.013651877133114,68.309859154929569,63.321799307958479,57.191780821917803,68.771929824561411,57.480314960629919,0.62007168458781359,{"$f":"METAS!O3","v":0.66},{"$f":"IF(AH3>=AI3,\"ATINGIU\",\"NÃO ATINGIU\")","v":"NÃO ATINGIU"}]
[280030,"ARACAJU","ARACAJU",632745,9627,9789,9370,9743,9376,9375,9587,9664,8867,8696,5488,5538,4888,4880,4538,4402,4395,4746,4419,4039,57.0063363456944,56.573705179282875,52.166488794023479,50.087242122549526,48.400170648464162,46.954666666666668,45.843329508709715,49.110099337748345,49.836472313070942,0.46446642134314625,{"$f":"METAS!O4","v":0.5},"NÃO ATINGIU"]
[280040,"ESTANCIA","ARAUA",10572,213,216,183,171,180,132,160,156,138,150,165,175,131,109,122,92,102,103,91,99,77.464788732394368,81.018518518518519,71.58469945355192,63.742690058479532,67.777777777777786,69.696969696969703,63.749999999999993,66.025641025641022,65.94202898550725,0.66,{"$f":"METAS!O5","v":0.66},"ATINGIU"]
[280050,"ITABAIANA","AREIA BRANCA",18169,332,283,285,301,287,260,282,302,244,262,234,196,208,189,185,164,177,210,151,181,70.481927710843379,69.257950530035345,72.982456140350877,62.790697674418603,64.459930313588856,63.076923076923073,62.765957446808507,69.536423841059602,61.885245901639344,0.69083969465648853,{"$f":"METAS!O6","v":0.66},"ATINGIU"]
[280060,"ARACAJU","BARRA DOS COQUEIROS",28679,460,418,396,438,457,485,465,564,495,483,313,302,275,280,269,281,245,320,291,271,68.043478260869563,72.248803827751189,69.444444444444443,63.926940639269404,58.862144420131287,57.938144329896915,52.688172043010752,56.737588652482273,58.787878787878789,0.56107660455486541,{"$f":"METAS!O7","v":0.65},"NÃO ATINGIU"]
[280067,"ESTANCIA","BOQUIM",26750,400,417,418,401,398,364,362,306,283,296,288,303,311,235,246,212,208,179,174,170,72,72.661870503597129,74.401913875598098,58.603491271820452,61.809045226130657,58.241758241758248,57.458563535911601,58.496732026143796,61.484098939929332,0.57432432432432434,{"$f":"METAS!O8","v":0.62},"NÃO ATINGIU"]
[280070,"PROPRIA","BREJO GRANDE",8218,163,128,146,143,137,122,131,125,134,127,140,113,107,118,107,92,86,84,97,77,85.889570552147248,88.28125,73.287671232876718,82.51748251748252,78.102189781021906,75.409836065573771,65.648854961832058,67.2,72.388059701492537,0.60629921259842523,{"$f":"METAS!O9","v":0.8},"NÃO ATINGIU"]
[280100,"ITABAIANA","CAMPO DO BRITO",17851,293,306,283,270,293,267,224,266,220,249,200,202,177,160,162,152,125,158,130,148,68.25938566552901,66.013071895424829,62.544169611307424,59.259259259259252,55.290102389078498,56.928838951310858,55.803571428571431,59.398496240601503,59.090909090909093,0.59437751004016059,{"$f":"METAS!O10","v":0.64},"NÃO ATINGIU"]
[280110,"PROPRIA","CANHOBA",4059,93,88,74,69,71,68,68,64,71,61,77,71,60,48,51,47,43,40,46,38,82.795698924731184,80.681818181818173,81.081081081081081,69.565217391304344,71.83098591549296,69.117647058823522,63.235294117647058,62.5,64.788732394366207,0.62295081967213117,{"$f":"METAS!O11","v":0.7},"NÃO ATINGIU"]
[280120,"GLORIA","CANINDE DE SAO FRANCISCO",28279,565,601,629,646,586,570,602,613,570,560,431,422,463,470,397,400,400,419,408,394,76.283185840707972,70.216306156405992,73.608903020667725,72.755417956656345,67.74744027303754,70.175438596491219,66.44518272425249,68.352365415986952,71.578947368421055,0.70357142857142863,{"$f":"METAS!O12","v":0.7},"ATINGIU"]
[280130,"SOCORRO","CAPELA",33378,568,573,533,576,619,582,579,565,517,534,428,438,389,412,421,387,363,377,349,338,75.352112676056336,76.439790575916234,72.983114446529086,71.527777777777786,68.012924071082395,66.494845360824741,62.694300518134717,66.725663716814154,67.504835589941976,0.63295880149812733,{"$f":"METAS!O13","v":0.68},"NÃO ATINGIU"]
[280140,"ITABAIANA","CARIRA",21487,341,340,331,367,310,292,320,339,251,288,241,253,229,234,198,182,195,219,180,178,70.674486803519059,74.411764705882348,69.184290030211486,63.760217983651224,63.87096774193548,62.328767123287676,60.9375,64.601769911504419,71.713147410358573,0.61805555555555558,{"$f":"METAS!O14","v":0.62},"NÃO ATINGIU"]
[280150,"SOCORRO","CARMOPOLIS",15621,256,269,256,299,301,281,316,299,262,278,159,152,145,172,158,136,156,176,152,145,62.109375,56.505576208178439,56.640625,57.525083612040127,52.49169435215947,48.398576512455513,49.367088607594937,58.862876254180605,58.015267175572518,0.52158273381294962,{"$f":"METAS!O15","v":0.65},"NÃO ATINGIU"]
[280160,"PROPRIA","CEDRO DE SAO JOAO",5890,105,67,73,65,74,71,79,90,75,72,66,52,50,37,35,32,31,35,20,24,62.857142857142854,77.611940298507463,68.493150684931507,56.92307692307692,47.297297297297298,45.070422535211272,39.24050632911392,38.888888888888893,26.666666666666668,0.33333333333333331,{"$f":"METAS!O16","v":0.61},"NÃO ATINGIU"]
[280170,"ESTANCIA","CRISTINAPOLIS",17911,307,299,330,353,308,304,317,304,301,298,237,228,239,252,202,185,190,205,182,190,77.198697068403916,76.254180602006699,72.424242424242422,71.388101983002827,65.584415584415595,60.855263157894733,59.936908517350162,67.43421052631578,60.465116279069761,0.63758389261744963,{"$f":"METAS!O17","v":0.65},"NÃO ATINGIU"]
[280190,"SOCORRO","CUMBE",3986,54,52,51,44,56,56,59,57,51,56,36,36,37,31,45,31,28,43,35,42,66.666666666666657,69.230769230769226,72.549019607843135,70.454545454545453,80.357142857142861,55.357142857142861,47.457627118644069,75.438596491228068,68.627450980392155,0.75,{"$f":"METAS!O18","v":0.65},"ATINGIU"]
[280200,"ARACAJU","DIVINA PASTORA",4889,100,73,68,78,81,72,81,73,62,70,79,58,51,57,56,48,51,47,38,53,79,79.452054794520549,75,73.076923076923066,69.135802469135797,66.666666666666657,62.962962962962962,64.38356164383562,61.29032258064516,0.75714285714285712,{"$f":"METAS!O19","v":0.65},"ATINGIU"]
[280210,"ESTANCIA","ESTANCIA",68407,1137,1138,1112,1165,1049,1071,1034,1088,1027,1069,818,768,745,697,611,597,545,610,591,585,71.943711521547939,67.486818980667834,66.996402877697847,59.828326180257505,58.245948522402294,55.742296918767508,52.707930367504844,56.066176470588239,57.546251217137289,0.54724041159962578,{"$f":"METAS!O20","v":0.65},"NÃO ATINGIU"]
[280220,"GLORIA","FEIRA NOVA",5571,87,99,88,87,78,78,104,110,84,91,64,72,63,64,51,54,65,73,47,60,73.563218390804593,72.727272727272734,71.590909090909093,73.563218390804593,65.384615384615387,69.230769230769226,62.5,66.363636363636374,55.952380952380956,0.65934065934065933,{"$f":"METAS!O21","v":0.69},"NÃO ATINGIU"]
[280230,"ITABAIANA","FREI PAULO",15044,239,236,235,239,242,236,242,211,208,235,166,164,158,137,142,143,141,121,128,140,69.456066945606693,69.491525423728817,67.234042553191486,57.322175732217573,58.677685950413228,60.593220338983059,58.264462809917347,57.345971563981045,61.53846153846154,0.5957446808510638,{"$f":"METAS!O22","v":0.65},"NÃO ATINGIU"]
[280240,"GLORIA","GARARU",11724,175,169,156,160,146,142,158,150,139,151,126,120,112,109,101,93,93,109,93,102,72,71.005917159763314,71.794871794871796,68.125,69.178082191780817,65.492957746478879,58.860759493670891,72.666666666666671,66.906474820143885,0.67549668874172186,{"$f":"METAS!O23","v":0.65},"ATINGIU"]
[280250,"SOCORRO","GENERAL MAYNARD",3230,39,42,39,37,46,40,33,36,41,48,25,25,30,18,27,21,20,19,25,31,64.102564102564102,59.523809523809526,76.923076923076934,48.648648648648653,58.695652173913047,52.5,60.606060606060609,52.777777777777779,60.975609756097562,0.64583333333333337,{"$f":"METAS!O24","v":0.63},"ATINGIU"]
[280260,"GLORIA","GRACHO CARDOSO",5846,74,92,84,69,90,83,68,83,88,76,51,51,57,53,59,57,47,54,62,46,68.918918918918919,55.434782608695656,67.857142857142861,76.811594202898547,65.555555555555557,68.674698795180717,69.117647058823522,65.060240963855421,70.454545454545453,0.60526315789473684,{"$f":"METAS!O25","v":0.7},"NÃO ATINGIU"]
[280270,"PROPRIA","ILHA DAS FLORES",8597,173,165,160,141,142,153,126,157,131,133,125,131,115,108,105,103,84,106,84,92,72.25433526011561,79.393939393939391,71.875,76.59574468085107,73.943661971830991,67.320261437908499,66.666666666666657,67.515923566878982,64.122137404580144,0.69172932330827064,{"$f":"METAS!O26","v":0.7},"NÃO ATINGIU"]
[280280,"ESTANCIA","INDIAROBA",17384,366,327,290,320,293,285,292,271,272,276,302,253,229,216,197,198,195,175,186,173,82.513661202185801,77.370030581039757,78.965517241379317,67.5,67.235494880546071,69.473684210526315,66.780821917808225,64.575645756457561,68.382352941176478,0.62681159420289856,{"$f":"METAS!O27","v":0.66},"NÃO ATINGIU"]
[280290,"ITABAIANA","ITABAIANA",93573,1631,1475,1478,1394,1412,1444,1465,1390,1271,1318,937,885,849,715,743,723,739,716,703,710,57.44941753525444,60,57.442489851150199,51.291248206599718,52.620396600566579,50.069252077562332,50.443686006825942,51.510791366906474,55.310778914240757,0.53869499241274654,{"$f":"METAS!O28","v":0.55000000000000004},"NÃO ATINGIU"]
[280300,"ESTANCIA","ITABAIANINHA",41405,770,600,695,706,647,637,663,638,608,600,576,440,493,483,434,397,413,398,383,357,74.805194805194802,73.333333333333329,70.935251798561154,68.413597733711057,67.07882534775888,62.323390894819461,62.29260935143288,62.382445141065837,62.993421052631582,0.59499999999999997,{"$f":"METAS!O29","v":0.63},"NÃO ATINGIU"]
[280310,"GLORIA","ITABI",5017,50,57,46,61,60,64,55,62,59,60,30,38,34,38,34,39,37,39,42,36,60,66.666666666666657,73.91304347826086,62.295081967213115,56.666666666666664,60.9375,67.272727272727266,62.903225806451616,71.186440677966104,0.6,{"$f":"METAS!O30","v":0.7},"NÃO ATINGIU"]
[280320,"ARACAJU","ITAPORANGA D'AJUDA",33320,605,566,564,565,562,508,562,530,542,549,489,452,431,422,424,357,401,392,383,373,80.826446280991732,79.858657243816253,76.418439716312065,74.690265486725664,75.444839857651246,70.275590551181097,71.35231316725978,73.962264150943398,70.664206642066418,0.67941712204007287,{"$f":"METAS!O31","v":0.71},"NÃO ATINGIU"]
[280330,"SOCORRO","JAPARATUBA",18286,265,278,276,319,252,259,289,284,219,246,196,202,177,214,152,159,174,170,140,150,73.962264150943398,72.661870503597129,64.130434782608688,67.084639498432594,60.317460317460316,61.389961389961393,60.207612456747405,59.859154929577464,63.926940639269404,0.6097560975609756,{"$f":"METAS!O32","v":0.64},"NÃO ATINGIU"]
[280340,"PROPRIA","JAPOATA",13245,262,220,219,253,225,216,211,234,198,196,202,161,166,188,164,138,115,138,123,116,77.099236641221367,73.181818181818187,75.799086757990864,74.308300395256921,72.888888888888886,63.888888888888886,54.502369668246445,58.974358974358978,62.121212121212125,0.59183673469387754,{"$f":"METAS!O33","v":0.63},"NÃO ATINGIU"]
[280350,"LAGARTO","LAGARTO",102259,1554,1397,1384,1421,1362,1400,1463,1487,1374,1504,1049,944,897,926,822,806,735,860,729,797,{"$f":"O34/E34*100","v":67.503217503217499},{"$f":"P34/F34*100","v":67.573371510379388},{"$f":"Q34/G34*100","v":64.812138728323703},{"$f":"R34/H34*100","v":65.165376495425747},{"$f":"S34/I34*100","v":60.352422907488986},{"$f":"T34/J34*100","v":57.571428571428577},{"$f":"U34/K34*100","v":50.239234449760758},{"$f":"V34/L34*100","v":57.83456624075319},{"$f":"W34/M34*100","v":53.056768558951958},{"$f":"X34/N34","v":0.52992021276595747},{"$f":"METAS!O34","v":0.6},"NÃO ATINGIU"]
[280360,"ARACAJU","LARANJEIRAS",29127,548,456,454,464,469,476,446,466,428,430,407,339,322,324,304,292,292,311,267,279,74.270072992700733,74.342105263157904,70.925110132158579,69.827586206896555,64.818763326226019,61.344537815126053,65.470852017937219,66.738197424892704,62.383177570093466,0.64883720930232558,{"$f":"METAS!O35","v":0.65},"NÃO ATINGIU"]
[280370,"ITABAIANA","MACAMBIRA",6823,95,99,94,86,116,97,119,125,96,69,60,66,61,53,60,52,65,68,57,35,63.157894736842103,66.666666666666657,64.893617021276597,61.627906976744185,51.724137931034484,53.608247422680414,54.621848739495796,54.400000000000006,59.375,0.50724637681159424,{"$f":"METAS!O36","v":0.55000000000000004},"NÃO ATINGIU"]
[280380,"PROPRIA","MALHADA DOS BOIS",3652,67,87,68,68,54,71,71,85,70,55,50,68,47,48,39,41,38,46,40,29,74.626865671641795,78.160919540229884,69.117647058823522,70.588235294117652,72.222222222222214,57.74647887323944,53.521126760563376,54.117647058823529,57.142857142857139,0.52727272727272723,{"$f":"METAS!O37","v":0.6},"NÃO ATINGIU"]
[280390,"ITABAIANA","MALHADOR",12601,229,191,198,169,174,166,180,199,181,170,147,135,134,98,94,81,112,118,116,96,64.192139737991269,70.680628272251312,67.676767676767682,57.988165680473372,54.022988505747129,48.795180722891565,62.222222222222221,59.2964824120603,64.088397790055254,0.56470588235294117,{"$f":"METAS!O38","v":0.64},"NÃO ATINGIU"]
[280400,"SOCORRO","MARUIM",17151,381,322,322,343,323,286,291,295,260,267,283,233,214,242,211,181,190,175,177,171,74.278215223097106,72.360248447204967,66.459627329192557,70.553935860058317,65.325077399380802,63.286713286713294,65.292096219931267,59.322033898305079,68.07692307692308,0.6404494382022472,{"$f":"METAS!O39","v":0.66},"NÃO ATINGIU"]
[280410,"ITABAIANA","MOITA BONITA",11399,167,146,172,135,157,146,140,132,116,103,122,87,113,76,87,82,82,70,72,65,73.053892215568865,59.589041095890416,65.697674418604649,56.296296296296298,55.414012738853501,56.164383561643838,58.571428571428577,53.030303030303031,62.068965517241381,0.6310679611650486,{"$f":"METAS!O40","v":0.65},"NÃO ATINGIU"]
[280420,"GLORIA","MONTE ALEGRE DE SERGIPE",14853,275,262,239,245,227,248,247,233,224,231,201,184,169,177,156,137,153,144,154,151,73.090909090909093,70.229007633587784,70.711297071129707,72.244897959183675,68.722466960352421,55.241935483870961,61.943319838056674,61.802575107296143,68.75,0.65367965367965364,{"$f":"METAS!O41","v":0.62},"ATINGIU"]
[280430,"PROPRIA","MURIBECA",7644,110,118,93,116,124,150,116,106,89,102,91,85,70,83,78,93,54,70,50,62,82.727272727272734,72.033898305084747,75.268817204301072,71.551724137931032,62.903225806451616,62,46.551724137931032,66.037735849056602,56.17977528089888,0.60784313725490191,{"$f":"METAS!O42","v":0.65},"NÃO ATINGIU"]
[280440,"PROPRIA","NEOPOLIS",18958,307,289,276,250,268,295,280,308,278,233,248,214,205,186,172,167,151,187,149,125,80.781758957654731,74.048442906574394,74.275362318840578,74.400000000000006,64.179104477611943,56.610169491525419,53.928571428571423,60.714285714285708,53.597122302158276,0.53648068669527893,{"$f":"METAS!O43","v":0.64500000000000002},"NÃO ATINGIU"]
[280445,"ITABAIANA","NOSSA SENHORA APARECIDA",8830,106,122,123,120,108,150,111,97,104,102,68,74,79,63,57,66,56,60,64,64,64.15094339622641,60.655737704918032,64.22764227642277,52.5,52.777777777777779,44,50.450450450450447,61.855670103092784,61.53846153846154,0.62745098039215685,{"$f":"METAS!O44","v":0.66},"NÃO ATINGIU"]
[280450,"GLORIA","NOSSA SENHORA DA GLORIA",35723,608,539,501,495,580,613,561,577,539,580,396,325,328,305,324,325,267,325,301,318,65.131578947368425,60.29684601113172,65.469061876247508,61.616161616161612,55.862068965517238,53.017944535073411,47.593582887700535,56.32582322357019,55.844155844155843,0.5482758620689655,{"$f":"METAS!O45","v":0.56999999999999995},"NÃO ATINGIU"]
[280460,"SOCORRO","NOSSA SENHORA DAS DORES",26237,417,418,362,387,360,386,360,396,319,327,311,309,241,266,236,239,223,228,200,204,74.580335731414877,73.923444976076553,66.574585635359114,68.73385012919897,65.555555555555557,61.917098445595855,61.944444444444443,57.575757575757578,62.695924764890286,0.62385321100917435,{"$f":"METAS!O46","v":0.66},"NÃO ATINGIU"]
[280470,"PROPRIA","NOSSA SENHORA DE LOURDES",6494,118,90,96,90,64,109,92,80,97,97,95,69,68,65,40,65,48,45,54,63,80.508474576271183,76.666666666666671,70.833333333333343,72.222222222222214,62.5,59.633027522935777,52.173913043478258,56.25,55.670103092783506,0.64948453608247425,{"$f":"METAS!O47","v":0.66},"NÃO ATINGIU"]
[280480,"SOCORRO","NOSSA SENHORA DO SOCORRO",177340,2957,2910,2720,2806,2840,2992,2927,3218,3068,3071,2060,2007,1781,1840,1710,1738,1820,1996,1893,1823,69.665201217450118,68.969072164948457,65.477941176470594,65.573770491803273,60.2112676056338,58.088235294117652,62.179706183805948,62.026103169670598,61.701434159061272,0.59361771409964181,{"$f":"METAS!O48","v":0.625},"NÃO ATINGIU"]
[280490,"PROPRIA","PACATUBA",14164,242,202,195,204,203,249,225,235,238,230,199,164,144,155,147,167,145,158,139,143,82.231404958677686,81.188118811881196,73.846153846153854,75.980392156862735,72.41379310344827,67.068273092369481,64.444444444444443,67.234042553191486,58.403361344537821,0.62173913043478257,{"$f":"METAS!O49","v":0.73},"NÃO ATINGIU"]
[280500,"ITABAIANA","PEDRA MOLE",3199,35,42,43,54,54,46,40,51,39,43,30,34,26,39,39,30,25,29,23,30,85.714285714285708,80.952380952380949,60.465116279069761,72.222222222222214,72.222222222222214,65.217391304347828,62.5,56.862745098039213,58.974358974358978,0.69767441860465118,{"$f":"METAS!O50","v":0.6},"ATINGIU"]
[280510,"ESTANCIA","PEDRINHAS",9455,138,146,108,106,130,115,106,125,117,122,102,95,79,72,79,68,71,79,77,72,73.91304347826086,65.06849315068493,73.148148148148152,67.924528301886795,60.769230769230766,59.130434782608695,66.981132075471692,63.2,65.811965811965806,0.5901639344262295,{"$f":"METAS!O51","v":0.65},"NÃO ATINGIU"]
[280520,"ITABAIANA","PINHAO",6439,96,95,103,92,102,94,109,89,72,75,70,65,69,62,69,59,65,54,49,42,72.916666666666657,68.421052631578945,66.990291262135926,67.391304347826093,67.64705882352942,62.765957446808507,59.633027522935777,60.674157303370791,68.055555555555557,0.56000000000000005,{"$f":"METAS!O52","v":0.65},"NÃO ATINGIU"]
[280530,"SOCORRO","PIRAMBU",9058,173,177,116,158,150,140,162,150,151,156,133,129,83,106,93,101,107,102,100,101,76.878612716763001,72.881355932203391,71.551724137931032,67.088607594936718,62,72.142857142857139,66.049382716049394,68,66.225165562913915,0.64743589743589747,{"$f":"METAS!O53","v":0.67},"NÃO ATINGIU"]
[280540,"GLORIA","POCO REDONDO",33756,568,554,547,528,530,507,485,518,480,533,418,420,415,393,383,341,310,367,344,374,73.591549295774655,75.812274368231044,75.868372943327245,74.431818181818173,72.264150943396217,67.258382642998029,63.917525773195869,70.849420849420852,71.666666666666671,0.70168855534709196,{"$f":"METAS!O54","v":0.65},"ATINGIU"]
[280550,"LAGARTO","POCO VERDE",23413,372,311,271,322,304,282,283,273,270,282,314,229,199,226,219,180,165,166,175,165,84.408602150537632,73.633440514469456,73.431734317343171,70.186335403726702,72.039473684210535,63.829787234042556,58.303886925795055,60.805860805860803,64.81481481481481,0.58510638297872342,{"$f":"METAS!O55","v":0.72799999999999998},"NÃO ATINGIU"]
[280560,"GLORIA","PORTO DA FOLHA",28497,483,436,487,443,453,420,412,416,350,377,342,302,341,314,296,272,243,263,230,220,70.807453416149073,69.266055045871553,70.020533880903486,70.880361173814904,65.342163355408388,64.761904761904759,58.980582524271838,63.221153846153847,65.714285714285708,0.58355437665782495,{"$f":"METAS!O56","v":0.65},"NÃO ATINGIU"]
[280570,"PROPRIA","PROPRIA",29657,502,458,406,454,439,476,463,439,474,488,364,311,268,315,270,269,191,238,234,236,72.509960159362549,67.903930131004358,66.009852216748769,69.383259911894271,61.503416856492031,56.512605042016808,41.252699784017274,54.214123006833717,49.367088607594937,0.48360655737704916,{"$f":"METAS!O57","v":0.55000000000000004},"NÃO ATINGIU"]
[280580,"LAGARTO","RIACHAO DO DANTAS",19976,351,304,319,318,305,325,276,266,250,245,298,241,252,230,222,208,193,180,177,161,84.900284900284902,79.276315789473685,78.996865203761757,72.327044025157221,72.786885245901644,64,69.927536231884062,67.669172932330824,70.8,0.65714285714285714,{"$f":"METAS!O58","v":0.67},"NÃO ATINGIU"]
[280590,"ARACAJU","RIACHUELO",10033,189,204,183,187,143,158,187,207,149,159,155,170,151,141,97,108,137,148,109,103,82.010582010582013,83.333333333333343,82.513661202185801,75.401069518716582,67.832167832167841,68.35443037974683,73.262032085561501,71.497584541062793,73.154362416107389,0.64779874213836475,{"$f":"METAS!O59","v":0.76},"NÃO ATINGIU"]
[280600,"ITABAIANA","RIBEIROPOLIS",18363,237,259,218,218,236,210,212,212,166,183,136,141,112,123,115,98,95,106,85,97,57.383966244725734,54.440154440154444,51.37614678899083,56.422018348623851,48.728813559322035,46.666666666666664,44.811320754716981,50,51.204819277108435,0.5300546448087432,{"$f":"METAS!O60","v":0.55000000000000004},"NÃO ATINGIU"]
[280610,"SOCORRO","ROSARIO DO CATETE",10367,177,173,185,184,171,181,175,158,195,177,119,116,122,112,90,114,106,100,121,101,67.2316384180791,67.052023121387279,65.945945945945951,60.869565217391312,52.631578947368418,62.983425414364632,60.571428571428577,63.291139240506332,62.051282051282051,0.57062146892655363,{"$f":"METAS!O61","v":0.65},"NÃO ATINGIU"]
[280620,"LAGARTO","SALGADO",20082,303,269,265,276,256,296,264,278,276,278,227,202,186,181,154,184,163,176,178,173,74.917491749174914,75.092936802973981,70.188679245283012,65.579710144927532,60.15625,62.162162162162161,61.742424242424242,63.309352517985609,64.492753623188406,0.62230215827338131,{"$f":"METAS!O62","v":0.63},"NÃO ATINGIU"]
[280630,"ESTANCIA","SANTA LUZIA DO ITANHY",13838,321,274,269,273,243,234,224,205,199,230,267,220,219,189,169,157,152,143,131,153,83.177570093457945,80.291970802919707,81.412639405204459,69.230769230769226,69.547325102880663,67.09401709401709,67.857142857142861,69.756097560975604,65.829145728643212,0.66521739130434787,{"$f":"METAS!O63","v":0.65},"ATINGIU"]
[280640,"PROPRIA","SANTANA DO SAO FRANCISCO",7607,123,106,136,116,105,125,110,121,106,113,97,79,99,79,69,70,63,65,57,44,78.861788617886177,74.528301886792448,72.794117647058826,68.103448275862064,65.714285714285708,56.000000000000007,57.272727272727273,53.719008264462808,53.773584905660378,0.38938053097345132,{"$f":"METAS!O64","v":0.66},"NÃO ATINGIU"]
[280650,"ARACAJU","SANTA ROSA DE LIMA",3912,50,63,62,70,62,66,88,61,72,66,40,51,47,56,40,46,59,42,53,39,80,80.952380952380949,75.806451612903231,80,64.516129032258064,69.696969696969703,67.045454545454547,68.852459016393439,73.611111111111114,0.59090909090909094,{"$f":"METAS!O65","v":0.65},"NÃO ATINGIU"]
[280660,"SOCORRO","SANTO AMARO DAS BROTAS",12024,210,203,189,191,213,201,191,182,175,159,161,148,140,131,125,123,114,108,123,108,{"$f":"O66/E66*100","v":76.666666666666671},{"$f":"P66/F66*100","v":72.906403940886705},{"$f":"Q66/G66*100","v":74.074074074074076},{"$f":"R66/H66*100","v":68.586387434554979},{"$f":"S66/I66*100","v":58.685446009389672},{"$f":"T66/J66*100","v":61.194029850746269},{"$f":"U66/K66*100","v":59.685863874345543},{"$f":"V66/L66*100","v":59.340659340659343},{"$f":"W66/M66*100","v":70.285714285714278},{"$f":"X66/N66","v":0.67924528301886788},{"$f":"METAS!O66","v":0.69},"NÃO ATINGIU"]
[280670,"ARACAJU","SAO CRISTOVAO",86979,1448,1342,1339,1374,1344,1326,1371,1514,1330,1257,1049,964,882,897,833,777,787,961,819,751,72.444751381215468,71.833084947839041,65.870052277819269,65.283842794759835,61.979166666666664,58.597285067873308,57.403355215171402,63.474240422721273,61.578947368421055,0.59745425616547332,{"$f":"METAS!O67","v":0.65},{"$f":"IF(AH67>=AI67,\"ATINGIU\",\"NÃO ATINGIU\")","v":"NÃO ATINGIU"}]
[280680,"ITABAIANA","SAO DOMINGOS",10971,167,135,148,154,159,138,130,160,128,150,117,93,102,84,91,86,66,90,96,95,70.05988023952095,68.888888888888886,68.918918918918919,54.54545454545454,57.232704402515722,62.318840579710141,50.769230769230766,56.25,75,0.6333333333333333,{"$f":"METAS!O68","v":0.66},"NÃO ATINGIU"]
[280690,"PROPRIA","SAO FRANCISCO",3851,50,39,46,46,49,44,63,53,44,54,40,25,31,32,40,26,33,29,23,28,80,64.102564102564102,67.391304347826093,69.565217391304344,81.632653061224488,59.090909090909093,52.380952380952387,54.716981132075468,52.272727272727273,0.51851851851851849,{"$f":"METAS!O69","v":0.66},"NÃO ATINGIU"]
[280700,"ITABAIANA","SAO MIGUEL DO ALEIXO",3902,58,51,63,67,52,65,54,52,43,49,32,31,44,43,27,38,35,27,27,30,55.172413793103445,60.784313725490193,69.841269841269835,64.179104477611943,51.923076923076927,58.461538461538467,64.81481481481481,51.923076923076927,62.790697674418603,0.61224489795918369,{"$f":"METAS!O70","v":0.7},"NÃO ATINGIU"]
[280710,"LAGARTO","SIMAO DIAS",40530,602,495,529,592,590,617,569,625,601,587,449,373,367,427,382,399,331,388,346,334,74.584717607973417,75.353535353535349,69.376181474480148,72.128378378378372,64.745762711864401,64.667747163695296,58.17223198594025,62.08,57.570715474209656,0.56899488926746167,{"$f":"METAS!O71","v":0.65},"NÃO ATINGIU"]
[280720,"SOCORRO","SIRIRI",8675,160,147,153,146,109,129,116,128,89,112,118,111,100,100,71,87,64,79,65,68,73.75,75.510204081632651,65.359477124183002,68.493150684931507,65.137614678899084,67.441860465116278,55.172413793103445,61.71875,73.033707865168537,0.6071428571428571,{"$f":"METAS!O72","v":0.66},"NÃO ATINGIU"]
[280730,"PROPRIA","TELHA",3171,51,57,35,46,57,52,51,46,35,54,35,49,25,40,39,31,24,29,21,32,68.627450980392155,85.964912280701753,71.428571428571431,86.956521739130437,68.421052631578945,59.615384615384613,47.058823529411761,63.04347826086957,60,0.59259259259259256,{"$f":"METAS!O73","v":0.6},"NÃO ATINGIU"]
[280740,"LAGARTO","TOBIAS BARRETO",51374,798,767,718,718,721,697,732,659,623,678,621,562,534,499,499,447,455,425,402,407,77.819548872180462,73.272490221642755,74.373259052924794,69.498607242339844,69.209431345353678,64.13199426111909,62.158469945355186,64.491654021244301,64.526484751203853,0.60029498525073743,{"$f":"METAS!O74","v":0.64},"NÃO ATINGIU"]
[280750,"ESTANCIA","TOMAR DO GERU",13200,214,201,224,206,205,194,181,192,175,189,159,157,168,139,136,129,116,126,92,112,74.299065420560751,78.109452736318403,75,67.475728155339809,66.341463414634148,66.494845360824741,64.088397790055254,65.625,52.571428571428569,0.59259259259259256,{"$f":"METAS!O75","v":0.67},"NÃO ATINGIU"]
[280760,"ESTANCIA","UMBAUBA",24542,441,420,410,386,405,419,409,364,409,389,320,308,314,267,271,287,259,223,258,244,72.562358276643991,73.333333333333329,76.585365853658544,69.170984455958546,66.913580246913583,68.496420047732698,63.325183374083124,61.26373626373627,63.080684596577022,0.62724935732647813,{"$f":"METAS!O76","v":0.7},"NÃO ATINGIU"]
[280000,"SERGIPE","SERGIPE",2242948,36643,35114,34044,34939,34116,34233,34374,34929,32220,32620,24995,23493,21894,21591,20113,19394,18923,20299,18802,18291,68.212209698987522,66.904938201287237,64.310891787099038,61.79627350525201,58.954742642748272,56.652937224315714,55.050328736835986,58.115033353373988,58.355058969584107,0.56072961373390562,{"$f":"METAS!O77","v":0.65},"NÃO ATINGIU"]
[]
[1,2,3,4,7,8,9,10,11,12,13,14,15,16,19,20,21,22,23,24,25,26,27,28,31,32,33,34,35,36,37,38,39,40,41,42]
[]
[]
["Fonte: DVE/SES-SE/SINASC/ATUALIZAÇÃO DO BANCO EM 10/01/18."]
["DADOS ATÉ DEZEMBRO 2017"]
[]
["[Opções]"]
["DEF=E:\\SUS\\Tabwin_SIM_E_SINASC\\tabdn\\NASCIDOWEB 2.def"]
["PATH=E:\\SUS\\Tabwin_SIM_E_SINASC\\tabdn\\DADOS\\*.dbc"]
["Linha=Munic Resid-SE"]
["Coluna=Ano do Nascimento"]
["Incremento=Freqüência"]
["Suprime_Linhas_Zeradas=false"]
["Suprime_Colunas_Zeradas=true"]
["Não_Classificados=0"]
["[Seleções_Ativas]"]
["Tipo de Parto: Vaginal"]
["[Arquivos]"]
["DN10012018.DBC"]
["Registros_Processados= 435036"]
["Tempo_Decorrido= 0:04"]

{"sheet":"PARTO_NORMAL_REG","index":109,"n_rows":9,"n_cols":35,"rows_kept":9,"cut":false,"hidden":true,"merged":[]}
["CÓD","REGIÃO","POP 2015","NV 2008","NV 2009","NV 2010","NV 2011","NV 2012","NV 2013","NV 2014","NV 2015","NV 2016","NV 2017","PARTO VAGINAL 2008","PARTO VAGINAL 2009","PARTO VAGINAL 2010","PARTO VAGINAL 2011","PARTO VAGINAL 2012","PARTO VAGINAL 2013","PARTO VAGINAL 2014","PARTO VAGINAL 2015","PARTO VAGINAL 2016","PARTO VAGINAL 2017","%PARTO VAGINAL 2008","%PARTO VAGINAL 2009","%PARTO VAGINAL 2010","%PARTO VAGINAL 2011","%PARTO VAGINAL 2012","%PARTO VAGINAL 2013","%PARTO VAGINAL 2014","%PARTO VAGINAL 2015","%PARTO VAGINAL 2016","%PARTO VAGINAL 2017","META","SITUAÇÃO"]
[1,"ARACAJU",{"$f":"SUMIF(PARTO_NORMAL!$B$2:$B$77,\"ARACAJU\",PARTO_NORMAL!D$2:D$77)","v":829684},{"$f":"SUMIF(PARTO_NORMAL!$B$2:$B$77,\"ARACAJU\",PARTO_NORMAL!E$2:E$77)","v":13027},{"$f":"SUMIF(PARTO_NORMAL!$B$2:$B$77,\"ARACAJU\",PARTO_NORMAL!F$2:F$77)","v":12911},{"$f":"SUMIF(PARTO_NORMAL!$B$2:$B$77,\"ARACAJU\",PARTO_NORMAL!G$2:G$77)","v":12436},{"$f":"SUMIF(PARTO_NORMAL!$B$2:$B$77,\"ARACAJU\",PARTO_NORMAL!H$2:H$77)","v":12919},{"$f":"SUMIF(PARTO_NORMAL!$B$2:$B$77,\"ARACAJU\",PARTO_NORMAL!I$2:I$77)","v":12494},{"$f":"SUMIF(PARTO_NORMAL!$B$2:$B$77,\"ARACAJU\",PARTO_NORMAL!J$2:J$77)","v":12466},{"$f":"SUMIF(PARTO_NORMAL!$B$2:$B$77,\"ARACAJU\",PARTO_NORMAL!K$2:K$77)","v":12787},{"$f":"SUMIF(PARTO_NORMAL!$B$2:$B$77,\"ARACAJU\",PARTO_NORMAL!L$2:L$77)","v":13079},{"$f":"SUMIF(PARTO_NORMAL!$B$2:$B$77,\"ARACAJU\",PARTO_NORMAL!M$2:M$77)","v":11945},{"$f":"SUMIF(PARTO_NORMAL!$B$2:$B$77,\"ARACAJU\",PARTO_NORMAL!N$2:N$77)","v":11710},{"$f":"SUMIF(PARTO_NORMAL!$B$2:$B$77,\"ARACAJU\",PARTO_NORMAL!O$2:O$77)","v":8020},{"$f":"SUMIF(PARTO_NORMAL!$B$2:$B$77,\"ARACAJU\",PARTO_NORMAL!P$2:P$77)","v":7874},{"$f":"SUMIF(PARTO_NORMAL!$B$2:$B$77,\"ARACAJU\",PARTO_NORMAL!Q$2:Q$77)","v":7047},{"$f":"SUMIF(PARTO_NORMAL!$B$2:$B$77,\"ARACAJU\",PARTO_NORMAL!R$2:R$77)","v":7057},{"$f":"SUMIF(PARTO_NORMAL!$B$2:$B$77,\"ARACAJU\",PARTO_NORMAL!S$2:S$77)","v":6561},{"$f":"SUMIF(PARTO_NORMAL!$B$2:$B$77,\"ARACAJU\",PARTO_NORMAL!T$2:T$77)","v":6311},{"$f":"SUMIF(PARTO_NORMAL!$B$2:$B$77,\"ARACAJU\",PARTO_NORMAL!U$2:U$77)","v":6367},{"$f":"SUMIF(PARTO_NORMAL!$B$2:$B$77,\"ARACAJU\",PARTO_NORMAL!V$2:V$77)","v":6967},{"$f":"SUMIF(PARTO_NORMAL!$B$2:$B$77,\"ARACAJU\",PARTO_NORMAL!W$2:W$77)","v":6379},{"$f":"SUMIF(PARTO_NORMAL!$B$2:$B$77,\"ARACAJU\",PARTO_NORMAL!X$2:X$77)","v":5908},{"$f":"N2/D2","v":0.61564443079757425},{"$f":"O2/E2","v":0.60986755479823407},0.56666130588613706,0.5462497097298552,0.52513206339042739,0.5062570190919301,0.49792758270118087,0.53268598516706167,0.53403097530347421,0.50452604611443208,{"$f":"METAS!O81","v":0.53369999999999995},{"$f":"IF(AG2>=AH2,\"ATINGIU\",\"NÃO ATINGIU\")","v":"NÃO ATINGIU"}]
[2,"ESTANCIA",{"$f":"SUMIF(PARTO_NORMAL!$B$2:$B$77,\"ESTANCIA\",PARTO_NORMAL!D$2:D$77)","v":243464},{"$f":"SUMIF(PARTO_NORMAL!$B$2:$B$77,\"ESTANCIA\",PARTO_NORMAL!E$2:E$77)","v":4307},{"$f":"SUMIF(PARTO_NORMAL!$B$2:$B$77,\"ESTANCIA\",PARTO_NORMAL!F$2:F$77)","v":4038},{"$f":"SUMIF(PARTO_NORMAL!$B$2:$B$77,\"ESTANCIA\",PARTO_NORMAL!G$2:G$77)","v":4039},{"$f":"SUMIF(PARTO_NORMAL!$B$2:$B$77,\"ESTANCIA\",PARTO_NORMAL!H$2:H$77)","v":4087},{"$f":"SUMIF(PARTO_NORMAL!$B$2:$B$77,\"ESTANCIA\",PARTO_NORMAL!I$2:I$77)","v":3858},{"$f":"SUMIF(PARTO_NORMAL!$B$2:$B$77,\"ESTANCIA\",PARTO_NORMAL!J$2:J$77)","v":3755},{"$f":"SUMIF(PARTO_NORMAL!$B$2:$B$77,\"ESTANCIA\",PARTO_NORMAL!K$2:K$77)","v":3748},{"$f":"SUMIF(PARTO_NORMAL!$B$2:$B$77,\"ESTANCIA\",PARTO_NORMAL!L$2:L$77)","v":3649},{"$f":"SUMIF(PARTO_NORMAL!$B$2:$B$77,\"ESTANCIA\",PARTO_NORMAL!M$2:M$77)","v":3529},{"$f":"SUMIF(PARTO_NORMAL!$B$2:$B$77,\"ESTANCIA\",PARTO_NORMAL!N$2:N$77)","v":3619},{"$f":"SUMIF(PARTO_NORMAL!$B$2:$B$77,\"ESTANCIA\",PARTO_NORMAL!O$2:O$77)","v":3234},{"$f":"SUMIF(PARTO_NORMAL!$B$2:$B$77,\"ESTANCIA\",PARTO_NORMAL!P$2:P$77)","v":2947},{"$f":"SUMIF(PARTO_NORMAL!$B$2:$B$77,\"ESTANCIA\",PARTO_NORMAL!Q$2:Q$77)","v":2928},{"$f":"SUMIF(PARTO_NORMAL!$B$2:$B$77,\"ESTANCIA\",PARTO_NORMAL!R$2:R$77)","v":2659},{"$f":"SUMIF(PARTO_NORMAL!$B$2:$B$77,\"ESTANCIA\",PARTO_NORMAL!S$2:S$77)","v":2467},{"$f":"SUMIF(PARTO_NORMAL!$B$2:$B$77,\"ESTANCIA\",PARTO_NORMAL!T$2:T$77)","v":2322},{"$f":"SUMIF(PARTO_NORMAL!$B$2:$B$77,\"ESTANCIA\",PARTO_NORMAL!U$2:U$77)","v":2251},{"$f":"SUMIF(PARTO_NORMAL!$B$2:$B$77,\"ESTANCIA\",PARTO_NORMAL!V$2:V$77)","v":2241},{"$f":"SUMIF(PARTO_NORMAL!$B$2:$B$77,\"ESTANCIA\",PARTO_NORMAL!W$2:W$77)","v":2165},{"$f":"SUMIF(PARTO_NORMAL!$B$2:$B$77,\"ESTANCIA\",PARTO_NORMAL!X$2:X$77)","v":2155},{"$f":"N3/D3","v":0.75087067564429999},0.72981674096087168,0.72493191384005939,0.65059946170785421,0.63945049248315189,0.61837549933422109,0.60058697972251862,0.61414086050972871,0.61348824029470106,0.59546836142580828,{"$f":"METAS!O82","v":0.61260000000000003},{"$f":"IF(AG3>=AH3,\"ATINGIU\",\"NÃO ATINGIU\")","v":"NÃO ATINGIU"}]
[3,"GLORIA",{"$f":"SUMIF(PARTO_NORMAL!$B$2:$B$77,\"GLORIA\",PARTO_NORMAL!D$2:D$77)","v":169266},{"$f":"SUMIF(PARTO_NORMAL!$B$2:$B$77,\"GLORIA\",PARTO_NORMAL!E$2:E$77)","v":2885},{"$f":"SUMIF(PARTO_NORMAL!$B$2:$B$77,\"GLORIA\",PARTO_NORMAL!F$2:F$77)","v":2809},{"$f":"SUMIF(PARTO_NORMAL!$B$2:$B$77,\"GLORIA\",PARTO_NORMAL!G$2:G$77)","v":2777},{"$f":"SUMIF(PARTO_NORMAL!$B$2:$B$77,\"GLORIA\",PARTO_NORMAL!H$2:H$77)","v":2734},{"$f":"SUMIF(PARTO_NORMAL!$B$2:$B$77,\"GLORIA\",PARTO_NORMAL!I$2:I$77)","v":2750},{"$f":"SUMIF(PARTO_NORMAL!$B$2:$B$77,\"GLORIA\",PARTO_NORMAL!J$2:J$77)","v":2725},{"$f":"SUMIF(PARTO_NORMAL!$B$2:$B$77,\"GLORIA\",PARTO_NORMAL!K$2:K$77)","v":2692},{"$f":"SUMIF(PARTO_NORMAL!$B$2:$B$77,\"GLORIA\",PARTO_NORMAL!L$2:L$77)","v":2762},{"$f":"SUMIF(PARTO_NORMAL!$B$2:$B$77,\"GLORIA\",PARTO_NORMAL!M$2:M$77)","v":2533},{"$f":"SUMIF(PARTO_NORMAL!$B$2:$B$77,\"GLORIA\",PARTO_NORMAL!N$2:N$77)","v":2659},{"$f":"SUMIF(PARTO_NORMAL!$B$2:$B$77,\"GLORIA\",PARTO_NORMAL!O$2:O$77)","v":2059},{"$f":"SUMIF(PARTO_NORMAL!$B$2:$B$77,\"GLORIA\",PARTO_NORMAL!P$2:P$77)","v":1934},{"$f":"SUMIF(PARTO_NORMAL!$B$2:$B$77,\"GLORIA\",PARTO_NORMAL!Q$2:Q$77)","v":1982},{"$f":"SUMIF(PARTO_NORMAL!$B$2:$B$77,\"GLORIA\",PARTO_NORMAL!R$2:R$77)","v":1923},{"$f":"SUMIF(PARTO_NORMAL!$B$2:$B$77,\"GLORIA\",PARTO_NORMAL!S$2:S$77)","v":1801},{"$f":"SUMIF(PARTO_NORMAL!$B$2:$B$77,\"GLORIA\",PARTO_NORMAL!T$2:T$77)","v":1718},{"$f":"SUMIF(PARTO_NORMAL!$B$2:$B$77,\"GLORIA\",PARTO_NORMAL!U$2:U$77)","v":1615},{"$f":"SUMIF(PARTO_NORMAL!$B$2:$B$77,\"GLORIA\",PARTO_NORMAL!V$2:V$77)","v":1793},{"$f":"SUMIF(PARTO_NORMAL!$B$2:$B$77,\"GLORIA\",PARTO_NORMAL!W$2:W$77)","v":1681},{"$f":"SUMIF(PARTO_NORMAL!$B$2:$B$77,\"GLORIA\",PARTO_NORMAL!X$2:X$77)","v":1701},0.71369150779896018,0.68850124599501605,0.71371984155563561,0.70336503291880026,0.65490909090909089,0.63045871559633027,0.59992570579494797,0.64916727009413466,0.66363995262534548,0.63971417826250465,{"$f":"METAS!O83","v":0.6631999999999999},"NÃO ATINGIU"]
[4,"ITABAIANA",{"$f":"SUMIF(PARTO_NORMAL!$B$2:$B$77,\"ITABAIANA\",PARTO_NORMAL!D$2:D$77)","v":248651},{"$f":"SUMIF(PARTO_NORMAL!$B$2:$B$77,\"ITABAIANA\",PARTO_NORMAL!E$2:E$77)","v":4026},{"$f":"SUMIF(PARTO_NORMAL!$B$2:$B$77,\"ITABAIANA\",PARTO_NORMAL!F$2:F$77)","v":3780},{"$f":"SUMIF(PARTO_NORMAL!$B$2:$B$77,\"ITABAIANA\",PARTO_NORMAL!G$2:G$77)","v":3774},{"$f":"SUMIF(PARTO_NORMAL!$B$2:$B$77,\"ITABAIANA\",PARTO_NORMAL!H$2:H$77)","v":3666},{"$f":"SUMIF(PARTO_NORMAL!$B$2:$B$77,\"ITABAIANA\",PARTO_NORMAL!I$2:I$77)","v":3702},{"$f":"SUMIF(PARTO_NORMAL!$B$2:$B$77,\"ITABAIANA\",PARTO_NORMAL!J$2:J$77)","v":3611},{"$f":"SUMIF(PARTO_NORMAL!$B$2:$B$77,\"ITABAIANA\",PARTO_NORMAL!K$2:K$77)","v":3628},{"$f":"SUMIF(PARTO_NORMAL!$B$2:$B$77,\"ITABAIANA\",PARTO_NORMAL!L$2:L$77)","v":3625},{"$f":"SUMIF(PARTO_NORMAL!$B$2:$B$77,\"ITABAIANA\",PARTO_NORMAL!M$2:M$77)","v":3139},{"$f":"SUMIF(PARTO_NORMAL!$B$2:$B$77,\"ITABAIANA\",PARTO_NORMAL!N$2:N$77)","v":3296},{"$f":"SUMIF(PARTO_NORMAL!$B$2:$B$77,\"ITABAIANA\",PARTO_NORMAL!O$2:O$77)","v":2560},{"$f":"SUMIF(PARTO_NORMAL!$B$2:$B$77,\"ITABAIANA\",PARTO_NORMAL!P$2:P$77)","v":2426},{"$f":"SUMIF(PARTO_NORMAL!$B$2:$B$77,\"ITABAIANA\",PARTO_NORMAL!Q$2:Q$77)","v":2361},{"$f":"SUMIF(PARTO_NORMAL!$B$2:$B$77,\"ITABAIANA\",PARTO_NORMAL!R$2:R$77)","v":2076},{"$f":"SUMIF(PARTO_NORMAL!$B$2:$B$77,\"ITABAIANA\",PARTO_NORMAL!S$2:S$77)","v":2069},{"$f":"SUMIF(PARTO_NORMAL!$B$2:$B$77,\"ITABAIANA\",PARTO_NORMAL!T$2:T$77)","v":1956},{"$f":"SUMIF(PARTO_NORMAL!$B$2:$B$77,\"ITABAIANA\",PARTO_NORMAL!U$2:U$77)","v":1978},{"$f":"SUMIF(PARTO_NORMAL!$B$2:$B$77,\"ITABAIANA\",PARTO_NORMAL!V$2:V$77)","v":2046},{"$f":"SUMIF(PARTO_NORMAL!$B$2:$B$77,\"ITABAIANA\",PARTO_NORMAL!W$2:W$77)","v":1881},{"$f":"SUMIF(PARTO_NORMAL!$B$2:$B$77,\"ITABAIANA\",PARTO_NORMAL!X$2:X$77)","v":1911},0.6358668653750621,0.64179894179894181,0.62559618441971387,0.56628477905073649,0.5588870880605078,0.54167820548324563,0.54520396912899671,0.5644137931034483,0.59923542529467988,0.57979368932038833,{"$f":"METAS!O84","v":0.59810000000000008},"NÃO ATINGIU"]
[5,"LAGARTO",{"$f":"SUMIF(PARTO_NORMAL!$B$2:$B$77,\"LAGARTO\",PARTO_NORMAL!D$2:D$77)","v":257634},{"$f":"SUMIF(PARTO_NORMAL!$B$2:$B$77,\"LAGARTO\",PARTO_NORMAL!E$2:E$77)","v":3980},{"$f":"SUMIF(PARTO_NORMAL!$B$2:$B$77,\"LAGARTO\",PARTO_NORMAL!F$2:F$77)","v":3543},{"$f":"SUMIF(PARTO_NORMAL!$B$2:$B$77,\"LAGARTO\",PARTO_NORMAL!G$2:G$77)","v":3486},{"$f":"SUMIF(PARTO_NORMAL!$B$2:$B$77,\"LAGARTO\",PARTO_NORMAL!H$2:H$77)","v":3647},{"$f":"SUMIF(PARTO_NORMAL!$B$2:$B$77,\"LAGARTO\",PARTO_NORMAL!I$2:I$77)","v":3538},{"$f":"SUMIF(PARTO_NORMAL!$B$2:$B$77,\"LAGARTO\",PARTO_NORMAL!J$2:J$77)","v":3617},{"$f":"SUMIF(PARTO_NORMAL!$B$2:$B$77,\"LAGARTO\",PARTO_NORMAL!K$2:K$77)","v":3587},{"$f":"SUMIF(PARTO_NORMAL!$B$2:$B$77,\"LAGARTO\",PARTO_NORMAL!L$2:L$77)","v":3588},{"$f":"SUMIF(PARTO_NORMAL!$B$2:$B$77,\"LAGARTO\",PARTO_NORMAL!M$2:M$77)","v":3394},{"$f":"SUMIF(PARTO_NORMAL!$B$2:$B$77,\"LAGARTO\",PARTO_NORMAL!N$2:N$77)","v":3574},{"$f":"SUMIF(PARTO_NORMAL!$B$2:$B$77,\"LAGARTO\",PARTO_NORMAL!O$2:O$77)","v":2958},{"$f":"SUMIF(PARTO_NORMAL!$B$2:$B$77,\"LAGARTO\",PARTO_NORMAL!P$2:P$77)","v":2551},{"$f":"SUMIF(PARTO_NORMAL!$B$2:$B$77,\"LAGARTO\",PARTO_NORMAL!Q$2:Q$77)","v":2435},{"$f":"SUMIF(PARTO_NORMAL!$B$2:$B$77,\"LAGARTO\",PARTO_NORMAL!R$2:R$77)","v":2489},{"$f":"SUMIF(PARTO_NORMAL!$B$2:$B$77,\"LAGARTO\",PARTO_NORMAL!S$2:S$77)","v":2298},{"$f":"SUMIF(PARTO_NORMAL!$B$2:$B$77,\"LAGARTO\",PARTO_NORMAL!T$2:T$77)","v":2224},{"$f":"SUMIF(PARTO_NORMAL!$B$2:$B$77,\"LAGARTO\",PARTO_NORMAL!U$2:U$77)","v":2042},{"$f":"SUMIF(PARTO_NORMAL!$B$2:$B$77,\"LAGARTO\",PARTO_NORMAL!V$2:V$77)","v":2195},{"$f":"SUMIF(PARTO_NORMAL!$B$2:$B$77,\"LAGARTO\",PARTO_NORMAL!W$2:W$77)","v":2007},{"$f":"SUMIF(PARTO_NORMAL!$B$2:$B$77,\"LAGARTO\",PARTO_NORMAL!X$2:X$77)","v":2037},0.74321608040201004,0.72001128986734408,0.69850831899024668,0.68247874965725253,0.64951950254381008,0.61487420514238322,0.56927794814608312,0.6117614269788183,0.59133765468473776,0.56994963626189143,{"$f":"METAS!O85","v":0.59219999999999995},"NÃO ATINGIU"]
[6,"PROPRIA",{"$f":"SUMIF(PARTO_NORMAL!$B$2:$B$77,\"PROPRIA\",PARTO_NORMAL!D$2:D$77)","v":158896},{"$f":"SUMIF(PARTO_NORMAL!$B$2:$B$77,\"PROPRIA\",PARTO_NORMAL!E$2:E$77)","v":2761},{"$f":"SUMIF(PARTO_NORMAL!$B$2:$B$77,\"PROPRIA\",PARTO_NORMAL!F$2:F$77)","v":2469},{"$f":"SUMIF(PARTO_NORMAL!$B$2:$B$77,\"PROPRIA\",PARTO_NORMAL!G$2:G$77)","v":2330},{"$f":"SUMIF(PARTO_NORMAL!$B$2:$B$77,\"PROPRIA\",PARTO_NORMAL!H$2:H$77)","v":2396},{"$f":"SUMIF(PARTO_NORMAL!$B$2:$B$77,\"PROPRIA\",PARTO_NORMAL!I$2:I$77)","v":2334},{"$f":"SUMIF(PARTO_NORMAL!$B$2:$B$77,\"PROPRIA\",PARTO_NORMAL!J$2:J$77)","v":2526},{"$f":"SUMIF(PARTO_NORMAL!$B$2:$B$77,\"PROPRIA\",PARTO_NORMAL!K$2:K$77)","v":2434},{"$f":"SUMIF(PARTO_NORMAL!$B$2:$B$77,\"PROPRIA\",PARTO_NORMAL!L$2:L$77)","v":2458},{"$f":"SUMIF(PARTO_NORMAL!$B$2:$B$77,\"PROPRIA\",PARTO_NORMAL!M$2:M$77)","v":2333},{"$f":"SUMIF(PARTO_NORMAL!$B$2:$B$77,\"PROPRIA\",PARTO_NORMAL!N$2:N$77)","v":2331},{"$f":"SUMIF(PARTO_NORMAL!$B$2:$B$77,\"PROPRIA\",PARTO_NORMAL!O$2:O$77)","v":2135},{"$f":"SUMIF(PARTO_NORMAL!$B$2:$B$77,\"PROPRIA\",PARTO_NORMAL!P$2:P$77)","v":1855},{"$f":"SUMIF(PARTO_NORMAL!$B$2:$B$77,\"PROPRIA\",PARTO_NORMAL!Q$2:Q$77)","v":1682},{"$f":"SUMIF(PARTO_NORMAL!$B$2:$B$77,\"PROPRIA\",PARTO_NORMAL!R$2:R$77)","v":1743},{"$f":"SUMIF(PARTO_NORMAL!$B$2:$B$77,\"PROPRIA\",PARTO_NORMAL!S$2:S$77)","v":1578},{"$f":"SUMIF(PARTO_NORMAL!$B$2:$B$77,\"PROPRIA\",PARTO_NORMAL!T$2:T$77)","v":1546},{"$f":"SUMIF(PARTO_NORMAL!$B$2:$B$77,\"PROPRIA\",PARTO_NORMAL!U$2:U$77)","v":1305},{"$f":"SUMIF(PARTO_NORMAL!$B$2:$B$77,\"PROPRIA\",PARTO_NORMAL!V$2:V$77)","v":1484},{"$f":"SUMIF(PARTO_NORMAL!$B$2:$B$77,\"PROPRIA\",PARTO_NORMAL!W$2:W$77)","v":1309},{"$f":"SUMIF(PARTO_NORMAL!$B$2:$B$77,\"PROPRIA\",PARTO_NORMAL!X$2:X$77)","v":1297},0.77327055414704815,0.75131632239773183,0.72188841201716736,0.72746243739565941,0.67609254498714655,0.61203483768804434,0.53615447822514384,0.60374288039056145,0.56108015430775826,0.55641355641355639,{"$f":"METAS!O86","v":0.56140000000000001},"NÃO ATINGIU"]
[7,"SOCORRO",{"$f":"SUMIF(PARTO_NORMAL!$B$2:$B$77,\"SOCORRO\",PARTO_NORMAL!D$2:D$77)","v":335353},{"$f":"SUMIF(PARTO_NORMAL!$B$2:$B$77,\"SOCORRO\",PARTO_NORMAL!E$2:E$77)","v":5657},{"$f":"SUMIF(PARTO_NORMAL!$B$2:$B$77,\"SOCORRO\",PARTO_NORMAL!F$2:F$77)","v":5564},{"$f":"SUMIF(PARTO_NORMAL!$B$2:$B$77,\"SOCORRO\",PARTO_NORMAL!G$2:G$77)","v":5202},{"$f":"SUMIF(PARTO_NORMAL!$B$2:$B$77,\"SOCORRO\",PARTO_NORMAL!H$2:H$77)","v":5490},{"$f":"SUMIF(PARTO_NORMAL!$B$2:$B$77,\"SOCORRO\",PARTO_NORMAL!I$2:I$77)","v":5440},{"$f":"SUMIF(PARTO_NORMAL!$B$2:$B$77,\"SOCORRO\",PARTO_NORMAL!J$2:J$77)","v":5533},{"$f":"SUMIF(PARTO_NORMAL!$B$2:$B$77,\"SOCORRO\",PARTO_NORMAL!K$2:K$77)","v":5498},{"$f":"SUMIF(PARTO_NORMAL!$B$2:$B$77,\"SOCORRO\",PARTO_NORMAL!L$2:L$77)","v":5768},{"$f":"SUMIF(PARTO_NORMAL!$B$2:$B$77,\"SOCORRO\",PARTO_NORMAL!M$2:M$77)","v":5347},{"$f":"SUMIF(PARTO_NORMAL!$B$2:$B$77,\"SOCORRO\",PARTO_NORMAL!N$2:N$77)","v":5431},{"$f":"SUMIF(PARTO_NORMAL!$B$2:$B$77,\"SOCORRO\",PARTO_NORMAL!O$2:O$77)","v":4029},{"$f":"SUMIF(PARTO_NORMAL!$B$2:$B$77,\"SOCORRO\",PARTO_NORMAL!P$2:P$77)","v":3906},{"$f":"SUMIF(PARTO_NORMAL!$B$2:$B$77,\"SOCORRO\",PARTO_NORMAL!Q$2:Q$77)","v":3459},{"$f":"SUMIF(PARTO_NORMAL!$B$2:$B$77,\"SOCORRO\",PARTO_NORMAL!R$2:R$77)","v":3644},{"$f":"SUMIF(PARTO_NORMAL!$B$2:$B$77,\"SOCORRO\",PARTO_NORMAL!S$2:S$77)","v":3339},{"$f":"SUMIF(PARTO_NORMAL!$B$2:$B$77,\"SOCORRO\",PARTO_NORMAL!T$2:T$77)","v":3317},{"$f":"SUMIF(PARTO_NORMAL!$B$2:$B$77,\"SOCORRO\",PARTO_NORMAL!U$2:U$77)","v":3365},{"$f":"SUMIF(PARTO_NORMAL!$B$2:$B$77,\"SOCORRO\",PARTO_NORMAL!V$2:V$77)","v":3573},{"$f":"SUMIF(PARTO_NORMAL!$B$2:$B$77,\"SOCORRO\",PARTO_NORMAL!W$2:W$77)","v":3380},{"$f":"SUMIF(PARTO_NORMAL!$B$2:$B$77,\"SOCORRO\",PARTO_NORMAL!X$2:X$77)","v":3282},0.71221495492310416,0.70201294033069739,0.66493656286043834,0.66375227686703098,0.61378676470588234,0.59949394541839873,0.61204074208803205,0.61945214979195562,0.63213016644847575,0.60430859878475418,{"$f":"METAS!O87","v":0.63159999999999994},"NÃO ATINGIU"]
[8,"SERGIPE",{"$f":"SUMIF(PARTO_NORMAL!$B$2:$B$77,\"SERGIPE\",PARTO_NORMAL!D$2:D$77)","v":2242948},{"$f":"SUMIF(PARTO_NORMAL!$B$2:$B$77,\"SERGIPE\",PARTO_NORMAL!E$2:E$77)","v":36643},{"$f":"SUMIF(PARTO_NORMAL!$B$2:$B$77,\"SERGIPE\",PARTO_NORMAL!F$2:F$77)","v":35114},{"$f":"SUMIF(PARTO_NORMAL!$B$2:$B$77,\"SERGIPE\",PARTO_NORMAL!G$2:G$77)","v":34044},{"$f":"SUMIF(PARTO_NORMAL!$B$2:$B$77,\"SERGIPE\",PARTO_NORMAL!H$2:H$77)","v":34939},{"$f":"SUMIF(PARTO_NORMAL!$B$2:$B$77,\"SERGIPE\",PARTO_NORMAL!I$2:I$77)","v":34116},{"$f":"SUMIF(PARTO_NORMAL!$B$2:$B$77,\"SERGIPE\",PARTO_NORMAL!J$2:J$77)","v":34233},{"$f":"SUMIF(PARTO_NORMAL!$B$2:$B$77,\"SERGIPE\",PARTO_NORMAL!K$2:K$77)","v":34374},{"$f":"SUMIF(PARTO_NORMAL!$B$2:$B$77,\"SERGIPE\",PARTO_NORMAL!L$2:L$77)","v":34929},{"$f":"SUMIF(PARTO_NORMAL!$B$2:$B$77,\"SERGIPE\",PARTO_NORMAL!M$2:M$77)","v":32220},{"$f":"SUMIF(PARTO_NORMAL!$B$2:$B$77,\"SERGIPE\",PARTO_NORMAL!N$2:N$77)","v":32620},{"$f":"SUMIF(PARTO_NORMAL!$B$2:$B$77,\"SERGIPE\",PARTO_NORMAL!O$2:O$77)","v":24995},{"$f":"SUMIF(PARTO_NORMAL!$B$2:$B$77,\"SERGIPE\",PARTO_NORMAL!P$2:P$77)","v":23493},{"$f":"SUMIF(PARTO_NORMAL!$B$2:$B$77,\"SERGIPE\",PARTO_NORMAL!Q$2:Q$77)","v":21894},{"$f":"SUMIF(PARTO_NORMAL!$B$2:$B$77,\"SERGIPE\",PARTO_NORMAL!R$2:R$77)","v":21591},{"$f":"SUMIF(PARTO_NORMAL!$B$2:$B$77,\"SERGIPE\",PARTO_NORMAL!S$2:S$77)","v":20113},{"$f":"SUMIF(PARTO_NORMAL!$B$2:$B$77,\"SERGIPE\",PARTO_NORMAL!T$2:T$77)","v":19394},{"$f":"SUMIF(PARTO_NORMAL!$B$2:$B$77,\"SERGIPE\",PARTO_NORMAL!U$2:U$77)","v":18923},{"$f":"SUMIF(PARTO_NORMAL!$B$2:$B$77,\"SERGIPE\",PARTO_NORMAL!V$2:V$77)","v":20299},{"$f":"SUMIF(PARTO_NORMAL!$B$2:$B$77,\"SERGIPE\",PARTO_NORMAL!W$2:W$77)","v":18802},{"$f":"SUMIF(PARTO_NORMAL!$B$2:$B$77,\"SERGIPE\",PARTO_NORMAL!X$2:X$77)","v":18291},0.68212209698987525,0.66904938201287234,0.64310891787099045,0.61796273505252008,0.5895474264274827,0.56652937224315714,0.55050328736835985,0.5811503335337399,0.58355058969584106,0.56072961373390562,{"$f":"METAS!O77","v":0.65},"NÃO ATINGIU"]

{"sheet":"MAES_ADOLESC","index":110,"n_rows":98,"n_cols":42,"rows_kept":98,"cut":false,"hidden":true,"merged":[]}
["CÓD IBGE","REGIÃO","MUNICIPIO","POP 2015","NV 2006","NV 2007","NV 2008","NV 2009","NV 2010","NV 2011","NV 2012","NV 2013","NV 2014","NV 2015","NV 2016","NV 2017"," NV MAES 10 A 19 2006"," NV MAES 10 A 19 2007"," NV MAES 10 A 19 2008"," NV MAES 10 A 19 2009"," NV MAES 10 A 19 2010"," NV MAES 10 A 19 2011"," NV MAES 10 A 19 2012"," NV MAES 10 A 19 2013"," NV MAES 10 A 19 2014"," NV MAES 10 A 19 2015"," NV MAES 10 A 19 2016"," NV MAES 10 A 19 2017"," %NV MAES 10 A 19 2006"," %NV MAES 10 A 19 2007"," %NV MAES 10 A 19 2008"," %NV MAES 10 A 19 2009"," %NV MAES 10 A 19 2010"," %NV MAES 10 A 19 2011"," %NV MAES 10 A 19 2012"," %NV MAES 10 A 19 2013"," %NV MAES 10 A 19 2014"," %NV MAES 10 A 19 2015"," %NV MAES 10 A 19 2016"," %NV MAES 10 A 19 2017","META","SITUAÇÃO 2017"]
[280010,"PROPRIA","AMPARO DE SÃO FRANCISCO",2374,34,33,38,37,39,42,38,36,56,30,39,37,5,11,8,7,9,14,12,4,9,7,6,9,{"$f":"Q2/E2*100","v":14.705882352941178},33.333333333333329,21.052631578947366,18.918918918918919,23.076923076923077,33.333333333333329,31.578947368421051,11.111111111111111,16.071428571428573,23.333333333333332,15.384615384615385,{"$f":"IFERROR(AB2/P2,\"0,00%\")","v":0.24324324324324326},{"$f":"METAS!P2","v":0.16219999999999998},{"$f":"IF(AN2<=AO2,\"ATINGIU\",\"NÃO ATINGIU\")","v":"NÃO ATINGIU"}]
[280020,"PROPRIA","AQUIDABÃ",21315,315,324,357,318,268,293,284,289,292,285,254,279,70,81,75,67,59,69,80,75,68,72,66,63,22.222222222222221,25,21.008403361344538,21.069182389937108,22.014925373134329,23.549488054607508,28.169014084507044,25.951557093425603,23.287671232876711,25.263157894736842,25.984251968503933,{"$f":"IFERROR(AB3/P3,\"0,00%\")","v":0.22580645161290322},{"$f":"METAS!P3","v":0.22},{"$f":"IF(AN3<=AO3,\"ATINGIU\",\"NÃO ATINGIU\")","v":"NÃO ATINGIU"}]
[280030,"ARACAJU","ARACAJU",632745,9504,9607,9627,9789,9370,9743,9376,9375,9587,9664,8867,8696,1596,1592,1548,1493,1449,1548,1556,1543,1549,1585,1377,1225,16.792929292929294,16.571250130113459,16.079775631037705,15.251813259781388,15.464247598719316,15.888330083136612,16.595563139931741,16.458666666666666,16.157296338792115,16.401076158940398,15.529491372504792,0.14086936522539098,{"$f":"METAS!P4","v":0.152},"ATINGIU"]
[280040,"ESTANCIA","ARAUÁ",10572,208,218,213,216,183,171,180,132,160,156,138,150,60,60,45,54,50,42,38,34,33,46,29,44,28.846153846153843,27.522935779816514,21.12676056338028,25,27.322404371584703,24.561403508771928,21.111111111111111,25.757575757575758,20.625,29.487179487179489,21.014492753623188,0.29333333333333333,{"$f":"METAS!P5","v":0.23},"NÃO ATINGIU"]
[280050,"ITABAIANA","AREIA BRANCA",18169,321,268,332,283,285,301,287,260,282,302,244,262,76,46,65,65,55,66,75,83,79,82,55,60,23.676012461059191,17.164179104477611,19.578313253012048,22.968197879858657,19.298245614035086,21.926910299003321,26.132404181184672,31.92307692307692,28.01418439716312,27.152317880794701,22.540983606557376,0.22900763358778625,{"$f":"METAS!P6","v":0.27},"ATINGIU"]
[280060,"ARACAJU","BARRA DOS COQUEIROS",28679,418,398,460,418,396,438,457,485,465,564,495,483,99,90,96,97,91,105,131,132,107,124,101,80,23.684210526315788,22.613065326633166,20.869565217391305,23.205741626794257,22.979797979797979,23.972602739726025,28.665207877461707,27.216494845360824,23.010752688172044,21.98581560283688,20.404040404040405,0.16563146997929606,{"$f":"METAS!P7","v":0.26},"ATINGIU"]
[280067,"ESTANCIA","BOQUIM",26750,491,407,400,417,418,401,398,364,362,306,283,296,85,91,83,90,87,97,87,76,70,64,58,50,17.311608961303463,22.358722358722357,20.75,21.582733812949641,20.813397129186605,24.189526184538654,21.859296482412059,20.87912087912088,19.337016574585636,20.915032679738562,20.49469964664311,0.16891891891891891,{"$f":"METAS!P8","v":0.21},"ATINGIU"]
[280070,"PROPRIA","BREJO GRANDE",8218,154,152,163,128,146,143,137,122,131,125,134,127,58,56,58,37,46,59,47,40,53,38,46,37,37.662337662337663,36.84210526315789,35.582822085889568,28.90625,31.506849315068493,41.25874125874126,34.306569343065696,32.786885245901637,40.458015267175576,30.4,34.328358208955223,0.29133858267716534,{"$f":"METAS!P9","v":0.24489999999999998},"NÃO ATINGIU"]
[280100,"ITABAIANA","CAMPO DO BRITO",17851,294,302,293,306,283,270,293,267,224,266,220,249,70,71,55,62,61,58,68,59,64,55,60,56,23.809523809523807,23.509933774834437,18.771331058020476,20.261437908496731,21.554770318021202,21.481481481481481,23.208191126279864,22.09737827715356,28.571428571428569,20.676691729323306,27.27272727272727,0.22489959839357429,{"$f":"METAS!P10","v":0.2},"NÃO ATINGIU"]
[280110,"PROPRIA","CANHOBA",4059,101,79,93,88,74,69,71,68,68,64,71,61,25,26,22,24,27,14,19,21,17,16,19,13,24.752475247524753,32.911392405063289,23.655913978494624,27.27272727272727,36.486486486486484,20.289855072463769,26.760563380281688,30.882352941176471,25,25,26.760563380281688,0.21311475409836064,{"$f":"METAS!P11","v":0.25},"ATINGIU"]
[280120,"GLORIA","CANINDÉ DE SÃO FRANCISCO",28279,577,592,565,601,629,646,586,570,602,613,570,560,158,154,151,155,167,172,161,152,151,173,173,148,27.383015597920281,26.013513513513516,26.725663716814157,25.79034941763727,26.550079491255964,26.625386996904027,27.474402730375424,26.666666666666668,25.083056478405314,28.221859706362153,30.350877192982455,0.26428571428571429,{"$f":"METAS!P12","v":0.26},"NÃO ATINGIU"]
[280130,"SOCORRO","CAPELA",33378,560,561,568,573,533,576,619,582,579,565,517,534,156,154,151,136,115,161,159,163,159,167,134,121,27.857142857142858,27.450980392156865,26.58450704225352,23.734729493891798,21.575984990619137,27.951388888888889,25.68659127625202,28.006872852233677,27.461139896373055,29.557522123893804,25.918762088974855,0.22659176029962547,{"$f":"METAS!P13","v":0.26200000000000001},"ATINGIU"]
[280140,"ITABAIANA","CARIRA",21487,370,345,341,340,331,367,310,292,320,339,251,288,80,68,65,74,78,81,65,70,75,74,60,64,21.621621621621621,19.710144927536234,19.061583577712611,21.764705882352942,23.564954682779458,22.070844686648503,20.967741935483872,23.972602739726025,23.4375,21.828908554572273,23.904382470119522,0.22222222222222221,{"$f":"METAS!P14","v":0.21},"NÃO ATINGIU"]
[280150,"SOCORRO","CARMÓPOLIS",15621,271,241,256,269,256,299,301,281,316,299,262,278,67,49,57,49,54,67,83,64,70,82,63,65,24.723247232472325,20.331950207468878,22.265625,18.21561338289963,21.09375,22.408026755852841,27.574750830564781,22.77580071174377,22.151898734177212,27.424749163879596,24.045801526717558,0.23381294964028776,{"$f":"METAS!P15","v":0.25},"ATINGIU"]
[280160,"PROPRIA","CEDRO DE SÃO JOÃO",5890,103,109,105,67,73,65,74,71,79,90,75,72,32,25,35,17,19,15,15,13,24,21,14,18,31.067961165048541,22.935779816513762,33.333333333333329,25.373134328358208,26.027397260273972,23.076923076923077,20.27027027027027,18.30985915492958,30.37974683544304,23.333333333333332,18.666666666666668,0.25,{"$f":"METAS!P16","v":0.17},"NÃO ATINGIU"]
[280170,"ESTANCIA","CRISTINÁPOLIS",17911,376,331,307,299,330,353,308,304,317,304,301,298,110,73,80,66,90,86,77,89,73,73,76,71,29.25531914893617,22.054380664652566,26.058631921824105,22.073578595317723,27.27272727272727,24.362606232294617,25,29.276315789473685,23.028391167192432,24.013157894736842,25.249169435215947,0.23825503355704697,{"$f":"METAS!P17","v":0.26500000000000001},"ATINGIU"]
[280190,"SOCORRO","CUMBE",3986,55,53,54,52,51,44,56,56,59,57,51,56,12,10,15,11,13,12,12,11,13,18,12,15,21.818181818181817,18.867924528301888,27.777777777777779,21.153846153846153,25.490196078431371,27.27272727272727,21.428571428571427,19.642857142857142,22.033898305084744,31.578947368421051,23.52941176470588,0.26785714285714285,{"$f":"METAS!P18","v":0.2},"NÃO ATINGIU"]
[280200,"ARACAJU","DIVINA PASTORA",4889,91,76,100,73,68,78,81,72,81,73,62,70,23,14,23,19,7,24,19,19,20,17,13,19,25.274725274725274,18.421052631578945,23,26.027397260273972,10.294117647058822,30.76923076923077,23.456790123456788,26.388888888888889,24.691358024691358,23.287671232876711,20.967741935483872,0.27142857142857141,{"$f":"METAS!P19","v":0.23},"NÃO ATINGIU"]
[280210,"ESTANCIA","ESTÂNCIA",68407,1200,1153,1137,1138,1112,1165,1049,1071,1034,1088,1027,1069,261,294,257,207,238,271,198,253,243,254,218,226,21.75,25.498699045967044,22.603342128408091,18.189806678383128,21.402877697841728,23.261802575107296,18.875119161105815,23.622782446311856,23.500967117988395,23.34558823529412,21.226874391431352,0.21141253507951357,{"$f":"METAS!P20","v":0.23},"ATINGIU"]
[280220,"GLORIA","FEIRA NOVA",5571,115,97,87,99,88,87,78,78,104,110,84,91,36,28,17,31,20,22,16,20,28,28,28,28,31.304347826086961,28.865979381443296,19.540229885057471,31.313131313131315,22.727272727272727,25.287356321839084,20.512820512820511,25.641025641025639,26.923076923076923,25.454545454545453,33.333333333333329,0.30769230769230771,{"$f":"METAS!P21","v":0.25},"NÃO ATINGIU"]
[280230,"ITABAIANA","FREI PAULO",15044,239,231,239,236,235,239,242,236,242,211,208,235,42,59,45,51,50,56,53,47,68,56,52,37,17.573221757322173,25.541125541125542,18.828451882845187,21.610169491525426,21.276595744680851,23.430962343096233,21.900826446280991,19.915254237288135,28.099173553719009,26.540284360189574,25,0.1574468085106383,{"$f":"METAS!P22","v":0.2},"ATINGIU"]
[280240,"GLORIA","GARARU",11724,207,184,175,169,156,160,146,142,158,150,139,151,49,38,40,34,32,32,25,33,35,40,34,32,23.671497584541061,20.652173913043477,22.857142857142858,20.118343195266274,20.512820512820511,20,17.123287671232877,23.239436619718308,22.151898734177212,26.666666666666668,24.46043165467626,0.2119205298013245,{"$f":"METAS!P23","v":0.2238},"ATINGIU"]
[280250,"SOCORRO","GENERAL MAYNARD",3230,32,33,39,42,39,37,46,40,33,36,41,48,7,2,9,10,10,8,7,7,5,5,9,12,21.875,6.0606060606060606,23.076923076923077,23.809523809523807,25.641025641025639,21.621621621621621,15.217391304347828,17.5,15.151515151515152,13.888888888888889,21.951219512195124,0.25,{"$f":"METAS!P24","v":0.21429999999999999},"NÃO ATINGIU"]
[280260,"GLORIA","GRACHO CARDOSO",5846,109,90,74,92,84,69,90,83,68,83,88,76,28,18,16,18,17,17,22,20,17,13,15,15,25.688073394495415,20,{"$f":"S25/G25*100","v":21.621621621621621},19.565217391304348,20.238095238095237,24.637681159420293,24.444444444444443,24.096385542168676,25,15.66265060240964,17.045454545454543,0.19736842105263158,{"$f":"METAS!P25","v":0.23},"ATINGIU"]
[280270,"PROPRIA","ILHA DAS FLORES",8597,171,159,173,165,160,141,142,153,126,157,131,133,53,51,55,46,43,41,40,56,46,44,43,46,{"$f":"Q26/E26*100","v":30.994152046783626},32.075471698113205,31.79190751445087,27.878787878787882,26.875,29.078014184397162,28.169014084507044,36.601307189542482,36.507936507936506,28.02547770700637,32.824427480916029,0.34586466165413532,{"$f":"METAS!P26","v":0.25},"NÃO ATINGIU"]
[280280,"ESTANCIA","INDIAROBA",17384,379,369,366,327,290,320,293,285,292,271,272,276,102,93,93,77,59,78,61,66,69,60,67,77,26.912928759894463,25.203252032520325,25.409836065573771,23.547400611620795,20.344827586206897,24.375,20.819112627986346,23.157894736842106,23.63013698630137,22.140221402214021,24.632352941176471,0.27898550724637683,{"$f":"METAS!P27","v":0.25},"NÃO ATINGIU"]
[280290,"ITABAIANA","ITABAIANA",93573,1515,1516,1631,1475,1478,1394,1412,1444,1465,1390,1271,1318,296,291,308,279,265,248,249,300,276,256,264,253,19.537953795379536,19.195250659630606,18.884120171673821,18.915254237288135,17.929634641407308,17.790530846484938,17.634560906515581,20.775623268698059,18.839590443686006,18.417266187050359,20.771046420141619,0.19195751138088013,{"$f":"METAS!P28","v":0.2},"ATINGIU"]
[280300,"ESTANCIA","ITABAIANINHA",41405,746,768,770,600,695,706,647,637,663,638,608,600,171,172,167,146,168,167,161,158,149,162,112,145,22.922252010723859,22.395833333333336,21.688311688311686,24.333333333333336,24.172661870503596,23.654390934844194,24.884080370942812,24.803767660910516,22.473604826546005,25.391849529780565,18.421052631578945,0.24166666666666667,{"$f":"METAS!P29","v":0.2},"NÃO ATINGIU"]
[280310,"GLORIA","ITABI",5017,66,77,50,57,46,61,60,64,55,62,59,60,11,16,10,15,15,12,10,19,14,13,10,16,16.666666666666664,20.779220779220779,20,26.315789473684209,32.608695652173914,19.672131147540984,16.666666666666664,29.6875,25.454545454545453,20.967741935483872,16.949152542372879,0.26666666666666666,{"$f":"METAS!P30","v":0.23},"NÃO ATINGIU"]
[280320,"ARACAJU","ITAPORANGA D'AJUDA",33320,611,570,605,566,564,565,562,508,562,530,542,549,155,143,142,129,135,146,140,134,148,141,145,123,25.368248772504092,25.087719298245613,23.471074380165287,22.791519434628977,23.936170212765958,25.840707964601773,24.911032028469752,26.377952755905511,26.334519572953734,26.60377358490566,26.752767527675275,0.22404371584699453,{"$f":"METAS!P31","v":0.26},"ATINGIU"]
[280330,"SOCORRO","JAPARATUBA",18286,299,243,265,278,276,319,252,259,289,284,219,246,81,73,64,67,59,80,52,70,73,70,41,59,27.090301003344479,30.041152263374489,24.150943396226417,24.100719424460433,21.376811594202898,25.078369905956109,20.634920634920633,27.027027027027028,25.259515570934255,24.647887323943664,18.721461187214611,0.23983739837398374,{"$f":"METAS!P32","v":0.18},"NÃO ATINGIU"]
[280340,"PROPRIA","JAPOATÃ",13245,288,242,262,220,219,253,225,216,211,234,198,196,72,63,80,53,69,69,47,58,58,61,59,49,25,26.033057851239672,30.534351145038169,24.09090909090909,31.506849315068493,27.27272727272727,20.888888888888889,26.851851851851855,27.488151658767773,26.068376068376072,29.797979797979796,0.25,{"$f":"METAS!P33","v":0.3},"ATINGIU"]
[280350,"LAGARTO","LAGARTO",102259,1715,1603,1554,1397,1384,1421,1362,1400,1463,1487,1374,1504,345,342,319,276,288,272,296,291,337,342,290,290,20.11661807580175,21.334996880848408,20.527670527670526,19.75662133142448,20.809248554913296,19.141449683321603,21.73274596182085,20.785714285714285,23.034859876965143,22.999327505043713,21.106259097525474,0.19281914893617022,{"$f":"METAS!P34","v":0.22},"ATINGIU"]
[280360,"ARACAJU","LARANJEIRAS",29127,502,516,548,456,454,464,469,476,446,466,428,430,142,118,126,111,104,111,127,131,113,123,95,111,28.286852589641438,22.868217054263564,22.992700729927009,24.342105263157894,22.907488986784141,23.922413793103448,27.078891257995735,27.521008403361346,25.336322869955158,26.394849785407725,22.196261682242991,0.25813953488372093,{"$f":"METAS!P35","v":0.2},"NÃO ATINGIU"]
[280370,"ITABAIANA","MACAMBIRA",6823,142,119,95,99,94,86,116,97,119,125,96,69,35,22,20,13,20,21,23,23,27,36,17,18,24.647887323943664,18.487394957983195,21.052631578947366,13.131313131313133,21.276595744680851,24.418604651162788,19.827586206896552,23.711340206185564,22.689075630252102,28.799999999999997,17.708333333333336,0.2608695652173913,{"$f":"METAS!P36","v":0.17},"NÃO ATINGIU"]
[280380,"PROPRIA","MALHADA DOS BOIS",3652,74,80,67,87,68,68,54,71,71,85,70,55,19,25,17,8,15,10,12,22,16,22,21,11,25.675675675675674,31.25,25.373134328358208,9.1954022988505741,22.058823529411764,14.705882352941178,22.222222222222221,30.985915492957744,22.535211267605636,25.882352941176475,30,0.2,{"$f":"METAS!P37","v":0.23},"ATINGIU"]
[280390,"ITABAIANA","MALHADOR",12601,228,211,229,191,198,169,174,166,180,199,181,170,59,57,48,51,46,49,54,48,45,48,54,46,25.877192982456144,27.014218009478675,20.960698689956331,26.701570680628272,23.232323232323232,28.994082840236686,31.03448275862069,28.915662650602407,25,24.120603015075375,29.834254143646412,0.27058823529411763,{"$f":"METAS!P38","v":0.25},"NÃO ATINGIU"]
[280400,"SOCORRO","MARUIM",17151,344,293,381,322,322,343,323,286,291,295,260,267,76,72,111,80,77,87,75,69,87,64,69,60,22.093023255813954,24.573378839590443,29.133858267716533,24.844720496894411,23.913043478260871,25.364431486880466,23.219814241486066,24.125874125874127,29.896907216494846,21.694915254237287,26.53846153846154,0.2247191011235955,{"$f":"METAS!P39","v":0.23649999999999999},"ATINGIU"]
[280410,"ITABAIANA","MOITA BONITA",11399,160,157,167,146,172,135,157,146,140,132,116,103,27,18,31,24,27,15,27,22,22,21,16,20,16.875,11.464968152866243,18.562874251497004,16.43835616438356,15.697674418604651,11.111111111111111,17.197452229299362,15.068493150684931,15.714285714285714,15.909090909090908,13.793103448275861,0.1941747572815534,{"$f":"METAS!P40","v":0.17},"NÃO ATINGIU"]
[280420,"GLORIA","MONTE ALEGRE DE SERGIPE",14853,295,286,275,262,239,245,227,248,247,233,224,231,71,69,70,55,50,53,52,57,73,60,57,45,24.067796610169491,24.125874125874127,25.454545454545453,20.992366412213741,20.920502092050206,21.632653061224492,22.907488986784141,22.983870967741936,29.554655870445345,25.751072961373389,25.446428571428569,0.19480519480519481,{"$f":"METAS!P41","v":0.2545},"ATINGIU"]
[280430,"PROPRIA","MURIBECA",7644,119,110,110,118,93,116,124,150,116,106,89,102,35,21,28,28,28,27,29,37,34,27,23,22,29.411764705882355,19.090909090909093,25.454545454545453,23.728813559322035,30.107526881720432,23.275862068965516,23.387096774193548,24.666666666666668,29.310344827586203,25.471698113207548,25.842696629213485,0.21568627450980393,{"$f":"METAS!P42","v":0.22},"ATINGIU"]
[280440,"PROPRIA","NEÓPOLIS",18958,354,238,307,289,276,250,268,295,280,308,278,233,98,79,78,71,79,69,63,66,84,85,84,62,27.683615819209038,33.193277310924366,25.407166123778502,24.567474048442904,28.623188405797102,27.6,23.507462686567166,22.372881355932204,30,27.597402597402599,30.215827338129497,0.26609442060085836,{"$f":"METAS!P43","v":0.26789999999999997},"ATINGIU"]
[280445,"ITABAIANA","NOSSA SENHORA APARECIDA",8830,139,114,106,122,123,120,108,150,111,97,104,102,25,20,16,27,18,17,19,24,14,12,15,19,17.985611510791365,17.543859649122805,15.09433962264151,22.131147540983605,14.634146341463413,14.166666666666666,17.592592592592592,16,12.612612612612612,12.371134020618557,14.423076923076922,0.18627450980392157,{"$f":"METAS!P44","v":0.18},"NÃO ATINGIU"]
[280450,"GLORIA","NOSSA SENHORA DA GLÓRIA",35723,600,600,608,539,501,495,580,613,561,577,539,580,163,148,142,106,113,109,141,135,133,144,131,126,27.166666666666668,24.666666666666668,23.355263157894736,19.666048237476808,22.554890219560878,22.020202020202021,24.310344827586206,22.022838499184338,23.707664884135475,24.956672443674176,24.304267161410017,0.21724137931034482,{"$f":"METAS!P45","v":0.23749999999999999},"ATINGIU"]
[280460,"SOCORRO","NOSSA SENHORA DAS DORES",26237,426,477,417,418,362,387,360,386,360,396,319,327,93,112,85,90,65,103,77,101,96,102,77,66,21.830985915492956,23.480083857442349,20.38369304556355,21.5311004784689,17.955801104972377,26.614987080103358,21.388888888888889,26.165803108808287,26.666666666666668,25.757575757575758,24.137931034482758,0.20183486238532111,{"$f":"METAS!P46","v":0.26},"ATINGIU"]
[280470,"PROPRIA","NOSSA SENHORA DE LOURDES",6494,120,97,118,90,96,90,64,109,92,80,97,97,26,25,25,11,26,21,8,27,24,21,25,23,21.666666666666668,25.773195876288657,21.1864406779661,12.222222222222221,27.083333333333332,23.333333333333332,12.5,24.770642201834864,26.086956521739129,26.25,25.773195876288657,0.23711340206185566,{"$f":"METAS!P47","v":0.27},"ATINGIU"]
[280480,"SOCORRO","NOSSA SENHORA DO SOCORRO",177340,3056,2781,2957,2910,2720,2806,2840,2992,2927,3218,3068,3071,727,595,648,635,586,632,645,683,706,726,678,641,23.789267015706805,21.395181589356348,21.914102130537707,21.821305841924399,21.544117647058826,22.523164647184604,22.711267605633804,22.827540106951872,24.120259651520328,22.560596643878185,22.099087353324641,0.20872679908824487,{"$f":"METAS!P48","v":0.22109999999999999},"ATINGIU"]
[280490,"PROPRIA","PACATUBA",14164,271,247,242,202,195,204,203,249,225,235,238,230,73,63,68,53,46,42,54,56,52,48,67,57,26.937269372693727,25.506072874493928,28.099173553719009,26.237623762376238,23.589743589743588,20.588235294117645,26.600985221674879,22.489959839357429,23.111111111111111,20.425531914893615,28.15126050420168,0.24782608695652175,{"$f":"METAS!P49","v":0.23499999999999999},"NÃO ATINGIU"]
[280500,"ITABAIANA","PEDRA MOLE",3199,37,38,35,42,43,54,54,46,40,51,39,43,11,11,6,7,6,13,18,9,5,9,12,12,29.72972972972973,28.947368421052634,17.142857142857142,16.666666666666664,13.953488372093023,24.074074074074073,33.333333333333329,19.565217391304348,12.5,17.647058823529413,30.76923076923077,0.27906976744186046,{"$f":"METAS!P50","v":0.23},"NÃO ATINGIU"]
[280510,"ESTANCIA","PEDRINHAS",9455,149,149,138,146,108,106,130,115,106,125,117,122,30,46,30,30,33,18,40,25,29,33,43,35,20.134228187919462,30.872483221476511,21.739130434782609,20.547945205479451,30.555555555555557,16.981132075471699,30.76923076923077,21.739130434782609,27.358490566037734,26.400000000000002,36.752136752136757,0.28688524590163933,{"$f":"METAS!P51","v":0.35},"ATINGIU"]
[280520,"ITABAIANA","PINHÃO",6439,99,113,96,95,103,92,102,94,109,89,72,75,33,26,18,24,21,12,31,13,23,18,20,25,33.333333333333329,23.008849557522122,18.75,25.263157894736842,20.388349514563107,13.043478260869565,30.392156862745097,13.829787234042554,21.100917431192663,20.224719101123593,27.777777777777779,0.33333333333333331,{"$f":"METAS!P52","v":0.25},"NÃO ATINGIU"]
[280530,"SOCORRO","PIRAMBU",9058,174,163,173,177,116,158,150,140,162,150,151,156,40,57,43,42,34,35,43,50,39,44,39,33,22.988505747126435,34.969325153374228,24.855491329479769,23.728813559322035,29.310344827586203,{"$f":"V53/J53*100","v":22.151898734177212},28.666666666666668,35.714285714285715,24.074074074074073,29.333333333333332,25.827814569536422,0.21153846153846154,{"$f":"METAS!P53","v":0.2},"NÃO ATINGIU"]
[280540,"GLORIA","POÇO REDONDO",33756,633,537,568,554,547,528,530,507,485,518,480,533,181,151,164,155,153,166,141,139,144,141,125,125,28.593996840442337,28.11918063314711,28.87323943661972,27.978339350180505,27.97074954296161,31.439393939393938,26.60377358490566,27.416173570019726,29.690721649484537,27.220077220077222,26.041666666666668,0.23452157598499063,{"$f":"METAS!P54","v":0.26},"ATINGIU"]
[280550,"LAGARTO","POÇO VERDE",23413,349,333,372,311,271,322,304,282,283,273,270,282,79,71,70,58,56,56,65,54,51,56,63,54,22.636103151862464,21.321321321321321,18.817204301075268,18.64951768488746,20.664206642066421,17.391304347826086,21.381578947368421,19.148936170212767,18.021201413427562,20.512820512820511,23.333333333333332,0.19148936170212766,{"$f":"METAS!P55","v":0.21},"ATINGIU"]
[280560,"GLORIA","PORTO DA FOLHA",28497,484,459,483,436,487,443,453,420,412,416,350,377,119,138,115,98,116,112,125,90,108,109,82,93,24.586776859504134,30.065359477124183,23.809523809523807,22.477064220183486,23.819301848049282,25.282167042889391,27.593818984547465,21.428571428571427,26.21359223300971,26.201923076923077,23.428571428571431,0.24668435013262599,{"$f":"METAS!P56","v":0.25},"ATINGIU"]
[280570,"PROPRIA","PROPRIÁ",29657,462,446,502,458,406,454,439,476,463,439,474,488,139,118,151,92,97,116,116,121,93,114,106,116,30.086580086580089,26.457399103139011,30.079681274900398,20.087336244541483,23.891625615763548,25.55066079295154,26.42369020501139,25.420168067226889,20.086393088552914,25.968109339407746,22.362869198312236,0.23770491803278687,{"$f":"METAS!P57","v":0.21},"NÃO ATINGIU"]
[280580,"LAGARTO","RIACHÃO DO DANTAS",19976,398,389,351,304,319,318,305,325,276,266,250,245,77,70,61,50,57,75,67,64,38,46,42,58,{"$f":"Q58/E58*100","v":19.346733668341709},17.994858611825194,17.378917378917379,16.447368421052634,17.868338557993731,23.584905660377359,21.967213114754099,19.692307692307693,13.768115942028986,17.293233082706767,16.8,0.23673469387755103,{"$f":"METAS!P58","v":0.17},"NÃO ATINGIU"]
[280590,"ARACAJU","RIACHUELO",10033,217,186,189,204,183,187,143,158,187,207,149,159,58,55,46,47,52,45,36,48,47,51,42,38,26.728110599078342,29.56989247311828,24.338624338624339,23.03921568627451,28.415300546448087,24.064171122994651,25.174825174825177,30.37974683544304,25.133689839572192,24.637681159420293,28.187919463087248,0.2389937106918239,{"$f":"METAS!P59","v":0.28000000000000003},"ATINGIU"]
[280600,"ITABAIANA","RIBEIRÓPOLIS",18363,244,231,237,259,218,218,236,210,212,212,166,183,57,48,38,36,42,43,53,41,37,35,32,36,23.360655737704921,20.779220779220779,16.033755274261605,13.8996138996139,19.26605504587156,19.724770642201836,22.457627118644069,19.523809523809526,17.452830188679243,16.509433962264151,19.277108433734941,0.19672131147540983,{"$f":"METAS!P60","v":0.18539999999999998},"NÃO ATINGIU"]
[280610,"SOCORRO","ROSÁRIO DO CATETE",10367,170,153,177,173,185,184,171,181,175,158,195,177,34,37,44,40,37,36,39,55,48,38,36,50,20,24.183006535947712,24.858757062146893,23.121387283236995,20,19.565217391304348,22.807017543859647,30.386740331491712,27.428571428571431,24.050632911392405,18.461538461538463,0.2824858757062147,{"$f":"METAS!P61","v":0.2},"NÃO ATINGIU"]
[280620,"LAGARTO","SALGADO",20082,334,294,303,269,265,276,256,296,264,278,276,278,64,58,55,48,44,40,50,63,53,63,61,43,19.161676646706589,19.727891156462583,18.151815181518153,17.843866171003718,16.60377358490566,14.492753623188406,19.53125,21.283783783783782,20.075757575757574,22.661870503597122,22.10144927536232,0.15467625899280577,{"$f":"METAS!P62","v":0.22},"ATINGIU"]
[280630,"ESTANCIA","SANTA LUZIA DO ITANHY",13838,303,236,321,274,269,273,243,234,224,205,199,230,77,64,79,53,62,76,69,56,58,58,56,65,25.412541254125415,27.118644067796609,24.610591900311526,19.34306569343066,23.048327137546469,27.838827838827839,28.39506172839506,23.931623931623932,25.892857142857146,28.292682926829265,28.140703517587941,0.28260869565217389,{"$f":"METAS!P63","v":0.28000000000000003},"NÃO ATINGIU"]
[280640,"PROPRIA","SANTANA DO SÃO FRANCISCO",7607,111,128,123,106,136,116,105,125,110,121,106,113,33,51,38,37,40,29,33,29,33,33,30,27,29.72972972972973,39.84375,30.894308943089431,34.905660377358487,29.411764705882355,25,31.428571428571427,23.200000000000003,30,27.27272727272727,28.30188679245283,0.23893805309734514,{"$f":"METAS!P64","v":0.25},"ATINGIU"]
[280650,"ARACAJU","SANTA ROSA DE LIMA",3912,81,54,50,63,62,70,62,66,88,61,72,66,19,16,13,16,16,14,16,20,21,12,11,15,23.456790123456788,29.629629629629626,26,25.396825396825395,25.806451612903224,20,25.806451612903224,30.303030303030305,23.863636363636363,19.672131147540984,15.277777777777779,0.22727272727272727,{"$f":"METAS!P65","v":0.25},"ATINGIU"]
[280660,"SOCORRO","SANTO AMARO DAS BROTAS",12024,212,200,210,203,189,191,213,201,191,182,175,159,56,43,55,36,42,35,51,48,45,43,47,42,26.415094339622641,21.5,26.190476190476193,17.733990147783253,22.222222222222221,18.32460732984293,23.943661971830984,23.880597014925371,23.560209424083769,23.626373626373624,26.857142857142858,0.26415094339622641,{"$f":"METAS!P66","v":0.25},"NÃO ATINGIU"]
[280670,"ARACAJU","SÃO CRISTÓVÃO",86979,1423,1366,1448,1342,1339,1374,1344,1326,1371,1514,1330,1257,349,291,333,288,288,311,306,293,292,354,278,227,24.525650035137033,21.303074670571011,22.997237569060776,21.460506706408346,21.50858849887976,22.634643377001456,22.767857142857142,22.096530920060331,21.298322392414295,23.381770145310433,20.902255639097746,{"$f":"IFERROR(AB67/P67,\"0,00%\")","v":0.18058870326173429},{"$f":"METAS!P67","v":0.20989999999999998},{"$f":"IF(AN67<=AO67,\"ATINGIU\",\"NÃO ATINGIU\")","v":"ATINGIU"}]
[280680,"ITABAIANA","SÃO DOMINGOS",10971,164,188,167,135,148,154,159,138,130,160,128,150,43,37,36,26,30,36,32,36,26,44,33,36,26.219512195121951,19.680851063829788,21.556886227544911,19.25925925925926,20.27027027027027,23.376623376623375,20.125786163522015,26.086956521739129,20,27.500000000000004,25.78125,0.24,{"$f":"METAS!P68","v":0.21},"NÃO ATINGIU"]
[280690,"PROPRIA","SÃO FRANCISCO",3851,62,50,50,39,46,46,49,44,63,53,44,54,19,15,18,5,13,10,14,6,15,12,16,4,30.64516129032258,30,36,12.820512820512819,28.260869565217391,21.739130434782609,28.571428571428569,13.636363636363635,23.809523809523807,22.641509433962266,36.363636363636367,7.407407407407407E-2,{"$f":"METAS!P69","v":0.25},"ATINGIU"]
[280700,"ITABAIANA","SÃO MIGUEL DO ALEIXO",3902,58,41,58,51,63,67,52,65,54,52,43,49,12,6,8,6,16,13,14,13,9,9,11,8,20.689655172413794,14.634146341463413,13.793103448275861,11.76470588235294,25.396825396825395,19.402985074626866,26.923076923076923,20,16.666666666666664,17.307692307692307,25.581395348837212,0.16326530612244897,{"$f":"METAS!P70","v":0.25579999999999997},"ATINGIU"]
[280710,"LAGARTO","SIMÃO DIAS",40530,602,666,602,495,529,592,590,617,569,625,601,587,153,159,140,101,108,117,127,121,115,146,130,111,25.41528239202658,23.873873873873876,23.255813953488371,20.404040404040405,20.415879017013232,19.763513513513516,21.525423728813557,19.611021069692057,20.210896309314588,23.36,21.630615640599,0.18909710391822829,{"$f":"METAS!P71","v":0.22},"ATINGIU"]
[280720,"SOCORRO","SIRIRI",8675,152,144,160,147,153,146,109,129,116,128,89,112,31,34,33,35,37,38,21,36,34,27,23,24,20.394736842105264,23.611111111111111,20.625,23.809523809523807,24.183006535947712,26.027397260273972,19.26605504587156,27.906976744186046,29.310344827586203,21.09375,25.842696629213485,0.21428571428571427,{"$f":"METAS!P72","v":0.25},"ATINGIU"]
[280730,"PROPRIA","TELHA",3171,53,40,51,57,35,46,57,52,51,46,35,54,16,9,10,11,11,9,10,9,15,12,14,13,30.188679245283019,22.5,19.607843137254903,19.298245614035086,31.428571428571427,19.565217391304348,17.543859649122805,17.307692307692307,29.411764705882355,26.086956521739129,40,0.24074074074074073,{"$f":"METAS!P73","v":0.28000000000000003},"ATINGIU"]
[280740,"LAGARTO","TOBIAS BARRETO",51374,855,780,798,767,718,718,721,697,732,659,623,678,180,163,159,152,146,158,145,150,128,131,121,123,21.052631578947366,20.897435897435898,19.924812030075188,19.81747066492829,20.334261838440113,22.00557103064067,20.110957004160888,21.52080344332855,17.486338797814209,19.878603945371776,19.42215088282504,0.18141592920353983,{"$f":"METAS!P74","v":0.20499999999999999},"ATINGIU"]
[280750,"ESTANCIA","TOMAR DO GERU",13200,280,217,214,201,224,206,205,194,181,192,175,189,78,50,37,47,53,63,50,55,39,45,46,31,27.857142857142858,23.041474654377879,17.289719626168225,23.383084577114428,23.660714285714285,30.582524271844658,24.390243902439025,28.350515463917525,21.546961325966851,23.4375,26.285714285714285,0.16402116402116401,{"$f":"METAS!P75","v":0.26},"ATINGIU"]
[280760,"ESTANCIA","UMBAÚBA",24542,468,472,441,420,410,386,405,419,409,364,409,389,114,125,92,105,90,102,85,117,111,93,95,86,24.358974358974358,26.48305084745763,20.861678004535147,25,21.951219512195124,26.424870466321241,20.987654320987652,27.923627684964202,27.139364303178482,25.549450549450547,23.227383863080682,0.2210796915167095,{"$f":"METAS!P76","v":0.25},"ATINGIU"]
[280000,"SERGIPE","SERGIPE",2242948,37339,35830,36643,35114,34044,34939,34116,34233,34374,34929,32220,32620,8262,7747,7659,6970,6945,7353,7284,7442,7382,7574,6792,6423,22.12699858057259,21.621546190343288,20.901672897961411,19.849632625163753,20.400070497003878,21.045250293368444,21.350685895181147,21.739257441649869,21.475533833711527,21.68398751753557,21.080074487895718,0.19690374003678723,{"$f":"METAS!P77","v":0.21100000000000002},"ATINGIU"]
[]
[1,2,3,4,5,6,7,8,9,10,11,12,13,14,15,16,17,18,19,20,21,22,23,24,25,26,27,28,29,30,31,32,33,34,35,36,37,38,39,40,41,42]
[]
[]
["Fonte: DVE/SES-SE/SINASC/ATUALIZAÇÃO DO BANCO EM 10/01/18."]
["DADOS ATÉ DEZEMBRO 2017"]
["[Opções]",null,""]
["DEF=E:\\SUS\\Tabwin_SIM_E_SINASC\\tabdn\\NASCIDOWEB 2.def",null,""]
["PATH=E:\\SUS\\Tabwin_SIM_E_SINASC\\tabdn\\DADOS\\*.dbc"]
["Linha=Munic Resid-SE"]
["Coluna=Ano do Nascimento"]
["Incremento=Freqüência"]
["Suprime_Linhas_Zeradas=false"]
["Suprime_Colunas_Zeradas=true"]
["Não_Classificados=0"]
["[Seleções_Ativas]"]
["Fx.Mae adolescen: 10-15a|16-19a"]
["[Arquivos]"]
["DN10012018.DBC"]
["Registros_Processados= 435036"]
["Tempo_Decorrido= 0:03"]

{"sheet":"MAES_ADOL_REG","index":111,"n_rows":20,"n_cols":35,"rows_kept":20,"cut":false,"hidden":true,"merged":[]}
["CÓD","REGIÃO","POP 2015","NV 2008","NV 2009","NV 2010","NV 2011","NV 2012","NV 2013","NV 2014","NV 2015","NV 2016","NV 2017"," NV MAES 10 A 19 2008"," NV MAES 10 A 19 2009"," NV MAES 10 A 19 2010"," NV MAES 10 A 19 2011"," NV MAES 10 A 19 2012"," NV MAES 10 A 19 2013"," NV MAES 10 A 19 2014"," NV MAES 10 A 19 2015"," NV MAES 10 A 19 2016"," NV MAES 10 A 19 2017"," %NV MAES 10 A 19 2008"," %NV MAES 10 A 19 2009"," %NV MAES 10 A 19 2010"," %NV MAES 10 A 19 2011"," %NV MAES 10 A 19 2012"," %NV MAES 10 A 19 2013"," %NV MAES 10 A 19 2014"," %NV MAES 10 A 19 2015"," %NV MAES 10 A 19 2016"," %NV MAES 10 A 19 2017","META","SITUAÇÃO"]
[1,"ARACAJU",{"$f":"SUMIF(MAES_ADOLESC!$B$2:$B$77,\"ARACAJU\",MAES_ADOLESC!D$2:D$77)","v":829684},{"$f":"SUMIF(MAES_ADOLESC!$B$2:$B$77,\"ARACAJU\",MAES_ADOLESC!E$2:E$77)","v":12847},{"$f":"SUMIF(MAES_ADOLESC!$B$2:$B$77,\"ARACAJU\",MAES_ADOLESC!F$2:F$77)","v":12773},{"$f":"SUMIF(MAES_ADOLESC!$B$2:$B$77,\"ARACAJU\",MAES_ADOLESC!G$2:G$77)","v":13027},{"$f":"SUMIF(MAES_ADOLESC!$B$2:$B$77,\"ARACAJU\",MAES_ADOLESC!H$2:H$77)","v":12911},{"$f":"SUMIF(MAES_ADOLESC!$B$2:$B$77,\"ARACAJU\",MAES_ADOLESC!I$2:I$77)","v":12436},{"$f":"SUMIF(MAES_ADOLESC!$B$2:$B$77,\"ARACAJU\",MAES_ADOLESC!J$2:J$77)","v":12919},{"$f":"SUMIF(MAES_ADOLESC!$B$2:$B$77,\"ARACAJU\",MAES_ADOLESC!K$2:K$77)","v":12494},{"$f":"SUMIF(MAES_ADOLESC!$B$2:$B$77,\"ARACAJU\",MAES_ADOLESC!L$2:L$77)","v":12466},{"$f":"SUMIF(MAES_ADOLESC!$B$2:$B$77,\"ARACAJU\",MAES_ADOLESC!M$2:M$77)","v":12787},{"$f":"SUMIF(MAES_ADOLESC!$B$2:$B$77,\"ARACAJU\",MAES_ADOLESC!N$2:N$77)","v":13079},{"$f":"SUMIF(MAES_ADOLESC!$B$2:$B$77,\"ARACAJU\",MAES_ADOLESC!O$2:O$77)","v":11945},{"$f":"SUMIF(MAES_ADOLESC!$B$2:$B$77,\"ARACAJU\",MAES_ADOLESC!P$2:P$77)","v":11710},{"$f":"SUMIF(MAES_ADOLESC!$B$2:$B$77,\"ARACAJU\",MAES_ADOLESC!Q$2:Q$77)","v":2441},{"$f":"SUMIF(MAES_ADOLESC!$B$2:$B$77,\"ARACAJU\",MAES_ADOLESC!R$2:R$77)","v":2319},{"$f":"SUMIF(MAES_ADOLESC!$B$2:$B$77,\"ARACAJU\",MAES_ADOLESC!S$2:S$77)","v":2327},{"$f":"SUMIF(MAES_ADOLESC!$B$2:$B$77,\"ARACAJU\",MAES_ADOLESC!T$2:T$77)","v":2200},{"$f":"SUMIF(MAES_ADOLESC!$B$2:$B$77,\"ARACAJU\",MAES_ADOLESC!U$2:U$77)","v":2142},{"$f":"SUMIF(MAES_ADOLESC!$B$2:$B$77,\"ARACAJU\",MAES_ADOLESC!V$2:V$77)","v":2304},{"$f":"SUMIF(MAES_ADOLESC!$B$2:$B$77,\"ARACAJU\",MAES_ADOLESC!W$2:W$77)","v":2331},{"$f":"SUMIF(MAES_ADOLESC!$B$2:$B$77,\"ARACAJU\",MAES_ADOLESC!X$2:X$77)","v":2320},{"$f":"N2/D2*100","v":92.978905581069512},{"$f":"O2/E2*100","v":91.677757770296722},{"$f":"P2/F2*100","v":18.738005680509712},{"$f":"Q2/G2*100","v":17.961428239485709},{"$f":"R2/H2*100","v":18.711804438726279},{"$f":"S2/I2*100","v":17.029181825218672},{"$f":"T2/J2*100","v":17.144229230030415},{"$f":"U2/K2*100","v":18.482271779239532},{"$f":"V2/L2*100","v":18.229451786971143},0.17738359201773835,{"$f":"METAS!P81","v":0.17280000000000001},{"$f":"IF(AG2<=AH2,\"ATINGIU\",\"NÃO ATINGIU\")","v":"NÃO ATINGIU"}]
[2,"ESTANCIA",{"$f":"SUMIF(MAES_ADOLESC!$B$2:$B$77,\"ESTANCIA\",MAES_ADOLESC!D$2:D$77)","v":243464},{"$f":"SUMIF(MAES_ADOLESC!$B$2:$B$77,\"ESTANCIA\",MAES_ADOLESC!E$2:E$77)","v":4600},{"$f":"SUMIF(MAES_ADOLESC!$B$2:$B$77,\"ESTANCIA\",MAES_ADOLESC!F$2:F$77)","v":4320},{"$f":"SUMIF(MAES_ADOLESC!$B$2:$B$77,\"ESTANCIA\",MAES_ADOLESC!G$2:G$77)","v":4307},{"$f":"SUMIF(MAES_ADOLESC!$B$2:$B$77,\"ESTANCIA\",MAES_ADOLESC!H$2:H$77)","v":4038},{"$f":"SUMIF(MAES_ADOLESC!$B$2:$B$77,\"ESTANCIA\",MAES_ADOLESC!I$2:I$77)","v":4039},{"$f":"SUMIF(MAES_ADOLESC!$B$2:$B$77,\"ESTANCIA\",MAES_ADOLESC!J$2:J$77)","v":4087},{"$f":"SUMIF(MAES_ADOLESC!$B$2:$B$77,\"ESTANCIA\",MAES_ADOLESC!K$2:K$77)","v":3858},{"$f":"SUMIF(MAES_ADOLESC!$B$2:$B$77,\"ESTANCIA\",MAES_ADOLESC!L$2:L$77)","v":3755},{"$f":"SUMIF(MAES_ADOLESC!$B$2:$B$77,\"ESTANCIA\",MAES_ADOLESC!M$2:M$77)","v":3748},{"$f":"SUMIF(MAES_ADOLESC!$B$2:$B$77,\"ESTANCIA\",MAES_ADOLESC!N$2:N$77)","v":3649},{"$f":"SUMIF(MAES_ADOLESC!$B$2:$B$77,\"ESTANCIA\",MAES_ADOLESC!O$2:O$77)","v":3529},{"$f":"SUMIF(MAES_ADOLESC!$B$2:$B$77,\"ESTANCIA\",MAES_ADOLESC!P$2:P$77)","v":3619},{"$f":"SUMIF(MAES_ADOLESC!$B$2:$B$77,\"ESTANCIA\",MAES_ADOLESC!Q$2:Q$77)","v":1088},{"$f":"SUMIF(MAES_ADOLESC!$B$2:$B$77,\"ESTANCIA\",MAES_ADOLESC!R$2:R$77)","v":1068},{"$f":"SUMIF(MAES_ADOLESC!$B$2:$B$77,\"ESTANCIA\",MAES_ADOLESC!S$2:S$77)","v":963},{"$f":"SUMIF(MAES_ADOLESC!$B$2:$B$77,\"ESTANCIA\",MAES_ADOLESC!T$2:T$77)","v":875},{"$f":"SUMIF(MAES_ADOLESC!$B$2:$B$77,\"ESTANCIA\",MAES_ADOLESC!U$2:U$77)","v":930},{"$f":"SUMIF(MAES_ADOLESC!$B$2:$B$77,\"ESTANCIA\",MAES_ADOLESC!V$2:V$77)","v":1000},{"$f":"SUMIF(MAES_ADOLESC!$B$2:$B$77,\"ESTANCIA\",MAES_ADOLESC!W$2:W$77)","v":866},{"$f":"SUMIF(MAES_ADOLESC!$B$2:$B$77,\"ESTANCIA\",MAES_ADOLESC!X$2:X$77)","v":929},76.717391304347828,{"$f":"O3/E3*100","v":83.773148148148152},{"$f":"P3/F3*100","v":25.261202693289992},{"$f":"Q3/G3*100","v":26.448736998514118},{"$f":"R3/H3*100","v":23.842535281010154},{"$f":"S3/I3*100","v":21.40934670907756},{"$f":"T3/J3*100","v":24.105754276827369},{"$f":"U3/K3*100","v":26.631158455392811},{"$f":"V3/L3*100","v":23.105656350053362},0.25459029871197586,{"$f":"METAS!P82","v":0.22690000000000002},{"$f":"IF(AG3<=AH3,\"ATINGIU\",\"NÃO ATINGIU\")","v":"NÃO ATINGIU"}]
[3,"GLORIA",{"$f":"SUMIF(MAES_ADOLESC!$B$2:$B$77,\"GLORIA\",MAES_ADOLESC!D$2:D$77)","v":169266},{"$f":"SUMIF(MAES_ADOLESC!$B$2:$B$77,\"GLORIA\",MAES_ADOLESC!E$2:E$77)","v":3086},{"$f":"SUMIF(MAES_ADOLESC!$B$2:$B$77,\"GLORIA\",MAES_ADOLESC!F$2:F$77)","v":2922},{"$f":"SUMIF(MAES_ADOLESC!$B$2:$B$77,\"GLORIA\",MAES_ADOLESC!G$2:G$77)","v":2885},{"$f":"SUMIF(MAES_ADOLESC!$B$2:$B$77,\"GLORIA\",MAES_ADOLESC!H$2:H$77)","v":2809},{"$f":"SUMIF(MAES_ADOLESC!$B$2:$B$77,\"GLORIA\",MAES_ADOLESC!I$2:I$77)","v":2777},{"$f":"SUMIF(MAES_ADOLESC!$B$2:$B$77,\"GLORIA\",MAES_ADOLESC!J$2:J$77)","v":2734},{"$f":"SUMIF(MAES_ADOLESC!$B$2:$B$77,\"GLORIA\",MAES_ADOLESC!K$2:K$77)","v":2750},{"$f":"SUMIF(MAES_ADOLESC!$B$2:$B$77,\"GLORIA\",MAES_ADOLESC!L$2:L$77)","v":2725},{"$f":"SUMIF(MAES_ADOLESC!$B$2:$B$77,\"GLORIA\",MAES_ADOLESC!M$2:M$77)","v":2692},{"$f":"SUMIF(MAES_ADOLESC!$B$2:$B$77,\"GLORIA\",MAES_ADOLESC!N$2:N$77)","v":2762},{"$f":"SUMIF(MAES_ADOLESC!$B$2:$B$77,\"GLORIA\",MAES_ADOLESC!O$2:O$77)","v":2533},{"$f":"SUMIF(MAES_ADOLESC!$B$2:$B$77,\"GLORIA\",MAES_ADOLESC!P$2:P$77)","v":2659},{"$f":"SUMIF(MAES_ADOLESC!$B$2:$B$77,\"GLORIA\",MAES_ADOLESC!Q$2:Q$77)","v":816},{"$f":"SUMIF(MAES_ADOLESC!$B$2:$B$77,\"GLORIA\",MAES_ADOLESC!R$2:R$77)","v":760},{"$f":"SUMIF(MAES_ADOLESC!$B$2:$B$77,\"GLORIA\",MAES_ADOLESC!S$2:S$77)","v":725},{"$f":"SUMIF(MAES_ADOLESC!$B$2:$B$77,\"GLORIA\",MAES_ADOLESC!T$2:T$77)","v":667},{"$f":"SUMIF(MAES_ADOLESC!$B$2:$B$77,\"GLORIA\",MAES_ADOLESC!U$2:U$77)","v":683},{"$f":"SUMIF(MAES_ADOLESC!$B$2:$B$77,\"GLORIA\",MAES_ADOLESC!V$2:V$77)","v":695},{"$f":"SUMIF(MAES_ADOLESC!$B$2:$B$77,\"GLORIA\",MAES_ADOLESC!W$2:W$77)","v":693},{"$f":"SUMIF(MAES_ADOLESC!$B$2:$B$77,\"GLORIA\",MAES_ADOLESC!X$2:X$77)","v":665},{"$f":"N4/D4*100","v":82.080362929358401},90.999315537303218,28.2842287694974,27.055891776432894,26.107310046813108,24.396488661302122,24.836363636363636,25.504587155963304,25.742942050520057,0.24076755973931932,{"$f":"METAS!P83","v":0.25659999999999999},"ATINGIU"]
[4,"ITABAIANA",{"$f":"SUMIF(MAES_ADOLESC!$B$2:$B$77,\"ITABAIANA\",MAES_ADOLESC!D$2:D$77)","v":248651},{"$f":"SUMIF(MAES_ADOLESC!$B$2:$B$77,\"ITABAIANA\",MAES_ADOLESC!E$2:E$77)","v":4010},{"$f":"SUMIF(MAES_ADOLESC!$B$2:$B$77,\"ITABAIANA\",MAES_ADOLESC!F$2:F$77)","v":3874},{"$f":"SUMIF(MAES_ADOLESC!$B$2:$B$77,\"ITABAIANA\",MAES_ADOLESC!G$2:G$77)","v":4026},{"$f":"SUMIF(MAES_ADOLESC!$B$2:$B$77,\"ITABAIANA\",MAES_ADOLESC!H$2:H$77)","v":3780},{"$f":"SUMIF(MAES_ADOLESC!$B$2:$B$77,\"ITABAIANA\",MAES_ADOLESC!I$2:I$77)","v":3774},{"$f":"SUMIF(MAES_ADOLESC!$B$2:$B$77,\"ITABAIANA\",MAES_ADOLESC!J$2:J$77)","v":3666},{"$f":"SUMIF(MAES_ADOLESC!$B$2:$B$77,\"ITABAIANA\",MAES_ADOLESC!K$2:K$77)","v":3702},{"$f":"SUMIF(MAES_ADOLESC!$B$2:$B$77,\"ITABAIANA\",MAES_ADOLESC!L$2:L$77)","v":3611},{"$f":"SUMIF(MAES_ADOLESC!$B$2:$B$77,\"ITABAIANA\",MAES_ADOLESC!M$2:M$77)","v":3628},{"$f":"SUMIF(MAES_ADOLESC!$B$2:$B$77,\"ITABAIANA\",MAES_ADOLESC!N$2:N$77)","v":3625},{"$f":"SUMIF(MAES_ADOLESC!$B$2:$B$77,\"ITABAIANA\",MAES_ADOLESC!O$2:O$77)","v":3139},{"$f":"SUMIF(MAES_ADOLESC!$B$2:$B$77,\"ITABAIANA\",MAES_ADOLESC!P$2:P$77)","v":3296},{"$f":"SUMIF(MAES_ADOLESC!$B$2:$B$77,\"ITABAIANA\",MAES_ADOLESC!Q$2:Q$77)","v":866},{"$f":"SUMIF(MAES_ADOLESC!$B$2:$B$77,\"ITABAIANA\",MAES_ADOLESC!R$2:R$77)","v":780},{"$f":"SUMIF(MAES_ADOLESC!$B$2:$B$77,\"ITABAIANA\",MAES_ADOLESC!S$2:S$77)","v":759},{"$f":"SUMIF(MAES_ADOLESC!$B$2:$B$77,\"ITABAIANA\",MAES_ADOLESC!T$2:T$77)","v":745},{"$f":"SUMIF(MAES_ADOLESC!$B$2:$B$77,\"ITABAIANA\",MAES_ADOLESC!U$2:U$77)","v":735},{"$f":"SUMIF(MAES_ADOLESC!$B$2:$B$77,\"ITABAIANA\",MAES_ADOLESC!V$2:V$77)","v":728},{"$f":"SUMIF(MAES_ADOLESC!$B$2:$B$77,\"ITABAIANA\",MAES_ADOLESC!W$2:W$77)","v":781},{"$f":"SUMIF(MAES_ADOLESC!$B$2:$B$77,\"ITABAIANA\",MAES_ADOLESC!X$2:X$77)","v":788},78.279301745635905,85.080020650490454,21.510183805265772,20.634920634920633,20.111287758346581,20.321876704855431,19.854132901134523,20.160620326779284,21.527012127894157,0.21737931034482755,{"$f":"METAS!P84","v":0.22329999999999997},"ATINGIU"]
[5,"LAGARTO",{"$f":"SUMIF(MAES_ADOLESC!$B$2:$B$77,\"LAGARTO\",MAES_ADOLESC!D$2:D$77)","v":257634},{"$f":"SUMIF(MAES_ADOLESC!$B$2:$B$77,\"LAGARTO\",MAES_ADOLESC!E$2:E$77)","v":4253},{"$f":"SUMIF(MAES_ADOLESC!$B$2:$B$77,\"LAGARTO\",MAES_ADOLESC!F$2:F$77)","v":4065},{"$f":"SUMIF(MAES_ADOLESC!$B$2:$B$77,\"LAGARTO\",MAES_ADOLESC!G$2:G$77)","v":3980},{"$f":"SUMIF(MAES_ADOLESC!$B$2:$B$77,\"LAGARTO\",MAES_ADOLESC!H$2:H$77)","v":3543},{"$f":"SUMIF(MAES_ADOLESC!$B$2:$B$77,\"LAGARTO\",MAES_ADOLESC!I$2:I$77)","v":3486},{"$f":"SUMIF(MAES_ADOLESC!$B$2:$B$77,\"LAGARTO\",MAES_ADOLESC!J$2:J$77)","v":3647},{"$f":"SUMIF(MAES_ADOLESC!$B$2:$B$77,\"LAGARTO\",MAES_ADOLESC!K$2:K$77)","v":3538},{"$f":"SUMIF(MAES_ADOLESC!$B$2:$B$77,\"LAGARTO\",MAES_ADOLESC!L$2:L$77)","v":3617},{"$f":"SUMIF(MAES_ADOLESC!$B$2:$B$77,\"LAGARTO\",MAES_ADOLESC!M$2:M$77)","v":3587},{"$f":"SUMIF(MAES_ADOLESC!$B$2:$B$77,\"LAGARTO\",MAES_ADOLESC!N$2:N$77)","v":3588},{"$f":"SUMIF(MAES_ADOLESC!$B$2:$B$77,\"LAGARTO\",MAES_ADOLESC!O$2:O$77)","v":3394},{"$f":"SUMIF(MAES_ADOLESC!$B$2:$B$77,\"LAGARTO\",MAES_ADOLESC!P$2:P$77)","v":3574},{"$f":"SUMIF(MAES_ADOLESC!$B$2:$B$77,\"LAGARTO\",MAES_ADOLESC!Q$2:Q$77)","v":898},{"$f":"SUMIF(MAES_ADOLESC!$B$2:$B$77,\"LAGARTO\",MAES_ADOLESC!R$2:R$77)","v":863},{"$f":"SUMIF(MAES_ADOLESC!$B$2:$B$77,\"LAGARTO\",MAES_ADOLESC!S$2:S$77)","v":804},{"$f":"SUMIF(MAES_ADOLESC!$B$2:$B$77,\"LAGARTO\",MAES_ADOLESC!T$2:T$77)","v":685},{"$f":"SUMIF(MAES_ADOLESC!$B$2:$B$77,\"LAGARTO\",MAES_ADOLESC!U$2:U$77)","v":699},{"$f":"SUMIF(MAES_ADOLESC!$B$2:$B$77,\"LAGARTO\",MAES_ADOLESC!V$2:V$77)","v":718},{"$f":"SUMIF(MAES_ADOLESC!$B$2:$B$77,\"LAGARTO\",MAES_ADOLESC!W$2:W$77)","v":750},{"$f":"SUMIF(MAES_ADOLESC!$B$2:$B$77,\"LAGARTO\",MAES_ADOLESC!X$2:X$77)","v":743},79.8024923583353,87.921279212792129,22.562814070351759,24.357888794806662,23.06368330464716,18.782561009048532,19.756924816280385,19.850705004147084,20.908837468636744,0.20707915273132665,{"$f":"METAS!P85","v":0.20829999999999999},"ATINGIU"]
[6,"PROPRIA",{"$f":"SUMIF(MAES_ADOLESC!$B$2:$B$77,\"PROPRIA\",MAES_ADOLESC!D$2:D$77)","v":158896},{"$f":"SUMIF(MAES_ADOLESC!$B$2:$B$77,\"PROPRIA\",MAES_ADOLESC!E$2:E$77)","v":2792},{"$f":"SUMIF(MAES_ADOLESC!$B$2:$B$77,\"PROPRIA\",MAES_ADOLESC!F$2:F$77)","v":2534},{"$f":"SUMIF(MAES_ADOLESC!$B$2:$B$77,\"PROPRIA\",MAES_ADOLESC!G$2:G$77)","v":2761},{"$f":"SUMIF(MAES_ADOLESC!$B$2:$B$77,\"PROPRIA\",MAES_ADOLESC!H$2:H$77)","v":2469},{"$f":"SUMIF(MAES_ADOLESC!$B$2:$B$77,\"PROPRIA\",MAES_ADOLESC!I$2:I$77)","v":2330},{"$f":"SUMIF(MAES_ADOLESC!$B$2:$B$77,\"PROPRIA\",MAES_ADOLESC!J$2:J$77)","v":2396},{"$f":"SUMIF(MAES_ADOLESC!$B$2:$B$77,\"PROPRIA\",MAES_ADOLESC!K$2:K$77)","v":2334},{"$f":"SUMIF(MAES_ADOLESC!$B$2:$B$77,\"PROPRIA\",MAES_ADOLESC!L$2:L$77)","v":2526},{"$f":"SUMIF(MAES_ADOLESC!$B$2:$B$77,\"PROPRIA\",MAES_ADOLESC!M$2:M$77)","v":2434},{"$f":"SUMIF(MAES_ADOLESC!$B$2:$B$77,\"PROPRIA\",MAES_ADOLESC!N$2:N$77)","v":2458},{"$f":"SUMIF(MAES_ADOLESC!$B$2:$B$77,\"PROPRIA\",MAES_ADOLESC!O$2:O$77)","v":2333},{"$f":"SUMIF(MAES_ADOLESC!$B$2:$B$77,\"PROPRIA\",MAES_ADOLESC!P$2:P$77)","v":2331},{"$f":"SUMIF(MAES_ADOLESC!$B$2:$B$77,\"PROPRIA\",MAES_ADOLESC!Q$2:Q$77)","v":773},{"$f":"SUMIF(MAES_ADOLESC!$B$2:$B$77,\"PROPRIA\",MAES_ADOLESC!R$2:R$77)","v":719},{"$f":"SUMIF(MAES_ADOLESC!$B$2:$B$77,\"PROPRIA\",MAES_ADOLESC!S$2:S$77)","v":766},{"$f":"SUMIF(MAES_ADOLESC!$B$2:$B$77,\"PROPRIA\",MAES_ADOLESC!T$2:T$77)","v":567},{"$f":"SUMIF(MAES_ADOLESC!$B$2:$B$77,\"PROPRIA\",MAES_ADOLESC!U$2:U$77)","v":627},{"$f":"SUMIF(MAES_ADOLESC!$B$2:$B$77,\"PROPRIA\",MAES_ADOLESC!V$2:V$77)","v":614},{"$f":"SUMIF(MAES_ADOLESC!$B$2:$B$77,\"PROPRIA\",MAES_ADOLESC!W$2:W$77)","v":599},{"$f":"SUMIF(MAES_ADOLESC!$B$2:$B$77,\"PROPRIA\",MAES_ADOLESC!X$2:X$77)","v":640},83.560171919770781,91.988950276243102,27.997102499094527,29.121101660591332,32.875536480686698,23.664440734557594,26.863753213367609,24.307205067300078,24.609695973705833,0.26037428803905616,{"$f":"METAS!P86","v":0.22469999999999998},"NÃO ATINGIU"]
[7,"SOCORRO",{"$f":"SUMIF(MAES_ADOLESC!$B$2:$B$77,\"SOCORRO\",MAES_ADOLESC!D$2:D$77)","v":335353},{"$f":"SUMIF(MAES_ADOLESC!$B$2:$B$77,\"SOCORRO\",MAES_ADOLESC!E$2:E$77)","v":5751},{"$f":"SUMIF(MAES_ADOLESC!$B$2:$B$77,\"SOCORRO\",MAES_ADOLESC!F$2:F$77)","v":5342},{"$f":"SUMIF(MAES_ADOLESC!$B$2:$B$77,\"SOCORRO\",MAES_ADOLESC!G$2:G$77)","v":5657},{"$f":"SUMIF(MAES_ADOLESC!$B$2:$B$77,\"SOCORRO\",MAES_ADOLESC!H$2:H$77)","v":5564},{"$f":"SUMIF(MAES_ADOLESC!$B$2:$B$77,\"SOCORRO\",MAES_ADOLESC!I$2:I$77)","v":5202},{"$f":"SUMIF(MAES_ADOLESC!$B$2:$B$77,\"SOCORRO\",MAES_ADOLESC!J$2:J$77)","v":5490},{"$f":"SUMIF(MAES_ADOLESC!$B$2:$B$77,\"SOCORRO\",MAES_ADOLESC!K$2:K$77)","v":5440},{"$f":"SUMIF(MAES_ADOLESC!$B$2:$B$77,\"SOCORRO\",MAES_ADOLESC!L$2:L$77)","v":5533},{"$f":"SUMIF(MAES_ADOLESC!$B$2:$B$77,\"SOCORRO\",MAES_ADOLESC!M$2:M$77)","v":5498},{"$f":"SUMIF(MAES_ADOLESC!$B$2:$B$77,\"SOCORRO\",MAES_ADOLESC!N$2:N$77)","v":5768},{"$f":"SUMIF(MAES_ADOLESC!$B$2:$B$77,\"SOCORRO\",MAES_ADOLESC!O$2:O$77)","v":5347},{"$f":"SUMIF(MAES_ADOLESC!$B$2:$B$77,\"SOCORRO\",MAES_ADOLESC!P$2:P$77)","v":5431},{"$f":"SUMIF(MAES_ADOLESC!$B$2:$B$77,\"SOCORRO\",MAES_ADOLESC!Q$2:Q$77)","v":1380},{"$f":"SUMIF(MAES_ADOLESC!$B$2:$B$77,\"SOCORRO\",MAES_ADOLESC!R$2:R$77)","v":1238},{"$f":"SUMIF(MAES_ADOLESC!$B$2:$B$77,\"SOCORRO\",MAES_ADOLESC!S$2:S$77)","v":1315},{"$f":"SUMIF(MAES_ADOLESC!$B$2:$B$77,\"SOCORRO\",MAES_ADOLESC!T$2:T$77)","v":1231},{"$f":"SUMIF(MAES_ADOLESC!$B$2:$B$77,\"SOCORRO\",MAES_ADOLESC!U$2:U$77)","v":1129},{"$f":"SUMIF(MAES_ADOLESC!$B$2:$B$77,\"SOCORRO\",MAES_ADOLESC!V$2:V$77)","v":1294},{"$f":"SUMIF(MAES_ADOLESC!$B$2:$B$77,\"SOCORRO\",MAES_ADOLESC!W$2:W$77)","v":1264},{"$f":"SUMIF(MAES_ADOLESC!$B$2:$B$77,\"SOCORRO\",MAES_ADOLESC!X$2:X$77)","v":1357},92.97513475917232,101.66604268064397,24.394555418066112,22.25017972681524,25.278738946559017,22.422586520947178,20.753676470588236,23.386951021145851,22.990178246635139,0.23526352288488211,{"$f":"METAS!P87","v":0.22949999999999998},"NÃO ATINGIU"]
[8,"SERGIPE",{"$f":"SUMIF(MAES_ADOLESC!$B$2:$B$77,\"SERGIPE\",MAES_ADOLESC!D$2:D$77)","v":2242948},{"$f":"SUMIF(MAES_ADOLESC!$B$2:$B$77,\"SERGIPE\",MAES_ADOLESC!E$2:E$77)","v":37339},{"$f":"SUMIF(MAES_ADOLESC!$B$2:$B$77,\"SERGIPE\",MAES_ADOLESC!F$2:F$77)","v":35830},{"$f":"SUMIF(MAES_ADOLESC!$B$2:$B$77,\"SERGIPE\",MAES_ADOLESC!G$2:G$77)","v":36643},{"$f":"SUMIF(MAES_ADOLESC!$B$2:$B$77,\"SERGIPE\",MAES_ADOLESC!H$2:H$77)","v":35114},{"$f":"SUMIF(MAES_ADOLESC!$B$2:$B$77,\"SERGIPE\",MAES_ADOLESC!I$2:I$77)","v":34044},{"$f":"SUMIF(MAES_ADOLESC!$B$2:$B$77,\"SERGIPE\",MAES_ADOLESC!J$2:J$77)","v":34939},{"$f":"SUMIF(MAES_ADOLESC!$B$2:$B$77,\"SERGIPE\",MAES_ADOLESC!K$2:K$77)","v":34116},{"$f":"SUMIF(MAES_ADOLESC!$B$2:$B$77,\"SERGIPE\",MAES_ADOLESC!L$2:L$77)","v":34233},{"$f":"SUMIF(MAES_ADOLESC!$B$2:$B$77,\"SERGIPE\",MAES_ADOLESC!M$2:M$77)","v":34374},{"$f":"SUMIF(MAES_ADOLESC!$B$2:$B$77,\"SERGIPE\",MAES_ADOLESC!N$2:N$77)","v":34929},{"$f":"SUMIF(MAES_ADOLESC!$B$2:$B$77,\"SERGIPE\",MAES_ADOLESC!O$2:O$77)","v":32220},{"$f":"SUMIF(MAES_ADOLESC!$B$2:$B$77,\"SERGIPE\",MAES_ADOLESC!P$2:P$77)","v":32620},{"$f":"SUMIF(MAES_ADOLESC!$B$2:$B$77,\"SERGIPE\",MAES_ADOLESC!Q$2:Q$77)","v":8262},{"$f":"SUMIF(MAES_ADOLESC!$B$2:$B$77,\"SERGIPE\",MAES_ADOLESC!R$2:R$77)","v":7747},{"$f":"SUMIF(MAES_ADOLESC!$B$2:$B$77,\"SERGIPE\",MAES_ADOLESC!S$2:S$77)","v":7659},{"$f":"SUMIF(MAES_ADOLESC!$B$2:$B$77,\"SERGIPE\",MAES_ADOLESC!T$2:T$77)","v":6970},{"$f":"SUMIF(MAES_ADOLESC!$B$2:$B$77,\"SERGIPE\",MAES_ADOLESC!U$2:U$77)","v":6945},{"$f":"SUMIF(MAES_ADOLESC!$B$2:$B$77,\"SERGIPE\",MAES_ADOLESC!V$2:V$77)","v":7353},{"$f":"SUMIF(MAES_ADOLESC!$B$2:$B$77,\"SERGIPE\",MAES_ADOLESC!W$2:W$77)","v":7284},{"$f":"SUMIF(MAES_ADOLESC!$B$2:$B$77,\"SERGIPE\",MAES_ADOLESC!X$2:X$77)","v":7442},86.290473767374593,91.0410270722858,22.547280517424884,22.062425243492623,22.497356362354601,19.949054065657286,20.35701723531481,21.479274384365961,21.190434630825624,0.21306078044032181,{"$f":"METAS!P77","v":0.21100000000000002},"NÃO ATINGIU"]
[]
[]
[]
[]
[]
[]
[]
[1,2,3,4,5,6,7,8,9,10,11,12,13,14,15,16,17,18,19,20,21,22,23,24,25,26,27,28,29,30,31,32,33,34]
[]
[null,""]
[null,""]

{"sheet":"MORT_INF","index":112,"n_rows":100,"n_cols":36,"rows_kept":100,"cut":false,"hidden":true,"merged":[]}
["CÓD","REGIÃO","MUNICÍPIOS","POP 2015","NV2008","NV2009","NV2010","NV2011","NV2012","NV2013","NV2014","NV2015","NV2016","NV2017","OB2008","OB2009","OB2010","OB2011","OB2012","OB2013","OB2014","OB2015","OB2016","OB2017","COEF2008","COEF2009","COEF2010","COEF2011","COEF2012","COEF2013","COEF2014","COEF2015","COEF2016","COEF2017","META PACTUADA","SITUAÇÃO"]
[280010,"PROPRIA","AMPARO DE SÃO FRANCISCO",2374,38,37,39,42,38,36,56,30,39,37,0,0,0,2,2,1,1,0,2,1,{"$f":"O2/E2*1000","v":0},0,0,47.619047619047613,52.631578947368418,27.777777777777775,17.857142857142858,0,51.282051282051277,27.027027027027028,{"$f":"METAS!Q2","v":1},{"$f":"IF(X2<=AI2,\"ATINGIU\",\"NÃO ATINGIU\")","v":"ATINGIU"}]
[280020,"PROPRIA","AQUIDABÃ",21315,357,318,268,293,284,289,292,285,254,279,6,5,3,3,0,9,4,5,5,6,16.806722689075631,15.723270440251572,11.194029850746269,10.238907849829351,0,31.141868512110726,13.698630136986301,17.543859649122805,19.685039370078741,21.505376344086024,{"$f":"METAS!Q3","v":2},"NÃO ATINGIU"]
[280030,"ARACAJU","ARACAJU",632745,9627,9789,9370,9743,9376,9375,9587,9664,8867,8696,166,164,166,136,144,140,172,154,132,153,17.243170250337592,16.753498825211974,17.716115261472787,13.958739607923638,15.358361774744028,14.933333333333334,17.940961718994473,15.935430463576161,14.88665839630089,17.594296228150874,{"$f":"METAS!Q4","v":15.2},{"$f":"IF(AH4<=AI4,\"ATINGIU\",\"NÃO ATINGIU\")","v":"NÃO ATINGIU"}]
[280040,"ESTANCIA","ARAUA",10572,213,216,183,171,180,132,160,156,138,150,2,4,3,2,1,2,2,1,2,2,9.3896713615023479,18.518518518518519,16.393442622950822,11.695906432748536,5.5555555555555554,15.151515151515152,12.5,6.4102564102564097,14.492753623188406,13.333333333333334,{"$f":"METAS!Q5","v":1},"NÃO ATINGIU"]
[280050,"ITABAIANA","AREIA BRANCA",18169,332,283,285,301,287,260,282,302,244,262,4,3,4,7,4,3,2,6,3,2,12.048192771084338,10.600706713780919,14.035087719298247,23.255813953488371,13.937282229965156,11.538461538461538,7.0921985815602833,19.867549668874172,12.295081967213115,7.6335877862595414,{"$f":"METAS!Q6","v":4},"ATINGIU"]
[280060,"ARACAJU","BARRA DOS COQUEIROS",28679,460,418,396,438,457,485,465,564,495,483,9,7,3,7,5,6,5,5,10,7,19.565217391304348,16.746411483253588,7.5757575757575761,15.981735159817351,10.940919037199125,12.371134020618555,10.752688172043012,8.8652482269503547,20.202020202020204,14.492753623188406,{"$f":"METAS!Q7","v":4},"NÃO ATINGIU"]
[280067,"ESTANCIA","BOQUIM",26750,400,417,418,401,398,364,362,306,283,296,7,5,9,4,8,6,6,5,4,5,17.5,11.990407673860911,21.5311004784689,9.9750623441396513,20.100502512562816,16.483516483516485,16.574585635359114,16.339869281045754,14.134275618374557,16.891891891891891,{"$f":"METAS!Q8","v":4},"NÃO ATINGIU"]
[280070,"PROPRIA","BREJO GRANDE",8218,163,128,146,143,137,122,131,125,134,127,2,3,3,1,6,3,0,3,1,0,12.269938650306749,23.4375,20.547945205479451,6.9930069930069934,43.79562043795621,24.590163934426229,0,24,7.4626865671641793,0,{"$f":"METAS!Q9","v":1},"ATINGIU"]
[280100,"ITABAIANA","CAMPO DO BRITO",17851,293,306,283,270,293,267,224,266,220,249,2,6,4,9,3,3,3,5,6,0,6.8259385665529013,19.607843137254903,14.134275618374557,33.333333333333336,10.238907849829351,11.235955056179774,13.392857142857142,18.796992481203006,27.27272727272727,0,{"$f":"METAS!Q10","v":2},"ATINGIU"]
[280110,"PROPRIA","CANHOBA",4059,93,88,74,69,71,68,68,64,71,61,1,3,0,1,2,3,1,0,0,2,10.752688172043012,34.090909090909086,0,14.492753623188406,28.169014084507044,44.117647058823529,14.705882352941176,0,0,32.786885245901644,{"$f":"METAS!Q11","v":1},"NÃO ATINGIU"]
[280120,"GLORIA","CANINDÉ DE SÃO FRANCISCO",28279,565,601,629,646,586,570,602,613,570,560,15,11,10,5,10,7,9,12,2,6,26.548672566371682,18.302828618968388,15.898251192368837,7.7399380804953557,17.064846416382252,12.280701754385966,14.950166112956811,19.57585644371941,3.5087719298245617,10.714285714285714,{"$f":"METAS!Q12","v":8},"ATINGIU"]
[280130,"SOCORRO","CAPELA",33378,568,573,533,576,619,582,579,565,517,534,15,18,9,14,11,9,11,5,11,8,26.408450704225352,31.413612565445025,16.885553470919326,24.305555555555557,17.770597738287563,15.463917525773196,18.998272884283246,8.8495575221238933,21.276595744680851,14.9812734082397,{"$f":"METAS!Q13","v":5},"NÃO ATINGIU"]
[280140,"ITABAIANA","CARIRA",21487,341,340,331,367,310,292,320,339,251,288,4,6,4,4,6,10,5,1,6,2,11.730205278592376,17.647058823529413,12.084592145015106,10.899182561307901,19.35483870967742,34.246575342465754,15.625,2.9498525073746311,23.904382470119522,6.9444444444444438,{"$f":"METAS!Q14","v":4},"ATINGIU"]
[280150,"SOCORRO","CARMÓPOLIS",15621,256,269,256,299,301,281,316,299,262,278,6,3,4,5,4,5,9,4,9,3,23.4375,11.152416356877323,15.625,16.722408026755851,13.289036544850498,17.793594306049823,28.481012658227847,13.377926421404682,34.351145038167942,10.791366906474821,{"$f":"METAS!Q15","v":5},"ATINGIU"]
[280160,"PROPRIA","CEDRO DE SÃO JOÃO",5890,105,67,73,65,74,71,79,90,75,72,1,0,2,2,2,1,2,3,2,1,9.5238095238095255,0,27.397260273972602,30.76923076923077,27.027027027027028,14.084507042253522,25.316455696202532,33.333333333333336,26.666666666666668,13.888888888888888,{"$f":"METAS!Q16","v":1},"ATINGIU"]
[280170,"ESTANCIA","CRISTINÁPOLIS",17911,307,299,330,353,308,304,317,304,301,298,8,5,4,9,5,3,3,5,5,4,26.058631921824105,16.722408026755851,12.121212121212121,25.495750708215297,16.233766233766232,9.8684210526315788,9.4637223974763405,16.44736842105263,16.611295681063122,13.422818791946309,{"$f":"METAS!Q17","v":2},"NÃO ATINGIU"]
[280190,"SOCORRO","CUMBE",3986,54,52,51,44,56,56,59,57,51,56,2,0,1,0,1,0,0,0,0,0,37.037037037037038,0,19.607843137254903,0,17.857142857142858,0,0,0,0,0,{"$f":"METAS!Q18","v":0},"ATINGIU"]
[280200,"ARACAJU","DIVINA PASTORA",4889,100,73,68,78,81,72,81,73,62,70,2,1,1,1,1,1,3,2,1,1,20,13.698630136986301,14.705882352941176,12.820512820512819,12.345679012345679,13.888888888888888,37.037037037037038,27.397260273972602,16.129032258064516,14.285714285714285,{"$f":"METAS!Q19","v":2},"ATINGIU"]
[280210,"ESTANCIA","ESTÂNCIA",68407,1137,1138,1112,1165,1049,1071,1034,1088,1027,1069,17,20,16,11,17,13,17,12,11,16,14.951627088830254,17.574692442882252,14.388489208633095,9.4420600858369088,16.205910390848427,12.138188608776844,16.441005802707931,11.029411764705882,10.710808179162608,14.967259120673527,{"$f":"METAS!Q20","v":10},"NÃO ATINGIU"]
[280220,"GLORIA","FEIRA NOVA",5571,87,99,88,87,78,78,104,110,84,91,2,2,0,0,0,0,2,1,1,0,22.988505747126435,20.202020202020204,0,0,0,0,19.230769230769234,9.0909090909090899,11.904761904761903,0,{"$f":"METAS!Q21","v":1},"ATINGIU"]
[280230,"ITABAIANA","FREI PAULO",15044,239,236,235,239,242,236,242,211,208,235,2,5,5,3,3,5,4,5,3,5,8.3682008368200833,21.1864406779661,21.276595744680851,12.552301255230125,12.396694214876034,21.1864406779661,16.528925619834713,23.696682464454973,14.423076923076923,21.276595744680851,{"$f":"METAS!Q22","v":3},"NÃO ATINGIU"]
[280240,"GLORIA","GARARU",11724,175,169,156,160,146,142,158,150,139,151,4,4,4,8,1,2,1,3,5,1,22.857142857142858,23.668639053254438,25.641025641025639,50,6.8493150684931505,14.084507042253522,6.3291139240506329,20,35.97122302158273,6.6225165562913908,{"$f":"METAS!Q23","v":2},"ATINGIU"]
[280250,"SOCORRO","GENERAL MAYNARD",3230,39,42,39,37,46,40,33,36,41,48,1,1,1,0,2,0,0,0,1,0,25.641025641025639,23.809523809523807,25.641025641025639,0,43.478260869565219,0,0,0,24.390243902439025,0,{"$f":"METAS!Q24","v":0},"ATINGIU"]
[280260,"GLORIA","GRACHO CARDOSO",5846,74,92,84,69,90,83,68,83,88,76,1,3,1,2,1,2,1,0,1,1,13.513513513513514,32.608695652173914,11.904761904761903,28.985507246376812,11.111111111111111,24.096385542168676,14.705882352941176,0,11.363636363636363,13.157894736842104,{"$f":"METAS!Q25","v":1},"ATINGIU"]
[280270,"PROPRIA","ILHA DAS FLORES",8597,173,165,160,141,142,153,126,157,131,133,3,2,5,1,5,2,4,0,2,4,17.341040462427745,12.121212121212121,31.25,7.0921985815602833,35.211267605633807,13.071895424836601,31.746031746031743,0,15.267175572519083,30.075187969924812,{"$f":"METAS!Q26","v":1},"NÃO ATINGIU"]
[280280,"ESTANCIA","INDIAROBA",17384,366,327,290,320,293,285,292,271,272,276,5,4,6,4,4,4,2,2,4,5,13.66120218579235,12.232415902140673,20.689655172413794,12.5,13.651877133105803,{"$f":"T27/J27*1000","v":14.035087719298247},6.8493150684931505,7.3800738007380069,14.705882352941176,18.115942028985508,{"$f":"METAS!Q27","v":1},"NÃO ATINGIU"]
[280290,"ITABAIANA","ITABAIANA",93573,1631,1475,1478,1394,1412,1444,1465,1390,1271,1318,25,24,21,22,21,23,19,23,19,23,{"$f":"O28/E28*1000","v":15.328019619865113},16.271186440677965,14.208389715832206,15.781922525107603,14.872521246458923,15.927977839335181,12.969283276450511,16.546762589928058,14.948859166011015,17.450682852807287,{"$f":"METAS!Q28","v":17},"NÃO ATINGIU"]
[280300,"ESTANCIA","ITABAIANINHA",41405,770,600,695,706,647,637,663,638,608,600,14,13,13,11,12,9,11,17,13,10,18.18181818181818,21.666666666666668,18.705035971223019,15.580736543909348,18.54714064914992,14.128728414442701,16.591251885369534,26.645768025078372,21.381578947368421,16.666666666666668,{"$f":"METAS!Q29","v":13},"ATINGIU"]
[280310,"GLORIA","ITABI",5017,50,57,46,61,60,64,55,62,59,60,0,0,2,1,1,2,2,1,1,1,0,0,43.478260869565219,16.393442622950822,16.666666666666668,31.25,36.36363636363636,16.129032258064516,16.949152542372882,16.666666666666668,{"$f":"METAS!Q30","v":2},"ATINGIU"]
[280320,"ARACAJU","ITAPORANGA D'AJUDA",33320,605,566,564,565,562,508,562,530,542,549,11,9,9,5,10,7,16,7,4,10,18.18181818181818,15.901060070671377,15.957446808510637,8.8495575221238933,17.793594306049823,13.779527559055119,28.469750889679712,13.20754716981132,7.3800738007380069,18.214936247723134,{"$f":"METAS!Q31","v":5},"NÃO ATINGIU"]
[280330,"SOCORRO","JAPARATUBA",18286,265,278,276,319,252,259,289,284,219,246,3,4,3,3,6,4,4,7,1,3,11.320754716981131,14.388489208633095,10.869565217391305,9.4043887147335425,23.809523809523807,15.444015444015445,13.84083044982699,24.64788732394366,4.5662100456620998,12.195121951219512,{"$f":"METAS!Q32","v":2},"NÃO ATINGIU"]
[280340,"PROPRIA","JAPOATÃ",13245,262,220,219,253,225,216,211,234,198,196,7,6,2,4,6,3,2,3,4,1,26.717557251908396,27.27272727272727,9.1324200913241995,15.810276679841897,26.666666666666668,13.888888888888888,9.4786729857819907,12.820512820512819,20.202020202020204,5.1020408163265305,{"$f":"METAS!Q33","v":3},"ATINGIU"]
[280350,"LAGARTO","LAGARTO",102259,1554,1397,1384,1421,1362,1400,1463,1487,1374,1504,37,19,18,18,19,15,19,27,16,25,23.809523809523807,13.600572655690765,13.00578034682081,12.667135819845178,13.950073421439061,10.714285714285714,12.987012987012989,18.157363819771351,11.644832605531295,16.622340425531913,{"$f":"METAS!Q34","v":13},{"$f":"IF(AH34<=AI34,\"ATINGIU\",\"NÃO ATINGIU\")","v":"NÃO ATINGIU"}]
[280360,"ARACAJU","LARANJEIRAS",29127,548,456,454,464,469,476,446,466,428,430,9,6,6,14,7,9,9,10,9,6,16.423357664233578,13.157894736842104,13.215859030837004,30.172413793103448,14.925373134328359,18.907563025210084,20.179372197309416,21.459227467811157,21.028037383177569,13.953488372093023,{"$f":"METAS!Q35","v":7},{"$f":"IF(X35<=AI35,\"ATINGIU\",\"NÃO ATINGIU\")","v":"ATINGIU"}]
[280370,"ITABAIANA","MACAMBIRA",6823,95,99,94,86,116,97,119,125,96,69,3,3,1,3,1,1,2,2,0,0,31.578947368421055,30.303030303030305,10.638297872340425,34.883720930232556,8.6206896551724128,10.309278350515465,16.806722689075631,16,0,0,{"$f":"METAS!Q36","v":1},"ATINGIU"]
[280380,"PROPRIA","MALHADA DOS BOIS",3652,67,87,68,68,54,71,71,85,70,55,0,2,0,2,2,0,2,3,1,0,0,22.988505747126435,0,29.411764705882351,37.037037037037038,0,28.169014084507044,35.294117647058826,14.285714285714285,0,{"$f":"METAS!Q37","v":2},"ATINGIU"]
[280390,"ITABAIANA","MALHADOR",12601,229,191,198,169,174,166,180,199,181,170,5,4,4,1,1,2,2,2,5,2,21.834061135371179,20.942408376963353,20.202020202020204,5.9171597633136095,5.7471264367816088,12.048192771084338,11.111111111111111,10.050251256281408,27.624309392265193,11.76470588235294,{"$f":"METAS!Q38","v":1},"NÃO ATINGIU"]
[280400,"SOCORRO","MARUIM",17151,381,322,322,343,323,286,291,295,260,267,4,4,0,8,6,8,2,4,3,6,10.498687664041995,12.422360248447204,0,23.323615160349853,18.575851393188852,27.972027972027973,6.8728522336769755,13.559322033898304,11.538461538461538,22.471910112359549,{"$f":"METAS!Q39","v":1},"NÃO ATINGIU"]
[280410,"ITABAIANA","MOITA BONITA",11399,167,146,172,135,157,146,140,132,116,103,1,3,1,1,1,1,3,1,1,2,5.9880239520958085,20.547945205479451,5.8139534883720927,7.4074074074074074,6.369426751592357,6.8493150684931505,21.428571428571427,7.5757575757575761,8.6206896551724128,19.417475728155338,{"$f":"METAS!Q40","v":1},"NÃO ATINGIU"]
[280420,"GLORIA","MONTE ALEGRE DE SERGIPE",14853,275,262,239,245,227,248,247,233,224,231,4,5,5,4,3,3,4,3,4,2,14.545454545454545,19.083969465648856,20.920502092050206,16.326530612244898,13.215859030837004,12.096774193548386,16.194331983805668,12.875536480686696,17.857142857142858,8.6580086580086579,{"$f":"METAS!Q41","v":2},"ATINGIU"]
[280430,"PROPRIA","MURIBECA",7644,110,118,93,116,124,150,116,106,89,102,2,3,0,4,3,4,2,0,4,1,18.18181818181818,25.423728813559325,0,34.482758620689651,24.193548387096772,26.666666666666668,17.241379310344826,0,44.943820224719097,9.8039215686274517,{"$f":"METAS!Q42","v":1},"ATINGIU"]
[280440,"PROPRIA","NEÓPOLIS",18958,307,289,276,250,268,295,280,308,278,233,4,8,3,6,2,8,3,3,7,2,13.029315960912053,27.681660899653981,10.869565217391305,24,7.4626865671641793,27.118644067796609,10.714285714285714,9.7402597402597397,25.179856115107913,8.5836909871244629,{"$f":"METAS!Q43","v":2},"ATINGIU"]
[280445,"ITABAIANA","NOSSA SENHORA APARECIDA",8830,106,122,123,120,108,150,111,97,104,102,3,0,1,0,4,1,2,1,0,1,28.30188679245283,0,8.1300813008130088,0,37.037037037037038,6.666666666666667,18.018018018018019,10.309278350515465,0,9.8039215686274517,{"$f":"METAS!Q44","v":1},"ATINGIU"]
[280450,"GLORIA","NOSSA SENHORA DA GLÓRIA",35723,608,539,501,495,580,613,561,577,539,580,13,15,4,9,4,4,10,6,7,5,21.381578947368421,27.829313543599259,7.9840319361277441,18.18181818181818,6.8965517241379306,6.5252854812398047,17.825311942959001,10.398613518197575,12.987012987012989,8.6206896551724128,{"$f":"METAS!Q45","v":4},"NÃO ATINGIU"]
[280460,"SOCORRO","NOSSA SENHORA DAS DORES",26237,417,418,362,387,360,386,360,396,319,327,10,7,5,6,6,10,4,6,4,6,23.980815347721823,16.746411483253588,13.812154696132596,15.503875968992247,16.666666666666668,25.906735751295336,11.111111111111111,15.151515151515152,12.539184952978056,18.348623853211009,{"$f":"METAS!Q46","v":3},"NÃO ATINGIU"]
[280470,"PROPRIA","NOSSA SENHORA DE LOURDES",6494,118,90,96,90,64,109,92,80,97,97,4,1,1,0,1,0,1,0,0,3,33.898305084745765,11.111111111111111,10.416666666666666,0,15.625,0,10.869565217391305,0,0,30.927835051546392,{"$f":"METAS!Q47","v":1},"NÃO ATINGIU"]
[280480,"SOCORRO","NOSSA SENHORA DO SOCORRO",177340,2957,2910,2720,2806,2840,2992,2927,3218,3068,3071,61,36,42,44,53,39,40,46,56,49,20.629015894487658,12.371134020618555,15.441176470588236,15.680684248039915,18.661971830985916,13.03475935828877,13.665869490946362,14.294592914853947,18.252933507170795,15.955714750895474,{"$f":"METAS!Q48","v":19.21},{"$f":"IF(AH48<=AI48,\"ATINGIU\",\"NÃO ATINGIU\")","v":"ATINGIU"}]
[280490,"PROPRIA","PACATUBA",14164,242,202,195,204,203,249,225,235,238,230,8,2,1,2,4,3,3,2,3,7,33.057851239669425,9.9009900990099009,5.1282051282051286,9.8039215686274517,19.704433497536947,12.048192771084338,13.333333333333334,8.5106382978723403,12.605042016806722,30.434782608695652,{"$f":"METAS!Q49","v":2},"NÃO ATINGIU"]
[280500,"ITABAIANA","PEDRA MOLE",3199,35,42,43,54,54,46,40,51,39,43,0,0,0,0,0,2,0,0,0,0,0,0,0,0,0,43.478260869565219,0,0,0,0,{"$f":"METAS!Q50","v":1},"ATINGIU"]
[280510,"ESTANCIA","PEDRINHAS",9455,138,146,108,106,130,115,106,125,117,122,3,3,1,2,1,3,1,4,5,4,21.739130434782609,20.547945205479451,9.2592592592592595,18.867924528301884,7.6923076923076925,26.086956521739129,9.4339622641509422,32,42.735042735042732,32.786885245901644,{"$f":"METAS!Q51","v":0},"NÃO ATINGIU"]
[280520,"ITABAIANA","PINHÃO",6439,96,95,103,92,102,94,109,89,72,75,2,1,2,1,1,1,2,3,1,2,20.833333333333332,10.526315789473683,19.417475728155338,10.869565217391305,9.8039215686274517,10.638297872340425,18.348623853211009,33.707865168539328,13.888888888888888,26.666666666666668,{"$f":"METAS!Q52","v":1},"NÃO ATINGIU"]
[280530,"SOCORRO","PIRAMBU",9058,173,177,116,158,150,140,162,150,151,156,3,1,2,4,1,0,2,2,2,2,17.341040462427745,5.6497175141242941,17.241379310344826,25.316455696202532,6.666666666666667,0,12.345679012345679,13.333333333333334,13.245033112582782,12.820512820512819,{"$f":"METAS!Q53","v":1},"NÃO ATINGIU"]
[280540,"GLORIA","POÇO REDONDO",33756,568,554,547,528,530,507,485,518,480,533,10,22,10,11,10,5,7,6,3,9,17.605633802816904,39.711191335740075,18.281535648994517,20.833333333333332,18.867924528301884,9.8619329388560164,14.43298969072165,11.583011583011583,6.25,16.885553470919326,{"$f":"METAS!Q54","v":4},"NÃO ATINGIU"]
[280550,"LAGARTO","POÇO VERDE",23413,372,311,271,322,304,282,283,273,270,282,8,7,1,1,6,4,4,2,5,2,21.505376344086024,22.508038585209004,3.6900369003690034,3.1055900621118009,19.736842105263158,14.184397163120567,14.134275618374557,7.3260073260073257,18.518518518518519,7.0921985815602833,{"$f":"METAS!Q55","v":2},"ATINGIU"]
[280560,"GLORIA","PORTO DA FOLHA",28497,483,436,487,443,453,420,412,416,350,377,9,5,13,12,9,11,9,4,5,5,18.633540372670808,11.467889908256881,26.694045174537987,27.088036117381488,19.867549668874172,26.19047619047619,21.844660194174757,9.6153846153846168,14.285714285714285,13.262599469496022,{"$f":"METAS!Q56","v":4},"NÃO ATINGIU"]
[280570,"PROPRIA","PROPRIÁ",29657,502,458,406,454,439,476,463,439,474,488,8,4,7,8,11,10,11,8,5,7,15.936254980079681,8.7336244541484707,17.241379310344826,17.621145374449341,25.056947608200456,21.008403361344538,23.758099352051836,18.223234624145785,10.548523206751055,14.344262295081968,{"$f":"METAS!Q57","v":7},"ATINGIU"]
[280580,"LAGARTO","RIACHÃO DO DANTAS",19976,351,304,319,318,305,325,276,266,250,245,3,6,2,3,7,6,4,3,2,3,8.5470085470085486,19.736842105263158,6.2695924764890281,9.4339622641509422,22.950819672131146,18.461538461538463,14.492753623188406,11.278195488721805,8,12.244897959183673,{"$f":"METAS!Q58","v":3},"ATINGIU"]
[280590,"ARACAJU","RIACHUELO",10033,189,204,183,187,143,158,187,207,149,159,3,4,2,6,1,5,4,2,5,2,15.873015873015872,19.607843137254903,10.928961748633879,32.085561497326204,6.9930069930069934,31.645569620253166,21.390374331550802,9.6618357487922708,33.557046979865774,12.578616352201259,{"$f":"METAS!Q59","v":3},"ATINGIU"]
[280600,"ITABAIANA","RIBEIRÓPOLIS",18363,237,259,218,218,236,210,212,212,166,183,5,2,4,4,6,2,2,4,2,1,{"$f":"O60/E60*1000","v":21.09704641350211},7.7220077220077226,18.348623853211009,18.348623853211009,25.423728813559325,9.5238095238095255,9.4339622641509422,18.867924528301884,12.048192771084338,5.4644808743169397,{"$f":"METAS!Q60","v":1},"ATINGIU"]
[280610,"SOCORRO","ROSÁRIO DO CATETE",10367,177,173,185,184,171,181,175,158,195,177,1,2,1,4,2,1,0,1,0,2,5.6497175141242941,11.560693641618496,5.4054054054054053,21.739130434782609,11.695906432748536,5.5248618784530388,0,6.3291139240506329,0,11.299435028248588,{"$f":"METAS!Q61","v":0},"NÃO ATINGIU"]
[280620,"LAGARTO","SALGADO",20082,303,269,265,276,256,296,264,278,276,278,2,5,3,1,3,4,2,3,5,2,6.6006600660066006,18.587360594795541,11.320754716981131,3.6231884057971016,11.71875,13.513513513513514,7.5757575757575761,10.791366906474821,18.115942028985508,7.1942446043165473,{"$f":"METAS!Q62","v":2},"ATINGIU"]
[280630,"ESTANCIA","SANTA LUZIA DO ITANHY",13838,321,274,269,273,243,234,224,205,199,230,4,3,0,3,1,2,4,5,2,3,12.461059190031152,10.948905109489052,0,10.989010989010989,4.1152263374485596,8.5470085470085486,17.857142857142858,24.390243902439025,10.050251256281408,13.043478260869565,{"$f":"METAS!Q63","v":3},"ATINGIU"]
[280640,"PROPRIA","SANTANA DO SÃO FRANCISCO",7607,123,106,136,116,105,125,110,121,106,113,1,4,0,2,2,2,2,1,2,0,8.1300813008130088,37.735849056603769,0,17.241379310344826,19.047619047619051,16,18.18181818181818,8.2644628099173563,18.867924528301884,0,{"$f":"METAS!Q64","v":1},"ATINGIU"]
[280650,"ARACAJU","SANTA ROSA DE LIMA",3912,50,63,62,70,62,66,88,61,72,66,0,1,3,2,3,1,0,1,1,1,0,15.873015873015872,48.387096774193544,28.571428571428569,48.387096774193544,15.151515151515152,0,16.393442622950822,13.888888888888888,15.151515151515152,{"$f":"METAS!Q65","v":1},"ATINGIU"]
[280660,"SOCORRO","SANTO AMARO DAS BROTAS",12024,210,203,189,191,213,201,191,182,175,159,3,2,2,5,4,2,1,3,4,2,14.285714285714285,9.8522167487684733,10.582010582010582,26.178010471204189,18.779342723004696,9.9502487562189046,5.2356020942408383,16.483516483516485,22.857142857142858,12.578616352201259,{"$f":"METAS!Q66","v":3},"ATINGIU"]
[280670,"ARACAJU","SÃO CRISTOVÃO",86979,1448,1342,1339,1374,1344,1326,1371,1514,1330,1257,26,22,21,33,30,29,29,31,25,25,17.955801104972377,16.393442622950822,15.683345780433161,24.017467248908297,22.321428571428573,21.870286576168926,21.152443471918307,20.47556142668428,18.796992481203006,19.888623707239461,{"$f":"METAS!Q67","v":27},"ATINGIU"]
[280680,"ITABAIANA","SÃO DOMINGOS",10971,167,135,148,154,159,138,130,160,128,150,2,2,3,1,2,3,0,3,1,4,11.976047904191617,14.814814814814815,20.27027027027027,6.4935064935064943,12.578616352201259,21.739130434782609,0,18.75,7.8125,26.666666666666668,{"$f":"METAS!Q68","v":2},"NÃO ATINGIU"]
[280690,"PROPRIA","SÃO FRANCISCO",3851,50,39,46,46,49,44,63,53,44,54,3,0,0,2,1,0,0,1,2,0,60,0,0,43.478260869565219,20.408163265306122,0,0,18.867924528301884,45.454545454545453,0,{"$f":"METAS!Q69","v":0},"ATINGIU"]
[280700,"ITABAIANA","SÃO MIGUEL DO ALEIXO",3902,58,51,63,67,52,65,54,52,43,49,1,2,4,1,1,0,0,0,1,3,17.241379310344826,39.215686274509807,63.492063492063487,14.925373134328359,19.230769230769234,0,0,0,23.255813953488371,61.224489795918366,{"$f":"METAS!Q70","v":0},"NÃO ATINGIU"]
[280710,"LAGARTO","SIMÃO DIAS",40530,602,495,529,592,590,617,569,625,601,587,13,6,6,13,7,3,5,10,9,3,21.59468438538206,12.121212121212121,11.342155009451796,21.95945945945946,11.864406779661017,4.8622366288492707,8.7873462214411262,16,14.975041597337771,5.1107325383304936,{"$f":"METAS!Q71","v":6},"ATINGIU"]
[280720,"SOCORRO","SIRIRI",8675,160,147,153,146,109,129,116,128,89,112,0,3,1,5,2,4,2,5,1,2,0,20.408163265306122,6.5359477124183005,34.246575342465754,18.348623853211009,31.007751937984494,17.241379310344826,39.0625,11.235955056179774,17.857142857142858,{"$f":"METAS!Q72","v":1},"NÃO ATINGIU"]
[280730,"PROPRIA","TELHA",3171,51,57,35,46,57,52,51,46,35,54,0,0,1,0,0,1,2,2,0,2,0,0,28.571428571428569,0,0,19.230769230769234,39.215686274509807,43.478260869565219,0,37.037037037037038,{"$f":"METAS!Q73","v":1},"NÃO ATINGIU"]
[280740,"LAGARTO","TOBIAS BARRETO",51374,798,767,718,718,721,697,732,659,623,678,17,14,7,14,11,8,14,6,11,14,21.303258145363408,18.252933507170795,9.7493036211699167,19.498607242339833,15.256588072122053,11.477761836441895,19.125683060109289,9.1047040971168443,17.656500802568218,20.64896755162242,{"$f":"METAS!Q74","v":7},"NÃO ATINGIU"]
[280750,"ESTANCIA","TOMAR DO GERU",13200,214,201,224,206,205,194,181,192,175,189,3,1,2,3,5,6,1,0,0,4,14.018691588785046,4.9751243781094523,8.9285714285714288,14.563106796116505,24.390243902439025,30.927835051546392,5.5248618784530388,0,0,21.164021164021165,{"$f":"METAS!Q75","v":0},"NÃO ATINGIU"]
[280760,"ESTANCIA","UMBAUBA",24542,441,420,410,386,405,419,409,364,409,389,6,6,1,11,5,6,8,4,5,8,13.605442176870747,14.285714285714285,2.4390243902439024,28.497409326424872,12.345679012345679,14.319809069212411,19.559902200488999,10.989010989010989,12.224938875305625,20.565552699228789,{"$f":"METAS!Q76","v":4},"NÃO ATINGIU"]
[280000,"SERGIPE","SERGIPE",2242948,36643,35114,34044,34939,34116,34233,34374,34929,32220,32620,651,587,510,562,554,517,547,527,495,512,17.766012608137977,16.716978982741928,14.980613323933733,16.085177022811187,16.238714972446946,15.102386586042709,15.91319020189678,15.087749434567264,15.363128491620111,15.695892090741875,{"$f":"METAS!Q77","v":14.25},{"$f":"IF(AH77<=AI77,\"ATINGIU\",\"NÃO ATINGIU\")","v":"NÃO ATINGIU"}]
[]
[1,2,3,4,7,8,9,10,11,12,13,14,15,16,19,20,21,22,23,24,25,26,27,28,31,32,33,34,35,36,37,38,39,40,41,42]
[]
[]
["Fonte: DVE/SES-SE/SIM/SINASC/ATUALIZAÇÃO DO BANCO EM 10/01/18, RESPECTIVAMENTE."]
["DADOS ATÉ DEZEMBRO 2017"]
[]
["[Opções]"]
["DEF=E:\\SUS\\Tabwin_SIM_E_SINASC\\tabdo\\OBITOWEB 2.def"]
["PATH=E:\\SUS\\Tabwin_SIM_E_SINASC\\tabdo\\DADOS\\DO*.DB?"]
["Linha=Munic Resid - SE"]
["Coluna=Ano do Obito"]
["Incremento=Freqüência"]
["Suprime_Linhas_Zeradas=false"]
["Suprime_Colunas_Zeradas=true"]
["Não_Classificados=0"]
["[Seleções_Ativas]"]
["Tipo Obito: Não Fetal"]
["Faixa Etaria (5): < 01a"]
["[Arquivos]"]
["DO10012018.DBC"]
["Registros_Processados= 151251"]
["Tempo_Decorrido= 0:01"]

{"sheet":"MORT_INF_REG","index":113,"n_rows":12,"n_cols":35,"rows_kept":12,"cut":false,"hidden":true,"merged":[]}
["CÓD","REGIÃO","POP 2015","NV2008","NV2009","NV2010","NV2011","NV2012","NV2013","NV2014","NV2015","NV2016","NV2017","OB2008","OB2009","OB2010","OB2011","OB2012","OB2013","OB2014","OB2015","OB2016","OB2017","COEF2008","COEF2009","COEF2010","COEF2011","COEF2012","COEF2013","COEF2014","COEF2015","COEF2016","COEF2017","META PACTUADA","SITUAÇÃO"]
[1,"ARACAJU",{"$f":"SUMIF(MORT_INF!$B$2:$B$77,\"ARACAJU\",MORT_INF!D$2:D$77)","v":829684},{"$f":"SUMIF(MORT_INF!$B$2:$B$77,\"ARACAJU\",MORT_INF!E$2:E$77)","v":13027},{"$f":"SUMIF(MORT_INF!$B$2:$B$77,\"ARACAJU\",MORT_INF!F$2:F$77)","v":12911},{"$f":"SUMIF(MORT_INF!$B$2:$B$77,\"ARACAJU\",MORT_INF!G$2:G$77)","v":12436},{"$f":"SUMIF(MORT_INF!$B$2:$B$77,\"ARACAJU\",MORT_INF!H$2:H$77)","v":12919},{"$f":"SUMIF(MORT_INF!$B$2:$B$77,\"ARACAJU\",MORT_INF!I$2:I$77)","v":12494},{"$f":"SUMIF(MORT_INF!$B$2:$B$77,\"ARACAJU\",MORT_INF!J$2:J$77)","v":12466},{"$f":"SUMIF(MORT_INF!$B$2:$B$77,\"ARACAJU\",MORT_INF!K$2:K$77)","v":12787},{"$f":"SUMIF(MORT_INF!$B$2:$B$77,\"ARACAJU\",MORT_INF!L$2:L$77)","v":13079},{"$f":"SUMIF(MORT_INF!$B$2:$B$77,\"ARACAJU\",MORT_INF!M$2:M$77)","v":11945},{"$f":"SUMIF(MORT_INF!$B$2:$B$77,\"ARACAJU\",MORT_INF!N$2:N$77)","v":11710},{"$f":"SUMIF(MORT_INF!$B$2:$B$77,\"ARACAJU\",MORT_INF!O$2:O$77)","v":226},{"$f":"SUMIF(MORT_INF!$B$2:$B$77,\"ARACAJU\",MORT_INF!P$2:P$77)","v":214},{"$f":"SUMIF(MORT_INF!$B$2:$B$77,\"ARACAJU\",MORT_INF!Q$2:Q$77)","v":211},{"$f":"SUMIF(MORT_INF!$B$2:$B$77,\"ARACAJU\",MORT_INF!R$2:R$77)","v":204},{"$f":"SUMIF(MORT_INF!$B$2:$B$77,\"ARACAJU\",MORT_INF!S$2:S$77)","v":201},{"$f":"SUMIF(MORT_INF!$B$2:$B$77,\"ARACAJU\",MORT_INF!T$2:T$77)","v":198},{"$f":"SUMIF(MORT_INF!$B$2:$B$77,\"ARACAJU\",MORT_INF!U$2:U$77)","v":238},{"$f":"SUMIF(MORT_INF!$B$2:$B$77,\"ARACAJU\",MORT_INF!V$2:V$77)","v":212},{"$f":"SUMIF(MORT_INF!$B$2:$B$77,\"ARACAJU\",MORT_INF!W$2:W$77)","v":187},{"$f":"SUMIF(MORT_INF!$B$2:$B$77,\"ARACAJU\",MORT_INF!X$2:X$77)","v":205},{"$f":"N2/D2*1000","v":17.348583710754589},{"$f":"O2/E2*1000","v":16.575013554333513},16.966870376326796,15.790695874293677,16.087722106611174,15.883202310283972,18.612653476186754,16.209190305069193,15.65508580996233,17.506404782237404,{"$f":"METAS!Q81","v":15.54},{"$f":"IF(AG2<=AH2,\"ATINGIU\",\"NÃO ATINGIU\")","v":"NÃO ATINGIU"}]
[2,"ESTANCIA",{"$f":"SUMIF(MORT_INF!$B$2:$B$77,\"ESTANCIA\",MORT_INF!D$2:D$77)","v":243464},{"$f":"SUMIF(MORT_INF!$B$2:$B$77,\"ESTANCIA\",MORT_INF!E$2:E$77)","v":4307},{"$f":"SUMIF(MORT_INF!$B$2:$B$77,\"ESTANCIA\",MORT_INF!F$2:F$77)","v":4038},{"$f":"SUMIF(MORT_INF!$B$2:$B$77,\"ESTANCIA\",MORT_INF!G$2:G$77)","v":4039},{"$f":"SUMIF(MORT_INF!$B$2:$B$77,\"ESTANCIA\",MORT_INF!H$2:H$77)","v":4087},{"$f":"SUMIF(MORT_INF!$B$2:$B$77,\"ESTANCIA\",MORT_INF!I$2:I$77)","v":3858},{"$f":"SUMIF(MORT_INF!$B$2:$B$77,\"ESTANCIA\",MORT_INF!J$2:J$77)","v":3755},{"$f":"SUMIF(MORT_INF!$B$2:$B$77,\"ESTANCIA\",MORT_INF!K$2:K$77)","v":3748},{"$f":"SUMIF(MORT_INF!$B$2:$B$77,\"ESTANCIA\",MORT_INF!L$2:L$77)","v":3649},{"$f":"SUMIF(MORT_INF!$B$2:$B$77,\"ESTANCIA\",MORT_INF!M$2:M$77)","v":3529},{"$f":"SUMIF(MORT_INF!$B$2:$B$77,\"ESTANCIA\",MORT_INF!N$2:N$77)","v":3619},{"$f":"SUMIF(MORT_INF!$B$2:$B$77,\"ESTANCIA\",MORT_INF!O$2:O$77)","v":69},{"$f":"SUMIF(MORT_INF!$B$2:$B$77,\"ESTANCIA\",MORT_INF!P$2:P$77)","v":64},{"$f":"SUMIF(MORT_INF!$B$2:$B$77,\"ESTANCIA\",MORT_INF!Q$2:Q$77)","v":55},{"$f":"SUMIF(MORT_INF!$B$2:$B$77,\"ESTANCIA\",MORT_INF!R$2:R$77)","v":60},{"$f":"SUMIF(MORT_INF!$B$2:$B$77,\"ESTANCIA\",MORT_INF!S$2:S$77)","v":59},{"$f":"SUMIF(MORT_INF!$B$2:$B$77,\"ESTANCIA\",MORT_INF!T$2:T$77)","v":54},{"$f":"SUMIF(MORT_INF!$B$2:$B$77,\"ESTANCIA\",MORT_INF!U$2:U$77)","v":55},{"$f":"SUMIF(MORT_INF!$B$2:$B$77,\"ESTANCIA\",MORT_INF!V$2:V$77)","v":55},{"$f":"SUMIF(MORT_INF!$B$2:$B$77,\"ESTANCIA\",MORT_INF!W$2:W$77)","v":51},{"$f":"SUMIF(MORT_INF!$B$2:$B$77,\"ESTANCIA\",MORT_INF!X$2:X$77)","v":61},{"$f":"N3/D3*1000","v":16.020431855119575},15.8494304110946,13.61723198811587,14.680694886224614,15.292897874546396,14.380825565912117,14.674493062966915,15.072622636338721,14.451686030036837,16.855484940591325,{"$f":"METAS!Q82","v":14.55},"NÃO ATINGIU"]
[3,"GLORIA",{"$f":"SUMIF(MORT_INF!$B$2:$B$77,\"GLORIA\",MORT_INF!D$2:D$77)","v":169266},{"$f":"SUMIF(MORT_INF!$B$2:$B$77,\"GLORIA\",MORT_INF!E$2:E$77)","v":2885},{"$f":"SUMIF(MORT_INF!$B$2:$B$77,\"GLORIA\",MORT_INF!F$2:F$77)","v":2809},{"$f":"SUMIF(MORT_INF!$B$2:$B$77,\"GLORIA\",MORT_INF!G$2:G$77)","v":2777},{"$f":"SUMIF(MORT_INF!$B$2:$B$77,\"GLORIA\",MORT_INF!H$2:H$77)","v":2734},{"$f":"SUMIF(MORT_INF!$B$2:$B$77,\"GLORIA\",MORT_INF!I$2:I$77)","v":2750},{"$f":"SUMIF(MORT_INF!$B$2:$B$77,\"GLORIA\",MORT_INF!J$2:J$77)","v":2725},{"$f":"SUMIF(MORT_INF!$B$2:$B$77,\"GLORIA\",MORT_INF!K$2:K$77)","v":2692},{"$f":"SUMIF(MORT_INF!$B$2:$B$77,\"GLORIA\",MORT_INF!L$2:L$77)","v":2762},{"$f":"SUMIF(MORT_INF!$B$2:$B$77,\"GLORIA\",MORT_INF!M$2:M$77)","v":2533},{"$f":"SUMIF(MORT_INF!$B$2:$B$77,\"GLORIA\",MORT_INF!N$2:N$77)","v":2659},{"$f":"SUMIF(MORT_INF!$B$2:$B$77,\"GLORIA\",MORT_INF!O$2:O$77)","v":58},{"$f":"SUMIF(MORT_INF!$B$2:$B$77,\"GLORIA\",MORT_INF!P$2:P$77)","v":67},{"$f":"SUMIF(MORT_INF!$B$2:$B$77,\"GLORIA\",MORT_INF!Q$2:Q$77)","v":49},{"$f":"SUMIF(MORT_INF!$B$2:$B$77,\"GLORIA\",MORT_INF!R$2:R$77)","v":52},{"$f":"SUMIF(MORT_INF!$B$2:$B$77,\"GLORIA\",MORT_INF!S$2:S$77)","v":39},{"$f":"SUMIF(MORT_INF!$B$2:$B$77,\"GLORIA\",MORT_INF!T$2:T$77)","v":36},{"$f":"SUMIF(MORT_INF!$B$2:$B$77,\"GLORIA\",MORT_INF!U$2:U$77)","v":45},{"$f":"SUMIF(MORT_INF!$B$2:$B$77,\"GLORIA\",MORT_INF!V$2:V$77)","v":36},{"$f":"SUMIF(MORT_INF!$B$2:$B$77,\"GLORIA\",MORT_INF!W$2:W$77)","v":29},{"$f":"SUMIF(MORT_INF!$B$2:$B$77,\"GLORIA\",MORT_INF!X$2:X$77)","v":30},20.103986135181973,23.851904592381629,17.64494058336334,19.019751280175569,14.181818181818183,13.211009174311927,16.716196136701338,13.034033309196236,11.448874851954205,11.282437006393382,{"$f":"METAS!Q83","v":10.44},"NÃO ATINGIU"]
[4,"ITABAIANA",{"$f":"SUMIF(MORT_INF!$B$2:$B$77,\"ITABAIANA\",MORT_INF!D$2:D$77)","v":248651},{"$f":"SUMIF(MORT_INF!$B$2:$B$77,\"ITABAIANA\",MORT_INF!E$2:E$77)","v":4026},{"$f":"SUMIF(MORT_INF!$B$2:$B$77,\"ITABAIANA\",MORT_INF!F$2:F$77)","v":3780},{"$f":"SUMIF(MORT_INF!$B$2:$B$77,\"ITABAIANA\",MORT_INF!G$2:G$77)","v":3774},{"$f":"SUMIF(MORT_INF!$B$2:$B$77,\"ITABAIANA\",MORT_INF!H$2:H$77)","v":3666},{"$f":"SUMIF(MORT_INF!$B$2:$B$77,\"ITABAIANA\",MORT_INF!I$2:I$77)","v":3702},{"$f":"SUMIF(MORT_INF!$B$2:$B$77,\"ITABAIANA\",MORT_INF!J$2:J$77)","v":3611},{"$f":"SUMIF(MORT_INF!$B$2:$B$77,\"ITABAIANA\",MORT_INF!K$2:K$77)","v":3628},{"$f":"SUMIF(MORT_INF!$B$2:$B$77,\"ITABAIANA\",MORT_INF!L$2:L$77)","v":3625},{"$f":"SUMIF(MORT_INF!$B$2:$B$77,\"ITABAIANA\",MORT_INF!M$2:M$77)","v":3139},{"$f":"SUMIF(MORT_INF!$B$2:$B$77,\"ITABAIANA\",MORT_INF!N$2:N$77)","v":3296},{"$f":"SUMIF(MORT_INF!$B$2:$B$77,\"ITABAIANA\",MORT_INF!O$2:O$77)","v":59},{"$f":"SUMIF(MORT_INF!$B$2:$B$77,\"ITABAIANA\",MORT_INF!P$2:P$77)","v":61},{"$f":"SUMIF(MORT_INF!$B$2:$B$77,\"ITABAIANA\",MORT_INF!Q$2:Q$77)","v":58},{"$f":"SUMIF(MORT_INF!$B$2:$B$77,\"ITABAIANA\",MORT_INF!R$2:R$77)","v":57},{"$f":"SUMIF(MORT_INF!$B$2:$B$77,\"ITABAIANA\",MORT_INF!S$2:S$77)","v":54},{"$f":"SUMIF(MORT_INF!$B$2:$B$77,\"ITABAIANA\",MORT_INF!T$2:T$77)","v":57},{"$f":"SUMIF(MORT_INF!$B$2:$B$77,\"ITABAIANA\",MORT_INF!U$2:U$77)","v":46},{"$f":"SUMIF(MORT_INF!$B$2:$B$77,\"ITABAIANA\",MORT_INF!V$2:V$77)","v":56},{"$f":"SUMIF(MORT_INF!$B$2:$B$77,\"ITABAIANA\",MORT_INF!W$2:W$77)","v":48},{"$f":"SUMIF(MORT_INF!$B$2:$B$77,\"ITABAIANA\",MORT_INF!X$2:X$77)","v":47},14.654744162940883,16.137566137566139,15.368309485956544,15.548281505728314,14.586709886547812,15.785101080033233,12.679162072767364,15.448275862068966,15.291494106403313,14.259708737864079,{"$f":"METAS!Q84","v":15.73},"ATINGIU"]
[5,"LAGARTO",{"$f":"SUMIF(MORT_INF!$B$2:$B$77,\"LAGARTO\",MORT_INF!D$2:D$77)","v":257634},{"$f":"SUMIF(MORT_INF!$B$2:$B$77,\"LAGARTO\",MORT_INF!E$2:E$77)","v":3980},{"$f":"SUMIF(MORT_INF!$B$2:$B$77,\"LAGARTO\",MORT_INF!F$2:F$77)","v":3543},{"$f":"SUMIF(MORT_INF!$B$2:$B$77,\"LAGARTO\",MORT_INF!G$2:G$77)","v":3486},{"$f":"SUMIF(MORT_INF!$B$2:$B$77,\"LAGARTO\",MORT_INF!H$2:H$77)","v":3647},{"$f":"SUMIF(MORT_INF!$B$2:$B$77,\"LAGARTO\",MORT_INF!I$2:I$77)","v":3538},{"$f":"SUMIF(MORT_INF!$B$2:$B$77,\"LAGARTO\",MORT_INF!J$2:J$77)","v":3617},{"$f":"SUMIF(MORT_INF!$B$2:$B$77,\"LAGARTO\",MORT_INF!K$2:K$77)","v":3587},{"$f":"SUMIF(MORT_INF!$B$2:$B$77,\"LAGARTO\",MORT_INF!L$2:L$77)","v":3588},{"$f":"SUMIF(MORT_INF!$B$2:$B$77,\"LAGARTO\",MORT_INF!M$2:M$77)","v":3394},{"$f":"SUMIF(MORT_INF!$B$2:$B$77,\"LAGARTO\",MORT_INF!N$2:N$77)","v":3574},{"$f":"SUMIF(MORT_INF!$B$2:$B$77,\"LAGARTO\",MORT_INF!O$2:O$77)","v":80},{"$f":"SUMIF(MORT_INF!$B$2:$B$77,\"LAGARTO\",MORT_INF!P$2:P$77)","v":57},{"$f":"SUMIF(MORT_INF!$B$2:$B$77,\"LAGARTO\",MORT_INF!Q$2:Q$77)","v":37},{"$f":"SUMIF(MORT_INF!$B$2:$B$77,\"LAGARTO\",MORT_INF!R$2:R$77)","v":50},{"$f":"SUMIF(MORT_INF!$B$2:$B$77,\"LAGARTO\",MORT_INF!S$2:S$77)","v":53},{"$f":"SUMIF(MORT_INF!$B$2:$B$77,\"LAGARTO\",MORT_INF!T$2:T$77)","v":40},{"$f":"SUMIF(MORT_INF!$B$2:$B$77,\"LAGARTO\",MORT_INF!U$2:U$77)","v":48},{"$f":"SUMIF(MORT_INF!$B$2:$B$77,\"LAGARTO\",MORT_INF!V$2:V$77)","v":51},{"$f":"SUMIF(MORT_INF!$B$2:$B$77,\"LAGARTO\",MORT_INF!W$2:W$77)","v":48},{"$f":"SUMIF(MORT_INF!$B$2:$B$77,\"LAGARTO\",MORT_INF!X$2:X$77)","v":49},20.100502512562816,16.088060965283656,10.613884107860011,13.709898546750754,14.980214810627473,11.05888858169754,13.381655979927517,14.214046822742475,14.142604596346494,13.710128707330721,{"$f":"METAS!Q85","v":13.98},"ATINGIU"]
[6,"PROPRIA",{"$f":"SUMIF(MORT_INF!$B$2:$B$77,\"PROPRIA\",MORT_INF!D$2:D$77)","v":158896},{"$f":"SUMIF(MORT_INF!$B$2:$B$77,\"PROPRIA\",MORT_INF!E$2:E$77)","v":2761},{"$f":"SUMIF(MORT_INF!$B$2:$B$77,\"PROPRIA\",MORT_INF!F$2:F$77)","v":2469},{"$f":"SUMIF(MORT_INF!$B$2:$B$77,\"PROPRIA\",MORT_INF!G$2:G$77)","v":2330},{"$f":"SUMIF(MORT_INF!$B$2:$B$77,\"PROPRIA\",MORT_INF!H$2:H$77)","v":2396},{"$f":"SUMIF(MORT_INF!$B$2:$B$77,\"PROPRIA\",MORT_INF!I$2:I$77)","v":2334},{"$f":"SUMIF(MORT_INF!$B$2:$B$77,\"PROPRIA\",MORT_INF!J$2:J$77)","v":2526},{"$f":"SUMIF(MORT_INF!$B$2:$B$77,\"PROPRIA\",MORT_INF!K$2:K$77)","v":2434},{"$f":"SUMIF(MORT_INF!$B$2:$B$77,\"PROPRIA\",MORT_INF!L$2:L$77)","v":2458},{"$f":"SUMIF(MORT_INF!$B$2:$B$77,\"PROPRIA\",MORT_INF!M$2:M$77)","v":2333},{"$f":"SUMIF(MORT_INF!$B$2:$B$77,\"PROPRIA\",MORT_INF!N$2:N$77)","v":2331},{"$f":"SUMIF(MORT_INF!$B$2:$B$77,\"PROPRIA\",MORT_INF!O$2:O$77)","v":50},{"$f":"SUMIF(MORT_INF!$B$2:$B$77,\"PROPRIA\",MORT_INF!P$2:P$77)","v":43},{"$f":"SUMIF(MORT_INF!$B$2:$B$77,\"PROPRIA\",MORT_INF!Q$2:Q$77)","v":28},{"$f":"SUMIF(MORT_INF!$B$2:$B$77,\"PROPRIA\",MORT_INF!R$2:R$77)","v":40},{"$f":"SUMIF(MORT_INF!$B$2:$B$77,\"PROPRIA\",MORT_INF!S$2:S$77)","v":49},{"$f":"SUMIF(MORT_INF!$B$2:$B$77,\"PROPRIA\",MORT_INF!T$2:T$77)","v":50},{"$f":"SUMIF(MORT_INF!$B$2:$B$77,\"PROPRIA\",MORT_INF!U$2:U$77)","v":40},{"$f":"SUMIF(MORT_INF!$B$2:$B$77,\"PROPRIA\",MORT_INF!V$2:V$77)","v":34},{"$f":"SUMIF(MORT_INF!$B$2:$B$77,\"PROPRIA\",MORT_INF!W$2:W$77)","v":40},{"$f":"SUMIF(MORT_INF!$B$2:$B$77,\"PROPRIA\",MORT_INF!X$2:X$77)","v":37},18.109380659181458,17.415957877683272,12.01716738197425,16.694490818030051,20.99400171379606,19.794140934283451,16.433853738701728,13.832384052074858,17.145306472353194,15.873015873015872,{"$f":"METAS!Q86","v":16.21},"ATINGIU"]
[7,"SOCORRO",{"$f":"SUMIF(MORT_INF!$B$2:$B$77,\"SOCORRO\",MORT_INF!D$2:D$77)","v":335353},{"$f":"SUMIF(MORT_INF!$B$2:$B$77,\"SOCORRO\",MORT_INF!E$2:E$77)","v":5657},{"$f":"SUMIF(MORT_INF!$B$2:$B$77,\"SOCORRO\",MORT_INF!F$2:F$77)","v":5564},{"$f":"SUMIF(MORT_INF!$B$2:$B$77,\"SOCORRO\",MORT_INF!G$2:G$77)","v":5202},{"$f":"SUMIF(MORT_INF!$B$2:$B$77,\"SOCORRO\",MORT_INF!H$2:H$77)","v":5490},{"$f":"SUMIF(MORT_INF!$B$2:$B$77,\"SOCORRO\",MORT_INF!I$2:I$77)","v":5440},{"$f":"SUMIF(MORT_INF!$B$2:$B$77,\"SOCORRO\",MORT_INF!J$2:J$77)","v":5533},{"$f":"SUMIF(MORT_INF!$B$2:$B$77,\"SOCORRO\",MORT_INF!K$2:K$77)","v":5498},{"$f":"SUMIF(MORT_INF!$B$2:$B$77,\"SOCORRO\",MORT_INF!L$2:L$77)","v":5768},{"$f":"SUMIF(MORT_INF!$B$2:$B$77,\"SOCORRO\",MORT_INF!M$2:M$77)","v":5347},{"$f":"SUMIF(MORT_INF!$B$2:$B$77,\"SOCORRO\",MORT_INF!N$2:N$77)","v":5431},{"$f":"SUMIF(MORT_INF!$B$2:$B$77,\"SOCORRO\",MORT_INF!O$2:O$77)","v":109},{"$f":"SUMIF(MORT_INF!$B$2:$B$77,\"SOCORRO\",MORT_INF!P$2:P$77)","v":81},{"$f":"SUMIF(MORT_INF!$B$2:$B$77,\"SOCORRO\",MORT_INF!Q$2:Q$77)","v":71},{"$f":"SUMIF(MORT_INF!$B$2:$B$77,\"SOCORRO\",MORT_INF!R$2:R$77)","v":98},{"$f":"SUMIF(MORT_INF!$B$2:$B$77,\"SOCORRO\",MORT_INF!S$2:S$77)","v":98},{"$f":"SUMIF(MORT_INF!$B$2:$B$77,\"SOCORRO\",MORT_INF!T$2:T$77)","v":82},{"$f":"SUMIF(MORT_INF!$B$2:$B$77,\"SOCORRO\",MORT_INF!U$2:U$77)","v":75},{"$f":"SUMIF(MORT_INF!$B$2:$B$77,\"SOCORRO\",MORT_INF!V$2:V$77)","v":83},{"$f":"SUMIF(MORT_INF!$B$2:$B$77,\"SOCORRO\",MORT_INF!W$2:W$77)","v":92},{"$f":"SUMIF(MORT_INF!$B$2:$B$77,\"SOCORRO\",MORT_INF!X$2:X$77)","v":83},19.268163337458017,14.557872034507549,13.648596693579393,17.850637522768672,18.014705882352938,14.820169889752394,13.641324117861041,14.389736477115118,17.205909855994015,15.282636715153748,{"$f":"METAS!Q87","v":17.690000000000001},"ATINGIU"]
[8,"SERGIPE",{"$f":"SUMIF(MORT_INF!$B$2:$B$77,\"SERGIPE\",MORT_INF!D$2:D$77)","v":2242948},{"$f":"SUMIF(MORT_INF!$B$2:$B$77,\"SERGIPE\",MORT_INF!E$2:E$77)","v":36643},{"$f":"SUMIF(MORT_INF!$B$2:$B$77,\"SERGIPE\",MORT_INF!F$2:F$77)","v":35114},{"$f":"SUMIF(MORT_INF!$B$2:$B$77,\"SERGIPE\",MORT_INF!G$2:G$77)","v":34044},{"$f":"SUMIF(MORT_INF!$B$2:$B$77,\"SERGIPE\",MORT_INF!H$2:H$77)","v":34939},{"$f":"SUMIF(MORT_INF!$B$2:$B$77,\"SERGIPE\",MORT_INF!I$2:I$77)","v":34116},{"$f":"SUMIF(MORT_INF!$B$2:$B$77,\"SERGIPE\",MORT_INF!J$2:J$77)","v":34233},{"$f":"SUMIF(MORT_INF!$B$2:$B$77,\"SERGIPE\",MORT_INF!K$2:K$77)","v":34374},{"$f":"SUMIF(MORT_INF!$B$2:$B$77,\"SERGIPE\",MORT_INF!L$2:L$77)","v":34929},{"$f":"SUMIF(MORT_INF!$B$2:$B$77,\"SERGIPE\",MORT_INF!M$2:M$77)","v":32220},{"$f":"SUMIF(MORT_INF!$B$2:$B$77,\"SERGIPE\",MORT_INF!N$2:N$77)","v":32620},{"$f":"SUMIF(MORT_INF!$B$2:$B$77,\"SERGIPE\",MORT_INF!O$2:O$77)","v":651},{"$f":"SUMIF(MORT_INF!$B$2:$B$77,\"SERGIPE\",MORT_INF!P$2:P$77)","v":587},{"$f":"SUMIF(MORT_INF!$B$2:$B$77,\"SERGIPE\",MORT_INF!Q$2:Q$77)","v":510},{"$f":"SUMIF(MORT_INF!$B$2:$B$77,\"SERGIPE\",MORT_INF!R$2:R$77)","v":562},{"$f":"SUMIF(MORT_INF!$B$2:$B$77,\"SERGIPE\",MORT_INF!S$2:S$77)","v":554},{"$f":"SUMIF(MORT_INF!$B$2:$B$77,\"SERGIPE\",MORT_INF!T$2:T$77)","v":517},{"$f":"SUMIF(MORT_INF!$B$2:$B$77,\"SERGIPE\",MORT_INF!U$2:U$77)","v":547},{"$f":"SUMIF(MORT_INF!$B$2:$B$77,\"SERGIPE\",MORT_INF!V$2:V$77)","v":527},{"$f":"SUMIF(MORT_INF!$B$2:$B$77,\"SERGIPE\",MORT_INF!W$2:W$77)","v":495},{"$f":"SUMIF(MORT_INF!$B$2:$B$77,\"SERGIPE\",MORT_INF!X$2:X$77)","v":512},17.766012608137977,16.716978982741928,14.980613323933733,16.085177022811187,16.238714972446946,15.102386586042709,15.91319020189678,15.087749434567264,15.363128491620111,15.695892090741875,{"$f":"METAS!Q77","v":14.25},"NÃO ATINGIU"]
[]
[]
[1,2,3,4,5,6,7,8,9,10,11,12,13,14,15,16,17,18,19,20,21,22,23,24,25,26,27,28,29,30,31,32,33,34,35]

{"sheet":"OBITOS_MATERNOS","index":114,"n_rows":463,"n_cols":36,"rows_kept":463,"cut":false,"hidden":true,"merged":[]}
["COD","REGIÃO","MUNICÍPIO","POP 2015","ÓBITOS MATERNOS 2008","ÓBITOS MATERNOS 2009","ÓBITOS MATERNOS 2010","ÓBITOS MATERNOS 2011","ÓBITOS MATERNOS 2012","ÓBITOS MATERNOS 2013","ÓBITOS MATERNOS 2014","ÓBITOS MATERNOS 2015","ÓBITOS MATERNOS 2016","ÓBITOS MATERNOS 2017","ÓBITOS MATERNOS INV 2008","ÓBITOS MATERNOS INV 2009","ÓBITOS MATERNOS INV 2010","ÓBITOS MATERNOS INV 2011","ÓBITOS MATERNOS INV 2012","ÓBITOS MATERNOS INV 2013","ÓBITOS MATERNOS INV 2014","ÓBITOS MATERNOS INV 2015","ÓBITOS MATERNOS INV 2016","ÓBITOS MATERNOS INV 2017","%ÓBITOS MATERNOS INV 2008","%ÓBITOS MATERNOS INV 2009","%ÓBITOS MATERNOS INV 2010","%ÓBITOS MATERNOS INV 2011","%ÓBITOS MATERNOS INV 2012","%ÓBITOS MATERNOS INV 2013","%ÓBITOS MATERNOS INV 2014","%ÓBITOS MATERNOS INV 2015","%ÓBITOS MATERNOS INV 2016","%ÓBITOS MATERNOS INV 2017","META PACTUADA","SITUAÇÃO"]
[280010,"PROPRIA","AMPARO DE SAO FRANCISCO",2374,0,0,0,0,0,0,0,0,0,0,0,0,0,0,0,0,0,0,0,0,{"$f":"IFERROR(O2/E2*100,\"0\")","v":"0"},"0","0","0","0","0","0","0","0","0",{"$f":"METAS!R2","v":0},{"$f":"IF(N2<=AI2,\"ATINGIU\",\"NÃO ATINGIU\")","v":"ATINGIU"}]
[280020,"PROPRIA","AQUIDABA",21315,0,1,0,0,0,0,1,1,0,0,0,1,0,0,0,0,1,1,0,0,"0",100,"0","0","0","0",100,100,"0","0",{"$f":"METAS!R3","v":0},{"$f":"IF(N3<=AI3,\"ATINGIU\",\"NÃO ATINGIU\")","v":"ATINGIU"}]
[280030,"ARACAJU","ARACAJU",632745,7,12,9,12,2,5,6,0,5,7,7,12,9,12,2,5,6,0,5,6,100,100,100,100,100,100,100,"0",100,85.714285714285708,{"$f":"METAS!R4","v":5},"NÃO ATINGIU"]
[280040,"ESTANCIA","ARAUA",10572,0,1,0,0,0,0,0,0,0,0,0,1,0,0,0,0,0,0,0,0,"0",100,"0","0","0","0","0","0","0","0",{"$f":"METAS!R5","v":0},"ATINGIU"]
[280050,"ITABAIANA","AREIA BRANCA",18169,0,0,0,0,0,0,0,0,0,0,0,0,0,0,0,0,0,0,0,0,"0","0","0","0","0","0","0","0","0","0",{"$f":"METAS!R6","v":0},"ATINGIU"]
[280060,"ARACAJU","BARRA DOS COQUEIROS",28679,0,0,0,0,0,1,1,0,0,0,0,0,0,0,0,1,1,0,0,0,"0","0","0","0","0",100,100,"0","0","0",{"$f":"METAS!R7","v":0},"ATINGIU"]
[280067,"ESTANCIA","BOQUIM",26750,0,0,0,0,0,0,0,0,0,0,0,0,0,0,0,0,0,0,0,0,"0","0","0","0","0","0","0","0","0","0",{"$f":"METAS!R8","v":0},"ATINGIU"]
[280070,"PROPRIA","BREJO GRANDE",8218,0,1,0,0,1,1,0,0,1,0,0,1,0,0,1,1,0,0,1,0,"0",100,"0","0",100,100,"0","0",100,"0",{"$f":"METAS!R9","v":1},"ATINGIU"]
[280100,"ITABAIANA","CAMPO DO BRITO",17851,0,0,0,0,0,0,0,0,0,0,0,0,0,0,0,0,0,0,0,0,"0","0","0","0","0","0","0","0","0","0",{"$f":"METAS!R10","v":0},"ATINGIU"]
[280110,"PROPRIA","CANHOBA",4059,0,0,0,1,0,0,0,0,0,0,0,0,0,1,0,0,0,0,0,0,"0","0","0",100,"0","0","0","0","0","0",{"$f":"METAS!R11","v":0},"ATINGIU"]
[280120,"GLORIA","CANINDE DE SAO FRANCISCO",28279,1,0,0,0,0,0,0,0,0,0,1,0,0,0,0,0,0,0,0,0,100,"0","0","0","0","0","0","0","0","0",{"$f":"METAS!R12","v":0},"ATINGIU"]
[280130,"SOCORRO","CAPELA",33378,0,1,0,0,0,0,0,0,0,1,0,1,0,0,0,0,0,0,0,1,"0",100,"0","0","0","0","0","0","0",100,{"$f":"METAS!R13","v":0},"NÃO ATINGIU"]
[280140,"ITABAIANA","CARIRA",21487,0,1,1,0,0,0,0,0,0,0,0,1,1,0,0,0,0,0,0,0,"0",100,100,"0","0","0","0","0","0","0",{"$f":"METAS!R14","v":0},"ATINGIU"]
[280150,"SOCORRO","CARMOPOLIS",15621,0,0,0,1,0,0,0,1,0,0,0,0,0,1,0,0,0,1,0,0,"0","0","0",100,"0","0","0",100,"0","0",{"$f":"METAS!R15","v":0},"ATINGIU"]
[280160,"PROPRIA","CEDRO DE SAO JOAO",5890,1,1,0,0,0,0,0,0,0,0,1,1,0,0,0,0,0,0,0,0,100,100,"0","0","0","0","0","0","0","0",{"$f":"METAS!R16","v":0},"ATINGIU"]
[280170,"ESTANCIA","CRISTINAPOLIS",17911,0,0,0,0,1,0,0,0,0,0,0,0,0,0,1,0,0,0,0,0,"0","0","0","0",100,"0","0","0","0","0",{"$f":"METAS!R17","v":0},"ATINGIU"]
[280190,"SOCORRO","CUMBE",3986,0,0,0,0,0,0,0,0,0,0,0,0,0,0,0,0,0,0,0,0,"0","0","0","0","0","0","0","0","0","0",{"$f":"METAS!R18","v":0},"ATINGIU"]
[280200,"ARACAJU","DIVINA PASTORA",4889,0,0,0,0,0,1,0,0,0,0,0,0,0,0,0,1,0,0,0,0,"0","0","0","0","0",100,"0","0","0","0",{"$f":"METAS!R19","v":0},"ATINGIU"]
[280210,"ESTANCIA","ESTANCIA",68407,1,1,1,2,0,1,0,0,0,1,1,1,1,2,0,1,0,0,0,1,100,100,100,100,"0",100,"0","0","0",100,{"$f":"METAS!R20","v":0},"NÃO ATINGIU"]
[280220,"GLORIA","FEIRA NOVA",5571,0,0,0,1,0,0,0,0,1,0,0,0,0,1,0,0,0,0,1,0,"0","0","0",100,"0","0","0","0",100,"0",{"$f":"METAS!R21","v":0},"ATINGIU"]
[280230,"ITABAIANA","FREI PAULO",15044,0,0,0,0,1,0,0,0,0,0,0,0,0,0,1,0,0,0,0,0,"0","0","0","0",100,"0","0","0","0","0",{"$f":"METAS!R22","v":0},"ATINGIU"]
[280240,"GLORIA","GARARU",11724,1,0,0,0,0,0,0,1,0,0,1,0,0,0,0,0,0,1,0,0,100,"0","0","0","0","0","0",100,"0","0",{"$f":"METAS!R23","v":1},"ATINGIU"]
[280250,"SOCORRO","GENERAL MAYNARD",3230,0,0,0,0,0,0,0,0,0,0,0,0,0,0,0,0,0,0,0,0,"0","0","0","0","0","0","0","0","0","0",{"$f":"METAS!R24","v":0},"ATINGIU"]
[280260,"GLORIA","GRACHO CARDOSO",5846,0,0,0,0,0,0,0,0,2,0,0,0,0,0,0,0,0,0,2,0,"0","0","0","0","0","0","0","0",100,"0",{"$f":"METAS!R25","v":1},"ATINGIU"]
[280270,"PROPRIA","ILHA DAS FLORES",8597,1,0,0,0,0,0,0,0,0,0,1,0,0,0,0,0,0,0,0,0,100,"0","0","0","0","0","0","0","0","0",{"$f":"METAS!R26","v":0},"ATINGIU"]
[280280,"ESTANCIA","INDIAROBA",17384,0,0,0,1,0,0,0,0,0,0,0,0,0,1,0,0,0,0,0,0,"0","0","0",100,"0",{"$f":"IFERROR(T27/J27*100,\"0\")","v":"0"},"0","0","0","0",{"$f":"METAS!R27","v":0},"ATINGIU"]
[280290,"ITABAIANA","ITABAIANA",93573,0,0,0,0,1,0,0,2,0,2,0,0,0,0,1,0,0,2,0,1,{"$f":"IFERROR(O28/E28*100,\"0\")","v":"0"},"0","0","0",100,"0","0",100,"0",50,{"$f":"METAS!R28","v":0},"NÃO ATINGIU"]
[280300,"ESTANCIA","ITABAIANINHA",41405,0,1,0,0,2,1,0,1,0,1,0,1,0,0,2,1,0,1,0,0,"0",100,"0","0",100,100,"0",100,"0",0,{"$f":"METAS!R29","v":1},"ATINGIU"]
[280310,"GLORIA","ITABI",5017,0,0,0,0,0,0,0,0,0,0,0,0,0,0,0,0,0,0,0,0,"0","0","0","0","0","0","0","0","0","0",{"$f":"METAS!R30","v":0},"ATINGIU"]
[280320,"ARACAJU","ITAPORANGA D'AJUDA",33320,0,0,0,1,0,0,0,0,0,0,0,0,0,1,0,0,0,0,0,0,"0","0","0",100,"0","0","0","0","0","0",{"$f":"METAS!R31","v":0},"ATINGIU"]
[280330,"SOCORRO","JAPARATUBA",18286,0,1,0,0,1,0,0,2,0,0,0,1,0,0,1,0,0,2,0,0,"0",100,"0","0",100,"0","0",100,"0","0",{"$f":"METAS!R32","v":0},"ATINGIU"]
[280340,"PROPRIA","JAPOATA",13245,0,0,0,0,0,0,0,0,0,0,0,0,0,0,0,0,0,0,0,0,"0","0","0","0","0","0","0","0","0","0",{"$f":"METAS!R33","v":0},"ATINGIU"]
[280350,"LAGARTO","LAGARTO",102259,0,2,1,0,2,1,3,1,0,1,0,2,1,0,2,1,2,1,0,0,"0",100,100,"0",100,100,66.666666666666657,100,"0",0,{"$f":"METAS!R34","v":0},"NÃO ATINGIU"]
[280360,"ARACAJU","LARANJEIRAS",29127,1,0,0,0,0,1,0,0,1,0,1,0,0,0,0,1,0,0,0,0,100,"0","0","0","0",100,"0","0",0,"0",{"$f":"METAS!R35","v":0},"ATINGIU"]
[280370,"ITABAIANA","MACAMBIRA",6823,0,0,0,0,1,1,1,0,0,0,0,0,0,0,1,1,1,0,0,0,"0","0","0","0",100,100,100,"0","0","0",{"$f":"METAS!R36","v":0},"ATINGIU"]
[280380,"PROPRIA","MALHADA DOS BOIS",3652,0,0,0,0,0,0,0,0,0,0,0,0,0,0,0,0,0,0,0,0,"0","0","0","0","0","0","0","0","0","0",{"$f":"METAS!R37","v":0},"ATINGIU"]
[280390,"ITABAIANA","MALHADOR",12601,1,0,0,0,0,0,0,0,0,0,1,0,0,0,0,0,0,0,0,0,100,"0","0","0","0","0","0","0","0","0",{"$f":"METAS!R38","v":0},"ATINGIU"]
[280400,"SOCORRO","MARUIM",17151,1,0,1,0,0,0,0,0,0,0,1,0,1,0,0,0,0,0,0,0,100,"0",100,"0","0","0","0","0","0","0",{"$f":"METAS!R39","v":0},"ATINGIU"]
[280410,"ITABAIANA","MOITA BONITA",11399,0,1,0,0,0,0,0,0,0,0,0,1,0,0,0,0,0,0,0,0,"0",100,"0","0","0","0","0","0","0","0",{"$f":"METAS!R40","v":0},"ATINGIU"]
[280420,"GLORIA","MONTE ALEGRE DE SERGIPE",14853,1,0,0,0,0,0,0,0,0,0,1,0,0,0,0,0,0,0,0,0,100,"0","0","0","0","0","0","0","0","0",{"$f":"METAS!R41","v":0},"ATINGIU"]
[280430,"PROPRIA","MURIBECA",7644,0,1,0,0,1,0,1,0,0,0,0,1,0,0,1,0,1,0,0,0,"0",100,"0","0",100,"0",100,"0","0","0",{"$f":"METAS!R42","v":0},"ATINGIU"]
[280440,"PROPRIA","NEOPOLIS",18958,0,0,0,0,0,0,0,0,0,0,0,0,0,0,0,0,0,0,0,0,"0","0","0","0","0","0","0","0","0","0",{"$f":"METAS!R43","v":0},"ATINGIU"]
[280445,"ITABAIANA","NOSSA SENHORA APARECIDA",8830,1,0,0,0,0,0,0,0,0,0,1,0,0,0,0,0,0,0,0,0,100,"0","0","0","0","0","0","0","0","0",{"$f":"METAS!R44","v":0},"ATINGIU"]
[280450,"GLORIA","NOSSA SENHORA DA GLORIA",35723,0,0,0,0,0,2,0,0,1,0,0,0,0,0,0,2,0,0,1,0,"0","0","0","0","0",100,"0","0",100,"0",{"$f":"METAS!R45","v":0},"ATINGIU"]
[280460,"SOCORRO","NOSSA SENHORA DAS DORES",26237,0,0,0,1,0,1,2,0,1,0,0,0,0,1,0,1,1,0,1,0,"0","0","0",100,"0",100,50,"0",100,"0",{"$f":"METAS!R46","v":1},"ATINGIU"]
[280470,"PROPRIA","NOSSA SENHORA DE LOURDES",6494,0,0,0,0,0,0,0,0,0,0,0,0,0,0,0,0,0,0,0,0,"0","0","0","0","0","0","0","0","0","0",{"$f":"METAS!R47","v":0},"ATINGIU"]
[280480,"SOCORRO","NOSSA SENHORA DO SOCORRO",177340,0,1,2,2,5,0,1,4,3,2,0,1,2,2,5,0,1,4,3,1,"0",100,100,100,100,"0",100,100,100,50,{"$f":"METAS!R48","v":0},"NÃO ATINGIU"]
[280490,"PROPRIA","PACATUBA",14164,0,0,0,0,0,0,0,0,0,0,0,0,0,0,0,0,0,0,0,0,"0","0","0","0","0","0","0","0","0","0",{"$f":"METAS!R49","v":0},"ATINGIU"]
[280500,"ITABAIANA","PEDRA MOLE",3199,0,0,0,0,0,1,0,0,0,0,0,0,0,0,0,1,0,0,0,0,"0","0","0","0","0",100,"0","0","0","0",{"$f":"METAS!R50","v":0},"ATINGIU"]
[280510,"ESTANCIA","PEDRINHAS",9455,0,0,0,0,0,0,0,0,0,0,0,0,0,0,0,0,0,0,0,0,"0","0","0","0","0","0","0","0","0","0",{"$f":"METAS!R51","v":0},"ATINGIU"]
[280520,"ITABAIANA","PINHAO",6439,0,1,0,0,1,0,1,0,0,0,0,1,0,0,1,0,1,0,0,0,"0",100,"0","0",100,"0",100,"0","0","0",{"$f":"METAS!R52","v":0},"ATINGIU"]
[280530,"SOCORRO","PIRAMBU",9058,0,0,0,0,0,0,0,0,0,0,0,0,0,0,0,0,0,0,0,0,"0","0","0","0","0","0","0","0","0","0",{"$f":"METAS!R53","v":0},"ATINGIU"]
[280540,"GLORIA","POCO REDONDO",33756,2,1,0,2,0,0,0,0,0,0,1,1,0,2,0,0,0,0,0,0,50,100,"0",100,"0","0","0","0","0","0",{"$f":"METAS!R54","v":0},"ATINGIU"]
[280550,"LAGARTO","POCO VERDE",23413,1,1,1,0,0,0,0,0,0,0,1,1,1,0,0,0,0,0,0,0,100,100,100,"0","0","0","0","0","0","0",{"$f":"METAS!R55","v":0},"ATINGIU"]
[280560,"GLORIA","PORTO DA FOLHA",28497,1,0,0,0,0,0,2,1,0,0,1,0,0,0,0,0,2,1,0,0,100,"0","0","0","0","0",100,100,"0","0",{"$f":"METAS!R56","v":0},"ATINGIU"]
[280570,"PROPRIA","PROPRIA",29657,1,2,1,0,0,0,0,0,1,0,1,2,1,0,0,0,0,0,1,0,100,100,100,"0","0","0","0","0",100,"0",{"$f":"METAS!R57","v":0},"ATINGIU"]
[280580,"LAGARTO","RIACHAO DO DANTAS",19976,0,0,0,0,0,0,1,0,1,0,0,0,0,0,0,0,1,0,1,0,"0","0","0","0","0","0",100,"0",100,"0",{"$f":"METAS!R58","v":0},"ATINGIU"]
[280590,"ARACAJU","RIACHUELO",10033,0,0,0,0,0,0,0,0,0,0,0,0,0,0,0,0,0,0,0,0,"0","0","0","0","0","0","0","0","0","0",{"$f":"METAS!R59","v":1},"ATINGIU"]
[280600,"ITABAIANA","RIBEIROPOLIS",18363,0,1,1,0,0,0,0,0,0,0,0,1,1,0,0,0,0,0,0,0,{"$f":"IFERROR(O60/E60*100,\"0\")","v":"0"},100,100,"0","0","0","0","0","0","0",{"$f":"METAS!R60","v":0},"ATINGIU"]
[280610,"SOCORRO","ROSARIO DO CATETE",10367,0,0,0,0,0,0,1,1,0,0,0,0,0,0,0,0,1,1,0,0,"0","0","0","0","0","0",100,100,"0","0",{"$f":"METAS!R61","v":0},"ATINGIU"]
[280620,"LAGARTO","SALGADO",20082,0,0,0,2,0,0,1,0,0,0,0,0,0,2,0,0,1,0,0,0,"0","0","0",100,"0","0",100,"0","0","0",{"$f":"METAS!R62","v":0},"ATINGIU"]
[280630,"ESTANCIA","SANTA LUZIA DO ITANHY",13838,0,0,0,0,0,1,0,0,0,0,0,0,0,0,0,1,0,0,0,0,"0","0","0","0","0",100,"0","0","0","0",{"$f":"METAS!R63","v":0},"ATINGIU"]
[280640,"PROPRIA","SANTANA DO SAO FRANCISCO",7607,0,0,0,0,0,0,0,0,0,0,0,0,0,0,0,0,0,0,0,0,"0","0","0","0","0","0","0","0","0","0",{"$f":"METAS!R64","v":0},"ATINGIU"]
[280650,"ARACAJU","SANTA ROSA DE LIMA",3912,0,0,0,0,0,0,0,0,0,0,0,0,0,0,0,0,0,0,0,0,"0","0","0","0","0","0","0","0","0","0",{"$f":"METAS!R65","v":0},"ATINGIU"]
[280660,"SOCORRO","SANTO AMARO DAS BROTAS",12024,1,0,0,0,0,0,0,0,0,0,1,0,0,0,0,0,0,0,0,0,100,"0","0","0","0","0","0","0","0","0",{"$f":"METAS!R66","v":0},"ATINGIU"]
[280670,"ARACAJU","SAO CRISTOVAO",86979,0,1,0,1,1,2,0,3,0,1,0,1,0,1,1,2,0,3,0,1,"0",100,"0",100,100,100,"0",100,"0",100,{"$f":"METAS!R67","v":1},{"$f":"IF(N67<=AI67,\"ATINGIU\",\"NÃO ATINGIU\")","v":"ATINGIU"}]
[280680,"ITABAIANA","SAO DOMINGOS",10971,0,0,1,0,0,0,0,0,0,0,0,0,1,0,0,0,0,0,0,0,"0","0",100,"0","0","0","0","0","0","0",{"$f":"METAS!R68","v":0},"ATINGIU"]
[280690,"PROPRIA","SAO FRANCISCO",3851,0,0,1,0,0,0,0,0,0,0,0,0,1,0,0,0,0,0,0,0,"0","0",100,"0","0","0","0","0","0","0",{"$f":"METAS!R69","v":0},"ATINGIU"]
[280700,"ITABAIANA","SAO MIGUEL DO ALEIXO",3902,0,1,0,0,0,0,0,0,0,0,0,1,0,0,0,0,0,0,0,0,"0",100,"0","0","0","0","0","0","0","0",{"$f":"METAS!R70","v":0},"ATINGIU"]
[280710,"LAGARTO","SIMAO DIAS",40530,1,0,1,0,0,0,0,0,0,0,1,0,1,0,0,0,0,0,0,0,100,"0",100,"0","0","0","0","0","0","0",{"$f":"METAS!R71","v":2},"ATINGIU"]
[280720,"SOCORRO","SIRIRI",8675,0,0,0,0,0,0,0,0,0,0,0,0,0,0,0,0,0,0,0,0,"0","0","0","0","0","0","0","0","0","0",{"$f":"METAS!R72","v":0},"ATINGIU"]
[280730,"PROPRIA","TELHA",3171,0,0,0,0,0,0,0,0,0,0,0,0,0,0,0,0,0,0,0,0,"0","0","0","0","0","0","0","0","0","0",{"$f":"METAS!R73","v":0},"ATINGIU"]
[280740,"LAGARTO","TOBIAS BARRETO",51374,0,1,1,0,1,1,1,0,0,0,0,1,1,0,1,1,1,0,0,0,"0",100,100,"0",100,100,100,"0","0","0",{"$f":"METAS!R74","v":0},"ATINGIU"]
[280750,"ESTANCIA","TOMAR DO GERU",13200,0,0,0,0,0,1,0,0,0,0,0,0,0,0,0,1,0,0,0,0,"0","0","0","0","0",100,"0","0","0","0",{"$f":"METAS!R75","v":0},"ATINGIU"]
[280760,"ESTANCIA","UMBAUBA",24542,0,0,1,1,1,0,0,0,1,0,0,0,1,1,1,0,0,0,1,0,"0","0",100,100,100,"0","0","0",100,"0",{"$f":"METAS!R76","v":0},"ATINGIU"]
[280000,"SERGIPE","SERGIPE",2242948,24,35,23,28,22,22,23,18,18,16,23,35,23,28,22,22,21,18,17,11,95.833333333333343,100,100,100,100,100,91.304347826086953,100,94.444444444444443,68.75,null,"NÃO ATINGIU"]
[]
[1,2,3,4,7,8,9,10,11,12,13,14,15,16,20,21,22,23,24,25,26,27,28,29,32,33,34,35,36,37,38,39,40,41,42,43]
[]
[]
["Fonte: DVE/SES-SE/SIM/ATUALIZAÇÃO DO BANCO EM 10/01/18."]
["DADOS ATÉ DEZEMBRO 2017"]
[]
[]
["[Opções]"]
["DEF=E:\\SUS\\Tabwin_SIM_E_SINASC\\tabdo\\OBITOWEB 2.def"]
["PATH=E:\\SUS\\Tabwin_SIM_E_SINASC\\tabdo\\DADOS\\DO*.DB?"]
["Linha=Munic Resid - SE"]
["Coluna=Ano do Obito"]
["Incremento=Freqüência"]
["Suprime_Linhas_Zeradas=false"]
["Suprime_Colunas_Zeradas=true"]
["Não_Classificados=0"]
["[Seleções_Ativas]"]
["Tipo Obito: Não Fetal"]
["ÓBITOS MATERNOS: O00.0 Gravidez abdominal|O00.1 Gravidez tubaria"]
["    O00.2 Gravidez ovariana|O00.8 Outr form de gravidez ectopica"]
["    O00.9 Gravidez ectopica NE|O01.0 Mola hidatiforme classica"]
["    O01.1 Mola hidatiforme incompleta ou parcial|O01.9 Mola hidatiforme NE"]
["    O02.0 Ovo claro e mola nao-hidatiforme|O02.1 Aborto retido"]
["    O02.8 Outr produtos anormais da concepcao espec"]
["    O02.9 Produto anormal da concepcao NE"]
["    O03.0 Incompl complic inf trato genit org pelvicos"]
["    O03.1 Incompl complic hemorragia excessiva ou tard"]
["    O03.2 Incompleto complicado p/embolia"]
["    O03.3 Incompleto c/outr complic ou c/complic NE|O03.4 Incompleto s/complic"]
["    O03.5 Compl ou NE complic inf trato gen org pelvic"]
["    O03.6 Compl ou NE complic hemorrag excess ou tard"]
["    O03.7 Completo ou NE complicado p/embolia"]
["    O03.8 Compl ou NE c/outr complic ou c/complic NE"]
["    O03.9 Completo ou NE s/complic"]
["    O04.0 Incompl complic inf trato genit org pelvicos"]
["    O04.1 Incompl complic hemorragia excessiva ou tard"]
["    O04.2 Incompleto complicado p/embolia"]
["    O04.3 Incompleto c/outr complic ou c/complic NE|O04.4 Incompleto s/complic"]
["    O04.5 Compl ou NE complic inf trato gen org pelvic"]
["    O04.6 Compl ou NE complic hemorrag excess ou tard"]
["    O04.7 Completo ou NE complicado p/embolia"]
["    O04.8 Compl ou NE c/outr complic ou c/complic NE"]
["    O04.9 Completo ou NE s/complic"]
["    O05.0 Incompl complic inf trato genit org pelvicos"]
["    O05.1 Incompl complic hemorragia excessiva ou tard"]
["    O05.2 Incompleto complicado p/embolia"]
["    O05.3 Incompleto c/outr complic ou c/complic NE|O05.4 Incompleto s/complic"]
["    O05.5 Compl ou NE complic inf trato gen org pelvic"]
["    O05.6 Compl ou NE complic hemorrag excess ou tard"]
["    O05.7 Completo ou NE complicado p/embolia"]
["    O05.8 Compl ou NE c/outr complic ou c/complic NE"]
["    O05.9 Completo ou NE s/complic"]
["    O06.0 Incompl complic inf trato genit org pelvicos"]
["    O06.1 Incompl complic hemorragia excessiva ou tard"]
["    O06.2 Incompleto complicado p/embolia"]
["    O06.3 Incompleto c/outr complic ou c/complic NE|O06.4 Incompleto s/complic"]
["    O06.5 Compl ou NE complic inf trato gen org pelvic"]
["    O06.6 Compl ou NE complic hemorrag excess ou tard"]
["    O06.7 Completo ou NE complicado p/embolia"]
["    O06.8 Compl ou NE c/outr complic ou c/complic NE"]
["    O06.9 Completo ou NE s/complic"]
["    O07.0 Falh abort raz med compl inf tr gen org pelv"]
["    O07.1 Falh abort prov raz med compl hemor tard exc"]
["    O07.2 Falh abort prov raz med complicado p/embolia"]
["    O07.3 Falha aborto prov raz medic outr complic NE"]
["    O07.4 Falha aborto prov raz medic s/complic"]
["    O07.5 Out for NE fal abor comp inf tr gen org pelv"]
["    O07.6 Out form NE falh abort compl hemor tard exc"]
["    O07.7 Outr form e NE falh prov abort compl embolia"]
["    O07.8 Outr form e NE falh prov abort outr compl NE"]
["    O07.9 Outr form e NE falha prov aborto s/complic"]
["    O08.0 Inf tr gen org pel cons abort grav ect molar"]
["    O08.1 Hemorr tard excess cons abort grav ect molar"]
["    O08.2 Embolia conseq aborto grav ectopica molar"]
["    O08.3 Choque conseq aborto gravidez ectopica molar"]
["    O08.4 Insuf renal conseq aborto grav ectopic molar"]
["    O08.5 Dist metab conseq aborto grav ectopic molar"]
["    O08.6 Lesao org tec pelv cons abort grav ect molar"]
["    O08.7 Outr compl venosas cons abort grav ect molar"]
["    O08.8 Outr complic conseq aborto grav ectop molar"]
["    O08.9 Complic conseq aborto grav ectopica molar NE"]
["    O10.0 Hipertens ess pre-exis comp grav parto puerp"]
["    O10.1 Doen card hiper pre-ex comp grav parto puerp"]
["    O10.2 Doen renal hiper pre-ex comp grav part puerp"]
["    O10.3 Doen card ren hip pre-ex comp grav part puer"]
["    O10.4 Hipertens sec pre-exist comp grav parto puer"]
["    O10.9 Hipertens pre-exist NE compl grav parto puer"]
["    O11   Dist hipertens pre-exist proteinuria superp|O12.0 Edema gestacional"]
["    O12.1 Proteinuria gestacional|O12.2 Edema gestacional c/proteinuria"]
["    O13   Hipertensao gestacional s/proteinuria signif"]
["    O14.0 Pre-eclampsia moderada|O14.1 Pre-eclampsia grave"]
["    O14.9 Pre-eclampsia NE|O15.0 Eclampsia na gravidez"]
["    O15.1 Eclampsia no trabalho de parto|O15.2 Eclampsia no puerperio"]
["    O15.9 Eclampsia NE quanto ao periodo|O16   Hipertensao materna NE"]
["    O20.0 Ameaca de aborto|O20.8 Outr hemorragias do inicio da gravidez"]
["    O20.9 Hemorragia do inicio da gravidez NE|O21.0 Hiperemese gravidica leve"]
["    O21.1 Hiperemese gravidica c/disturbio metabolico"]
["    O21.2 Vomitos tard da gravidez"]
["    O21.8 Outr form de vomitos complicando a gravidez"]
["    O21.9 Vomitos da gravidez NE|O22.0 Varizes dos membros infer na gravidez"]
["    O22.1 Varizes genitais na gravidez|O22.2 Tromboflebite superf na gravidez"]
["    O22.3 Flebotrombose profunda na gravidez|O22.4 Hemorroidas na gravidez"]
["    O22.5 Trombose venosa cerebral na gravidez"]
["    O22.8 Outr complic venosas na gravidez|O22.9 Complic venosas na gravidez NE"]
["    O23.0 Infecc do rim na gravidez|O23.1 Infecc da bexiga na gravidez"]
["    O23.2 Infecc da uretra na gravidez"]
["    O23.3 Infecc outr partes trato urinario gravidez"]
["    O23.4 Infecc NE do trato urinario na gravidez"]
["    O23.5 Infecc do trato genital na gravidez"]
["    O23.9 Outr infecc e NE trato urinario na gravidez"]
["    O24.0 Diabetes mellitus pre-exist insulino-depend"]
["    O24.1 Diabetes mellitus pre-exist nao-insulino-dep"]
["    O24.2 Diabetes mellitus pre-existente rel desnutr"]
["    O24.3 Diabetes mellitus pre-existente NE"]
["    O24.4 Diabetes mellitus que surge durante gravidez"]
["    O24.9 Diabetes mellitus na gravidez NE|O25   Desnutric na gravidez"]
["    O26.0 Ganho excessivo de peso na gravidez"]
["    O26.1 Ganho de peso insuficiente na gravidez"]
["    O26.2 Assist gravidez p/ abortamento habitual"]
["    O26.3 Retencao disp intra-uterino contracept grav|O26.4 Herpes gestacional"]
["    O26.5 Sindr da hipotensao materna"]
["    O26.6 Transt do figado na gravidez parto puerperio"]
["    O26.7 Subluxacao sinfise gravidez parto puerperio"]
["    O26.8 Outr afeccoes espec ligadas a gravidez"]
["    O26.9 Afeccoes ligadas a gravidez NE"]
["    O28.0 Achados hematolog anorm rastr antenatal mae"]
["    O28.1 Achados bioquim anorm rastr antenatal mae"]
["    O28.2 Achados citolog anorm rastr antenatal mae"]
["    O28.3 Achados ultrasson anorm rastr antenatal mae"]
["    O28.4 Achados radiolog anorm rastr antenatal mae"]
["    O28.5 Achados cromos genet anorm rastr antenat mae"]
["    O28.8 Outr achados anorm rastr antenatal da mae"]
["    O28.9 Achados anorm rastr antenatal da mae NE"]
["    O29.0 Complic pulm anestesia admin durante grav"]
["    O29.1 Complic card anestesia admin durante grav"]
["    O29.2 Complic sist nerv centr dev anest admin grav"]
["    O29.3 Reacao toxica anest local admin durante grav"]
["    O29.4 Cefaleia anest raquid peridur admin dur grav"]
["    O29.5 Outr compl anest raq peridur admin dur grav"]
["    O29.6 Falha dificuld na entubacao durante gravidez"]
["    O29.8 Outr complic de anestesia durante a gravidez"]
["    O29.9 Complic de anestesia durante a gravidez NE|O30.0 Gravidez dupla"]
["    O30.1 Gravidez trigemelar|O30.2 Gravidez quadrigemelar"]
["    O30.8 Outr gestacoes mult|O30.9 Gestacao mult NE|O31.0 Feto papiraceo"]
["    O31.1 Continuacao gravidez apos aborto de fetos"]
["    O31.2 Contin grav apos morte intra-uter de fetos"]
["    O31.8 Outr complic especificas de gestacao mult"]
["    O32.0 Assist prest mae p/posicao fetal instavel"]
["    O32.1 Assist prestada a mae p/apresentacao pelvica"]
["    O32.2 Assist prest mae pos fetal transv e obliqua"]
["    O32.3 Assist prest mae apres face mento e fronte"]
["    O32.4 Assist prest mae polo cefal alto gest termo"]
["    O32.5 Assist prest mae gest mult apres anorm fetos"]
["    O32.6 Assist prest mae p/apresentacao composta"]
["    O32.8 Assist prest mae outr form apres anorm feto"]
["    O32.9 Assist prest mae apres anormal do feto NE"]
["    O33.0 Assist prest mae despr deform pelv ossea mat"]
["    O33.1 Assist prest mae desprop contrac geral pelve"]
["    O33.2 Assist prest mae despr contr estr sup pelve"]
["    O33.3 Assist prest mae despr contr estr inf pelve"]
["    O33.4 Assist prest mae desprop orig mista mat fet"]
["    O33.5 Assist prest mae desprop feto excepc grande"]
["    O33.6 Assist prest mae desprop feto hidrocefalico"]
["    O33.7 Assist prest mae desprop dev outr deform fet"]
["    O33.8 Assist prest mae desproporcao de outr origem"]
["    O33.9 Assist prestada a mae p/uma desproporcao NE"]
["    O34.0 Assist a mae p/malformacao congen do utero"]
["    O34.1 Assist prestada a mae p/tumor do corpo utero"]
["    O34.2 Assist prest mae cicatriz uterina cirurg ant"]
["    O34.3 Assist prest mae p/incompetencia cervical"]
["    O34.4 Assist prest mae outr anorm colo do utero"]
["    O34.5 Assist prest mae outr anorm utero gravidico"]
["    O34.6 Assist prest mae p/anormalidade da vagina"]
["    O34.7 Assist prest mae p/anorm da vulva e perineo"]
["    O34.8 Assist prest mae p/outr anorm org pelvicos"]
["    O34.9 Assist prest mae p/anorm orgaos pelvicos NE"]
["    O35.0 Assist prest mae malform sist nerv cent feto"]
["    O35.1 Assist prest mae anorm cromossomica do feto"]
["    O35.2 Assist prest mae p/doenc hereditaria do feto"]
["    O35.3 Assist prest mae lesao fet caus doen vir mat"]
["    O35.4 Assist prest mae lesao caus feto alcool mat"]
["    O35.5 Assist prest mae lesao fetal causada drogas"]
["    O35.6 Assist prest mae lesao fetal causada radiac"]
["    O35.7 Assist prest mae lesao fet caus out proc med"]
["    O35.8 Assist prest mae outr anorm ou lesoes fetais"]
["    O35.9 Assist prest mae lesao ou anorm fetais NE"]
["    O36.0 Assist prestada a mae p/isoimunizacao Rh"]
["    O36.1 Assist prest mae p/outr tipos isoimunizacao"]
["    O36.2 Assist prestada a mae p/hidropsia fetal"]
["    O36.3 Assist prestada a mae p/sinais hipoxia fetal"]
["    O36.4 Assist prestada a mae p/morte intra-uterina"]
["    O36.5 Assist prestada a mae p/insuf cresc fetal"]
["    O36.6 Assist prestada a mae p/cresc fetal excess"]
["    O36.7 Assist prest mae feto viavel grav abdominal"]
["    O36.8 Assist prest mae outr problemas fetais espec"]
["    O36.9 Assist prestada a mae p/problema fetal NE|O40   Polihidramnio"]
["    O41.0 Oligohidramnio|O41.1 Infecc do saco amniotico e das membranas"]
["    O41.8 Outr transt espec liq amniotico e membranas"]
["    O41.9 Transt do liquido amniotico e membranas NE"]
["    O42.0 Ruptura premat membr c/inic trab parto 24h"]
["    O42.1 Ruptura premat membr inic trab parto dep 24h"]
["    O42.2 Ruptura premat membr trab parto retard terap"]
["    O42.9 Ruptura prematura de membranas NE"]
["    O43.0 Sindr de transfusao placentaria|O43.1 Malformacao da placenta"]
["    O43.8 Outr transt da placenta|O43.9 Transt da placenta NE"]
["    O44.0 Placenta previa espec como s/hemorragia"]
["    O44.1 Placenta previa c/hemorragia"]
["    O45.0 Descolamento premat placenta c/defic coagul"]
["    O45.8 Outr descolamento prematuro da placenta"]
["    O45.9 Descolamento prematuro da placenta NE"]
["    O46.0 Hemorragia anteparto c/defic de coagulacao"]
["    O46.8 Outr form de hemorragia anteparto|O46.9 Hemorragia anteparto NE"]
["    O47.0 Falso trab parto antes de 37 sem gestacao"]
["    O47.1 Falso trab parto 37ª sem completa ou depois"]
["    O47.9 Falso trabalho de parto NE|O48   Gravidez prolongada"]
["    O60.0 Trabalho de parto pré-termo sem parto"]
["    O60.1 Trabalho parto pré-termo c/parto pré-termo"]
["    O60.2 Trabalho de parto pré-termo c/parto a termo"]
["    O61.0 Falha na inducao medica do trabalho de parto"]
["    O61.1 Falha inducao instrumental trabalho de parto"]
["    O61.8 Outr form falha na inducao trabalho de parto"]
["    O61.9 Falha na inducao do trabalho de parto NE"]
["    O62.0 Contracoes iniciais inadequadas|O62.1 Inercia uterina secund"]
["    O62.2 Outr form de inercia uterina|O62.3 Trabalho de parto precipitado"]
["    O62.4 Contrac uterinas hiperton incoord ou prolong"]
["    O62.8 Outr anormalidades da contracao uterina"]
["    O62.9 Anormalidades da contracao uterina NE"]
["    O63.0 Prolongamento do primeiro periodo"]
["    O63.1 Prolongamento do segundo periodo"]
["    O63.2 Parto retardado segundo terceiro gemeo etc"]
["    O63.9 Trabalho de parto prolongado NE"]
["    O64.0 Obstr trab part dev rot incomp polo cef fet"]
["    O64.1 Obstr trab parto dev apresentacao pelvica"]
["    O64.2 Obstr trab parto dev apresentacao de face"]
["    O64.3 Obstr trab parto dev apresentacao de fronte"]
["    O64.4 Obstr trab parto dev apresentacao de ombro"]
["    O64.5 Obstr trab parto dev apresentacao complexa"]
["    O64.8 Obstr trab part dev out form ma-apres ma-pos"]
["    O64.9 Obstr trab parto dev ma-posic ou ma-apres NE"]
["    O65.0 Obstr trabalho de parto dev deform pelvica"]
["    O65.1 Obstr trab parto dev contracao geral pelve"]
["    O65.2 Obstr trab parto dev contracao estreito sup"]
["    O65.3 Obstr trab parto dev contr estr inf cav med"]
["    O65.4 Obstr trab parto dev desprop feto-pelvica NE"]
["    O65.5 Obstr trab parto dev anorm org pelvicos mat"]
["    O65.8 Obstr trab parto dev outr anorm pelvicas mat"]
["    O65.9 Obstr trab parto dev anorm pelvicas mat NE"]
["    O66.0 Obstr trab parto dev distocia de ombro"]
["    O66.1 Obstr trabalho de parto p/colis de gemeos"]
["    O66.2 Obstr trab parto p/feto excepc grande"]
["    O66.3 Obstr trab parto dev outr anorm do feto"]
["    O66.4 Falha de tentativa de trabalho de parto NE"]
["    O66.5 Falha aplicacao forceps e vacuo-extrator NE"]
["    O66.8 Outr form de obstrucao do trab parto espec"]
["    O66.9 Obstrucao do trabalho de parto NE"]
["    O67.0 Hemorragia intraparto c/defic de coagulacao"]
["    O67.8 Outr hemorragias intraparto|O67.9 Hemorragia intraparto NE"]
["    O68.0 Trab parto e parto compl anorm freq card fet"]
["    O68.1 Trab parto e parto compl meconio liq amniot"]
["    O68.2 Trab part part anor frq card fet mec liq amn"]
["    O68.3 Trab parto e parto compl evid bioq sofr fet"]
["    O68.8 Trab parto e parto compl outr evid sofr fet"]
["    O68.9 Trab parto e parto complic sofr fetal NE"]
["    O69.0 Trab parto e parto complic prolapso cordao"]
["    O69.1 Trab part part compl circul cordao c/compres"]
["    O69.2 Trab parto e parto compl outr enovel cordao"]
["    O69.3 Trab parto e parto complic p/cordao curto"]
["    O69.4 Trab parto e parto complic p/vasa praevia"]
["    O69.5 Trab parto e parto complic lesao vasc cordao"]
["    O69.8 Trab parto e parto complic outr compl cordao"]
["    O69.9 Trab parto e parto complic cordao NE"]
["    O70.0 Laceracao perineo 1. grau durante o parto"]
["    O70.1 Laceracao perineo 2. grau durante o parto"]
["    O70.2 Laceracao perineo 3. grau durante o parto"]
["    O70.3 Laceracao perineo 4. grau durante o parto"]
["    O70.9 Laceracao de perineo durante o parto NE"]
["    O71.0 Ruptura do utero antes inicio trab parto"]
["    O71.1 Ruptura do utero durante o trabalho de parto"]
["    O71.2 Inversao do utero pos-parto"]
["    O71.3 Laceracao obstetrica do colo do utero"]
["    O71.4 Laceracao vaginal alta isolada orig obstetr"]
["    O71.5 Outr lesoes obstetricas aos orgaos pelvicos"]
["    O71.6 Lesao obstetr artic e ligamentos pelvicos"]
["    O71.7 Hematoma obstetrico da pelve|O71.8 Outr traum obstetricos espec"]
["    O71.9 Traum obstetrico NE|O72.0 Hemorragia do terceiro estagio"]
["    O72.1 Outr hemorragias do pos-parto imediato"]
["    O72.2 Hemorragias pos-parto tard e secund"]
["    O72.3 Defic de coagulacao pos-parto|O73.0 Retencao da placenta s/hemorragia"]
["    O73.1 Retencao partes placenta ou membr s/hemorrag"]
["    O74.0 Pneumonite aspirat dev anest trab parto part"]
["    O74.1 Outr complic pulm dev anest trab parto parto"]
["    O74.2 Complic card dev anest trab parto e parto"]
["    O74.3 Comp sist nerv cent dev anest trab part part"]
["    O74.4 Reacao toxica anest local trab parto e parto"]
["    O74.5 Cefal pos-anest raquid perid trab parto part"]
["    O74.6 Outr compl anest raquid perid trab part part"]
["    O74.7 Falha ou dific entubacao trab parto e parto"]
["    O74.8 Outr complic anest durante trab parto parto"]
["    O74.9 Complic anest durante trab parto e parto NE"]
["    O75.0 Sofrim materno durante trab parto e parto"]
["    O75.1 Choque durante ou subseq trab parto e parto"]
["    O75.2 Febre durante o trabalho de parto NCOP"]
["    O75.3 Outr infecc durante o trabalho de parto"]
["    O75.4 Outr complic proced ou cirurgia obstetrica"]
["    O75.5 Demora do parto apos ruptura artif membranas"]
["    O75.6 Demora parto apos ruptura espont ou NE membr"]
["    O75.7 Parto vaginal subseq cesariana anterior"]
["    O75.8 Outr complic espec trab parto e do parto"]
["    O75.9 Complic do trabalho de parto e do parto NE"]
["    O80.0 Parto espontaneo cefalico|O80.1 Parto espontaneo pelvico"]
["    O80.8 Outr tipos de parto unico espontaneo|O80.9 Parto unico espontaneo NE"]
["    O81.0 Parto p/forceps baixo|O81.1 Parto p/forceps da cavidade mediana"]
["    O81.2 Forceps da cavidade mediana c/rotacao"]
["    O81.3 Outr tipos de parto p/forceps e os NE|O81.4 Parto p/vacuo-extrator"]
["    O81.5 Parto p/combinacao forceps e vacuo-extrator"]
["    O82.0 Parto p/cesariana eletiva|O82.1 Parto p/cesariana de emergencia"]
["    O82.2 Parto p/cesariana p/histerectomia"]
["    O82.8 Outr tipos de parto unico p/cesariana|O82.9 Parto p/cesariana NE"]
["    O83.0 Extracao pelvica|O83.1 Outr tipos de parto pelvico assistido"]
["    O83.2 Outr form de parto c/o auxilio manipulacao"]
["    O83.3 Parto de grav intra-abdominal feto viavel"]
["    O83.4 Cirurgia destrutiva p/facilitar o parto"]
["    O83.8 Outr tipos espec de parto unico assistido"]
["    O83.9 Parto unico assistido NE|O84.0 Parto mult todos espontaneos"]
["    O84.1 Parto mult todos p/forceps ou vacuo-extrator"]
["    O84.2 Parto mult todos p/cesariana|O84.8 Outr tipo de parto mult"]
["    O84.9 Parto mult NE|O85   Infecc puerperal"]
["    O86.0 Infecc da incisao cirurgica orig obstetrica"]
["    O86.1 Outr infecc dos orgaos genitais subseq parto"]
["    O86.2 Infecc das vias urinarias subsequentes parto"]
["    O86.3 Outr infecc vias genitourin subseq parto"]
["    O86.4 Febre orig desconhecida subsequente ao parto"]
["    O86.8 Outr infecc puerperais espec|O87.0 Tromboflebite superf no puerperio"]
["    O87.1 Tromboflebite profunda no puerperio|O87.2 Hemorroidas no puerperio"]
["    O87.3 Trombose venosa cerebral no puerperio"]
["    O87.8 Outr complic venosas no puerperio"]
["    O87.9 Complic venosas no puerperio NE|O88.0 Embolia gasosa orig obstetrica"]
["    O88.1 Embolia amniotica|O88.2 Embolia obstetrica p/coagulo de sangue"]
["    O88.3 Embolia septica ou piemica orig obstetrica"]
["    O88.8 Outr embolias orig obstetrica"]
["    O89.0 Complic pulm anestesia durante puerperio"]
["    O89.1 Complic card dev anestesia durante puerperio"]
["    O89.2 Compl rel sist nerv cent dev anest puerperio"]
["    O89.3 Reacao toxica anest local durante puerperio"]
["    O89.4 Cefaleia prov anest raquid perid puerperio"]
["    O89.5 Outr compl anest raquid perid puerperio"]
["    O89.6 Falha dific de entubacao durante puerperio"]
["    O89.8 Outr complic anestesia durante o puerperio"]
["    O89.9 Complic dev anestesia durante o puerperio NE"]
["    O90.0 Ruptura da incisao de cesariana"]
["    O90.1 Ruptura da incisao obstetrica no perineo"]
["    O90.2 Hematoma da incisao obstetrica|O90.3 Cardiomiopatia no puerperio"]
["    O90.4 Insuf renal aguda do pos-parto|O90.5 Tireoidite do pos-parto"]
["    O90.8 Outr complic do puerperio NCOP|O90.9 Complic do puerperio NE"]
["    O91.0 Infecc do mamilo assoc ao parto|O91.1 Abscesso da mama assoc ao parto"]
["    O91.2 Mastite nao purulenta assoc ao parto"]
["    O92.0 Mamilo retraido assoc ao parto|O92.1 Fissuras do mamilo assoc ao parto"]
["    O92.2 Outr afeccoes da mama e as NE assoc ao parto|O92.3 Agalactia"]
["    O92.4 Hipogalactia|O92.5 Suspensao da lactacao|O92.6 Galactorreia"]
["    O92.7 Outr disturbios da lactacao e os NE"]
["    O94   Seqüelas complic gravidez parto e puerpério"]
["    O95   Morte obstetrica de causa NE"]
["    O98.0 Tuberc complic gravidez parto e puerperio"]
["    O98.1 Sifilis complic gravidez parto e puerperio"]
["    O98.2 Gonorreia complic gravidez parto e puerperio"]
["    O98.3 Out inf via trans sex compl grav parto puerp"]
["    O98.4 Hepatite viral complic gravidez parto puerp"]
["    O98.5 Outr doenc virais compl gravidez parto puerp"]
["    O98.6 Doenc caus protozoar compl grav parto puerp"]
["    O98.8 Out doen inf paras mat comp grav parto puerp"]
["    O98.9 Doen inf paras mat NE compl grav parto puerp"]
["    O99.0 Anemia complic gravidez parto puerperio"]
["    O99.1 Out doen sang hemat imun comp grav part puer"]
["    O99.2 Doen endoc nutr metab compl grav parto puerp"]
["    O99.3 Trans ment doen sis nerv comp grav part puer"]
["    O99.4 Doenc ap circulat compl gravidez parto puerp"]
["    O99.5 Doenc ap respirat compl gravidez parto puerp"]
["    O99.6 Doenc ap digestiv compl gravidez parto puerp"]
["    O99.7 Doenc pele tec subcut compl grav parto puerp"]
["    O99.8 Outr doenc afec espec compl grav parto puerp"]
["[Arquivos]"]
["DO10012018.DBC"]
["Registros_Processados= 151251"]
["Tempo_Decorrido= 0:01"]
["Tempo_Decorrido= 0:01"]

{"sheet":"OBITOS_MATERNOS_REG","index":115,"n_rows":9,"n_cols":35,"rows_kept":9,"cut":false,"hidden":true,"merged":[]}
["CÓD","REGIÃO","POP 2015","ÓBITOS MATERNOS 2008","ÓBITOS MATERNOS 2009","ÓBITOS MATERNOS 2010","ÓBITOS MATERNOS 2011","ÓBITOS MATERNOS 2012","ÓBITOS MATERNOS 2013","ÓBITOS MATERNOS 2014","ÓBITOS MATERNOS 2015","ÓBITOS MATERNOS 2016","ÓBITOS MATERNOS 2017","ÓBITOS MATERNOS INV 2008","ÓBITOS MATERNOS INV 2009","ÓBITOS MATERNOS INV 2010","ÓBITOS MATERNOS INV 2011","ÓBITOS MATERNOS INV 2012","ÓBITOS MATERNOS INV 2013","ÓBITOS MATERNOS INV 2014","ÓBITOS MATERNOS INV 2015","ÓBITOS MATERNOS INV 2016","ÓBITOS MATERNOS INV 2017","%ÓBITOS MATERNOS INV 2008","%ÓBITOS MATERNOS INV 2009","%ÓBITOS MATERNOS INV 2010","%ÓBITOS MATERNOS INV 2011","%ÓBITOS MATERNOS INV 2012","%ÓBITOS MATERNOS INV 2013","%ÓBITOS MATERNOS INV 2014","%ÓBITOS MATERNOS INV 2015","%ÓBITOS MATERNOS INV 2016","%ÓBITOS MATERNOS INV 2017","META PACTUADA","SITUAÇÃO"]
[1,"ARACAJU",{"$f":"SUMIF(OBITOS_MATERNOS!$B$2:$B$77,\"ARACAJU\",OBITOS_MATERNOS!D$2:D$77)","v":829684},{"$f":"SUMIF(OBITOS_MATERNOS!$B$2:$B$77,\"ARACAJU\",OBITOS_MATERNOS!E$2:E$77)","v":8},{"$f":"SUMIF(OBITOS_MATERNOS!$B$2:$B$77,\"ARACAJU\",OBITOS_MATERNOS!F$2:F$77)","v":13},{"$f":"SUMIF(OBITOS_MATERNOS!$B$2:$B$77,\"ARACAJU\",OBITOS_MATERNOS!G$2:G$77)","v":9},{"$f":"SUMIF(OBITOS_MATERNOS!$B$2:$B$77,\"ARACAJU\",OBITOS_MATERNOS!H$2:H$77)","v":14},{"$f":"SUMIF(OBITOS_MATERNOS!$B$2:$B$77,\"ARACAJU\",OBITOS_MATERNOS!I$2:I$77)","v":3},{"$f":"SUMIF(OBITOS_MATERNOS!$B$2:$B$77,\"ARACAJU\",OBITOS_MATERNOS!J$2:J$77)","v":10},{"$f":"SUMIF(OBITOS_MATERNOS!$B$2:$B$77,\"ARACAJU\",OBITOS_MATERNOS!K$2:K$77)","v":7},{"$f":"SUMIF(OBITOS_MATERNOS!$B$2:$B$77,\"ARACAJU\",OBITOS_MATERNOS!L$2:L$77)","v":3},{"$f":"SUMIF(OBITOS_MATERNOS!$B$2:$B$77,\"ARACAJU\",OBITOS_MATERNOS!M$2:M$77)","v":6},{"$f":"SUMIF(OBITOS_MATERNOS!$B$2:$B$77,\"ARACAJU\",OBITOS_MATERNOS!N$2:N$77)","v":8},{"$f":"SUMIF(OBITOS_MATERNOS!$B$2:$B$77,\"ARACAJU\",OBITOS_MATERNOS!O$2:O$77)","v":8},{"$f":"SUMIF(OBITOS_MATERNOS!$B$2:$B$77,\"ARACAJU\",OBITOS_MATERNOS!P$2:P$77)","v":13},{"$f":"SUMIF(OBITOS_MATERNOS!$B$2:$B$77,\"ARACAJU\",OBITOS_MATERNOS!Q$2:Q$77)","v":9},{"$f":"SUMIF(OBITOS_MATERNOS!$B$2:$B$77,\"ARACAJU\",OBITOS_MATERNOS!R$2:R$77)","v":14},{"$f":"SUMIF(OBITOS_MATERNOS!$B$2:$B$77,\"ARACAJU\",OBITOS_MATERNOS!S$2:S$77)","v":3},{"$f":"SUMIF(OBITOS_MATERNOS!$B$2:$B$77,\"ARACAJU\",OBITOS_MATERNOS!T$2:T$77)","v":10},{"$f":"SUMIF(OBITOS_MATERNOS!$B$2:$B$77,\"ARACAJU\",OBITOS_MATERNOS!U$2:U$77)","v":7},{"$f":"SUMIF(OBITOS_MATERNOS!$B$2:$B$77,\"ARACAJU\",OBITOS_MATERNOS!V$2:V$77)","v":3},{"$f":"SUMIF(OBITOS_MATERNOS!$B$2:$B$77,\"ARACAJU\",OBITOS_MATERNOS!W$2:W$77)","v":5},{"$f":"SUMIF(OBITOS_MATERNOS!$B$2:$B$77,\"ARACAJU\",OBITOS_MATERNOS!X$2:X$77)","v":7},{"$f":"IFERROR(N2/D2,\"0,00\")","v":1},{"$f":"IFERROR(O2/E2,\"0,00\")","v":1},1,1,1,1,1,1,0.83333333333333337,0.875,{"$f":"METAS!R81","v":7},{"$f":"IF(M2<=AH2,\"ATINGIU\",\"NÃO ATINGIU\")","v":"NÃO ATINGIU"}]
[2,"ESTANCIA",{"$f":"SUMIF(OBITOS_MATERNOS!$B$2:$B$77,\"ESTANCIA\",OBITOS_MATERNOS!D$2:D$77)","v":243464},{"$f":"SUMIF(OBITOS_MATERNOS!$B$2:$B$77,\"ESTANCIA\",OBITOS_MATERNOS!E$2:E$77)","v":1},{"$f":"SUMIF(OBITOS_MATERNOS!$B$2:$B$77,\"ESTANCIA\",OBITOS_MATERNOS!F$2:F$77)","v":3},{"$f":"SUMIF(OBITOS_MATERNOS!$B$2:$B$77,\"ESTANCIA\",OBITOS_MATERNOS!G$2:G$77)","v":2},{"$f":"SUMIF(OBITOS_MATERNOS!$B$2:$B$77,\"ESTANCIA\",OBITOS_MATERNOS!H$2:H$77)","v":4},{"$f":"SUMIF(OBITOS_MATERNOS!$B$2:$B$77,\"ESTANCIA\",OBITOS_MATERNOS!I$2:I$77)","v":4},{"$f":"SUMIF(OBITOS_MATERNOS!$B$2:$B$77,\"ESTANCIA\",OBITOS_MATERNOS!J$2:J$77)","v":4},{"$f":"SUMIF(OBITOS_MATERNOS!$B$2:$B$77,\"ESTANCIA\",OBITOS_MATERNOS!K$2:K$77)","v":0},{"$f":"SUMIF(OBITOS_MATERNOS!$B$2:$B$77,\"ESTANCIA\",OBITOS_MATERNOS!L$2:L$77)","v":1},{"$f":"SUMIF(OBITOS_MATERNOS!$B$2:$B$77,\"ESTANCIA\",OBITOS_MATERNOS!M$2:M$77)","v":1},{"$f":"SUMIF(OBITOS_MATERNOS!$B$2:$B$77,\"ESTANCIA\",OBITOS_MATERNOS!N$2:N$77)","v":2},{"$f":"SUMIF(OBITOS_MATERNOS!$B$2:$B$77,\"ESTANCIA\",OBITOS_MATERNOS!O$2:O$77)","v":1},{"$f":"SUMIF(OBITOS_MATERNOS!$B$2:$B$77,\"ESTANCIA\",OBITOS_MATERNOS!P$2:P$77)","v":3},{"$f":"SUMIF(OBITOS_MATERNOS!$B$2:$B$77,\"ESTANCIA\",OBITOS_MATERNOS!Q$2:Q$77)","v":2},{"$f":"SUMIF(OBITOS_MATERNOS!$B$2:$B$77,\"ESTANCIA\",OBITOS_MATERNOS!R$2:R$77)","v":4},{"$f":"SUMIF(OBITOS_MATERNOS!$B$2:$B$77,\"ESTANCIA\",OBITOS_MATERNOS!S$2:S$77)","v":4},{"$f":"SUMIF(OBITOS_MATERNOS!$B$2:$B$77,\"ESTANCIA\",OBITOS_MATERNOS!T$2:T$77)","v":4},{"$f":"SUMIF(OBITOS_MATERNOS!$B$2:$B$77,\"ESTANCIA\",OBITOS_MATERNOS!U$2:U$77)","v":0},{"$f":"SUMIF(OBITOS_MATERNOS!$B$2:$B$77,\"ESTANCIA\",OBITOS_MATERNOS!V$2:V$77)","v":1},{"$f":"SUMIF(OBITOS_MATERNOS!$B$2:$B$77,\"ESTANCIA\",OBITOS_MATERNOS!W$2:W$77)","v":1},{"$f":"SUMIF(OBITOS_MATERNOS!$B$2:$B$77,\"ESTANCIA\",OBITOS_MATERNOS!X$2:X$77)","v":1},{"$f":"IFERROR(N3/D3,\"0,00\")","v":1},1,1,1,1,1,"0,00",1,1,0.5,{"$f":"METAS!R82","v":1},{"$f":"IF(M3<=AH3,\"ATINGIU\",\"NÃO ATINGIU\")","v":"NÃO ATINGIU"}]
[3,"GLORIA",{"$f":"SUMIF(OBITOS_MATERNOS!$B$2:$B$77,\"GLORIA\",OBITOS_MATERNOS!D$2:D$77)","v":169266},{"$f":"SUMIF(OBITOS_MATERNOS!$B$2:$B$77,\"GLORIA\",OBITOS_MATERNOS!E$2:E$77)","v":6},{"$f":"SUMIF(OBITOS_MATERNOS!$B$2:$B$77,\"GLORIA\",OBITOS_MATERNOS!F$2:F$77)","v":1},{"$f":"SUMIF(OBITOS_MATERNOS!$B$2:$B$77,\"GLORIA\",OBITOS_MATERNOS!G$2:G$77)","v":0},{"$f":"SUMIF(OBITOS_MATERNOS!$B$2:$B$77,\"GLORIA\",OBITOS_MATERNOS!H$2:H$77)","v":3},{"$f":"SUMIF(OBITOS_MATERNOS!$B$2:$B$77,\"GLORIA\",OBITOS_MATERNOS!I$2:I$77)","v":0},{"$f":"SUMIF(OBITOS_MATERNOS!$B$2:$B$77,\"GLORIA\",OBITOS_MATERNOS!J$2:J$77)","v":2},{"$f":"SUMIF(OBITOS_MATERNOS!$B$2:$B$77,\"GLORIA\",OBITOS_MATERNOS!K$2:K$77)","v":2},{"$f":"SUMIF(OBITOS_MATERNOS!$B$2:$B$77,\"GLORIA\",OBITOS_MATERNOS!L$2:L$77)","v":2},{"$f":"SUMIF(OBITOS_MATERNOS!$B$2:$B$77,\"GLORIA\",OBITOS_MATERNOS!M$2:M$77)","v":4},{"$f":"SUMIF(OBITOS_MATERNOS!$B$2:$B$77,\"GLORIA\",OBITOS_MATERNOS!N$2:N$77)","v":0},{"$f":"SUMIF(OBITOS_MATERNOS!$B$2:$B$77,\"GLORIA\",OBITOS_MATERNOS!O$2:O$77)","v":5},{"$f":"SUMIF(OBITOS_MATERNOS!$B$2:$B$77,\"GLORIA\",OBITOS_MATERNOS!P$2:P$77)","v":1},{"$f":"SUMIF(OBITOS_MATERNOS!$B$2:$B$77,\"GLORIA\",OBITOS_MATERNOS!Q$2:Q$77)","v":0},{"$f":"SUMIF(OBITOS_MATERNOS!$B$2:$B$77,\"GLORIA\",OBITOS_MATERNOS!R$2:R$77)","v":3},{"$f":"SUMIF(OBITOS_MATERNOS!$B$2:$B$77,\"GLORIA\",OBITOS_MATERNOS!S$2:S$77)","v":0},{"$f":"SUMIF(OBITOS_MATERNOS!$B$2:$B$77,\"GLORIA\",OBITOS_MATERNOS!T$2:T$77)","v":2},{"$f":"SUMIF(OBITOS_MATERNOS!$B$2:$B$77,\"GLORIA\",OBITOS_MATERNOS!U$2:U$77)","v":2},{"$f":"SUMIF(OBITOS_MATERNOS!$B$2:$B$77,\"GLORIA\",OBITOS_MATERNOS!V$2:V$77)","v":2},{"$f":"SUMIF(OBITOS_MATERNOS!$B$2:$B$77,\"GLORIA\",OBITOS_MATERNOS!W$2:W$77)","v":4},{"$f":"SUMIF(OBITOS_MATERNOS!$B$2:$B$77,\"GLORIA\",OBITOS_MATERNOS!X$2:X$77)","v":0},0.83333333333333337,1,"0,00",1,"0,00",1,1,1,1,"0,00",{"$f":"METAS!R83","v":2},"ATINGIU"]
[4,"ITABAIANA",{"$f":"SUMIF(OBITOS_MATERNOS!$B$2:$B$77,\"ITABAIANA\",OBITOS_MATERNOS!D$2:D$77)","v":248651},{"$f":"SUMIF(OBITOS_MATERNOS!$B$2:$B$77,\"ITABAIANA\",OBITOS_MATERNOS!E$2:E$77)","v":2},{"$f":"SUMIF(OBITOS_MATERNOS!$B$2:$B$77,\"ITABAIANA\",OBITOS_MATERNOS!F$2:F$77)","v":5},{"$f":"SUMIF(OBITOS_MATERNOS!$B$2:$B$77,\"ITABAIANA\",OBITOS_MATERNOS!G$2:G$77)","v":3},{"$f":"SUMIF(OBITOS_MATERNOS!$B$2:$B$77,\"ITABAIANA\",OBITOS_MATERNOS!H$2:H$77)","v":0},{"$f":"SUMIF(OBITOS_MATERNOS!$B$2:$B$77,\"ITABAIANA\",OBITOS_MATERNOS!I$2:I$77)","v":4},{"$f":"SUMIF(OBITOS_MATERNOS!$B$2:$B$77,\"ITABAIANA\",OBITOS_MATERNOS!J$2:J$77)","v":2},{"$f":"SUMIF(OBITOS_MATERNOS!$B$2:$B$77,\"ITABAIANA\",OBITOS_MATERNOS!K$2:K$77)","v":2},{"$f":"SUMIF(OBITOS_MATERNOS!$B$2:$B$77,\"ITABAIANA\",OBITOS_MATERNOS!L$2:L$77)","v":2},{"$f":"SUMIF(OBITOS_MATERNOS!$B$2:$B$77,\"ITABAIANA\",OBITOS_MATERNOS!M$2:M$77)","v":0},{"$f":"SUMIF(OBITOS_MATERNOS!$B$2:$B$77,\"ITABAIANA\",OBITOS_MATERNOS!N$2:N$77)","v":2},{"$f":"SUMIF(OBITOS_MATERNOS!$B$2:$B$77,\"ITABAIANA\",OBITOS_MATERNOS!O$2:O$77)","v":2},{"$f":"SUMIF(OBITOS_MATERNOS!$B$2:$B$77,\"ITABAIANA\",OBITOS_MATERNOS!P$2:P$77)","v":5},{"$f":"SUMIF(OBITOS_MATERNOS!$B$2:$B$77,\"ITABAIANA\",OBITOS_MATERNOS!Q$2:Q$77)","v":3},{"$f":"SUMIF(OBITOS_MATERNOS!$B$2:$B$77,\"ITABAIANA\",OBITOS_MATERNOS!R$2:R$77)","v":0},{"$f":"SUMIF(OBITOS_MATERNOS!$B$2:$B$77,\"ITABAIANA\",OBITOS_MATERNOS!S$2:S$77)","v":4},{"$f":"SUMIF(OBITOS_MATERNOS!$B$2:$B$77,\"ITABAIANA\",OBITOS_MATERNOS!T$2:T$77)","v":2},{"$f":"SUMIF(OBITOS_MATERNOS!$B$2:$B$77,\"ITABAIANA\",OBITOS_MATERNOS!U$2:U$77)","v":2},{"$f":"SUMIF(OBITOS_MATERNOS!$B$2:$B$77,\"ITABAIANA\",OBITOS_MATERNOS!V$2:V$77)","v":2},{"$f":"SUMIF(OBITOS_MATERNOS!$B$2:$B$77,\"ITABAIANA\",OBITOS_MATERNOS!W$2:W$77)","v":0},{"$f":"SUMIF(OBITOS_MATERNOS!$B$2:$B$77,\"ITABAIANA\",OBITOS_MATERNOS!X$2:X$77)","v":1},1,1,1,"0,00",1,1,1,1,"0,00",0.5,{"$f":"METAS!R84","v":0},"NÃO ATINGIU"]
[5,"LAGARTO",{"$f":"SUMIF(OBITOS_MATERNOS!$B$2:$B$77,\"LAGARTO\",OBITOS_MATERNOS!D$2:D$77)","v":257634},{"$f":"SUMIF(OBITOS_MATERNOS!$B$2:$B$77,\"LAGARTO\",OBITOS_MATERNOS!E$2:E$77)","v":2},{"$f":"SUMIF(OBITOS_MATERNOS!$B$2:$B$77,\"LAGARTO\",OBITOS_MATERNOS!F$2:F$77)","v":4},{"$f":"SUMIF(OBITOS_MATERNOS!$B$2:$B$77,\"LAGARTO\",OBITOS_MATERNOS!G$2:G$77)","v":4},{"$f":"SUMIF(OBITOS_MATERNOS!$B$2:$B$77,\"LAGARTO\",OBITOS_MATERNOS!H$2:H$77)","v":2},{"$f":"SUMIF(OBITOS_MATERNOS!$B$2:$B$77,\"LAGARTO\",OBITOS_MATERNOS!I$2:I$77)","v":3},{"$f":"SUMIF(OBITOS_MATERNOS!$B$2:$B$77,\"LAGARTO\",OBITOS_MATERNOS!J$2:J$77)","v":2},{"$f":"SUMIF(OBITOS_MATERNOS!$B$2:$B$77,\"LAGARTO\",OBITOS_MATERNOS!K$2:K$77)","v":6},{"$f":"SUMIF(OBITOS_MATERNOS!$B$2:$B$77,\"LAGARTO\",OBITOS_MATERNOS!L$2:L$77)","v":1},{"$f":"SUMIF(OBITOS_MATERNOS!$B$2:$B$77,\"LAGARTO\",OBITOS_MATERNOS!M$2:M$77)","v":1},{"$f":"SUMIF(OBITOS_MATERNOS!$B$2:$B$77,\"LAGARTO\",OBITOS_MATERNOS!N$2:N$77)","v":1},{"$f":"SUMIF(OBITOS_MATERNOS!$B$2:$B$77,\"LAGARTO\",OBITOS_MATERNOS!O$2:O$77)","v":2},{"$f":"SUMIF(OBITOS_MATERNOS!$B$2:$B$77,\"LAGARTO\",OBITOS_MATERNOS!P$2:P$77)","v":4},{"$f":"SUMIF(OBITOS_MATERNOS!$B$2:$B$77,\"LAGARTO\",OBITOS_MATERNOS!Q$2:Q$77)","v":4},{"$f":"SUMIF(OBITOS_MATERNOS!$B$2:$B$77,\"LAGARTO\",OBITOS_MATERNOS!R$2:R$77)","v":2},{"$f":"SUMIF(OBITOS_MATERNOS!$B$2:$B$77,\"LAGARTO\",OBITOS_MATERNOS!S$2:S$77)","v":3},{"$f":"SUMIF(OBITOS_MATERNOS!$B$2:$B$77,\"LAGARTO\",OBITOS_MATERNOS!T$2:T$77)","v":2},{"$f":"SUMIF(OBITOS_MATERNOS!$B$2:$B$77,\"LAGARTO\",OBITOS_MATERNOS!U$2:U$77)","v":5},{"$f":"SUMIF(OBITOS_MATERNOS!$B$2:$B$77,\"LAGARTO\",OBITOS_MATERNOS!V$2:V$77)","v":1},{"$f":"SUMIF(OBITOS_MATERNOS!$B$2:$B$77,\"LAGARTO\",OBITOS_MATERNOS!W$2:W$77)","v":1},{"$f":"SUMIF(OBITOS_MATERNOS!$B$2:$B$77,\"LAGARTO\",OBITOS_MATERNOS!X$2:X$77)","v":0},1,1,1,1,1,1,0.83333333333333337,1,1,0,{"$f":"METAS!R85","v":0},"NÃO ATINGIU"]
[6,"PROPRIA",{"$f":"SUMIF(OBITOS_MATERNOS!$B$2:$B$77,\"PROPRIA\",OBITOS_MATERNOS!D$2:D$77)","v":158896},{"$f":"SUMIF(OBITOS_MATERNOS!$B$2:$B$77,\"PROPRIA\",OBITOS_MATERNOS!E$2:E$77)","v":3},{"$f":"SUMIF(OBITOS_MATERNOS!$B$2:$B$77,\"PROPRIA\",OBITOS_MATERNOS!F$2:F$77)","v":6},{"$f":"SUMIF(OBITOS_MATERNOS!$B$2:$B$77,\"PROPRIA\",OBITOS_MATERNOS!G$2:G$77)","v":2},{"$f":"SUMIF(OBITOS_MATERNOS!$B$2:$B$77,\"PROPRIA\",OBITOS_MATERNOS!H$2:H$77)","v":1},{"$f":"SUMIF(OBITOS_MATERNOS!$B$2:$B$77,\"PROPRIA\",OBITOS_MATERNOS!I$2:I$77)","v":2},{"$f":"SUMIF(OBITOS_MATERNOS!$B$2:$B$77,\"PROPRIA\",OBITOS_MATERNOS!J$2:J$77)","v":1},{"$f":"SUMIF(OBITOS_MATERNOS!$B$2:$B$77,\"PROPRIA\",OBITOS_MATERNOS!K$2:K$77)","v":2},{"$f":"SUMIF(OBITOS_MATERNOS!$B$2:$B$77,\"PROPRIA\",OBITOS_MATERNOS!L$2:L$77)","v":1},{"$f":"SUMIF(OBITOS_MATERNOS!$B$2:$B$77,\"PROPRIA\",OBITOS_MATERNOS!M$2:M$77)","v":2},{"$f":"SUMIF(OBITOS_MATERNOS!$B$2:$B$77,\"PROPRIA\",OBITOS_MATERNOS!N$2:N$77)","v":0},{"$f":"SUMIF(OBITOS_MATERNOS!$B$2:$B$77,\"PROPRIA\",OBITOS_MATERNOS!O$2:O$77)","v":3},{"$f":"SUMIF(OBITOS_MATERNOS!$B$2:$B$77,\"PROPRIA\",OBITOS_MATERNOS!P$2:P$77)","v":6},{"$f":"SUMIF(OBITOS_MATERNOS!$B$2:$B$77,\"PROPRIA\",OBITOS_MATERNOS!Q$2:Q$77)","v":2},{"$f":"SUMIF(OBITOS_MATERNOS!$B$2:$B$77,\"PROPRIA\",OBITOS_MATERNOS!R$2:R$77)","v":1},{"$f":"SUMIF(OBITOS_MATERNOS!$B$2:$B$77,\"PROPRIA\",OBITOS_MATERNOS!S$2:S$77)","v":2},{"$f":"SUMIF(OBITOS_MATERNOS!$B$2:$B$77,\"PROPRIA\",OBITOS_MATERNOS!T$2:T$77)","v":1},{"$f":"SUMIF(OBITOS_MATERNOS!$B$2:$B$77,\"PROPRIA\",OBITOS_MATERNOS!U$2:U$77)","v":2},{"$f":"SUMIF(OBITOS_MATERNOS!$B$2:$B$77,\"PROPRIA\",OBITOS_MATERNOS!V$2:V$77)","v":1},{"$f":"SUMIF(OBITOS_MATERNOS!$B$2:$B$77,\"PROPRIA\",OBITOS_MATERNOS!W$2:W$77)","v":2},{"$f":"SUMIF(OBITOS_MATERNOS!$B$2:$B$77,\"PROPRIA\",OBITOS_MATERNOS!X$2:X$77)","v":0},1,1,1,1,1,1,1,1,1,"0,00",{"$f":"METAS!R86","v":2},"ATINGIU"]
[7,"SOCORRO",{"$f":"SUMIF(OBITOS_MATERNOS!$B$2:$B$77,\"SOCORRO\",OBITOS_MATERNOS!D$2:D$77)","v":335353},{"$f":"SUMIF(OBITOS_MATERNOS!$B$2:$B$77,\"SOCORRO\",OBITOS_MATERNOS!E$2:E$77)","v":2},{"$f":"SUMIF(OBITOS_MATERNOS!$B$2:$B$77,\"SOCORRO\",OBITOS_MATERNOS!F$2:F$77)","v":3},{"$f":"SUMIF(OBITOS_MATERNOS!$B$2:$B$77,\"SOCORRO\",OBITOS_MATERNOS!G$2:G$77)","v":3},{"$f":"SUMIF(OBITOS_MATERNOS!$B$2:$B$77,\"SOCORRO\",OBITOS_MATERNOS!H$2:H$77)","v":4},{"$f":"SUMIF(OBITOS_MATERNOS!$B$2:$B$77,\"SOCORRO\",OBITOS_MATERNOS!I$2:I$77)","v":6},{"$f":"SUMIF(OBITOS_MATERNOS!$B$2:$B$77,\"SOCORRO\",OBITOS_MATERNOS!J$2:J$77)","v":1},{"$f":"SUMIF(OBITOS_MATERNOS!$B$2:$B$77,\"SOCORRO\",OBITOS_MATERNOS!K$2:K$77)","v":4},{"$f":"SUMIF(OBITOS_MATERNOS!$B$2:$B$77,\"SOCORRO\",OBITOS_MATERNOS!L$2:L$77)","v":8},{"$f":"SUMIF(OBITOS_MATERNOS!$B$2:$B$77,\"SOCORRO\",OBITOS_MATERNOS!M$2:M$77)","v":4},{"$f":"SUMIF(OBITOS_MATERNOS!$B$2:$B$77,\"SOCORRO\",OBITOS_MATERNOS!N$2:N$77)","v":3},{"$f":"SUMIF(OBITOS_MATERNOS!$B$2:$B$77,\"SOCORRO\",OBITOS_MATERNOS!O$2:O$77)","v":2},{"$f":"SUMIF(OBITOS_MATERNOS!$B$2:$B$77,\"SOCORRO\",OBITOS_MATERNOS!P$2:P$77)","v":3},{"$f":"SUMIF(OBITOS_MATERNOS!$B$2:$B$77,\"SOCORRO\",OBITOS_MATERNOS!Q$2:Q$77)","v":3},{"$f":"SUMIF(OBITOS_MATERNOS!$B$2:$B$77,\"SOCORRO\",OBITOS_MATERNOS!R$2:R$77)","v":4},{"$f":"SUMIF(OBITOS_MATERNOS!$B$2:$B$77,\"SOCORRO\",OBITOS_MATERNOS!S$2:S$77)","v":6},{"$f":"SUMIF(OBITOS_MATERNOS!$B$2:$B$77,\"SOCORRO\",OBITOS_MATERNOS!T$2:T$77)","v":1},{"$f":"SUMIF(OBITOS_MATERNOS!$B$2:$B$77,\"SOCORRO\",OBITOS_MATERNOS!U$2:U$77)","v":3},{"$f":"SUMIF(OBITOS_MATERNOS!$B$2:$B$77,\"SOCORRO\",OBITOS_MATERNOS!V$2:V$77)","v":8},{"$f":"SUMIF(OBITOS_MATERNOS!$B$2:$B$77,\"SOCORRO\",OBITOS_MATERNOS!W$2:W$77)","v":4},{"$f":"SUMIF(OBITOS_MATERNOS!$B$2:$B$77,\"SOCORRO\",OBITOS_MATERNOS!X$2:X$77)","v":2},1,1,1,1,1,1,0.75,1,1,0.66666666666666663,{"$f":"METAS!R87","v":2},"NÃO ATINGIU"]
[8,"SERGIPE",{"$f":"SUMIF(OBITOS_MATERNOS!$B$2:$B$77,\"SERGIPE\",OBITOS_MATERNOS!D$2:D$77)","v":2242948},{"$f":"SUMIF(OBITOS_MATERNOS!$B$2:$B$77,\"SERGIPE\",OBITOS_MATERNOS!E$2:E$77)","v":24},{"$f":"SUMIF(OBITOS_MATERNOS!$B$2:$B$77,\"SERGIPE\",OBITOS_MATERNOS!F$2:F$77)","v":35},{"$f":"SUMIF(OBITOS_MATERNOS!$B$2:$B$77,\"SERGIPE\",OBITOS_MATERNOS!G$2:G$77)","v":23},{"$f":"SUMIF(OBITOS_MATERNOS!$B$2:$B$77,\"SERGIPE\",OBITOS_MATERNOS!H$2:H$77)","v":28},{"$f":"SUMIF(OBITOS_MATERNOS!$B$2:$B$77,\"SERGIPE\",OBITOS_MATERNOS!I$2:I$77)","v":22},{"$f":"SUMIF(OBITOS_MATERNOS!$B$2:$B$77,\"SERGIPE\",OBITOS_MATERNOS!J$2:J$77)","v":22},{"$f":"SUMIF(OBITOS_MATERNOS!$B$2:$B$77,\"SERGIPE\",OBITOS_MATERNOS!K$2:K$77)","v":23},{"$f":"SUMIF(OBITOS_MATERNOS!$B$2:$B$77,\"SERGIPE\",OBITOS_MATERNOS!L$2:L$77)","v":18},{"$f":"SUMIF(OBITOS_MATERNOS!$B$2:$B$77,\"SERGIPE\",OBITOS_MATERNOS!M$2:M$77)","v":18},{"$f":"SUMIF(OBITOS_MATERNOS!$B$2:$B$77,\"SERGIPE\",OBITOS_MATERNOS!N$2:N$77)","v":16},{"$f":"SUMIF(OBITOS_MATERNOS!$B$2:$B$77,\"SERGIPE\",OBITOS_MATERNOS!O$2:O$77)","v":23},{"$f":"SUMIF(OBITOS_MATERNOS!$B$2:$B$77,\"SERGIPE\",OBITOS_MATERNOS!P$2:P$77)","v":35},{"$f":"SUMIF(OBITOS_MATERNOS!$B$2:$B$77,\"SERGIPE\",OBITOS_MATERNOS!Q$2:Q$77)","v":23},{"$f":"SUMIF(OBITOS_MATERNOS!$B$2:$B$77,\"SERGIPE\",OBITOS_MATERNOS!R$2:R$77)","v":28},{"$f":"SUMIF(OBITOS_MATERNOS!$B$2:$B$77,\"SERGIPE\",OBITOS_MATERNOS!S$2:S$77)","v":22},{"$f":"SUMIF(OBITOS_MATERNOS!$B$2:$B$77,\"SERGIPE\",OBITOS_MATERNOS!T$2:T$77)","v":22},{"$f":"SUMIF(OBITOS_MATERNOS!$B$2:$B$77,\"SERGIPE\",OBITOS_MATERNOS!U$2:U$77)","v":21},{"$f":"SUMIF(OBITOS_MATERNOS!$B$2:$B$77,\"SERGIPE\",OBITOS_MATERNOS!V$2:V$77)","v":18},{"$f":"SUMIF(OBITOS_MATERNOS!$B$2:$B$77,\"SERGIPE\",OBITOS_MATERNOS!W$2:W$77)","v":17},{"$f":"SUMIF(OBITOS_MATERNOS!$B$2:$B$77,\"SERGIPE\",OBITOS_MATERNOS!X$2:X$77)","v":11},0.95833333333333337,1,1,1,1,1,0.91304347826086951,1,0.94444444444444442,0.6875,{"$f":"METAS!R77","v":14},"NÃO ATINGIU"]

{"sheet":"COBERTURA_AB","index":116,"n_rows":89,"n_cols":24,"rows_kept":89,"cut":false,"hidden":true,"merged":[]}
["Ministério da Saúde ­ MS"]
["Secretaria de Atenção à Saúde ­ SAS"]
["Departamento de Atenção Básica ­ DAB"]
["Cobertura da Atenção Básica"]
["Unidade Geográfica: TODOS OS MUNICÍPIOS - 0"]
["Período: Dezembro de 2017"]
[]
["IBGE","REGIÃO","Município","População","Nº eSF","Estim. Pop. Cob. eSF","Cob. Pop. Estimada eSF","CH Médico AB","CH Enfermeiro AB","Nº eSF equivalente","Nº eAB parametrizada","Estim. Pop. Cob. AB","Cob. Pop. Estimada AB","Meta 2017","SITUAÇÃO",null,null,"CÓD","REGIÃO","População","Estim. Pop. Cob. AB","Cob. Pop. Estimada AB","META","SITUAÇÃO"]
[280010,"PROPRIA","AMPARO DE SÃO FRANCISCO",2382,1,2382,1,0,0,0,0,2382,1,{"$f":"METAS!S2","v":1},{"$f":"IF(M9>=N9,\"ATINGIU\",\"NÃO ATINGIU\")","v":"ATINGIU"},null,null,1,"ARACAJU",{"$f":"SUMIF($B$9:$B$84,\"ARACAJU\",$D$9:$D$84)","v":841037},{"$f":"SUMIF($B$9:$B$84,\"ARACAJU\",$L$9:$L$84)","v":627606},{"$f":"U9/T9","v":0.74622876282494111},{"$f":"METAS!S81","v":0.79769999999999996},{"$f":"IF(V9>=W9,\"ATINGIU\",\"NÃO ATINGIU\")","v":"NÃO ATINGIU"}]
[280020,"PROPRIA","AQUIDABÃ",21452,8,21452,1,0,0,0,0,21452,1,{"$f":"METAS!S3","v":0.8347},{"$f":"IF(M10>=N10,\"ATINGIU\",\"NÃO ATINGIU\")","v":"ATINGIU"},null,null,2,"ESTANCIA",{"$f":"SUMIF($B$9:$B$84,\"ESTANCIA\",$D$9:$D$84)","v":245042},{"$f":"SUMIF($B$9:$B$84,\"ESTANCIA\",$L$9:$L$84)","v":232755},{"$f":"U10/T10","v":0.94985757543604765},{"$f":"METAS!S82","v":0.95030000000000003},{"$f":"IF(V10>=W10,\"ATINGIU\",\"NÃO ATINGIU\")","v":"NÃO ATINGIU"}]
[280030,"ARACAJU","ARACAJU",641523,125,422970,0.6593,1646,690,17.25,0,474720,0.74,{"$f":"METAS!S4","v":0.7883},"NÃO ATINGIU",null,null,3,"GLORIA",{"$f":"SUMIF($B$9:$B$84,\"GLORIA\",$D$9:$D$84)","v":170971},{"$f":"SUMIF($B$9:$B$84,\"GLORIA\",$L$9:$L$84)","v":167874},0.98188581689292331,{"$f":"METAS!S83","v":0.92290000000000005},"ATINGIU"]
[280040,"ESTANCIA","ARAUÁ",10467,5,10467,1,0,40,0,0,10467,1,{"$f":"METAS!S5","v":1},"ATINGIU",null,null,4,"ITABAIANA",{"$f":"SUMIF($B$9:$B$84,\"ITABAIANA\",$D$9:$D$84)","v":250562},{"$f":"SUMIF($B$9:$B$84,\"ITABAIANA\",$L$9:$L$84)","v":231469},0.92379929917545356,{"$f":"METAS!S84","v":0.89249999999999996},"ATINGIU"]
[280050,"ITABAIANA","AREIA BRANCA",18329,6,18329,1,24,0,0,0,18329,1,{"$f":"METAS!S6","v":1},"ATINGIU",null,null,5,"LAGARTO",{"$f":"SUMIF($B$9:$B$84,\"LAGARTO\",$D$9:$D$84)","v":259343},{"$f":"SUMIF($B$9:$B$84,\"LAGARTO\",$L$9:$L$84)","v":232085},0.89489594860859945,{"$f":"METAS!S85","v":0.59219999999999995},"ATINGIU"]
[280060,"ARACAJU","BARRA DOS COQUEIROS",29248,8,27600,0.94369999999999998,100,140,1.66,0,29248,1,{"$f":"METAS!S7","v":1},"ATINGIU",null,null,6,"PROPRIA",{"$f":"SUMIF($B$9:$B$84,\"PROPRIA\",$D$9:$D$84)","v":159553},{"$f":"SUMIF($B$9:$B$84,\"PROPRIA\",$L$9:$L$84)","v":159087},0.99707934040726276,{"$f":"METAS!S86","v":0.97530000000000006},"ATINGIU"]
[280067,"ESTANCIA","BOQUIM",26856,10,26856,1,68,40,1,0,26856,1,{"$f":"METAS!S8","v":1},"ATINGIU",null,null,7,"SOCORRO",{"$f":"SUMIF($B$9:$B$84,\"SOCORRO\",$D$9:$D$84)","v":339271},{"$f":"SUMIF($B$9:$B$84,\"SOCORRO\",$L$9:$L$84)","v":339099},0.99949303064511852,{"$f":"METAS!S87","v":0.9998999999999999},"NÃO ATINGIU"]
[280070,"PROPRIA","BREJO GRANDE",8271,3,8271,1,16,40,0.26,0,8271,1,{"$f":"METAS!S9","v":1},"ATINGIU",null,null,280000,"SERGIPE",{"$f":"SUMIF($B$9:$B$84,\"SERGIPE\",$D$9:$D$84)","v":2265779},{"$f":"SUMIF($B$9:$B$84,\"SERGIPE\",$L$9:$L$84)","v":1989010},0.87784819260836999,{"$f":"N84","v":0.87450000000000006},"ATINGIU"]
[280100,"ITABAIANA","CAMPO DO BRITO",17986,6,17986,1,27,100,0.45,0,17986,1,{"$f":"METAS!S10","v":1},"ATINGIU"]
[280110,"PROPRIA","CANHOBA",4057,2,4057,1,52,40,0.86,0,4057,1,{"$f":"METAS!S11","v":1},"ATINGIU"]
[280120,"GLORIA","CANINDÉ DE SÃO FRANCISCO",28832,11,28832,1,0,170,0,0,28832,1,{"$f":"METAS!S12","v":1},"ATINGIU"]
[280130,"SOCORRO","CAPELA",33715,13,33715,1,20,80,0.33,0,33715,1,{"$f":"METAS!S13","v":1},"ATINGIU"]
[280140,"ITABAIANA","CARIRA",21665,7,21665,1,0,0,0,0,21665,1,{"$f":"METAS!S14","v":1},"ATINGIU"]
[280150,"SOCORRO","CARMÓPOLIS",15952,4,13800,0.86509999999999998,40,40,0.66,0,15780,0.98919999999999997,{"$f":"METAS!S15","v":1},"NÃO ATINGIU"]
[280160,"PROPRIA","CEDRO DE SÃO JOÃO",5912,3,5912,1,30,0,0,0,5912,1,{"$f":"METAS!S16","v":1},"ATINGIU"]
[280170,"ESTANCIA","CRISTINÁPOLIS",18092,7,18092,1,10,64,0.16,0,18092,1,{"$f":"METAS!S17","v":1},"ATINGIU"]
[280190,"SOCORRO","CUMBE",3999,2,3999,1,59,0,0,0,3999,1,{"$f":"METAS!S18","v":1},"ATINGIU"]
[280200,"ARACAJU","DIVINA PASTORA",4975,2,4975,1,40,40,0.66,0,4975,1,{"$f":"METAS!S19","v":1},"ATINGIU"]
[280210,"ESTANCIA","ESTÂNCIA",68846,19,65550,0.95209999999999995,30,40,0.5,0,67050,0.97389999999999999,{"$f":"METAS!S20","v":0.98019999999999996},"NÃO ATINGIU"]
[280220,"GLORIA","FEIRA NOVA",5595,2,5595,1,56,40,0.93,0,5595,1,{"$f":"METAS!S21","v":1},"ATINGIU"]
[280230,"ITABAIANA","FREI PAULO",15200,5,15200,1,80,0,0,0,15200,1,{"$f":"METAS!S22","v":1},"ATINGIU"]
[280240,"GLORIA","GARARU",11730,4,11730,1,20,0,0,0,11730,1,{"$f":"METAS!S23","v":1},"ATINGIU"]
[280250,"SOCORRO","GENERAL MAYNARD",3274,1,3274,1,12,40,0.2,0,3274,1,{"$f":"METAS!S24","v":1},"ATINGIU"]
[280260,"GLORIA","GRACHO CARDOSO",5859,2,5859,1,0,70,0,0,5859,1,{"$f":"METAS!S25","v":1},"ATINGIU"]
[280270,"PROPRIA","ILHA DAS FLORES",8604,4,8604,1,0,0,0,0,8604,1,{"$f":"METAS!S26","v":1},"ATINGIU"]
[280280,"ESTANCIA","INDIAROBA",17600,6,17600,1,48,40,0.8,0,17600,1,{"$f":"METAS!S27","v":1},"ATINGIU"]
[280290,"ITABAIANA","ITABAIANA",94393,19,65550,0.69440000000000002,304,130,3.25,0,75300,0.79769999999999996,{"$f":"METAS!S28","v":0.71430000000000005},"ATINGIU"]
[280300,"ESTANCIA","ITABAIANINHA",41686,12,41400,0.99309999999999998,80,0,0,0,41400,0.99309999999999998,{"$f":"METAS!S29","v":0.83329999999999993},"ATINGIU"]
[280310,"GLORIA","ITABI",5002,2,5002,1,8,16,0.13,0,5002,1,{"$f":"METAS!S30","v":1},"ATINGIU"]
[280320,"ARACAJU","ITAPORANGA D'AJUDA",33713,13,33713,1,52,100,0.86,0,33713,1,{"$f":"METAS!S31","v":1},"ATINGIU"]
[280330,"SOCORRO","JAPARATUBA",18474,7,18474,1,20,0,0,0,18474,1,{"$f":"METAS!S32","v":0.98730000000000007},"ATINGIU"]
[280340,"PROPRIA","JAPOATÃ",13242,4,13242,1,0,0,0,0,13242,1,{"$f":"METAS!S33","v":1},"ATINGIU"]
[280350,"LAGARTO","LAGARTO",103188,21,72450,0.70209999999999995,162,85,2.12,0,78810,0.76380000000000003,{"$f":"METAS!S34","v":0.62109999999999999},"ATINGIU"]
[280360,"ARACAJU","LARANJEIRAS",29418,10,29418,1,0,120,0,0,29418,1,{"$f":"METAS!S35","v":1},"ATINGIU"]
[280370,"ITABAIANA","MACAMBIRA",6873,2,6873,1,19,40,0.31,0,6873,1,{"$f":"METAS!S36","v":1},"ATINGIU"]
[280380,"PROPRIA","MALHADA DOS BOIS",3673,2,3673,1,8,0,0,0,3673,1,{"$f":"METAS!S37","v":1},"ATINGIU"]
[280390,"ITABAIANA","MALHADOR",12645,4,12645,1,100,40,1,0,12645,1,{"$f":"METAS!S38","v":1},"ATINGIU"]
[280400,"SOCORRO","MARUIM",17225,7,17225,1,10,36,0.16,0,17225,1,{"$f":"METAS!S39","v":1},"ATINGIU"]
[280410,"ITABAIANA","MOITA BONITA",11416,4,11416,1,0,0,0,0,11416,1,{"$f":"METAS!S40","v":1},"ATINGIU"]
[280420,"GLORIA","MONTE ALEGRE DE SERGIPE",15017,5,15017,1,0,0,0,0,15017,1,{"$f":"METAS!S41","v":1},"ATINGIU"]
[280430,"PROPRIA","MURIBECA",7662,3,7662,1,36,0,0,0,7662,1,{"$f":"METAS!S42","v":1},"ATINGIU"]
[280440,"PROPRIA","NEÓPOLIS",18956,8,18956,1,16,0,0,0,18956,1,{"$f":"METAS!S43","v":1},"ATINGIU"]
[280445,"ITABAIANA","NOSSA SENHORA APARECIDA",8850,4,8850,1,24,0,0,0,8850,1,{"$f":"METAS!S44","v":1},"ATINGIU"]
[280450,"GLORIA","NOSSA SENHORA DA GLÓRIA",36174,11,36174,1,80,120,1.33,0,36174,1,{"$f":"METAS!S45","v":1},"ATINGIU"]
[280460,"SOCORRO","NOSSA SENHORA DAS DORES",26434,10,26434,1,88,48,1.2,0,26434,1,{"$f":"METAS!S46","v":1},"ATINGIU"]
[280470,"PROPRIA","NOSSA SENHORA DE LOURDES",6512,3,6512,1,40,0,0,0,6512,1,{"$f":"METAS!S47","v":1},"ATINGIU"]
[280480,"SOCORRO","NOSSA SENHORA DO SOCORRO",179661,59,179661,1,60,120,1,0,179661,1,{"$f":"METAS!S48","v":1},"ATINGIU"]
[280490,"PROPRIA","PACATUBA",14293,5,14293,1,0,40,0,0,14293,1,{"$f":"METAS!S49","v":1},"ATINGIU"]
[280500,"ITABAIANA","PEDRA MOLE",3227,1,3227,1,0,40,0,0,3227,1,{"$f":"METAS!S50","v":1},"ATINGIU"]
[280510,"ESTANCIA","PEDRINHAS",9523,2,6900,0.72460000000000002,0,120,0,0,6900,0.72460000000000002,{"$f":"METAS!S51","v":1},"NÃO ATINGIU"]
[280520,"ITABAIANA","PINHÃO",6499,2,6499,1,20,0,0,0,6499,1,{"$f":"METAS!S52","v":1},"ATINGIU"]
[280530,"SOCORRO","PIRAMBU",9153,3,9153,1,140,110,2.33,0,9153,1,{"$f":"METAS!S53","v":1},"ATINGIU"]
[280540,"GLORIA","POÇO REDONDO",34147,9,31050,0.9093,80,0,0,0,31050,0.9093,{"$f":"METAS!S54","v":0.61520000000000008},"ATINGIU"]
[280550,"LAGARTO","POÇO VERDE",23580,6,20700,0.87790000000000001,0,0,0,0,20700,0.87790000000000001,{"$f":"METAS!S55","v":0.87790000000000001},"ATINGIU"]
[280560,"GLORIA","PORTO DA FOLHA",28615,9,28615,1,52,80,0.86,0,28615,1,{"$f":"METAS!S56","v":1},"ATINGIU"]
[280570,"PROPRIA","PROPRIÁ",29745,9,29745,1,80,40,1,0,29745,1,{"$f":"METAS!S57","v":1},"ATINGIU"]
[280580,"LAGARTO","RIACHÃO DO DANTAS",19995,6,19995,1,13,0,0,0,19995,1,{"$f":"METAS!S58","v":1},"ATINGIU"]
[280590,"ARACAJU","RIACHUELO",10116,4,10116,1,40,40,0.66,0,10116,1,{"$f":"METAS!S59","v":1},"ATINGIU"]
[280600,"ITABAIANA","RIBEIRÓPOLIS",18503,7,18503,1,16,120,0.26,0,18503,1,{"$f":"METAS!S60","v":1},"ATINGIU"]
[280610,"SOCORRO","ROSÁRIO DO CATETE",10533,4,10533,1,80,0,0,0,10533,1,{"$f":"METAS!S61","v":1},"ATINGIU"]
[280620,"LAGARTO","SALGADO",20126,7,20126,1,70,40,1,0,20126,1,{"$f":"METAS!S62","v":1},"ATINGIU"]
[280630,"ESTANCIA","SANTA LUZIA DO ITANHY",13936,6,13936,1,0,0,0,0,13936,1,{"$f":"METAS!S63","v":1},"ATINGIU"]
[280640,"PROPRIA","SANTANA DO SÃO FRANCISCO",7680,3,7680,1,2,0,0,0,7680,1,{"$f":"METAS!S64","v":1},"ATINGIU"]
[280650,"ARACAJU","SANTA ROSA DE LIMA",3926,2,3926,1,0,0,0,0,3926,1,{"$f":"METAS!S65","v":1},"ATINGIU"]
[280660,"SOCORRO","SANTO AMARO DAS BROTAS",12086,4,12086,1,40,92,0.66,0,12086,1,{"$f":"METAS!S66","v":1},"ATINGIU"]
[280670,"ARACAJU","SÃO CRISTÓVÃO",88118,10,34500,0.39150000000000001,140,170,2.33,0,41490,0.4708,{"$f":"METAS!S67","v":0.61049999999999993},{"$f":"IF(M74>=N74,\"ATINGIU\",\"NÃO ATINGIU\")","v":"NÃO ATINGIU"}]
[280680,"ITABAIANA","SÃO DOMINGOS",11053,4,11053,1,0,40,0,0,11053,1,{"$f":"METAS!S68","v":1},"ATINGIU"]
[280690,"PROPRIA","SÃO FRANCISCO",3916,1,3450,0.88100000000000001,28,0,0,0,3450,0.88100000000000001,{"$f":"METAS!S69","v":0.89680000000000004},"NÃO ATINGIU"]
[280700,"ITABAIANA","SÃO MIGUEL DO ALEIXO",3923,2,3923,1,8,0,0,0,3923,1,{"$f":"METAS!S70","v":1},"ATINGIU"]
[280710,"LAGARTO","SIMÃO DIAS",40684,12,40684,1,180,100,2.5,0,40684,1,{"$f":"METAS!S71","v":0.80319999999999991},"ATINGIU"]
[280720,"SOCORRO","SIRIRI",8765,4,8765,1,31,40,0.51,0,8765,1,{"$f":"METAS!S72","v":1},"ATINGIU"]
[280730,"PROPRIA","TELHA",3196,1,3196,1,32,70,0.53,0,3196,1,{"$f":"METAS!S73","v":1},"ATINGIU"]
[280740,"LAGARTO","TOBIAS BARRETO",51770,13,44850,0.86629999999999996,194,120,3,0,51770,1,{"$f":"METAS!S74","v":0.79900000000000004},"ATINGIU"]
[280750,"ESTANCIA","TOMAR DO GERU",13204,5,13204,1,24,128,0.4,0,13204,1,{"$f":"METAS!S75","v":1},"ATINGIU"]
[280760,"ESTANCIA","UMBAÚBA",24832,5,17250,0.69469999999999998,40,0,0,0,17250,0.69469999999999998,{"$f":"METAS!S76","v":0.84329999999999994},"NÃO ATINGIU"]
[280000,"SERGIPE","SERGIPE",2265779,617,1902112,0.83949582020135238,4893,3889,null,0,1989010,0.87784819260836999,{"$f":"METAS!S77","v":0.87450000000000006},"ATINGIU"]
[]
["Fonte: e-Gestor Atenção Básica"]
["E-mail: nti.dab@saude.gov.br"]
["Dado gerado em: 19 de Fevereiro de 2018 - 17:33h"]
["Desenvolvido pelo Núcleo de Tecnologia da Informação - NTI/DAB"]

{"sheet":"PBF_ACOMP_2017","index":117,"n_rows":86,"n_cols":43,"rows_kept":86,"cut":false,"hidden":true,"merged":[]}
["Relatório consolidado do Bolsa Família ",null,null,null,null,"Ministério da Saúde"]
["MS / SE / DATASUS",null,null,null,null,"Secretaria de Atenção à Saúde",null,null,null,null,null,null,null,null,null,null,null,null,null,null,null,null,null,null,null,null,null,null,null,null,null,null,null,null,null,null,null,null,null,null,null,null,{"$f":"PBF_ACOMP_2017!#REF!=SUMIF(PBF_ACOMP_2017!$B7:$B81,\"ARACAJU\",PBF_ACOMP_2017!E7:E81)","v":{"$error":"#REF!"}}]
["Percentual de cobertura com base nas famílias totalmente acompanhadas",null,null,null,null,"Departamento de Atenção Básica"]
["Período: (SERGIPE)     ",null,null,null,null,"Coordenação-Geral de Alimentação e Nutrição"]
["Fonte: Bolsa Família, relatório 11/02/2018 - 21:20:47   Data da última consolidação 02/02/2018"]
["CÓD","REGIÃO","MUNICÍPIO","POP 2015","FAMILIA","FAMILIA ACOMP","PERCENTUAL DE FAMILIAS ACOMP","META 2017","SITUAÇÃO"]
[280010,"PROPRIA","AMPARO DE SÃO FRANCISCO",2374,296,267,0.90202702702702697,{"$f":"METAS!T2","v":0.88},{"$f":"IF(G7>=H7,\"ATINGIU\",\"NÃO ATINGIU\")","v":"ATINGIU"}]
[280020,"PROPRIA","AQUIDABA",21315,2451,2100,0.85679314565483478,{"$f":"METAS!T3","v":0.85},{"$f":"IF(G8>=H8,\"ATINGIU\",\"NÃO ATINGIU\")","v":"ATINGIU"}]
[280030,"ARACAJU","ARACAJU",632745,24694,16312,0.66056531951081232,{"$f":"METAS!T4","v":0.7},"NÃO ATINGIU"]
[280040,"ESTANCIA","ARAUA",10572,1728,1477,0.85474537037037035,{"$f":"METAS!T5","v":0.87},"NÃO ATINGIU"]
[280050,"ITABAIANA","AREIA BRANCA",18169,1813,1626,0.89685603971318262,{"$f":"METAS!T6","v":0.88},"ATINGIU"]
[280060,"ARACAJU","BARRA DOS COQUEIROS",28679,2392,1903,0.7955685618729097,{"$f":"METAS!T7","v":0.75},"ATINGIU"]
[280067,"ESTANCIA","BOQUIM",26750,3345,3162,0.94529147982062778,{"$f":"METAS!T8","v":0.78},"ATINGIU"]
[280070,"PROPRIA","BREJO GRANDE",8218,1180,1152,0.97627118644067801,{"$f":"METAS!T9","v":0.95},"ATINGIU"]
[280100,"ITABAIANA","CAMPO DO BRITO",17851,2021,1744,0.86293913904007913,{"$f":"METAS!T10","v":0.8},"ATINGIU"]
[280110,"PROPRIA","CANHOBA",4059,757,669,0.88375165125495381,{"$f":"METAS!T11","v":0.96},"NÃO ATINGIU"]
[280120,"GLORIA","CANINDE DE SAO FRANCISCO",28279,4179,2878,0.68868150275185447,{"$f":"METAS!T12","v":0.75},"NÃO ATINGIU"]
[280130,"SOCORRO","CAPELA",33378,4228,3481,0.82332071901608328,{"$f":"METAS!T13","v":0.73},"ATINGIU"]
[280140,"ITABAIANA","CARIRA",21487,3319,2658,0.80084362759867433,{"$f":"METAS!T14","v":0.86},"NÃO ATINGIU"]
[280150,"SOCORRO","CARMOPOLIS",15621,1934,1323,0.68407445708376424,{"$f":"METAS!T15","v":0.75},"NÃO ATINGIU"]
[280160,"PROPRIA","CEDRO DE SAO JOAO",5890,636,568,0.89308176100628933,{"$f":"METAS!T16","v":0.9},"NÃO ATINGIU"]
[280170,"ESTANCIA","CRISTINAPOLIS",17911,2544,2138,0.84040880503144655,{"$f":"METAS!T17","v":0.83},"ATINGIU"]
[280190,"SOCORRO","CUMBE",3986,618,549,0.88834951456310685,{"$f":"METAS!T18","v":0.78},"ATINGIU"]
[280200,"ARACAJU","DIVINA PASTORA",4889,547,470,0.85923217550274222,{"$f":"METAS!T19","v":0.82},"ATINGIU"]
[280210,"ESTANCIA","ESTANCIA",68407,6125,5164,0.84310204081632656,{"$f":"METAS!T20","v":0.8},"ATINGIU"]
[280220,"GLORIA","FEIRA NOVA",5571,1071,942,0.8795518207282913,{"$f":"METAS!T21","v":0.83},"ATINGIU"]
[280230,"ITABAIANA","FREI PAULO",15044,1619,1318,0.81408276714021,{"$f":"METAS!T22","v":0.85},"NÃO ATINGIU"]
[280240,"GLORIA","GARARU",11724,1819,1580,0.86860912589334804,{"$f":"METAS!T23","v":0.9},"NÃO ATINGIU"]
[280250,"SOCORRO","GENERAL MAYNARD",3230,263,194,0.73764258555133078,{"$f":"METAS!T24","v":0.8},"NÃO ATINGIU"]
[280260,"GLORIA","GRACHO CARDOSO",5846,1179,1084,0.91942324003392706,{"$f":"METAS!T25","v":0.96},"NÃO ATINGIU"]
[280270,"PROPRIA","ILHA DAS FLORES",8597,1340,1192,0.88955223880597012,{"$f":"METAS!T26","v":0.95},"NÃO ATINGIU"]
[280280,"ESTANCIA","INDIAROBA",17384,2497,2336,0.93552262715258305,{"$f":"METAS!T27","v":0.87},"ATINGIU"]
[280290,"ITABAIANA","ITABAIANA",93573,9418,8641,0.9174984073051603,{"$f":"METAS!T28","v":0.85},"ATINGIU"]
[280300,"ESTANCIA","ITABAIANINHA",41405,5613,4581,0.81614110101549975,{"$f":"METAS!T29","v":0.75},"ATINGIU"]
[280310,"GLORIA","ITABI",5017,668,498,0.74550898203592819,{"$f":"METAS!T30","v":0.92},"NÃO ATINGIU"]
[280320,"ARACAJU","ITAPORANGA D'AJUDA",33320,4192,3726,0.88883587786259544,{"$f":"METAS!T31","v":0.8},"ATINGIU"]
[280330,"SOCORRO","JAPARATUBA",18286,2247,1759,0.78282153983088565,{"$f":"METAS!T32","v":0.78},"ATINGIU"]
[280340,"PROPRIA","JAPOATA",13245,2110,1202,0.56966824644549763,{"$f":"METAS!T33","v":0.74},"NÃO ATINGIU"]
[280350,"LAGARTO","LAGARTO",102259,10806,9294,0.86007773459189341,{"$f":"METAS!T34","v":0.8},"ATINGIU"]
[280360,"ARACAJU","LARANJEIRAS",29127,2742,2292,0.83588621444201316,{"$f":"METAS!T35","v":0.84},"NÃO ATINGIU"]
[280370,"ITABAIANA","MACAMBIRA",6823,1020,985,0.96568627450980393,{"$f":"METAS!T36","v":0.85},"ATINGIU"]
[280380,"PROPRIA","MALHADA DOS BOIS",3652,487,454,0.93223819301848054,{"$f":"METAS!T37","v":0.96},"NÃO ATINGIU"]
[280390,"ITABAIANA","MALHADOR",12601,1615,1354,0.83839009287925692,{"$f":"METAS!T38","v":0.82},"ATINGIU"]
[280400,"SOCORRO","MARUIM",17151,1870,1271,0.67967914438502675,{"$f":"METAS!T39","v":0.75},"NÃO ATINGIU"]
[280410,"ITABAIANA","MOITA BONITA",11399,1032,944,0.9147286821705426,{"$f":"METAS!T40","v":0.84},"ATINGIU"]
[280420,"GLORIA","MONTE ALEGRE DE SERGIPE",14853,2591,2050,0.79120030876109615,{"$f":"METAS!T41","v":0.79},"ATINGIU"]
[280430,"PROPRIA","MURIBECA",7644,1148,1093,0.95209059233449478,{"$f":"METAS!T42","v":0.95},"ATINGIU"]
[280440,"PROPRIA","NEOPOLIS",18958,2363,1649,0.69784172661870503,{"$f":"METAS!T43","v":0.75},"NÃO ATINGIU"]
[280445,"ITABAIANA","NOSSA SENHORA APARECIDA",8830,1246,1073,0.8611556982343499,{"$f":"METAS!T44","v":0.8},"ATINGIU"]
[280450,"GLORIA","NOSSA SENHORA DA GLORIA",35723,5744,4709,0.81981197771587744,{"$f":"METAS!T45","v":0.83},"NÃO ATINGIU"]
[280460,"SOCORRO","NOSSA SENHORA DAS DORES",26237,3473,2671,0.76907572703714366,{"$f":"METAS!T46","v":0.76},"ATINGIU"]
[280470,"PROPRIA","NOSSA SENHORA DE LOURDES",6494,1025,992,0.96780487804878046,{"$f":"METAS!T47","v":0.96},"ATINGIU"]
[280480,"SOCORRO","NOSSA SENHORA DO SOCORRO",177340,16246,12137,0.74707620337313796,{"$f":"METAS!T48","v":0.73},"ATINGIU"]
[280490,"PROPRIA","PACATUBA",14164,2274,2201,0.96789797713280568,{"$f":"METAS!T49","v":0.96},"ATINGIU"]
[280500,"ITABAIANA","PEDRA MOLE",3199,509,449,0.88212180746561886,{"$f":"METAS!T50","v":0.8},"ATINGIU"]
[280510,"ESTANCIA","PEDRINHAS",9455,1365,1260,0.92307692307692313,{"$f":"METAS!T51","v":0.93},"NÃO ATINGIU"]
[280520,"ITABAIANA","PINHAO",6439,997,895,0.89769307923771313,{"$f":"METAS!T52","v":0.85},"ATINGIU"]
[280530,"SOCORRO","PIRAMBU",9058,1436,1243,0.8655988857938719,{"$f":"METAS!T53","v":0.87},"NÃO ATINGIU"]
[280540,"GLORIA","POCO REDONDO",33756,5881,5414,0.92059173609930289,{"$f":"METAS!T54","v":0.91},"ATINGIU"]
[280550,"LAGARTO","POCO VERDE",23413,3111,2650,0.85181613629058184,{"$f":"METAS!T55","v":0.8},"ATINGIU"]
[280560,"GLORIA","PORTO DA FOLHA",28497,4759,4181,0.87854591300693419,{"$f":"METAS!T56","v":0.88},"NÃO ATINGIU"]
[280570,"PROPRIA","PROPRIA",29657,3154,2659,0.84305643627140137,{"$f":"METAS!T57","v":0.87},"NÃO ATINGIU"]
[280580,"LAGARTO","RIACHAO DO DANTAS",19976,2776,2452,0.88328530259365989,{"$f":"METAS!T58","v":0.92},"NÃO ATINGIU"]
[280590,"ARACAJU","RIACHUELO",10033,1173,838,0.71440750213128734,{"$f":"METAS!T59","v":0.78},"NÃO ATINGIU"]
[280600,"ITABAIANA","RIBEIROPOLIS",18363,1918,1718,0.89572471324296143,{"$f":"METAS!T60","v":0.85},"ATINGIU"]
[280610,"SOCORRO","ROSARIO DO CATETE",10367,1337,997,0.74569932685115936,{"$f":"METAS!T61","v":0.75},"NÃO ATINGIU"]
[280620,"LAGARTO","SALGADO",20082,2527,1964,0.77720617332805697,{"$f":"METAS!T62","v":0.73},"ATINGIU"]
[280630,"ESTANCIA","SANTA LUZIA DO ITANHY",13838,2174,1782,0.81968721251149956,{"$f":"METAS!T63","v":0.8},"ATINGIU"]
[280640,"PROPRIA","SANTANA DO SAO FRANCISCO",7607,1260,949,0.75317460317460316,{"$f":"METAS!T64","v":0.76},"NÃO ATINGIU"]
[280650,"ARACAJU","SANTA ROSA DE LIMA",3912,500,359,0.71799999999999997,{"$f":"METAS!T65","v":0.85},"NÃO ATINGIU"]
[280660,"SOCORRO","SANTO AMARO DAS BROTAS",12024,1644,1297,0.78892944038929436,{"$f":"METAS!T66","v":0.8},"NÃO ATINGIU"]
[280670,"ARACAJU","SAO CRISTOVAO",86979,7799,7523,0.96461084754455695,{"$f":"METAS!T67","v":0.95},{"$f":"IF(G72>=H72,\"ATINGIU\",\"NÃO ATINGIU\")","v":"ATINGIU"}]
[280680,"ITABAIANA","SAO DOMINGOS",10971,1417,1158,0.81721947776993653,{"$f":"METAS!T68","v":0.72},"ATINGIU"]
[280690,"PROPRIA","SAO FRANCISCO",3851,376,337,0.89627659574468088,{"$f":"METAS!T69","v":0.9},"NÃO ATINGIU"]
[280700,"ITABAIANA","SAO MIGUEL DO ALEIXO",3902,475,367,0.77263157894736845,{"$f":"METAS!T70","v":0.9},"NÃO ATINGIU"]
[280710,"LAGARTO","SIMAO DIAS",40530,6797,5494,0.80829777843166106,{"$f":"METAS!T71","v":0.84},"NÃO ATINGIU"]
[280720,"SOCORRO","SIRIRI",8675,1097,1015,0.92525068368277119,{"$f":"METAS!T72","v":0.86},"ATINGIU"]
[280730,"PROPRIA","TELHA",3171,431,383,0.88863109048723898,{"$f":"METAS!T73","v":0.85},"ATINGIU"]
[280740,"LAGARTO","TOBIAS BARRETO",51374,6636,6196,0.93369499698613623,{"$f":"METAS!T74","v":0.9},"ATINGIU"]
[280750,"ESTANCIA","TOMAR DO GERU",13200,1935,1719,0.88837209302325582,{"$f":"METAS!T75","v":0.88},"ATINGIU"]
[280760,"ESTANCIA","UMBAUBA",24542,3189,2940,0.9219190968955786,{"$f":"METAS!T76","v":0.85},"ATINGIU"]
[280000,"SERGIPE","SERGIPE",2242948,221198,182102,0.8232533748044738,{"$f":"METAS!T77","v":0.78},"ATINGIU"]
[]
[]
["Data da consolidação 02/02/2018"]
["Base de dados 11/02/2018"]

{"sheet":"PBF_ACOMP_REG_2017","index":118,"n_rows":9,"n_cols":8,"rows_kept":9,"cut":false,"hidden":true,"merged":[]}
["CÓD","REGIÃO","POP 2015","FAMILIA","FAMILIA ACOMP","PERCENTUAL DE FAMILIAS ACOMP","META 2017","SITUAÇÃO"]
[1,"ARACAJU",{"$f":"SUMIF(PBF_ACOMP_2017!$B$7:$B$82,\"ARACAJU\",PBF_ACOMP_2017!D$7:D$82)","v":829684},{"$f":"SUMIF(PBF_ACOMP_2017!$B$7:$B$82,\"ARACAJU\",PBF_ACOMP_2017!E$7:E$82)","v":44039},{"$f":"SUMIF(PBF_ACOMP_2017!$B$7:$B$82,\"ARACAJU\",PBF_ACOMP_2017!F$7:F$82)","v":33423},{"$f":"E2/D2","v":0.75894093871341306},{"$f":"METAS!T81","v":0.78},{"$f":"IF(F2>=G2,\"ATINGIU\",\"NÃO ATINGIU\")","v":"NÃO ATINGIU"}]
[2,"ESTANCIA",{"$f":"SUMIF(PBF_ACOMP_2017!$B$7:$B$82,\"ESTANCIA\",PBF_ACOMP_2017!D$7:D$82)","v":243464},{"$f":"SUMIF(PBF_ACOMP_2017!$B$7:$B$82,\"ESTANCIA\",PBF_ACOMP_2017!E$7:E$82)","v":30515},{"$f":"SUMIF(PBF_ACOMP_2017!$B$7:$B$82,\"ESTANCIA\",PBF_ACOMP_2017!F$7:F$82)","v":26559},{"$f":"E3/D3","v":0.87035883991479601},{"$f":"METAS!T82","v":0.78},{"$f":"IF(F3>=G3,\"ATINGIU\",\"NÃO ATINGIU\")","v":"ATINGIU"}]
[3,"GLORIA",{"$f":"SUMIF(PBF_ACOMP_2017!$B$7:$B$82,\"GLORIA\",PBF_ACOMP_2017!D$7:D$82)","v":169266},{"$f":"SUMIF(PBF_ACOMP_2017!$B$7:$B$82,\"GLORIA\",PBF_ACOMP_2017!E$7:E$82)","v":27891},{"$f":"SUMIF(PBF_ACOMP_2017!$B$7:$B$82,\"GLORIA\",PBF_ACOMP_2017!F$7:F$82)","v":23336},0.83668566921229071,{"$f":"METAS!T83","v":0.78},"ATINGIU"]
[4,"ITABAIANA",{"$f":"SUMIF(PBF_ACOMP_2017!$B$7:$B$82,\"ITABAIANA\",PBF_ACOMP_2017!D$7:D$82)","v":248651},{"$f":"SUMIF(PBF_ACOMP_2017!$B$7:$B$82,\"ITABAIANA\",PBF_ACOMP_2017!E$7:E$82)","v":28419},{"$f":"SUMIF(PBF_ACOMP_2017!$B$7:$B$82,\"ITABAIANA\",PBF_ACOMP_2017!F$7:F$82)","v":24930},0.87723002216826773,{"$f":"METAS!T84","v":0.78},"ATINGIU"]
[5,"LAGARTO",{"$f":"SUMIF(PBF_ACOMP_2017!$B$7:$B$82,\"LAGARTO\",PBF_ACOMP_2017!D$7:D$82)","v":257634},{"$f":"SUMIF(PBF_ACOMP_2017!$B$7:$B$82,\"LAGARTO\",PBF_ACOMP_2017!E$7:E$82)","v":32653},{"$f":"SUMIF(PBF_ACOMP_2017!$B$7:$B$82,\"LAGARTO\",PBF_ACOMP_2017!F$7:F$82)","v":28050},0.85903286068661378,{"$f":"METAS!T85","v":0.78},"ATINGIU"]
[6,"PROPRIA",{"$f":"SUMIF(PBF_ACOMP_2017!$B$7:$B$82,\"PROPRIA\",PBF_ACOMP_2017!D$7:D$82)","v":158896},{"$f":"SUMIF(PBF_ACOMP_2017!$B$7:$B$82,\"PROPRIA\",PBF_ACOMP_2017!E$7:E$82)","v":21288},{"$f":"SUMIF(PBF_ACOMP_2017!$B$7:$B$82,\"PROPRIA\",PBF_ACOMP_2017!F$7:F$82)","v":17867},0.83929913566328451,{"$f":"METAS!T86","v":0.78},"ATINGIU"]
[7,"SOCORRO",{"$f":"SUMIF(PBF_ACOMP_2017!$B$7:$B$82,\"SOCORRO\",PBF_ACOMP_2017!D$7:D$82)","v":335353},{"$f":"SUMIF(PBF_ACOMP_2017!$B$7:$B$82,\"SOCORRO\",PBF_ACOMP_2017!E$7:E$82)","v":36393},{"$f":"SUMIF(PBF_ACOMP_2017!$B$7:$B$82,\"SOCORRO\",PBF_ACOMP_2017!F$7:F$82)","v":27937},0.76764762454318136,{"$f":"METAS!T87","v":0.78},"NÃO ATINGIU"]
[8,"SERGIPE",{"$f":"SUMIF(PBF_ACOMP_2017!$B$7:$B$82,\"SERGIPE\",PBF_ACOMP_2017!D$7:D$82)","v":2242948},{"$f":"SUMIF(PBF_ACOMP_2017!$B$7:$B$82,\"SERGIPE\",PBF_ACOMP_2017!E$7:E$82)","v":221198},{"$f":"SUMIF(PBF_ACOMP_2017!$B$7:$B$82,\"SERGIPE\",PBF_ACOMP_2017!F$7:F$82)","v":182102},0.8232533748044738,{"$f":"METAS!T77","v":0.78},"ATINGIU"]

{"sheet":"COBETURA_SB","index":119,"n_rows":90,"n_cols":23,"rows_kept":90,"cut":false,"hidden":true,"merged":[]}
["Ministério da Saúde ­ MS"]
["Secretaria de Atenção à Saúde ­ SAS"]
["Departamento de Atenção Básica ­ DAB"]
["Cobertura da Saúde Bucal"]
["Unidade Geográfica: TODOS OS MUNICÍPIOS - NORDESTE"]
["Período: Dezembro de 2017"]
[]
[]
["IBGE","REGIÃO","Município","População","Nº eSB","Estim. Pop. Cob. eSB","Cob. Pop. Estimada eSB","CH Dentista AB","Nº eSB equivalente","Nº eAB parametrizada com SB","Estim. Pop. Cob. SB na AB","Cob. Pop. Estimada SB na AB","Meta 2017","SITUAÇÃO",null,null,"CÓD","REGIÃO","População","Estim. Pop. Cob. AB","Cob. Pop. Estimada AB","META","SITUAÇÃO"]
[280010,"PROPRIÁ","AMPARO DE SÃO FRANCISCO",2382,1,2382,1,0,0,0,2382,1,{"$f":"METAS!U2","v":1},{"$f":"IF(L10>=M10,\"ATINGIU\",\"NÃO ATINGIU\")","v":"ATINGIU"},null,null,1,"ARACAJU",{"$f":"SUMIF($B$10:$B$85,\"ARACAJU\",$D$10:$E$85)","v":841037},{"$f":"SUMIF($B$10:$B$85,\"ARACAJU\",$K$10:$K$85)","v":536706},{"$f":"T10/S10","v":0.63814790550237388},{"$f":"METAS!U81","v":0.6623},{"$f":"IF(U10>=V10,\"ATINGIU\",\"NÃO ATINGIU\")","v":"NÃO ATINGIU"}]
[280020,"PROPRIÁ","AQUIDABÃ",21452,3,10350,0.48249999999999998,0,0,0,10350,0.48249999999999998,{"$f":"METAS!U3","v":0.16190000000000002},{"$f":"IF(L11>=M11,\"ATINGIU\",\"NÃO ATINGIU\")","v":"ATINGIU"},null,null,2,"ESTÂNCIA",{"$f":"SUMIF($B$10:$B$85,\"ESTÂNCIA\",$D$10:$D$85)","v":245042},{"$f":"SUMIF($B$10:$B$85,\"ESTÂNCIA\",$K$10:$K$85)","v":201772},{"$f":"T11/S11","v":0.82341802629753269},{"$f":"METAS!U82","v":0.7631},{"$f":"IF(U11>=V11,\"ATINGIU\",\"NÃO ATINGIU\")","v":"ATINGIU"}]
[280030,"ARACAJU","ARACAJU",641523,99,341550,0.53239999999999998,617,15.42,0,387810,0.60450000000000004,{"$f":"METAS!U4","v":0.64249999999999996},"NÃO ATINGIU",null,null,3,"GLÓRIA",{"$f":"SUMIF($B$10:$B$85,\"GLÓRIA\",$D$10:$D$85)","v":28832},{"$f":"SUMIF($B$10:$B$85,\"GLÓRIA\",$K$10:$K$85)","v":27600},0.95726970033296332,{"$f":"METAS!U83","v":0.64069999999999994},"ATINGIU"]
[280040,"ESTÂNCIA","ARAUÁ",10467,3,10350,0.98880000000000001,76,1.9,0,10467,1,{"$f":"METAS!U5","v":0.9788},"ATINGIU",null,null,4,"ITABAIANA",{"$f":"SUMIF($B$10:$B$85,\"ITABAIANA\",$D$10:$D$85)","v":250562},{"$f":"SUMIF($B$10:$B$85,\"ITABAIANA\",$K$10:$K$85)","v":151974},0.60653251490649018,{"$f":"METAS!U84","v":0.624},"NÃO ATINGIU"]
[280050,"ITABAIANA","AREIA BRANCA",18329,2,6900,0.3765,20,0.5,0,8400,0.45829999999999999,{"$f":"METAS!U6","v":0.56979999999999997},"NÃO ATINGIU",null,null,5,"LAGARTO",{"$f":"SUMIF($B$10:$B$85,\"LAGARTO\",$D$10:$D$85)","v":259343},{"$f":"SUMIF($B$10:$B$85,\"LAGARTO\",$K$10:$K$85)","v":159000},0.61308768696282534,{"$f":"METAS!U85","v":0.49659999999999999},"ATINGIU"]
[280060,"ARACAJU","BARRA DOS COQUEIROS",29248,7,24150,0.82569999999999999,80,2,0,29248,1,{"$f":"METAS!U7","v":0.82569999999999988},"ATINGIU",null,null,6,"PROPRIÁ",{"$f":"SUMIF($B$10:$B$85,\"PROPRIÁ\",$D$10:$D$85)","v":159553},{"$f":"SUMIF($B$10:$B$85,\"PROPRIÁ\",$K$10:$K$85)","v":145829},0.91398469474093247,{"$f":"METAS!U86","v":0.88090000000000002},"ATINGIU"]
[280067,"ESTÂNCIA","BOQUIM",26856,5,17250,0.64229999999999998,60,1.5,0,21750,0.80989999999999995,{"$f":"METAS!U8","v":0.70090000000000008},"ATINGIU",null,null,7,"SOCORRO",{"$f":"SUMIF($B$10:$B$85,\"SOCORRO\",$D$10:$D$85)","v":339271},{"$f":"SUMIF($B$10:$B$85,\"SOCORRO\",$K$10:$K$85)","v":324122},0.95534837931918737,{"$f":"METAS!U87","v":0.9849},"NÃO ATINGIU"]
[280070,"PROPRIÁ","BREJO GRANDE",8271,3,8271,1,0,0,0,8271,1,{"$f":"METAS!U9","v":1},"ATINGIU",null,null,280000,"SERGIPE",{"$f":"SUMIF($B$10:$B$85,\"SERGIPE\",$D$10:$D$85)","v":2265779},{"$f":"SUMIF($B$10:$B$85,\"SERGIPE\",$K$10:$K$85)","v":1640690},0.72411740068206121,{"$f":"METAS!U77","v":0.71200000000000008},"ATINGIU"]
[280100,"ITABAIANA","CAMPO DO BRITO",17986,6,17986,1,0,0,0,17986,1,{"$f":"METAS!U10","v":1},"ATINGIU"]
[280110,"PROPRIÁ","CANHOBA",4057,1,3450,0.85040000000000004,20,0.5,0,4057,1,{"$f":"METAS!U11","v":0.75},"ATINGIU"]
[280120,"GLÓRIA","CANINDÉ DE SÃO FRANCISCO",28832,8,27600,0.95730000000000004,0,0,0,27600,0.95730000000000004,{"$f":"METAS!U12","v":0.97599999999999998},"NÃO ATINGIU"]
[280130,"SOCORRO","CAPELA",33715,10,33715,1,100,2.5,0,33715,1,{"$f":"METAS!U13","v":0.93040000000000012},"ATINGIU"]
[280140,"ITABAIANA","CARIRA",21665,1,3450,0.15920000000000001,0,0,0,3450,0.15920000000000001,{"$f":"METAS!U14","v":0.32119999999999999},"NÃO ATINGIU"]
[280150,"SOCORRO","CARMÓPOLIS",15952,4,13800,0.86509999999999998,40,1,0,15952,1,{"$f":"METAS!U15","v":0.98},"ATINGIU"]
[280160,"PROPRIÁ","CEDRO DE SÃO JOÃO",5912,3,5912,1,0,0,0,5912,1,{"$f":"METAS!U16","v":1},"ATINGIU"]
[280170,"ESTÂNCIA","CRISTINÁPOLIS",18092,6,18092,1,0,0,0,18092,1,{"$f":"METAS!U17","v":1},"ATINGIU"]
[280190,"SOCORRO","CUMBE",3999,1,3450,0.86270000000000002,28,0.7,0,3999,1,{"$f":"METAS!U18","v":0.86569999999999991},"ATINGIU"]
[280200,"ARACAJU","DIVINA PASTORA",4975,2,4975,1,12,0.3,0,4975,1,{"$f":"METAS!U19","v":1},"ATINGIU"]
[280210,"ESTÂNCIA","ESTÂNCIA",68846,15,51750,0.75170000000000003,20,0.5,0,53250,0.77349999999999997,{"$f":"METAS!U20","v":0.75650000000000006},"ATINGIU"]
[280220,"GLORIA","FEIRA NOVA",5595,2,5595,1,0,0,0,5595,1,{"$f":"METAS!U21","v":0.61909999999999998},"ATINGIU"]
[280230,"ITABAIANA","FREI PAULO",15200,5,15200,1,0,0,0,15200,1,{"$f":"METAS!U22","v":1},"ATINGIU"]
[280240,"GLORIA","GARARU",11730,2,6900,0.58819999999999995,40,1,0,9900,0.84399999999999997,{"$f":"METAS!U23","v":0.75},"ATINGIU"]
[280250,"SOCORRO","GENERAL MAYNARD",3274,1,3274,1,0,0,0,3274,1,{"$f":"METAS!U24","v":1},"ATINGIU"]
[280260,"GLORIA","GRACHO CARDOSO",5859,2,5859,1,0,0,0,5859,1,{"$f":"METAS!U25","v":1},"ATINGIU"]
[280270,"PROPRIÁ","ILHA DAS FLORES",8604,4,8604,1,0,0,0,8604,1,{"$f":"METAS!U26","v":1},"ATINGIU"]
[280280,"ESTÂNCIA","INDIAROBA",17600,5,17250,0.98009999999999997,68,1.7,0,17600,1,{"$f":"METAS!U27","v":1},"ATINGIU"]
[280290,"ITABAIANA","ITABAIANA",94393,10,34500,0.36549999999999999,40,1,0,37500,0.39729999999999999,{"$f":"METAS!U28","v":0.35590000000000005},"ATINGIU"]
[280300,"ESTÂNCIA","ITABAIANINHA",41686,7,24150,0.57930000000000004,80,2,0,30150,0.72330000000000005,{"$f":"METAS!U29","v":0.53620000000000001},"ATINGIU"]
[280310,"GLORIA","ITABI",5002,1,3450,0.68969999999999998,0,0,0,3450,0.68969999999999998,{"$f":"METAS!U30","v":0.68769999999999998},"ATINGIU"]
[280320,"ARACAJU","ITAPORANGA D'AJUDA",33713,12,33713,1,40,1,0,33713,1,{"$f":"METAS!U31","v":1},"ATINGIU"]
[280330,"SOCORRO","JAPARATUBA",18474,1,3450,0.1867,0,0,0,3450,0.1867,{"$f":"METAS!U32","v":0.94319999999999993},"NÃO ATINGIU"]
[280340,"PROPRIÁ","JAPOATÃ",13242,4,13242,1,0,0,0,13242,1,{"$f":"METAS!U33","v":1},"ATINGIU"]
[280350,"LAGARTO","LAGARTO",103188,10,34500,0.33429999999999999,258,6.45,0,53850,0.52190000000000003,{"$f":"METAS!U34","v":0.33450000000000002},"ATINGIU"]
[280360,"ARACAJU","LARANJEIRAS",29418,9,29418,1,110,2.75,0,29418,1,{"$f":"METAS!U35","v":1},"ATINGIU"]
[280370,"ITABAIANA","MACAMBIRA",6873,2,6873,1,40,1,0,6873,1,{"$f":"METAS!U36","v":1},"ATINGIU"]
[280380,"PROPRIÁ","MALHADA DOS BOIS",3673,2,3673,1,16,0.4,0,3673,1,{"$f":"METAS!U37","v":1},"ATINGIU"]
[280390,"ITABAIANA","MALHADOR",12645,2,6900,0.54569999999999996,20,0.5,0,8400,0.6643,{"$f":"METAS!U38","v":0.54770000000000008},"ATINGIU"]
[280400,"SOCORRO","MARUIM",17225,3,10350,0.60089999999999999,90,2.25,0,17100,0.99270000000000003,{"$f":"METAS!U39","v":1},"NÃO ATINGIU"]
[280410,"ITABAIANA","MOITA BONITA",11416,3,10350,0.90659999999999996,40,1,0,11416,1,{"$f":"METAS!U40","v":0.9083},"ATINGIU"]
[280420,"GLORIA","MONTE ALEGRE DE SERGIPE",15017,3,10350,0.68920000000000003,0,0,0,10350,0.68920000000000003,{"$f":"METAS!U41","v":0.59709999999999996},"ATINGIU"]
[280430,"PROPRIÁ","MURIBECA",7662,3,7662,1,0,0,0,7662,1,{"$f":"METAS!U42","v":1},"ATINGIU"]
[280440,"PROPRIÁ","NEÓPOLIS",18956,4,13800,0.72799999999999998,40,1,0,16800,0.88629999999999998,{"$f":"METAS!U43","v":0.96530000000000005},"NÃO ATINGIU"]
[280445,"ITABAIANA","NOSSA SENHORA APARECIDA",8850,4,8850,1,0,0,0,8850,1,{"$f":"METAS!U44","v":1},"ATINGIU"]
[280450,"GLORIA","NOSSA SENHORA DA GLÓRIA",36174,8,27600,0.76300000000000001,0,0,0,27600,0.76300000000000001,{"$f":"METAS!U45","v":0.85650000000000004},"NÃO ATINGIU"]
[280460,"SOCORRO","NOSSA SENHORA DAS DORES",26434,8,26434,1,0,0,0,26434,1,{"$f":"METAS!U46","v":1},"ATINGIU"]
[280470,"PROPRIÁ","NOSSA SENHORA DE LOURDES",6512,3,6512,1,20,0.5,0,6512,1,{"$f":"METAS!U47","v":1},"ATINGIU"]
[280480,"SOCORRO","NOSSA SENHORA DO SOCORRO",179661,52,179400,0.99850000000000005,40,1,0,179661,1,{"$f":"METAS!U48","v":0.99},"ATINGIU"]
[280490,"PROPRIÁ","PACATUBA",14293,5,14293,1,0,0,0,14293,1,{"$f":"METAS!U49","v":1},"ATINGIU"]
[280500,"ITABAIANA","PEDRA MOLE",3227,1,3227,1,40,1,0,3227,1,{"$f":"METAS!U50","v":1},"ATINGIU"]
[280510,"ESTÂNCIA","PEDRINHAS",9523,3,9523,1,0,0,0,9523,1,{"$f":"METAS!U51","v":1},"ATINGIU"]
[280520,"ITABAIANA","PINHÃO",6499,2,6499,1,40,1,0,6499,1,{"$f":"METAS!U52","v":1},"ATINGIU"]
[280530,"SOCORRO","PIRAMBU",9153,4,9153,1,0,0,0,9153,1,{"$f":"METAS!U53","v":1},"ATINGIU"]
[280540,"GLORIA","POÇO REDONDO",34147,3,10350,0.30309999999999998,40,1,0,13350,0.39100000000000001,{"$f":"METAS!U54","v":0.20440000000000003},"ATINGIU"]
[280550,"LAGARTO","POÇO VERDE",23580,5,17250,0.73160000000000003,0,0,0,17250,0.73160000000000003,{"$f":"METAS!U55","v":0.58930000000000005},"ATINGIU"]
[280560,"GLORIA","PORTO DA FOLHA",28615,3,10350,0.36170000000000002,90,2.25,0,17100,0.59760000000000002,{"$f":"METAS!U56","v":0.36329999999999996},"ATINGIU"]
[280570,"PROPRIÁ","PROPRIÁ",29745,8,27600,0.92789999999999995,40,1,0,29745,1,{"$f":"METAS!U57","v":1},"ATINGIU"]
[280580,"LAGARTO","RIACHÃO DO DANTAS",19995,3,10350,0.51759999999999995,0,0,0,10350,0.51759999999999995,{"$f":"METAS!U58","v":0.56320000000000003},"NÃO ATINGIU"]
[280590,"ARACAJU","RIACHUELO",10116,4,10116,1,40,1,0,10116,1,{"$f":"METAS!U59","v":1},"ATINGIU"]
[280600,"ITABAIANA","RIBEIRÓPOLIS",18503,4,13800,0.74580000000000002,40,1,0,16800,0.90800000000000003,{"$f":"METAS!U60","v":1},"NÃO ATINGIU"]
[280610,"SOCORRO","ROSÁRIO DO CATETE",10533,4,10533,1,40,1,0,10533,1,{"$f":"METAS!U61","v":1},"ATINGIU"]
[280620,"LAGARTO","SALGADO",20126,4,13800,0.68569999999999998,40,1,0,16800,0.8347,{"$f":"METAS!U62","v":0.56999999999999995},"ATINGIU"]
[280630,"ESTÂNCIA","SANTA LUZIA DO ITANHY",13936,5,13936,1,40,1,0,13936,1,{"$f":"METAS!U63","v":0.83299999999999996},"ATINGIU"]
[280640,"PROPRIÁ","SANTANA DO SÃO FRANCISCO",7680,3,7680,1,40,1,0,7680,1,{"$f":"METAS!U64","v":1},"ATINGIU"]
[280650,"ARACAJU","SANTA ROSA DE LIMA",3926,2,3926,1,0,0,0,3926,1,{"$f":"METAS!U65","v":1},"ATINGIU"]
[280660,"SOCORRO","SANTO AMARO DAS BROTAS",12086,3,10350,0.85640000000000005,40,1,0,12086,1,{"$f":"METAS!U66","v":1},"ATINGIU"]
[280670,"ARACAJU","SÃO CRISTÓVÃO",88118,10,34500,0.39150000000000001,40,1,0,37500,0.42559999999999998,{"$f":"METAS!U67","v":0.43109999999999998},{"$f":"IF(L75>=M75,\"ATINGIU\",\"NÃO ATINGIU\")","v":"NÃO ATINGIU"}]
[280680,"ITABAIANA","SÃO DOMINGOS",11053,1,3450,0.31209999999999999,0,0,0,3450,0.31209999999999999,{"$f":"METAS!U68","v":0.62890000000000001},"NÃO ATINGIU"]
[280690,"PROPRIÁ","SÃO FRANCISCO",3916,1,3450,0.88100000000000001,0,0,0,3450,0.88100000000000001,{"$f":"METAS!U69","v":0.89680000000000004},"NÃO ATINGIU"]
[280700,"ITABAIANA","SÃO MIGUEL DO ALEIXO",3923,2,3923,1,34,0.85,0,3923,1,{"$f":"METAS!U70","v":1},"ATINGIU"]
[280710,"LAGARTO","SIMÃO DIAS",40684,5,17250,0.42399999999999999,160,4,0,29250,0.71899999999999997,{"$f":"METAS!U71","v":0.54409999999999992},"ATINGIU"]
[280720,"SOCORRO","SIRIRI",8765,4,8765,1,20,0.5,0,8765,1,{"$f":"METAS!U72","v":1},"ATINGIU"]
[280730,"PROPRIÁ","TELHA",3196,1,3196,1,20,0.5,0,3196,1,{"$f":"METAS!U73","v":1},"ATINGIU"]
[280740,"LAGARTO","TOBIAS BARRETO",51770,5,17250,0.3332,190,4.75,0,31500,0.60850000000000004,{"$f":"METAS!U74","v":0.51680000000000004},"ATINGIU"]
[280750,"ESTÂNCIA","TOMAR DO GERU",13204,4,13204,1,40,1,0,13204,1,{"$f":"METAS!U75","v":0.78410000000000002},"ATINGIU"]
[280760,"ESTÂNCIA","UMBAÚBA",24832,4,13800,0.55569999999999997,0,0,0,13800,0.55569999999999997,{"$f":"METAS!U76","v":0.56220000000000003},"NÃO ATINGIU"]
[280000,"SERGIPE","SERGIPE",2265779,452,1478651,0.65260159971471177,2977,74.419999999999987,0,1640690,0.72411740068206121,{"$f":"METAS!U77","v":0.71200000000000008},"ATINGIU"]
[]
["Fonte: e-Gestor Atenção Básica"]
["E-mail: nti.dab@saude.gov.br"]
["Dado gerado em: 19 de Fevereiro de 2018 - 17:42h"]
["Desenvolvido pelo Núcleo de Tecnologia da Informação - NTI/DAB"]

{"sheet":"AÇOES_VIGIL","index":120,"n_rows":92,"n_cols":40,"rows_kept":92,"cut":false,"hidden":true,"merged":[[87,2,87,9],[91,2,91,5],[81,2,81,9],[82,2,82,9],[83,2,83,9],[84,2,84,9],[85,2,85,9],[86,2,86,9]]}
[null,null,"Monitoramento Indicador 2017 (GERAL) - dados gerados em 05/02/2018"]
[]
["IBGE","REGIÃO","Município","Estimativa de População IBGE 2014","Faixa Populacional","cadastro","inspeção","atividade educativa para a população","atividade educativa para o setor regulado","recebimento de denuncias","atendimento de denuncias","número de procedimentos","proced. realizados (%)","META","SITUAÇÃO",null,null,null,"CÓD","REGIÃO","Estimativa de População IBGE 2014","cadastro","inspeção","atividade educativa para a população","atividade educativa para o setor regulado","recebimento de denuncias","atendimento de denuncias","número de procedimentos","proced. realizados (%)","PACTUADO","SITUAÇÃO",null,"ATIVIDADES EDUCATIVAS PARA O SETOR REGULADO","CADASTRO DE ESTABELECIMENTOS SUJEITOS A VIGILANCIA","INSPEÇÃO DOS ESTABELECIMENTOS SUJEITOS A VIGILANCI","ATIVIDADE EDUCATIVA PARA A POPULAÇÃO","RECEBIMENTO DE DENÚNCIAS/RECLAMAÇÕES","ATENDIMENTO DE DENÚNCIAS/RECLAMAÇÕES"]
["280010","PROPRIÁ","Amparo de São Francisco",2366,"menor que 20.000",12,18,19,0,18,18,{"$f":"COUNTIF(F4:K4,\"<>0\")","v":5},{"$f":"L4/6","v":0.83333333333333337},{"$f":"METAS!V2","v":1},{"$f":"IF(M4>=N4,\"ATINGIU\",\"NÃO ATINGIU\")","v":"NÃO ATINGIU"},null,{"$f":"COUNTIF(F4:K4,\"0\")","v":1},null,1,"ARACAJU",{"$f":"SUMIF($B$4:$B$79,\"ARACAJU\",D$4:D$79)","v":818071},{"$f":"SUMIF($B$4:$B$79,\"ARACAJU\",F$4:F$79)","v":3732},{"$f":"SUMIF($B$4:$B$79,\"ARACAJU\",G$4:G$79)","v":10037},303,206,399,383,43,null,null,{"$f":"IF(W4>=X4,\"ATINGIU\",\"NÃO ATINGIU\")","v":"ATINGIU"},null,0,15,19,19,18,18,{"$f":"COUNTIF(AG4:AL4,\"<>0\")","v":5},5]
["280020","PROPRIÁ","Aquidabã",21170,"≥20.000 e <50.000",4,25,2,1,30,24,{"$f":"COUNTIF(F5:K5,\"<>0\")","v":6},{"$f":"L5/6","v":1},{"$f":"METAS!V3","v":1},{"$f":"IF(M5>=N5,\"ATINGIU\",\"NÃO ATINGIU\")","v":"ATINGIU"},null,0,null,2,"ESTÂNCIA",{"$f":"SUMIF($B$4:$B$79,\"ESTÂNCIA\",D$4:D$79)","v":241838},{"$f":"SUMIF($B$4:$B$79,\"ESTÂNCIA\",F$4:F$79)","v":342},{"$f":"SUMIF($B$4:$B$79,\"ESTÂNCIA\",G$4:G$79)","v":2127},71,30,291,233,51,null,null,"ATINGIU",null,1,0,11,0,31,24,{"$f":"COUNTIF(AG5:AL5,\"<>0\")","v":4},6]
["280030","ARACAJU","Aracaju",623766,"≥500.000",3532,9145,66,31,158,168,6,1,{"$f":"METAS!V4","v":1},"ATINGIU",null,0,null,3,"GLÓRIA",{"$f":"SUMIF($B$4:$B$79,\"GLÓRIA\",D$10:D$85)","v":156042},{"$f":"SUMIF($B$4:$B$79,\"GLÓRIA\",F$4:F$79)","v":309},{"$f":"SUMIF($B$4:$B$79,\"GLÓRIA\",G$4:G$79)","v":864},500,713,328,268,32,null,null,"ATINGIU",null,111,3614,10270,90,168,177,6,6]
["280040","ESTÂNCIA","Arauá",10684,"menor que 20.000",8,2,31,15,35,35,6,1,{"$f":"METAS!V5","v":1},"ATINGIU",null,0,null,4,"ITABAIANA",{"$f":"SUMIF($B$10:$B$85,\"ITABAIANA\",$D$10:$D$85)","v":228689},{"$f":"SUMIF($B$4:$B$79,\"ITABAIANA\",F$4:F$79)","v":499},{"$f":"SUMIF($B$4:$B$79,\"ITABAIANA\",G$4:G$79)","v":1203},188,120,206,172,64,null,null,"ATINGIU",null,15,8,2,33,36,36,6,6]
["280050","ITABAIANA","Areia Branca",17996,"menor que 20.000",15,78,8,0,38,38,5,0.83333333333333337,{"$f":"METAS!V6","v":1},"NÃO ATINGIU",null,1,null,5,"LAGARTO",{"$f":"SUMIF($B$10:$B$85,\"LAGARTO\",$D$10:$D$85)","v":255885},{"$f":"SUMIF($B$4:$B$79,\"LAGARTO\",F$4:F$79)","v":229},{"$f":"SUMIF($B$4:$B$79,\"LAGARTO\",G$4:G$79)","v":823},3024,3325,152,139,29,null,null,"NÃO ATINGIU",null,0,15,128,11,40,40,5,5]
["280060","ARACAJU","Barra dos Coqueiros",28093,"≥20.000 e <50.000",77,167,90,138,63,41,6,1,{"$f":"METAS!V7","v":1},"ATINGIU",null,0,null,6,"PROPRIÁ",{"$f":"SUMIF($B$10:$B$85,\"PROPRIÁ\",$D$10:$D$85)","v":134663},{"$f":"SUMIF($B$4:$B$79,\"PROPRIÁ\",F$4:F$79)","v":339},{"$f":"SUMIF($B$4:$B$79,\"PROPRIÁ\",G$4:G$79)","v":494},356,191,193,158,73,null,null,"ATINGIU",null,147,81,173,106,69,43,6,6]
["280067","ESTÂNCIA","Boquim",26640,"≥20.000 e <50.000",36,165,1,1,19,19,6,1,{"$f":"METAS!V8","v":1},"ATINGIU",null,0,null,7,"SOCORRO",{"$f":"SUMIF($B$10:$B$85,\"SOCORRO\",$D$10:$D$85)","v":331368},{"$f":"SUMIF($B$4:$B$79,\"SOCORRO\",F$4:F$79)","v":444},{"$f":"SUMIF($B$4:$B$79,\"SOCORRO\",G$4:G$79)","v":10901},3599,71,379,354,49,null,null,"ATINGIU",null,1,37,169,1,23,23,6,6]
["280070","PROPRIÁ","Brejo Grande",8165,"menor que 20.000",0,0,0,0,0,0,0,0,{"$f":"METAS!V9","v":1},"NÃO ATINGIU",null,6,null,280000,"SERGIPE",{"$f":"SUMIF($B$10:$B$85,\"SERGIPE\",D$10:D$85)","v":2219574},{"$f":"SUMIF($B$4:$B$79,\"SERGIPE\",F$4:F$79)","v":3},{"$f":"SUMIF($B$4:$B$79,\"SERGIPE\",G$4:G$79)","v":555},18,63,1,0,5,null,null,"ATINGIU",null,0,0,0,0,0,0,0,0]
["280100","ITABAIANA","Campo do Brito",17727,"menor que 20.000",16,71,1,2,6,3,6,1,{"$f":"METAS!V10","v":1},"ATINGIU",null,0,null,null,null,null,null,null,null,null,null,null,null,null,null,null,null,2,16,78,1,6,3,6,6]
["280110","PROPRIÁ","Canhoba",4057,"menor que 20.000",0,132,0,1,28,28,4,0.66666666666666663,{"$f":"METAS!V11","v":1},"NÃO ATINGIU",null,2,null,null,null,null,null,null,null,null,null,null,null,null,null,null,null,2,0,107,3,34,34,5,4]
["280120","GLÓRIA","Canindé de São Francisco",27714,"≥20.000 e <50.000",14,76,12,72,4,3,6,1,{"$f":"METAS!V12","v":1},"ATINGIU",null,0,null,null,null,null,null,null,null,null,null,null,null,null,null,null,null,89,22,68,8,3,2,6,6]
["280130","SOCORRO","Capela",33024,"≥20.000 e <50.000",182,220,29,0,160,152,5,0.83333333333333337,{"$f":"METAS!V13","v":1},"NÃO ATINGIU",null,1,null,null,null,null,null,null,null,null,null,null,null,null,null,null,null,0,182,228,29,165,157,5,5]
["280140","ITABAIANA","Carira",21299,"≥20.000 e <50.000",25,171,74,0,20,13,5,0.83333333333333337,{"$f":"METAS!V14","v":1},"NÃO ATINGIU",null,1,null,null,null,null,null,null,null,null,null,null,null,null,null,null,null,0,25,178,79,19,13,5,5]
["280150","SOCORRO","Carmópolis",15283,"menor que 20.000",17,43,5,1,17,20,6,1,{"$f":"METAS!V15","v":1},"ATINGIU",null,0,null,null,null,null,null,null,null,null,null,null,null,null,null,null,null,1,20,53,6,19,22,6,6]
["280160","PROPRIÁ","Cedro de São João",5868,"menor que 20.000",1,12,78,2,12,9,6,1,{"$f":"METAS!V16","v":1},"ATINGIU",null,0,null,null,null,null,null,null,null,null,null,null,null,null,null,null,null,4,2,15,81,13,12,6,6]
["280170","ESTÂNCIA","Cristinápolis",17726,"menor que 20.000",68,31,8,0,28,48,5,0.83333333333333337,{"$f":"METAS!V17","v":1},"NÃO ATINGIU",null,1,null,null,null,null,null,null,null,null,null,null,null,null,null,null,null,0,71,32,5,27,47,5,5]
["280190","SOCORRO","Cumbe",3970,"menor que 20.000",0,88,0,0,0,0,1,0.16666666666666666,{"$f":"METAS!V18","v":1},"NÃO ATINGIU",null,5,null,null,null,null,null,null,null,null,null,null,null,null,null,null,null,0,0,93,0,0,0,1,1]
["280200","ARACAJU","Divina Pastora",4804,"menor que 20.000",27,116,3,8,5,8,6,1,{"$f":"METAS!V19","v":1},"ATINGIU",null,0,null,null,null,null,null,null,null,null,null,null,null,null,null,null,null,13,27,155,9,13,16,6,6]
["280210","ESTÂNCIA","Estância",67953,"≥50.000 e < 100.000",131,1642,0,0,48,9,4,0.66666666666666663,{"$f":"METAS!V20","v":1},"NÃO ATINGIU",null,2,null,null,null,null,null,null,null,null,null,null,null,null,null,null,null,0,133,1743,0,49,10,4,4]
["280220","GLÓRIA","Feira Nova",5551,"menor que 20.000",0,0,0,0,0,32,1,0.16666666666666666,{"$f":"METAS!V21","v":1},"NÃO ATINGIU",null,5,null,null,null,null,null,null,null,null,null,null,null,null,null,null,null,0,0,0,0,0,32,1,1]
["280230","ITABAIANA","Frei Paulo",14890,"menor que 20.000",20,38,1,0,56,31,5,0.83333333333333337,{"$f":"METAS!V22","v":1},"NÃO ATINGIU",null,1,null,null,null,null,null,null,null,null,null,null,null,null,null,null,null,0,20,38,1,66,31,5,5]
["280240","GLÓRIA","Gararu",11718,"menor que 20.000",0,0,0,0,0,0,0,0,{"$f":"METAS!V23","v":1},"NÃO ATINGIU",null,6,null,null,null,null,null,null,null,null,null,null,null,null,null,null,null,0,0,0,24,0,0,1,0]
["280250","SOCORRO","General Maynard",3188,"menor que 20.000",11,8545,4,0,2,3,5,0.83333333333333337,{"$f":"METAS!V24","v":1},"NÃO ATINGIU",null,1,null,null,null,null,null,null,null,null,null,null,null,null,null,null,null,0,11,9814,4,3,3,5,5]
["280260","GLÓRIA","Graccho Cardoso",5836,"menor que 20.000",0,0,0,0,0,14,1,0.16666666666666666,{"$f":"METAS!V25","v":1},"NÃO ATINGIU",null,5,null,null,null,null,null,null,null,null,null,null,null,null,null,null,null,0,0,0,0,0,16,1,1]
["280270","PROPRIÁ","Ilha das Flores",8589,"menor que 20.000",7,3,0,2,12,12,5,0.83333333333333337,{"$f":"METAS!V26","v":1},"NÃO ATINGIU",null,1,null,null,null,null,null,null,null,null,null,null,null,null,null,null,null,2,9,5,0,12,12,5,5]
["280280","ESTÂNCIA","Indiaroba",17165,"menor que 20.000",44,112,0,10,9,13,5,0.83333333333333337,{"$f":"METAS!V27","v":1},"NÃO ATINGIU",null,1,null,null,null,null,null,null,null,null,null,null,null,null,null,null,null,10,44,113,0,9,24,5,5]
["280290","ITABAIANA","Itabaiana",92732,"≥50.000 e < 100.000",330,391,0,0,5,6,4,0.66666666666666663,{"$f":"METAS!V28","v":1},"NÃO ATINGIU",null,2,null,null,null,null,null,null,null,null,null,null,null,null,null,null,null,0,330,391,0,5,6,4,4]
["280300","ESTÂNCIA","Itabaianinha",41116,"≥20.000 e <50.000",10,33,8,2,20,13,6,1,{"$f":"METAS!V29","v":0.83},"ATINGIU",null,0,null,null,null,null,null,null,null,null,null,null,null,null,null,null,null,2,10,33,10,25,17,6,6]
["280310","GLÓRIA","Itabi",5032,"menor que 20.000",9,0,10,12,0,0,3,0.5,{"$f":"METAS!V30","v":1},"NÃO ATINGIU",null,3,null,null,null,null,null,null,null,null,null,null,null,null,null,null,null,13,10,0,11,0,0,3,3]
["280320","ARACAJU","Itaporanga d'Ajuda",32911,"≥20.000 e <50.000",25,104,105,5,19,22,6,1,{"$f":"METAS!V31","v":1},"ATINGIU",null,0,null,null,null,null,null,null,null,null,null,null,null,null,null,null,null,5,25,104,91,18,22,6,6]
["280330","SOCORRO","Japaratuba",18098,"menor que 20.000",26,85,0,0,0,0,2,0.33333333333333331,{"$f":"METAS!V32","v":1},"NÃO ATINGIU",null,4,null,null,null,null,null,null,null,null,null,null,null,null,null,null,null,0,28,88,0,0,0,2,2]
["280340","PROPRIÁ","Japoatã",13249,"menor que 20.000",8,47,0,0,0,0,2,0.33333333333333331,{"$f":"METAS!V33","v":1},"NÃO ATINGIU",null,4,null,null,null,null,null,null,null,null,null,null,null,null,null,null,null,0,8,47,0,0,0,2,2]
["280350","LAGARTO","Lagarto",101305,"≥100.000 e < 500.000",78,381,6,470,42,40,6,1,{"$f":"METAS!V34","v":1},"ATINGIU",null,0,null,null,null,null,null,null,null,null,null,null,null,null,null,null,null,486,84,395,7,45,43,6,6]
["280360","ARACAJU","Laranjeiras",28835,"≥20.000 e <50.000",3,103,35,24,36,38,6,1,{"$f":"METAS!V35","v":1},"ATINGIU",null,0,null,null,null,null,null,null,null,null,null,null,null,null,null,null,null,24,3,103,35,36,38,6,6]
["280370","ITABAIANA","Macambira",6774,"menor que 20.000",20,65,74,53,11,16,6,1,{"$f":"METAS!V36","v":1},"ATINGIU",null,0,null,null,null,null,null,null,null,null,null,null,null,null,null,null,null,74,21,85,91,17,22,6,6]
["280380","PROPRIÁ","Malhada dos Bois",3632,"menor que 20.000",3,20,2,0,4,2,5,0.83333333333333337,{"$f":"METAS!V37","v":1},"NÃO ATINGIU",null,1,null,null,null,null,null,null,null,null,null,null,null,null,null,null,null,0,4,43,3,4,2,5,5]
["280390","ITABAIANA","Malhador",12550,"menor que 20.000",30,3,0,4,10,8,5,0.83333333333333337,{"$f":"METAS!V38","v":0.5},"ATINGIU",null,1,null,null,null,null,null,null,null,null,null,null,null,null,null,null,null,4,34,4,0,10,8,5,5]
["280400","SOCORRO","Maruim",17076,"menor que 20.000",12,29,119,0,26,14,5,0.83333333333333337,{"$f":"METAS!V39","v":1},"NÃO ATINGIU",null,1,null,null,null,null,null,null,null,null,null,null,null,null,null,null,null,0,13,30,123,26,14,5,5]
["280410","ITABAIANA","Moita Bonita",11372,"menor que 20.000",0,132,0,0,12,10,3,0.5,{"$f":"METAS!V40","v":1},"NÃO ATINGIU",null,3,null,null,null,null,null,null,null,null,null,null,null,null,null,null,null,0,0,132,0,12,10,3,3]
["280420","GLÓRIA","Monte Alegre de Sergipe",14685,"menor que 20.000",26,159,48,73,139,136,6,1,{"$f":"METAS!V41","v":1},"ATINGIU",null,0,null,null,null,null,null,null,null,null,null,null,null,null,null,null,null,90,30,170,63,148,147,6,6]
["280430","PROPRIÁ","Muribeca",7620,"menor que 20.000",2,5,0,0,20,20,4,0.66666666666666663,{"$f":"METAS!V42","v":1},"NÃO ATINGIU",null,2,null,null,null,null,null,null,null,null,null,null,null,null,null,null,null,0,2,6,0,22,21,4,4]
["280440","PROPRIÁ","Neópolis",18961,"menor que 20.000",18,37,195,0,10,5,5,0.83333333333333337,{"$f":"METAS!V43","v":1},"NÃO ATINGIU",null,1,null,null,null,null,null,null,null,null,null,null,null,null,null,null,null,0,18,38,215,12,6,5,5]
["280445","ITABAIANA","Nossa Senhora Aparecida",8809,"menor que 20.000",6,0,0,0,0,0,1,0.16666666666666666,{"$f":"METAS!V44","v":1},"NÃO ATINGIU",null,5,null,null,null,null,null,null,null,null,null,null,null,null,null,null,null,0,6,0,0,0,0,1,1]
["280450","GLÓRIA","Nossa Senhora da Glória",35268,"≥20.000 e <50.000",95,0,0,0,151,54,3,0.5,{"$f":"METAS!V45","v":1},"NÃO ATINGIU",null,3,null,null,null,null,null,null,null,null,null,null,null,null,null,null,null,1,97,0,1,154,55,5,3]
["280460","SOCORRO","Nossa Senhora das Dores",26042,"≥20.000 e <50.000",0,280,6,0,58,61,4,0.66666666666666663,{"$f":"METAS!V46","v":1},"NÃO ATINGIU",null,2,null,null,null,null,null,null,null,null,null,null,null,null,null,null,null,0,0,273,6,58,61,4,4]
["280470","PROPRIÁ","Nossa Senhora de Lourdes",6475,"menor que 20.000",80,47,0,0,6,6,4,0.66666666666666663,{"$f":"METAS!V47","v":1},"NÃO ATINGIU",null,2,null,null,null,null,null,null,null,null,null,null,null,null,null,null,null,0,88,49,0,8,8,4,4]
["280480","SOCORRO","Nossa Senhora do Socorro",174974,"≥100.000 e < 500.000",80,1482,3421,0,90,74,5,0.83333333333333337,{"$f":"METAS!V48","v":1},"NÃO ATINGIU",null,1,null,null,null,null,null,null,null,null,null,null,null,null,null,null,null,0,86,1544,3665,90,80,5,5]
["280490","PROPRIÁ","Pacatuba",14032,"menor que 20.000",54,57,0,31,6,6,5,0.83333333333333337,{"$f":"METAS!V49","v":1},"NÃO ATINGIU",null,1,null,null,null,null,null,null,null,null,null,null,null,null,null,null,null,39,58,61,0,8,8,5,5]
["280500","ITABAIANA","Pedra Mole",3170,"menor que 20.000",10,49,11,28,0,0,4,0.66666666666666663,{"$f":"METAS!V50","v":1},"NÃO ATINGIU",null,2,null,null,null,null,null,null,null,null,null,null,null,null,null,null,null,29,11,50,12,0,0,4,4]
["280510","ESTÂNCIA","Pedrinhas",9374,"menor que 20.000",2,33,18,0,37,37,5,0.83333333333333337,{"$f":"METAS!V51","v":0.8},"ATINGIU",null,1,null,null,null,null,null,null,null,null,null,null,null,null,null,null,null,0,4,35,21,38,39,5,5]
["280520","ITABAIANA","Pinhão",6380,"menor que 20.000",0,6,0,7,13,12,4,0.66666666666666663,{"$f":"METAS!V52","v":1},"NÃO ATINGIU",null,2,null,null,null,null,null,null,null,null,null,null,null,null,null,null,null,9,0,7,0,14,13,4,4]
["280530","SOCORRO","Pirambu",8971,"menor que 20.000",37,32,0,66,3,3,5,0.83333333333333337,{"$f":"METAS!V53","v":1},"NÃO ATINGIU",null,1,null,null,null,null,null,null,null,null,null,null,null,null,null,null,null,90,37,36,0,5,5,5,5]
["280540","GLÓRIA","Poço Redondo",33358,"≥20.000 e <50.000",35,340,77,69,3,3,6,1,{"$f":"METAS!V54","v":1},"ATINGIU",null,0,null,null,null,null,null,null,null,null,null,null,null,null,null,null,null,70,37,418,81,4,4,6,6]
["280550","LAGARTO","Poço Verde",23249,"≥20.000 e <50.000",14,89,33,72,12,17,6,1,{"$f":"METAS!V55","v":1},"ATINGIU",null,0,null,null,null,null,null,null,null,null,null,null,null,null,null,null,null,74,14,91,33,12,17,6,6]
["280560","GLÓRIA","Porto da Folha",28366,"≥20.000 e <50.000",130,289,353,487,31,26,6,1,{"$f":"METAS!V56","v":1},"ATINGIU",null,0,null,null,null,null,null,null,null,null,null,null,null,null,null,null,null,512,132,292,357,33,28,6,6]
["280570","PROPRIÁ","Propriá",29562,"≥20.000 e <50.000",44,35,13,123,7,5,6,1,{"$f":"METAS!V57","v":1},"ATINGIU",null,0,null,null,null,null,null,null,null,null,null,null,null,null,null,null,null,131,44,38,13,9,7,6,6]
["280580","LAGARTO","Riachão do Dantas",19957,"menor que 20.000",0,0,22,0,44,42,3,0.5,{"$f":"METAS!V58","v":1},"NÃO ATINGIU",null,3,null,null,null,null,null,null,null,null,null,null,null,null,null,null,null,0,0,12,22,44,42,4,3]
["280590","ARACAJU","Riachuelo",9949,"menor que 20.000",2,12,4,0,29,22,5,0.83333333333333337,{"$f":"METAS!V59","v":1},"NÃO ATINGIU",null,1,null,null,null,null,null,null,null,null,null,null,null,null,null,null,null,0,2,12,4,32,25,5,5]
["280600","ITABAIANA","Ribeirópolis",18218,"menor que 20.000",6,157,0,18,22,18,5,0.83333333333333337,{"$f":"METAS!V60","v":1},"NÃO ATINGIU",null,1,null,null,null,null,null,null,null,null,null,null,null,null,null,null,null,18,6,164,0,24,18,5,5]
["280610","SOCORRO","Rosário do Catete",10191,"menor que 20.000",79,96,10,1,14,14,6,1,{"$f":"METAS!V61","v":1},"ATINGIU",null,0,null,null,null,null,null,null,null,null,null,null,null,null,null,null,null,1,93,115,12,16,15,6,6]
["280620","LAGARTO","Salgado",20039,"≥20.000 e <50.000",32,18,7,0,45,31,5,0.83333333333333337,{"$f":"METAS!V62","v":1},"NÃO ATINGIU",null,1,null,null,null,null,null,null,null,null,null,null,null,null,null,null,null,0,62,46,13,52,31,5,5]
["280630","ESTÂNCIA","Santa Luzia do Itanhy",13733,"menor que 20.000",15,31,5,0,24,24,5,0.83333333333333337,{"$f":"METAS!V63","v":1},"NÃO ATINGIU",null,1,null,null,null,null,null,null,null,null,null,null,null,null,null,null,null,0,16,32,5,26,26,5,5]
["280640","PROPRIÁ","Santana do São Francisco",7532,"menor que 20.000",67,18,23,31,19,4,6,1,{"$f":"METAS!V64","v":1},"ATINGIU",null,0,null,null,null,null,null,null,null,null,null,null,null,null,null,null,null,32,67,19,23,21,4,6,6]
["280650","ARACAJU","Santa Rosa de Lima",3899,"menor que 20.000",27,93,0,0,37,36,4,0.66666666666666663,{"$f":"METAS!V65","v":1},"NÃO ATINGIU",null,2,null,null,null,null,null,null,null,null,null,null,null,null,null,null,null,0,27,93,0,38,36,4,4]
["280660","SOCORRO","Santo Amaro das Brotas",11963,"menor que 20.000",0,0,0,0,0,0,0,0,{"$f":"METAS!V66","v":1},"NÃO ATINGIU",null,{"$f":"COUNTIF(F68:K68,\"0\")","v":6},null,null,null,null,null,null,null,null,null,null,null,null,null,null,null,0,0,0,0,0,0,0,0]
["280670","ARACAJU","São Cristóvão",85814,"≥50.000 e < 100.000",39,297,0,0,52,48,{"$f":"COUNTIF(F69:K69,\"<>0\")","v":4},{"$f":"L69/6","v":0.66666666666666663},{"$f":"METAS!V67","v":1},{"$f":"IF(M69>=N69,\"ATINGIU\",\"NÃO ATINGIU\")","v":"NÃO ATINGIU"},null,2,null,null,null,null,null,null,null,null,null,null,null,null,null,null,null,0,39,316,0,58,54,{"$f":"COUNTIF(AG69:AL69,\"<>0\")","v":4},4]
["280680","ITABAIANA","São Domingos",10887,"menor que 20.000",15,38,15,8,5,9,6,1,{"$f":"METAS!V68","v":1},"ATINGIU",null,0,null,null,null,null,null,null,null,null,null,null,null,null,null,null,null,8,15,38,15,5,9,6,6]
["280690","PROPRIÁ","São Francisco",3777,"menor que 20.000",16,5,19,0,14,10,5,0.83333333333333337,{"$f":"METAS!V69","v":1},"NÃO ATINGIU",null,1,null,null,null,null,null,null,null,null,null,null,null,null,null,null,null,0,16,5,25,13,6,5,5]
["280700","ITABAIANA","São Miguel do Aleixo",3881,"menor que 20.000",6,4,4,0,8,8,5,0.83333333333333337,{"$f":"METAS!V70","v":1},"NÃO ATINGIU",null,1,null,null,null,null,null,null,null,null,null,null,null,null,null,null,null,0,6,4,4,8,8,5,5]
["280710","LAGARTO","Simão Dias",40364,"≥20.000 e <50.000",72,280,3,0,9,9,5,0.83333333333333337,{"$f":"METAS!V71","v":1},"NÃO ATINGIU",null,1,null,null,null,null,null,null,null,null,null,null,null,null,null,null,null,0,72,280,3,9,9,5,5]
["280720","SOCORRO","Siriri",8588,"menor que 20.000",0,1,5,3,9,13,5,0.83333333333333337,{"$f":"METAS!V72","v":1},"NÃO ATINGIU",null,1,null,null,null,null,null,null,null,null,null,null,null,null,null,null,null,3,0,1,5,11,15,5,5]
["280730","PROPRIÁ","Telha",3144,"menor que 20.000",23,33,5,0,7,9,5,0.83333333333333337,{"$f":"METAS!V73","v":1},"NÃO ATINGIU",null,1,null,null,null,null,null,null,null,null,null,null,null,null,null,null,null,0,27,35,5,10,12,5,5]
["280740","LAGARTO","Tobias Barreto",50971,"≥50.000 e < 100.000",33,55,2953,2783,0,0,4,0.66666666666666663,{"$f":"METAS!V74","v":1},"NÃO ATINGIU",null,2,null,null,null,null,null,null,null,null,null,null,null,null,null,null,null,2783,33,55,3675,0,0,4,4]
["280750","ESTÂNCIA","Tomar do Geru",13196,"menor que 20.000",2,16,0,2,31,7,5,0.83333333333333337,{"$f":"METAS!V75","v":0.9},"NÃO ATINGIU",null,1,null,null,null,null,null,null,null,null,null,null,null,null,null,null,null,2,2,16,0,31,7,5,5]
["280760","ESTÂNCIA","Umbaúba",24251,"≥20.000 e <50.000",26,62,0,0,40,28,4,0.66666666666666663,{"$f":"METAS!V76","v":1},"NÃO ATINGIU",null,2,null,null,null,null,null,null,null,null,null,null,null,null,null,null,null,0,28,63,0,41,30,4,4]
["280000","SERGIPE","SERGIPE",{"$f":"SUM(D4:D78)","v":2219574},null,3,555,18,63,1,0,5,0.83333333333333337,{"$f":"METAS!V77","v":1},"NÃO ATINGIU",null,null,null,null,null,null,null,null,null,null,null,null,null,null,null,null,null,4898,6097,29361,9159,2075,1823,6,5]
[]
[null,null,"Total de Municípios",null,null,null,null,null,null,null,"Nº de municípios"]
[null,null,"Municípios com 6 procedimentos",null,null,null,null,null,null,null,{"$f":"COUNTIF($L$4:$L$78,\"6\")","v":23}]
[null,null,"Municípios com 5 procedimentos",null,null,null,null,null,null,null,{"$f":"COUNTIF($L$4:$L$78,\"5\")","v":27}]
[null,null,"Municípios com 4 procedimentos",null,null,null,null,null,null,null,{"$f":"COUNTIF($L$4:$L$78,\"4\")","v":12}]
[null,null,"Municípios com 3 procedimentos",null,null,null,null,null,null,null,{"$f":"COUNTIF($L$4:$L$78,\"3\")","v":4}]
[null,null,"Municípios com 2 procedimentos",null,null,null,null,null,null,null,{"$f":"COUNTIF($L$4:$L$78,\"2\")","v":2}]
[null,null,"Municípios com 1 procedimento",null,null,null,null,null,null,null,{"$f":"COUNTIF($L$4:$L$78,\"1\")","v":4}]
[null,null,"Municípios sem executar nenhum procedimento",null,null,null,null,null,null,null,{"$f":"COUNTIF($L$4:$L$78,\"0\")","v":3}]
[null,null,"Total",null,null,null,null,null,null,null,{"$f":"SUM(K82:K88)","v":75}]
[]
[]
[null,null,"Fonte: IBGE. Diretoria de Pesquisas - DPE -  Coordenação de População e Indicadores Socias - COPIS."]

{"sheet":"AÇOES_VIGIL_REG","index":121,"n_rows":11,"n_cols":13,"rows_kept":11,"cut":false,"hidden":true,"merged":[]}
["Monitoramento Indicador 2017 (GERAL) - dados gerados em 05/02/2018"]
[]
[]
["COD","REGIÃO","Estimativa de População IBGE 2014","cadastro","inspeção","atividade educativa para a população","atividade educativa para o setor regulado","recebimento de denuncias","atendimento de denuncias","número de procedimentos","proced. realizados (%)","META","SITUAÇÃO"]
[1,"ARACAJU",{"$f":"SUMIF(AÇOES_VIGIL!$B$4:$B$79,\"ARACAJU\",AÇOES_VIGIL!D$4:D$79)","v":818071},{"$f":"SUMIF(AÇOES_VIGIL!$B$4:$B$79,\"ARACAJU\",AÇOES_VIGIL!F$4:F$79)","v":3732},{"$f":"SUMIF(AÇOES_VIGIL!$B$4:$B$79,\"ARACAJU\",AÇOES_VIGIL!G$4:G$79)","v":10037},{"$f":"SUMIF(AÇOES_VIGIL!$B$4:$B$79,\"ARACAJU\",AÇOES_VIGIL!H$4:H$79)","v":303},{"$f":"SUMIF(AÇOES_VIGIL!$B$4:$B$79,\"ARACAJU\",AÇOES_VIGIL!I$4:I$79)","v":206},{"$f":"SUMIF(AÇOES_VIGIL!$B$4:$B$79,\"ARACAJU\",AÇOES_VIGIL!J$4:J$79)","v":399},{"$f":"SUMIF(AÇOES_VIGIL!$B$4:$B$79,\"ARACAJU\",AÇOES_VIGIL!K$4:K$79)","v":383},{"$f":"COUNTIFS(AÇOES_VIGIL!B4:B78,\"ARACAJU\",AÇOES_VIGIL!L4:L78,\"=6\")","v":5},{"$f":"J5/6","v":0.83333333333333337},{"$f":"METAS!V81","v":1},{"$f":"IF(K5>=L5,\"ATINGIU\",\"NÃO ATINGIU\")","v":"NÃO ATINGIU"}]
[2,"ESTANCIA",{"$f":"SUMIF(AÇOES_VIGIL!$B$4:$B$79,\"ESTANCIA\",AÇOES_VIGIL!D$4:D$79)","v":0},{"$f":"SUMIF(AÇOES_VIGIL!$B$4:$B$79,\"ESTANCIA\",AÇOES_VIGIL!F$4:F$79)","v":0},{"$f":"SUMIF(AÇOES_VIGIL!$B$4:$B$79,\"ESTANCIA\",AÇOES_VIGIL!G$4:G$79)","v":0},{"$f":"SUMIF(AÇOES_VIGIL!$B$4:$B$79,\"ESTANCIA\",AÇOES_VIGIL!H$4:H$79)","v":0},{"$f":"SUMIF(AÇOES_VIGIL!$B$4:$B$79,\"ESTANCIA\",AÇOES_VIGIL!I$4:I$79)","v":0},{"$f":"SUMIF(AÇOES_VIGIL!$B$4:$B$79,\"ESTANCIA\",AÇOES_VIGIL!J$4:J$79)","v":0},{"$f":"SUMIF(AÇOES_VIGIL!$B$4:$B$79,\"ESTANCIA\",AÇOES_VIGIL!K$4:K$79)","v":0},{"$f":"COUNTIFS(AÇOES_VIGIL!B4:B78,\"ESTANCIA\",AÇOES_VIGIL!L4:L78,\"=6\")","v":0},{"$f":"J6/6","v":0},{"$f":"METAS!V82","v":0.5},{"$f":"IF(K6>=L6,\"ATINGIU\",\"NÃO ATINGIU\")","v":"NÃO ATINGIU"}]
[3,"GLORIA",{"$f":"SUMIF(AÇOES_VIGIL!$B$4:$B$79,\"GLORIA\",AÇOES_VIGIL!D$4:D$79)","v":0},{"$f":"SUMIF(AÇOES_VIGIL!$B$4:$B$79,\"GLORIA\",AÇOES_VIGIL!F$4:F$79)","v":0},{"$f":"SUMIF(AÇOES_VIGIL!$B$4:$B$79,\"GLORIA\",AÇOES_VIGIL!G$4:G$79)","v":0},{"$f":"SUMIF(AÇOES_VIGIL!$B$4:$B$79,\"GLORIA\",AÇOES_VIGIL!H$4:H$79)","v":0},{"$f":"SUMIF(AÇOES_VIGIL!$B$4:$B$79,\"GLORIA\",AÇOES_VIGIL!I$4:I$79)","v":0},{"$f":"SUMIF(AÇOES_VIGIL!$B$4:$B$79,\"GLORIA\",AÇOES_VIGIL!J$4:J$79)","v":0},{"$f":"SUMIF(AÇOES_VIGIL!$B$4:$B$79,\"GLORIA\",AÇOES_VIGIL!K$4:K$79)","v":0},{"$f":"COUNTIFS(AÇOES_VIGIL!B4:B78,\"GLORIA\",AÇOES_VIGIL!L4:L78,\"=6\")","v":0},0,{"$f":"METAS!V83","v":1},"NÃO ATINGIU"]
[4,"ITABAIANA",{"$f":"SUMIF(AÇOES_VIGIL!$B$4:$B$79,\"ITABAIANA\",AÇOES_VIGIL!D$4:D$79)","v":246685},{"$f":"SUMIF(AÇOES_VIGIL!$B$4:$B$79,\"ITABAIANA\",AÇOES_VIGIL!F$4:F$79)","v":499},{"$f":"SUMIF(AÇOES_VIGIL!$B$4:$B$79,\"ITABAIANA\",AÇOES_VIGIL!G$4:G$79)","v":1203},{"$f":"SUMIF(AÇOES_VIGIL!$B$4:$B$79,\"ITABAIANA\",AÇOES_VIGIL!H$4:H$79)","v":188},{"$f":"SUMIF(AÇOES_VIGIL!$B$4:$B$79,\"ITABAIANA\",AÇOES_VIGIL!I$4:I$79)","v":120},{"$f":"SUMIF(AÇOES_VIGIL!$B$4:$B$79,\"ITABAIANA\",AÇOES_VIGIL!J$4:J$79)","v":206},{"$f":"SUMIF(AÇOES_VIGIL!$B$4:$B$79,\"ITABAIANA\",AÇOES_VIGIL!K$4:K$79)","v":172},{"$f":"COUNTIFS(AÇOES_VIGIL!B4:B78,\"ITABAIANA\",AÇOES_VIGIL!L4:L78,\"=6\")","v":3},0.5,{"$f":"METAS!V84","v":1},"NÃO ATINGIU"]
[5,"LAGARTO",{"$f":"SUMIF(AÇOES_VIGIL!$B$4:$B$79,\"LAGARTO\",AÇOES_VIGIL!D$4:D$79)","v":255885},{"$f":"SUMIF(AÇOES_VIGIL!$B$4:$B$79,\"LAGARTO\",AÇOES_VIGIL!F$4:F$79)","v":229},{"$f":"SUMIF(AÇOES_VIGIL!$B$4:$B$79,\"LAGARTO\",AÇOES_VIGIL!G$4:G$79)","v":823},{"$f":"SUMIF(AÇOES_VIGIL!$B$4:$B$79,\"LAGARTO\",AÇOES_VIGIL!H$4:H$79)","v":3024},{"$f":"SUMIF(AÇOES_VIGIL!$B$4:$B$79,\"LAGARTO\",AÇOES_VIGIL!I$4:I$79)","v":3325},{"$f":"SUMIF(AÇOES_VIGIL!$B$4:$B$79,\"LAGARTO\",AÇOES_VIGIL!J$4:J$79)","v":152},{"$f":"SUMIF(AÇOES_VIGIL!$B$4:$B$79,\"LAGARTO\",AÇOES_VIGIL!K$4:K$79)","v":139},{"$f":"COUNTIFS(AÇOES_VIGIL!B4:B78,\"LAGARTO\",AÇOES_VIGIL!L4:L78,\"=6\")","v":2},0.33333333333333331,{"$f":"METAS!V85","v":1},"NÃO ATINGIU"]
[6,"PROPRIA",{"$f":"SUMIF(AÇOES_VIGIL!$B$4:$B$79,\"PROPRIA\",AÇOES_VIGIL!D$4:D$79)","v":0},{"$f":"SUMIF(AÇOES_VIGIL!$B$4:$B$79,\"PROPRIA\",AÇOES_VIGIL!F$4:F$79)","v":0},{"$f":"SUMIF(AÇOES_VIGIL!$B$4:$B$79,\"PROPRIA\",AÇOES_VIGIL!G$4:G$79)","v":0},{"$f":"SUMIF(AÇOES_VIGIL!$B$4:$B$79,\"PROPRIA\",AÇOES_VIGIL!H$4:H$79)","v":0},{"$f":"SUMIF(AÇOES_VIGIL!$B$4:$B$79,\"PROPRIA\",AÇOES_VIGIL!I$4:I$79)","v":0},{"$f":"SUMIF(AÇOES_VIGIL!$B$4:$B$79,\"PROPRIA\",AÇOES_VIGIL!J$4:J$79)","v":0},{"$f":"SUMIF(AÇOES_VIGIL!$B$4:$B$79,\"PROPRIA\",AÇOES_VIGIL!K$4:K$79)","v":0},{"$f":"COUNTIFS(AÇOES_VIGIL!B4:B78,\"PROPRIA\",AÇOES_VIGIL!L4:L78,\"=6\")","v":0},0,{"$f":"METAS!V86","v":1},"NÃO ATINGIU"]
[7,"SOCORRO",{"$f":"SUMIF(AÇOES_VIGIL!$B$4:$B$79,\"SOCORRO\",AÇOES_VIGIL!D$4:D$79)","v":331368},{"$f":"SUMIF(AÇOES_VIGIL!$B$4:$B$79,\"SOCORRO\",AÇOES_VIGIL!F$4:F$79)","v":444},{"$f":"SUMIF(AÇOES_VIGIL!$B$4:$B$79,\"SOCORRO\",AÇOES_VIGIL!G$4:G$79)","v":10901},{"$f":"SUMIF(AÇOES_VIGIL!$B$4:$B$79,\"SOCORRO\",AÇOES_VIGIL!H$4:H$79)","v":3599},{"$f":"SUMIF(AÇOES_VIGIL!$B$4:$B$79,\"SOCORRO\",AÇOES_VIGIL!I$4:I$79)","v":71},{"$f":"SUMIF(AÇOES_VIGIL!$B$4:$B$79,\"SOCORRO\",AÇOES_VIGIL!J$4:J$79)","v":379},{"$f":"SUMIF(AÇOES_VIGIL!$B$4:$B$79,\"SOCORRO\",AÇOES_VIGIL!K$4:K$79)","v":354},{"$f":"COUNTIFS(AÇOES_VIGIL!B4:B78,\"SOCORRO\",AÇOES_VIGIL!L4:L78,\"=6\")","v":2},0.33333333333333331,{"$f":"METAS!V87","v":1},"NÃO ATINGIU"]

{"sheet":"MATRICIAMENTO_CAPS","index":122,"n_rows":83,"n_cols":35,"rows_kept":83,"cut":false,"hidden":true,"merged":[]}
["CÓD","REGIÃO","MUNICÍPIO","2013","2014","2015","2016","CAPS 12 AÇÕES 2017","CAPS HABILITADO 2017",20.170000000000002,"META 2017","SITUAÇÃO",null,null," Produção Ambulatorial_de Procedimentos da Tabela Unificada",null,null,null,null,"MUNICIPIO","CAPS HABILITADO","CAPS 12 AÇÕES",null,null,null,null,null,null,"CÓD","REGIÃO","CAPS 12 AÇÕES 2017","CAPS HABILITADO 2017",20.170000000000002,"META 2017","SITUAÇÃO"]
[280010,"PROPRIÁ","AMPARO DE SÃO FRANCISCO",0,0,0,0,{"$f":"V2","v":"N/A"},{"$f":"U2","v":0},"N/A",{"$f":"METAS!W2","v":"N/A"},"N/A",null,null,"Qtd.Apresentada por Munic.do Estabel segundo Estabel-CAPS-SE",null,null,null,null,"AMPARO DE SÃO FRANCISCO",0,"N/A",null,null,null,null,null,null,1,"ARACAJU",{"$f":"SUMIF($B$2:$B$77,\"ARACAJU\",H$2:H$77)","v":5},{"$f":"SUMIF($B$2:$B$77,\"ARACAJU\",I$2:I$77)","v":11},{"$f":"AE2/AF2","v":0.45454545454545453},{"$f":"METAS!W81","v":1},{"$f":"IF(AG2>=AH2,\"ATINGIU\",\"NÃO ATINGIU\")","v":"NÃO ATINGIU"}]
[280020,"PROPRIÁ","AQUIDABA",0,0,0,0,0,1,{"$f":"H3/I3","v":0},{"$f":"METAS!W3","v":1},{"$f":"IF(J3>=K3,\"ATINGIU\",\"NÃO ATINGIU\")","v":"NÃO ATINGIU"},null,null,"Estabel-CAPS-SE","MUNICIPIO","REGIÃO","Total",null,"AQUIDABA",1,{"$f":"COUNTIFS($P$4:$P$45,\"AQUIDABA\",$R$4:$R$45,\">=12\")","v":0},null,"[Opções]",null,null,null,null,2,"ESTÂNCIA",{"$f":"SUMIF($B$2:$B$77,\"ESTÂNCIA\",H$2:H$77)","v":4},{"$f":"SUMIF($B$2:$B$77,\"ESTÂNCIA\",I$2:I$77)","v":5},{"$f":"AE3/AF3","v":0.8},{"$f":"METAS!W82","v":1},"NÃO ATINGIU"]
[280030,"ARACAJU","ARACAJU",39,68,249,77,2,6,{"$f":"H4/I4","v":0.33333333333333331},{"$f":"METAS!W4","v":1},"NÃO ATINGIU",null,null,"0003158 CAPS III LIBERDADE","ARACAJU",{"$f":"INDEX($A$2:$C$76,MATCH(P4,$C$2:$C$76,0),2)","v":"ARACAJU"},0,null,"ARACAJU",6,{"$f":"COUNTIFS($P$4:$P$45,\"ARACAJU\",$R$4:$R$45,\">=12\")","v":2},null,"DEF=E:\\SUS\\SIA 2017\\SIA_COAP 3.def",null,null,null,null,3,"GLÓRIA",{"$f":"SUMIF($B$2:$B$77,\"GLÓRIA\",H$2:H$77)","v":0},{"$f":"SUMIF($B$2:$B$77,\"GLÓRIA\",I$2:I$77)","v":1},{"$f":"AE4/AF4","v":0},{"$f":"METAS!W83","v":1},"NÃO ATINGIU"]
[280040,"ESTÂNCIA","ARAUA",0,0,0,0,"N/A",0,"N/A",{"$f":"METAS!W5","v":"N/A"},"N/A",null,null,"0028320 CAPS III DR DAVID CAPISTRANO FILHO","ARACAJU",{"$f":"INDEX($A$2:$C$76,MATCH(P5,$C$2:$C$76,0),2)","v":"ARACAJU"},34,null,"ARAUA",0,"N/A",null,"PATH=E:\\SUS\\SIA 2017\\DADOS\\PA*.*",null,null,null,null,4,"ITABAIANA",{"$f":"SUMIF($B$2:$B$77,\"ITABAIANA\",H$2:H$77)","v":3},{"$f":"SUMIF($B$2:$B$77,\"ITABAIANA\",I$2:I$77)","v":5},0.6,{"$f":"METAS!W84","v":1},"NÃO ATINGIU"]
[280050,"ITABAIANA","AREIA BRANCA",0,0,0,0,"N/A",0,"N/A",{"$f":"METAS!W6","v":"N/A"},"N/A",null,null,"2360314 CAPS ARTHUR BISPO DO ROSARIO","ARACAJU","ARACAJU",20,null,"AREIA BRANCA",0,"N/A",null,"Linha=Estabel-CAPS-SE",null,null,null,null,5,"LAGARTO",{"$f":"SUMIF($B$2:$B$77,\"LAGARTO\",H$2:H$77)","v":1},{"$f":"SUMIF($B$2:$B$77,\"LAGARTO\",I$2:I$77)","v":7},0.14285714285714285,{"$f":"METAS!W85","v":1},"NÃO ATINGIU"]
[280060,"ARACAJU","BARRA DOS COQUEIROS",0,0,0,0,1,1,1,{"$f":"METAS!W7","v":1},"ATINGIU",null,null,"2658445 PROJETO LUZ DO SOL","NOSSA SENHORA DA GLÓRIA","GLORIA",32,null,"BARRA DOS COQUEIROS",1,{"$f":"COUNTIFS($P$4:$P$45,\"BARRA DOS COQUEIROS\",$R$4:$R$45,\">=12\")","v":1},null,"Coluna=Ano de Atendimento",null,null,null,null,6,"PROPRIÁ",{"$f":"SUMIF($B$2:$B$77,\"PROPRIÁ\",H$2:H$77)","v":3},{"$f":"SUMIF($B$2:$B$77,\"PROPRIÁ\",I$2:I$77)","v":5},0.6,{"$f":"METAS!W86","v":1},"NÃO ATINGIU"]
[280067,"ESTÂNCIA","BOQUIM",136,555,40,135,1,1,1,{"$f":"METAS!W8","v":1},"ATINGIU",null,null,"2745186 CAPS ALC E DRG PRIMAVERA","ARACAJU","ARACAJU",0,null,"BOQUIM",1,{"$f":"COUNTIFS($P$4:$P$45,\"BOQUIM\",$R$4:$R$45,\">=12\")","v":1},null,"Incremento=Qtd.Apresentada",null,null,null,null,7,"SOCORRO",{"$f":"SUMIF($B$2:$B$77,\"SOCORRO\",H$2:H$77)","v":0},{"$f":"SUMIF($B$2:$B$77,\"SOCORRO\",I$2:I$77)","v":6},0,{"$f":"METAS!W87","v":1},"NÃO ATINGIU"]
[280070,"PROPRIÁ","BREJO GRANDE",0,0,0,0,"N/A",0,"N/A",{"$f":"METAS!W9","v":"N/A"},"N/A",null,null,"2815885 CAPS I RENATO BISPO DE LIMA CAIC","ITABAIANA","ITABAIANA",29,null,"BREJO GRANDE",0,"N/A",null,"Suprime_Linhas_Zeradas=false",null,null,null,null,8,"SERGIPE",{"$f":"IF(SUMIF($B$2:$B$77,\"SERGIPE\",H$2:H$77)=0,\"N/A\")","v":false},"N/A","N/A","N/A","ATINGIU"]
[280100,"ITABAIANA","CAMPO DO BRITO",0,0,0,0,0,1,0,{"$f":"METAS!W10","v":1},"NÃO ATINGIU",null,null,"2818949 CENTRO DE ATENCAO PSICOSSOCIAL","CANINDÉ DE SÃO FRANCISCO","GLÓRIA",0,null,"CAMPO DO BRITO",1,{"$f":"COUNTIFS($P$4:$P$45,\"CAMPO DO BRITO\",$R$4:$R$45,\">=12\")","v":0},null,"Suprime_Colunas_Zeradas=true"]
[280110,"PROPRIÁ","CANHOBA",0,0,0,0,"N/A",0,"N/A",{"$f":"METAS!W11","v":"N/A"},"N/A",null,null,"3000591 CAPS AD ANA PITTA","NOSSA SENHORA DO SOCORRO","SOCORRO",0,null,"CANHOBA",0,"N/A",null,"Não_Classificados=0"]
[280120,"GLÓRIA","CANINDÉ DE SÃO FRANCISCO",0,0,0,0,0,1,0,{"$f":"METAS!W12","v":1},"NÃO ATINGIU",null,null,"3049833 CAPS I ESPERANCA","AQUIDABA","PROPRIÁ",11,null,"CANINDE DE SÃO FRANCISCO",1,{"$f":"COUNTIFS($P$4:$P$45,\"CANINDE DE SÃO FRANCISCO\",$R$4:$R$45,\">=12\")","v":0},null,"[Seleções_Ativas]"]
[280130,"SOCORRO","CAPELA",0,0,0,0,"N/A",0,"N/A",{"$f":"METAS!W13","v":"N/A"},"N/A",null,null,"3057909 CAPS CLARIDADE","TOBIAS BARRETO","LAGARTO",56,null,"CAPELA",0,"N/A",null,"Ano de Atendimento: 2017"]
[280140,"ITABAIANA","CARIRA",0,0,0,0,1,1,1,{"$f":"METAS!W14","v":1},"ATINGIU",null,null,"3234606 CAPS USUARIO JANSER CARLOS DE OLIVEIRA CAS","NOSSA SENHORA DO SOCORRO","SOCORRO",0,null,"CARIRA",1,{"$f":"COUNTIFS($P$4:$P$45,\"CARIRA\",$R$4:$R$45,\">=12\")","v":1},null,"Procedimento[2008+: 0301080305 MATRICIAMENTO DE EQUIPES DA ATENÇÃO BÁSICA"]
[280150,"SOCORRO","CARMOPOLIS",0,0,0,0,"N/A",0,"N/A",{"$f":"METAS!W15","v":"N/A"},"N/A",null,null,"3295281 CAPS VIDA","ARACAJU","ARACAJU",7,null,"CARMOPOLIS",0,"N/A",null,"[Arquivos]"]
[280160,"PROPRIÁ","CEDRO DE SÃO JOAO",0,0,0,0,"N/A",0,"N/A",{"$f":"METAS!W16","v":"N/A"},"N/A",null,null,"3536173 CAPS ROGALICIO VIEIRA DA SILVA","NOSSA SENHORA DO SOCORRO","SOCORRO",0,null,"CEDRO DE SÃO JOAO",0,"N/A",null,"PASE1701.dbc"]
[280170,"ESTÂNCIA","CRISTINÁPOLIS",0,0,0,0,0,1,0,{"$f":"METAS!W17","v":1},"NÃO ATINGIU",null,null,"3625419 CAPS I HIDELBRANDO DIAS DA COSTA","ITABAIANINHA","ESTÂNCIA",617,null,"CRISTINÁPOLIS",1,{"$f":"COUNTIFS($P$4:$P$45,\"CRISTINÁPOLIS\",$R$4:$R$45,\">=12\")","v":0},null,"PASE1702.dbc"]
[280190,"SOCORRO","CUMBE",0,0,0,0,"N/A",0,"N/A",{"$f":"METAS!W18","v":"N/A"},"N/A",null,null,"3675319 CAPS TERRA DO MEU SERTAO","POÇO VERDE","LAGARTO",138,null,"CUMBE",0,"N/A",null,"PASE1703.dbc"]
[280200,"ARACAJU","DIVINA PASTORA",0,0,0,0,"N/A",0,"N/A",{"$f":"METAS!W19","v":"N/A"},"N/A",null,null,"3715574 CAPS II JOAO BEBE AGUA","SÃO CRISTÓVÃO","ARACAJU",32,null,"DIVINA PASTORA",0,"N/A",null,"PASE1704.dbc"]
[280210,"ESTÂNCIA","ESTÂNCIA",0,0,0,1,1,1,1,{"$f":"METAS!W20","v":1},"ATINGIU",null,null,"3765237 CAPS I DONA ZIFINHA","SIMÃO DIAS","LAGARTO",0,null,"ESTÂNCIA",1,{"$f":"COUNTIFS($P$4:$P$45,\"ESTÂNCIA\",$R$4:$R$45,\">=12\")","v":1},null,"PASE1705.dbc"]
[280220,"GLORIA","FEIRA NOVA",0,0,0,0,"N/A",0,"N/A",{"$f":"METAS!W21","v":"N/A"},"N/A",null,null,"3830195 CAPS I ARTE DE VIVER","ITAPORANGA D'AJUDA","ARACAJU",61,null,"FEIRA NOVA",0,"N/A",null,"PASE1706.dbc"]
[280230,"ITABAIANA","FREI PAULO",0,0,0,0,"N/A",0,"N/A",{"$f":"METAS!W22","v":"N/A"},"N/A",null,null,"3935752 CAPS 1 CARMEM PRADO LEITE","ESTÂNCIA","ESTÂNCIA",14,null,"FREI PAULO",0,"N/A",null,"PASE1707.dbc"]
[280240,"GLORIA","GARARU",0,0,0,0,"N/A",0,"N/A",{"$f":"METAS!W23","v":"N/A"},"N/A",null,null,"5010691 CAPS QUITERIA DA SILVA SOUZA","JAPOATÃ","PROPRIÁ",634,null,"GARARU",0,"N/A",null,"PASE1708.dbc"]
[280250,"SOCORRO","GENERAL MAYNARD",0,0,0,0,"N/A",0,"N/A",{"$f":"METAS!W24","v":"N/A"},"N/A",null,null,"5020581 CAPS I JANETE ALVES LIMA BARBOSA","SALGADO","LAGARTO",0,null,"GENERAL MAYNARD",0,"N/A",null,"PASE1709.dbc"]
[280260,"GLORIA","GRACHO CARDOSO",0,0,0,0,"N/A",0,"N/A",{"$f":"METAS!W25","v":"N/A"},"N/A",null,null,"5033462 CAPS I IRMA AUGUSTINHA","PROPRIÁ","PROPRIÁ",33,null,"GRACHO CARDOSO",0,"N/A",null,"PASE1710.dbc"]
[280270,"PROPRIÁ","ILHA DAS FLORES",0,0,0,0,"N/A",0,"N/A",{"$f":"METAS!W26","v":"N/A"},"N/A",null,null,"5386500 CAPS I SENHOR DOS PASSOS","MARUIM","SOCORRO",0,null,"ILHA DAS FLORES",0,"N/A",null,"PASE1711.dbc"]
[280280,"ESTÂNCIA","INDIAROBA",0,0,0,0,"N/A",0,"N/A",{"$f":"METAS!W27","v":"N/A"},"N/A",null,null,"5392071 CAPS I VALTER CORREIA","SÃO CRISTÓVÃO","ARACAJU",15,null,"INDIAROBA",0,"N/A",null,"PASE1712.dbc"]
[280290,"ITABAIANA","ITABAIANA",0,0,0,0,2,2,1,{"$f":"METAS!W28","v":1},"ATINGIU",null,null,"5618843 CAPS I PEDRO BISPO DA CRUZ BARRA DAS AGUAS","BARRA DOS COQUEIROS","ARACAJU",36,null,"ITABAIANA",2,{"$f":"COUNTIFS($P$4:$P$45,\"ITABAIANA\",$R$4:$R$45,\">=12\")","v":2},null,"Registros_Processados= 6602807"]
[280300,"ESTÂNCIA","ITABAIANINHA",0,20,401,157,1,1,1,{"$f":"METAS!W29","v":1},{"$f":"IF(J29>=K29,\"ATINGIU\",\"NÃO ATINGIU\")","v":"ATINGIU"},null,null,"5970660 CAPS III JAEL PATRICIO DE LIMA","ARACAJU","ARACAJU",0,null,"ITABAIANINHA",1,{"$f":"COUNTIFS($P$4:$P$45,\"ITABAIANINHA\",$R$4:$R$45,\">=12\")","v":1},null,"Tempo_Decorrido= 0:12"]
[280310,"GLORIA","ITABI",0,0,0,0,"N/A",0,"N/A",{"$f":"METAS!W30","v":"N/A"},"N/A",null,null,"5985692 CAPS I ESTRELA GUIA","RIACHAO DO DANTAS","LAGARTO",0,null,"ITABI",0,"N/A"]
[280320,"ARACAJU","ITAPORANGA D'AJUDA",0,0,0,0,0,1,0,{"$f":"METAS!W31","v":1},"NÃO ATINGIU",null,null,"6124208 CAPS JOSE CARVALHO DE SOUZA","NOSSA SENHORA DAS DORES","SOCORRO",0,null,"ITAPORANGA D'AJUDA",1,{"$f":"COUNTIFS($P$4:$P$45,\"ITAPORANGA\",$R$4:$R$45,\">=12\")","v":0}]
[280330,"SOCORRO","JAPARATUBA",0,0,0,0,0,0,"N/A",{"$f":"METAS!W32","v":"N/A"},"N/A",null,null,"6266762 CAPS AD SANTO ONOFRE","ITABAIANA","ITABAIANA",29,null,"JAPARATUBA",0,{"$f":"COUNTIFS($P$4:$P$45,\"JAPARATUBA\",$R$4:$R$45,\">=12\")","v":0}]
[280340,"PROPRIÁ","JAPOATÃ",0,0,0,0,1,1,1,{"$f":"METAS!W33","v":1},"ATINGIU",null,null,"6359825 CAPS AD JOAO ROSENDO DOS SANTOS","LAGARTO","LAGARTO",0,null,"JAPOATÃ",1,{"$f":"COUNTIFS($P$4:$P$45,\"JAPOATÃ\",$R$4:$R$45,\">=12\")","v":1}]
[280350,"LAGARTO","LAGARTO",0,0,2,1,{"$f":"V34","v":0},{"$f":"U34","v":2},0,{"$f":"METAS!W34","v":0.5},"NÃO ATINGIU",null,null,"6623840 CAPS INFANTO JUVENIL SAO DOMINGOS SAVIO","NOSSA SENHORA DO SOCORRO","SOCORRO",0,null,"LAGARTO",2,{"$f":"COUNTIFS($P$4:$P$45,\"LAGARTO\",$R$4:$R$45,\">=12\")","v":0}]
[280360,"ARACAJU","LARANJEIRAS",0,0,0,0,0,1,0,{"$f":"METAS!W35","v":1},"NÃO ATINGIU",null,null,"6869971 CAPS JOSE NELSON SANTOS","NEÓPOLIS","PROPRIÁ",0,null,"LARANJEIRAS",1,{"$f":"COUNTIFS($P$4:$P$45,\"LARANJEIRAS\",$R$4:$R$45,\">=12\")","v":0}]
[280370,"ITABAIANA","MACAMBIRA",0,0,0,0,"N/A",0,"N/A",{"$f":"METAS!W36","v":"N/A"},"N/A",null,null,"7029853 CAPS I LAURITA VIEIRA CARVALHO","UMBAÚBA","ESTÂNCIA",35,null,"MACAMBIRA",0,"N/A"]
[280380,"PROPRIÁ","MALHADA DOS BOIS",0,0,0,0,"N/A",0,"N/A",{"$f":"METAS!W37","v":"N/A"},"N/A",null,null,"7040849 CAPS BRAZ FERNANDES FONTES","BOQUIM","ESTÂNCIA",13,null,"MALHADA DOS BOIS",0,"N/A"]
[280390,"ITABAIANA","MALHADOR",0,0,0,0,"N/A",0,"N/A",{"$f":"METAS!W38","v":"N/A"},"N/A",null,null,"7060777 CAPS CICERO ROMAO","PORTO DA FOLHA","GLORIA",0,null,"MALHADOR",0,"N/A"]
[280400,"SOCORRO","MARUIM",0,0,0,0,0,1,0,{"$f":"METAS!W39","v":1},"NÃO ATINGIU",null,null,"7151438 CAPS JOSE FERNANDES MECENAS","LARANJEIRAS","ARACAJU",0,null,"MARUIM",1,{"$f":"COUNTIFS($P$4:$P$45,\"MARUIM\",$R$4:$R$45,\">=12\")","v":0}]
[280410,"ITABAIANA","MOITA BONITA",0,0,0,0,"N/A",0,"N/A",{"$f":"METAS!W40","v":"N/A"},"N/A",null,null,"7177992 CAPS ACORDAR PARA A VIDA","CARIRA","ITABAIANA",12,null,"MOITA BONITA",0,"N/A"]
[280420,"GLORIA","MONTE ALEGRE DE SERGIPE",0,0,0,0,"N/A",0,"N/A",{"$f":"METAS!W41","v":"N/A"},"N/A",null,null,"7191006 CAPS I MINERVINA DE SALES MACHADO","CRISTINÁPOLIS","ESTÂNCIA",8,null,"MONTE ALEGRE DE SERGIPE",0,"N/A"]
[280430,"PROPRIÁ","MURIBECA",0,0,0,0,"N/A",0,"N/A",{"$f":"METAS!W42","v":"N/A"},"N/A",null,null,"7316615 CENTRO DE ATENCAO PSICOSSOCIAL CAPS I","PACATUBA","PROPRIÁ",122,null,"MURIBECA",0,"N/A"]
[280440,"PROPRIÁ","NEÓPOLIS",0,0,0,0,0,1,0,{"$f":"METAS!W43","v":1},"NÃO ATINGIU",null,null,"7530218 CAPS I VERA LUCIA FERREIRA DA CRUZ","CAMPO DO BRITO","ITABAIANA",0,null,"NEOPOLIS",1,{"$f":"COUNTIFS($P$4:$P$45,\"NEÓPOLIS\",$R$4:$R$45,\">=12\")","v":0}]
[280445,"ITABAIANA","NOSSA SENHORA APARECIDA",0,0,0,0,"N/A",0,"N/A",{"$f":"METAS!W44","v":"N/A"},"N/A",null,null,"7562179 CENTRO DE ATENCAO PSICOSSOCIAL CAPS I","SÃO DOMINGOS","ITABAIANA",0,null,"NOSSA SENHORA APARECIDA",0,"N/A"]
[280450,"GLORIA","NOSSA SENHORA DA GLÓRIA",0,0,0,0,0,1,0,{"$f":"METAS!W45","v":1},"NÃO ATINGIU",null,null,"8015295 CAPS II ACONCHEGO","LAGARTO",{"$f":"INDEX($A$2:$C$77,MATCH(P45,$C$2:$C$76,0),2)","v":"LAGARTO"},5,null,"NOSSA SENHORA DA GLORIA",1,{"$f":"COUNTIFS($P$4:$P$45,\"GLÓRIA\",$R$4:$R$45,\">=12\")","v":0}]
[280460,"SOCORRO","NOSSA SENHORA DAS DORES",0,0,0,0,0,1,0,{"$f":"METAS!W46","v":1},"NÃO ATINGIU",null,null,"Total","SERGIPE",{"$f":"INDEX($A$2:$C$77,MATCH(P46,$C$2:$C$77,0),2)","v":"SERGIPE"},1993,null,"NOSSA SENHORA DAS DORES",1,{"$f":"COUNTIFS($P$4:$P$45,\"DORES\",$R$4:$R$45,\">=12\")","v":0}]
[280470,"PROPRIÁ","NOSSA SENHORA DE LOURDES",0,0,0,0,"N/A",0,"N/A",{"$f":"METAS!W47","v":"N/A"},"N/A",null,null,null,null,null,null,null,"NOSSA SENHORA DE LOURDES",0,"N/A"]
[280480,"SOCORRO","NOSSA SENHORA DO SOCORRO",0,0,2,0,0,4,0,{"$f":"METAS!W48","v":1},"NÃO ATINGIU",null,null,null,null,null,null,null,"NOSSA SENHORA DO SOCORRO",4,{"$f":"COUNTIFS($P$4:$P$45,\"SOCORRO\",$R$4:$R$45,\">=12\")","v":0}]
[280490,"PROPRIÁ","PACATUBA",0,0,0,0,1,1,1,{"$f":"METAS!W49","v":1},"ATINGIU",null,null,null,null,null,null,null,"PACATUBA",1,{"$f":"COUNTIFS($P$4:$P$45,\"PACATUBA\",$R$4:$R$45,\">=12\")","v":1}]
[280500,"ITABAIANA","PEDRA MOLE",0,0,0,0,"N/A",0,"N/A",{"$f":"METAS!W50","v":"N/A"},"N/A",null,null,null,null,null,null,null,"PEDRA MOLE",0,"N/A"]
[280510,"ESTÂNCIA","PEDRINHAS",0,0,0,0,"N/A",0,"N/A",{"$f":"METAS!W51","v":"N/A"},"N/A",null,null,null,null,null,null,null,"PEDRINHAS",0,"N/A"]
[280520,"ITABAIANA","PINHAO",0,0,0,0,"N/A",0,"N/A",{"$f":"METAS!W52","v":"N/A"},"N/A",null,null,null,null,null,null,null,"PINHAO",0,"N/A"]
[280530,"SOCORRO","PIRAMBU",0,0,0,0,"N/A",0,"N/A",{"$f":"METAS!W53","v":"N/A"},"N/A",null,null,null,null,null,null,null,"PIRAMBU",0,"N/A"]
[280540,"GLORIA","POCO REDONDO",0,0,0,0,"N/A",0,"N/A",{"$f":"METAS!W54","v":"N/A"},"N/A",null,null,null,null,null,null,null,"POCO REDONDO",0,"N/A"]
[280550,"LAGARTO","POÇO VERDE",0,0,0,0,1,1,1,{"$f":"METAS!W55","v":1},"ATINGIU",null,null,null,null,null,null,null,"POCO VERDE",1,{"$f":"COUNTIFS($P$4:$P$45,\"POÇO VERDE\",$R$4:$R$45,\">=12\")","v":1}]
[280560,"GLORIA","PORTO DA FOLHA",0,0,0,0,0,0,"N/A",{"$f":"METAS!W56","v":"N/A"},"N/A",null,null,null,null,null,null,null,"PORTO DA FOLHA",0,{"$f":"COUNTIFS($P$4:$P$45,\"PORTO DA FOLHA\",$R$4:$R$45,\">=12\")","v":0}]
[280570,"PROPRIÁ","PROPRIÁ",0,0,0,0,1,1,1,{"$f":"METAS!W57","v":1},"ATINGIU",null,null,null,null,null,null,null,"PROPRIÁ",1,{"$f":"COUNTIFS($P$4:$P$45,\"PROPRIÁ\",$R$4:$R$45,\">=12\")","v":1}]
[280580,"LAGARTO","RIACHAO DO DANTAS",0,0,0,0,0,1,0,{"$f":"METAS!W58","v":1},"NÃO ATINGIU",null,null,null,null,null,null,null,"RIACHAO DO DANTAS",1,{"$f":"COUNTIFS($P$4:$P$45,\"RIACHÃO\",$R$4:$R$45,\">=12\")","v":0}]
[280590,"ARACAJU","RIACHUELO",0,0,0,0,"N/A",0,"N/A",{"$f":"METAS!W59","v":"N/A"},"N/A",null,null,null,null,null,null,null,"RIACHUELO",0,"N/A"]
[280600,"ITABAIANA","RIBEIROPOLIS",0,0,0,0,"N/A",0,"N/A",{"$f":"METAS!W60","v":"N/A"},"N/A",null,null,null,null,null,null,null,"RIBEIROPOLIS",0,"N/A"]
[280610,"SOCORRO","ROSARIO DO CATETE",0,0,0,0,"N/A",0,"N/A",{"$f":"METAS!W61","v":"N/A"},"N/A",null,null,null,null,null,null,null,"ROSARIO DO CATETE",0,"N/A"]
[280620,"LAGARTO","SALGADO",0,0,0,3,0,1,0,{"$f":"METAS!W62","v":1},"NÃO ATINGIU",null,null,null,null,null,null,null,"SALGADO",1,{"$f":"COUNTIFS($P$4:$P$45,\"SALGADO\",$R$4:$R$45,\">=12\")","v":0}]
[280630,"ESTÂNCIA","SANTA LUZIA DO ITANHY",0,0,0,0,"N/A",0,"N/A",{"$f":"METAS!W63","v":"N/A"},"N/A",null,null,null,null,null,null,null,"SANTA LUZIA DO ITANHY",0,"N/A"]
[280640,"PROPRIÁ","SANTANA DO SÃO FRANCISCO",0,0,0,0,"N/A",0,"N/A",{"$f":"METAS!W64","v":"N/A"},"N/A",null,null,null,null,null,null,null,"SANTANA DO SÃO FRANCISCO",0,"N/A"]
[280650,"ARACAJU","SANTA ROSA DE LIMA",0,0,0,0,"N/A",0,"N/A",{"$f":"METAS!W65","v":"N/A"},"N/A",null,null,null,null,null,null,null,"SANTA ROSA DE LIMA",0,"N/A"]
[280660,"SOCORRO","SANTO AMARO DAS BROTAS",0,0,0,0,{"$f":"V66","v":"N/A"},{"$f":"U66","v":0},"N/A",{"$f":"METAS!W66","v":"N/A"},"N/A",null,null,null,null,null,null,null,"SANTO AMARO DAS BROTAS",0,"N/A"]
[280670,"ARACAJU","SÃO CRISTÓVÃO",0,0,0,0,2,2,1,{"$f":"METAS!W67","v":1},{"$f":"IF(J67>=K67,\"ATINGIU\",\"NÃO ATINGIU\")","v":"ATINGIU"},null,null,null,null,null,null,null,"SÃO CRISTOVAO",2,{"$f":"COUNTIFS($P$4:$P$45,\"SÃO CRISTÓVÃO\",$R$4:$R$45,\">=12\")","v":2}]
[280680,"ITABAIANA","SÃO DOMINGOS",0,0,0,0,0,1,{"$f":"H68/I68","v":0},{"$f":"METAS!W68","v":1},"NÃO ATINGIU",null,null,null,null,null,null,null,"SÃO DOMINGOS",1,{"$f":"COUNTIFS($P$4:$P$45,\"SÃO DOMINGOS\",$R$4:$R$45,\">=12\")","v":0}]
[280690,"PROPRIÁ","SÃO FRANCISCO",0,0,0,0,"N/A",0,"N/A",{"$f":"METAS!W69","v":"N/A"},"N/A",null,null,null,null,null,null,null,"SÃO FRANCISCO",0,"N/A"]
[280700,"ITABAIANA","SÃO MIGUEL DO ALEIXO",0,0,0,0,"N/A",0,"N/A",{"$f":"METAS!W70","v":"N/A"},"N/A",null,null,null,null,null,null,null,"SÃO MIGUEL DO ALEIXO",0,"N/A"]
[280710,"LAGARTO","SIMÃO DIAS",0,0,0,0,0,1,0,{"$f":"METAS!W71","v":1},"NÃO ATINGIU",null,null,null,null,null,null,null,"SIMÃO DIAS",1,{"$f":"COUNTIFS($P$4:$P$45,\"SIMÃO DIAS\",$R$4:$R$45,\">=12\")","v":0}]
[280720,"SOCORRO","SIRIRI",0,0,0,0,"N/A",0,"N/A",{"$f":"METAS!W72","v":"N/A"},"N/A",null,null,null,null,null,null,null,"SIRIRI",0,"N/A"]
[280730,"PROPRIÁ","TELHA",0,0,0,0,"N/A",0,"N/A",{"$f":"METAS!W73","v":"N/A"},"N/A",null,null,null,null,null,null,null,"TELHA",0,"N/A"]
[280740,"LAGARTO","TOBIAS BARRETO",0,0,0,0,0,1,0,{"$f":"METAS!W74","v":1},"NÃO ATINGIU",null,null,null,null,null,null,null,"TOBIAS BARRETO",1,{"$f":"COUNTIFS($P$4:$P$45,\"TOBIAS\",$R$4:$R$45,\">=12\")","v":0}]
[280750,"ESTÂNCIA","TOMAR DO GERU",0,0,0,0,"N/A",0,"N/A",{"$f":"METAS!W75","v":"N/A"},"N/A",null,null,null,null,null,null,null,"TOMAR DO GERU",0,"N/A"]
[280760,"ESTÂNCIA","UMBAÚBA",0,0,0,0,1,1,1,{"$f":"METAS!W76","v":1},"ATINGIU",null,null,null,null,null,null,null,"UMBAUBA",1,{"$f":"COUNTIFS($P$4:$P$45,\"UMBAÚBA\",$R$4:$R$45,\">=12\")","v":1}]
[280000,"SERGIPE","SERGIPE",175,643,694,374,16,41,{"$f":"H77/I77","v":0.3902439024390244},{"$f":"METAS!W77","v":1},"N/A",null,null,null,null,null,null,null,"SERGIPE",{"$f":"SUM(U2:U76)","v":41},{"$f":"SUM(V2:V76)","v":16}]
[]
[]
[]
[]
["Fonte:DATASUS/SIASUS/ATUALIZAÇÃO DO BANCO EM 05/02/18."]
["DADOS ATÉ DEZEMBRO 2017"]

{"sheet":"CICLO_DENGUE","index":123,"n_rows":83,"n_cols":17,"rows_kept":83,"cut":false,"hidden":true,"merged":[]}
[]
[null,"Indicador 22: Número de ciclos que atingiram mínimo de 80% de cobertura de imóveis visitados para controle vetorial da dengue"]
["CÓD","REGIÃO","Município","Numerador","Denominador","Fator de multiplicação","Resultado","Meta 2017","SITUAÇÃO",null,null,null,"CÓD","REGIÃO","Resultado","Meta 2017","SITUAÇÃO"]
[280010,"PROPRIÁ","AMPARO DE SÃO FRANCISCO","-","-","-",10,{"$f":"METAS!X2","v":5},{"$f":"IF(G4>=H4,\"ATINGIU\",\"NÃO ATINGIU\")","v":"ATINGIU"},null,null,null,1,"ARACAJU",{"$f":"SUMIF($B$4:$B$79,N4,G$4:G$79)","v":9},{"$f":"METAS!X81","v":4},{"$f":"IF(O4>=P4,\"ATINGIU\",\"NÃO ATINGIU\")","v":"ATINGIU"}]
[280020,"PROPRIÁ","AQUIDABA","-","-","-",2,{"$f":"METAS!X3","v":4},{"$f":"IF(G5>=H5,\"ATINGIU\",\"NÃO ATINGIU\")","v":"NÃO ATINGIU"},null,null,null,2,"ESTÂNCIA",{"$f":"SUMIF($B$4:$B$79,N5,G$4:G$79)","v":22},{"$f":"METAS!X82","v":4},{"$f":"IF(O5>=P5,\"ATINGIU\",\"NÃO ATINGIU\")","v":"ATINGIU"}]
[280030,"ARACAJU","ARACAJU","-","-","-",1,{"$f":"METAS!X4","v":4},"NÃO ATINGIU",null,null,null,3,"GLÓRIA",15,{"$f":"METAS!X83","v":4},"ATINGIU"]
[280040,"ESTÂNCIA","ARAUA","-","-","-",0,{"$f":"METAS!X5","v":4},"NÃO ATINGIU",null,null,null,4,"ITABAIANA",20,{"$f":"METAS!X84","v":4},"ATINGIU"]
[280050,"ITABAIANA","AREIA BRANCA","-","-","-",0,{"$f":"METAS!X6","v":4},"NÃO ATINGIU",null,null,null,5,"LAGARTO",15,{"$f":"METAS!X85","v":4},"ATINGIU"]
[280060,"ARACAJU","BARRA DOS COQUEIROS","-","-","-",1,{"$f":"METAS!X7","v":4},"NÃO ATINGIU",null,null,null,6,"PROPRIÁ",36,{"$f":"METAS!X86","v":4},"ATINGIU"]
[280067,"ESTÂNCIA","BOQUIM","-","-","-",0,{"$f":"METAS!X8","v":4},"NÃO ATINGIU",null,null,null,7,"SOCORRO",26,{"$f":"METAS!X87","v":4},"ATINGIU"]
[280070,"PROPRIÁ","BREJO GRANDE","-","-","-",1,{"$f":"METAS!X9","v":4},"NÃO ATINGIU",null,null,null,8,"SERGIPE",{"$f":"G79","v":"N/A"},{"$f":"H79","v":"N/A"},"ATINGIU"]
[280100,"ITABAIANA","CAMPO DO BRITO","-","-","-",1,{"$f":"METAS!X10","v":4},"NÃO ATINGIU"]
[280110,"PROPRIÁ","CANHOBA","-","-","-",3,{"$f":"METAS!X11","v":4},"NÃO ATINGIU"]
[280120,"GLÓRIA","CANINDE DE SÃO FRANCISCO","-","-","-",0,{"$f":"METAS!X12","v":4},"NÃO ATINGIU"]
[280130,"SOCORRO","CAPELA","-","-","-",2,{"$f":"METAS!X13","v":4},"NÃO ATINGIU"]
[280140,"ITABAIANA","CARIRA","-","-","-",2,{"$f":"METAS!X14","v":6},"NÃO ATINGIU"]
[280150,"SOCORRO","CARMOPOLIS","-","-","-",3,{"$f":"METAS!X15","v":5},"NÃO ATINGIU"]
[280160,"PROPRIÁ","CEDRO DE SÃO JOAO","-","-","-",3,{"$f":"METAS!X16","v":4},"NÃO ATINGIU"]
[280170,"ESTÂNCIA","CRISTINAPOLIS","-","-","-",4,{"$f":"METAS!X17","v":4},"ATINGIU"]
[280190,"SOCORRO","CUMBE","-","-","-",2,{"$f":"METAS!X18","v":4},"NÃO ATINGIU"]
[280200,"ARACAJU","DIVINA PASTORA","-","-","-",1,{"$f":"METAS!X19","v":4},"NÃO ATINGIU"]
[280210,"ESTÂNCIA","ESTANCIA","-","-","-",4,{"$f":"METAS!X20","v":4},"ATINGIU"]
[280220,"GLÓRIA","FEIRA NOVA","-","-","-",3,{"$f":"METAS!X21","v":5},"NÃO ATINGIU"]
[280230,"ITABAIANA","FREI PAULO","-","-","-",2,{"$f":"METAS!X22","v":4},"NÃO ATINGIU"]
[280240,"GLÓRIA","GARARU","-","-","-",0,{"$f":"METAS!X23","v":4},"NÃO ATINGIU"]
[280250,"SOCORRO","GENERAL MAYNARD","-","-","-",3,{"$f":"METAS!X24","v":4},"NÃO ATINGIU"]
[280260,"GLÓRIA","GRACHO CARDOSO","-","-","-","-",{"$f":"METAS!X25","v":4},"ATINGIU"]
[280270,"PROPRIÁ","ILHA DAS FLORES","-","-","-",0,{"$f":"METAS!X26","v":4},"NÃO ATINGIU"]
[280280,"ESTÂNCIA","INDIAROBA","-","-","-",2,{"$f":"METAS!X27","v":4},"NÃO ATINGIU"]
[280290,"ITABAIANA","ITABAIANA","-","-","-",1,{"$f":"METAS!X28","v":4},"NÃO ATINGIU"]
[280300,"ESTÂNCIA","ITABAIANINHA","-","-","-",3,{"$f":"METAS!X29","v":4},"NÃO ATINGIU"]
[280310,"GLÓRIA","ITABI","-","-","-",2,{"$f":"METAS!X30","v":4},"NÃO ATINGIU"]
[280320,"ARACAJU","ITAPORANGA D'AJUDA","-","-","-",0,{"$f":"METAS!X31","v":4},"NÃO ATINGIU"]
[280330,"SOCORRO","JAPARATUBA","-","-","-",0,{"$f":"METAS!X32","v":4},"NÃO ATINGIU"]
[280340,"PROPRIÁ","JAPOATA","-","-","-",1,{"$f":"METAS!X33","v":4},"NÃO ATINGIU"]
[280350,"LAGARTO","LAGARTO","-","-","-",3,{"$f":"METAS!X34","v":4},"NÃO ATINGIU"]
[280360,"ARACAJU","LARANJEIRAS","-","-","-",2,{"$f":"METAS!X35","v":4},"NÃO ATINGIU"]
[280370,"ITABAIANA","MACAMBIRA","-","-","-",2,{"$f":"METAS!X36","v":4},"NÃO ATINGIU"]
[280380,"PROPRIÁ","MALHADA DOS BOIS","-","-","-",3,{"$f":"METAS!X37","v":5},"NÃO ATINGIU"]
[280390,"ITABAIANA","MALHADOR","-","-","-",1,{"$f":"METAS!X38","v":4},"NÃO ATINGIU"]
[280400,"SOCORRO","MARUIM","-","-","-",1,{"$f":"METAS!X39","v":4},"NÃO ATINGIU"]
[280410,"ITABAIANA","MOITA BONITA","-","-","-",3,{"$f":"METAS!X40","v":4},"NÃO ATINGIU"]
[280420,"GLÓRIA","MONTE ALEGRE DE SERGIPE","-","-","-",3,{"$f":"METAS!X41","v":4},"NÃO ATINGIU"]
[280430,"PROPRIÁ","MURIBECA","-","-","-",1,{"$f":"METAS!X42","v":6},"NÃO ATINGIU"]
[280440,"PROPRIÁ","NEOPOLIS","-","-","-",1,{"$f":"METAS!X43","v":4},"NÃO ATINGIU"]
[280445,"ITABAIANA","NOSSA SENHORA APARECIDA","-","-","-",3,{"$f":"METAS!X44","v":4},"NÃO ATINGIU"]
[280450,"GLÓRIA","NOSSA SENHORA DA GLORIA","-","-","-",4,{"$f":"METAS!X45","v":4},"ATINGIU"]
[280460,"SOCORRO","NOSSA SENHORA DAS DORES","-","-","-",1,{"$f":"METAS!X46","v":4},"NÃO ATINGIU"]
[280470,"PROPRIÁ","NOSSA SENHORA DE LOURDES","-","-","-",0,{"$f":"METAS!X47","v":5},"NÃO ATINGIU"]
[280480,"SOCORRO","NOSSA SENHORA DO SOCORRO","-","-","-",4,{"$f":"METAS!X48","v":6},"NÃO ATINGIU"]
[280490,"PROPRIÁ","PACATUBA","-","-","-",0,{"$f":"METAS!X49","v":6},"NÃO ATINGIU"]
[280500,"ITABAIANA","PEDRA MOLE","-","-","-",1,{"$f":"METAS!X50","v":5},"NÃO ATINGIU"]
[280510,"ESTÂNCIA","PEDRINHAS","-","-","-",4,{"$f":"METAS!X51","v":4},"ATINGIU"]
[280520,"ITABAIANA","PINHAO","-","-","-",0,{"$f":"METAS!X52","v":4},"NÃO ATINGIU"]
[280530,"SOCORRO","PIRAMBU","-","-","-",3,{"$f":"METAS!X53","v":4},"NÃO ATINGIU"]
[280540,"GLÓRIA","POCO REDONDO","-","-","-",0,{"$f":"METAS!X54","v":4},"NÃO ATINGIU"]
[280550,"LAGARTO","POCO VERDE","-","-","-",3,{"$f":"METAS!X55","v":4},"NÃO ATINGIU"]
[280560,"GLÓRIA","PORTO DA FOLHA","-","-","-",3,{"$f":"METAS!X56","v":4},"NÃO ATINGIU"]
[280570,"PROPRIÁ","PROPRIA","-","-","-",2,{"$f":"METAS!X57","v":5},"NÃO ATINGIU"]
[280580,"LAGARTO","RIACHAO DO DANTAS","-","-","-",4,{"$f":"METAS!X58","v":4},"ATINGIU"]
[280590,"ARACAJU","RIACHUELO","-","-","-",2,{"$f":"METAS!X59","v":4},"NÃO ATINGIU"]
[280600,"ITABAIANA","RIBEIROPOLIS","-","-","-",3,{"$f":"METAS!X60","v":4},"NÃO ATINGIU"]
[280610,"SOCORRO","ROSARIO DO CATETE","-","-","-",3,{"$f":"METAS!X61","v":4},"NÃO ATINGIU"]
[280620,"LAGARTO","SALGADO","-","-","-",0,{"$f":"METAS!X62","v":4},"NÃO ATINGIU"]
[280630,"ESTÂNCIA","SANTA LUZIA DO ITANHY","-","-","-",3,{"$f":"METAS!X63","v":6},"NÃO ATINGIU"]
[280640,"PROPRIÁ","SANTANA DO SÃO FRANCISCO","-","-","-",3,{"$f":"METAS!X64","v":4},"NÃO ATINGIU"]
[280650,"ARACAJU","SANTA ROSA DE LIMA","-","-","-",0,{"$f":"METAS!X65","v":4},"NÃO ATINGIU"]
[280660,"SOCORRO","SANTO AMARO DAS BROTAS","-","-","-",2,{"$f":"METAS!X66","v":4},"NÃO ATINGIU"]
[280670,"ARACAJU","SÃO CRISTOVAO","-","-","-",2,{"$f":"METAS!X67","v":4},{"$f":"IF(G69>=H69,\"ATINGIU\",\"NÃO ATINGIU\")","v":"NÃO ATINGIU"}]
[280680,"ITABAIANA","SÃO DOMINGOS","-","-","-",0,{"$f":"METAS!X68","v":4},"NÃO ATINGIU"]
[280690,"PROPRIÁ","SÃO FRANCISCO","-","-","-",3,{"$f":"METAS!X69","v":6},"NÃO ATINGIU"]
[280700,"ITABAIANA","SÃO MIGUEL DO ALEIXO","-","-","-",1,{"$f":"METAS!X70","v":4},"NÃO ATINGIU"]
[280710,"LAGARTO","SIMÃO DIAS","-","-","-",2,{"$f":"METAS!X71","v":4},"NÃO ATINGIU"]
[280720,"SOCORRO","SIRIRI","-","-","-",2,{"$f":"METAS!X72","v":4},"NÃO ATINGIU"]
[280730,"PROPRIÁ","TELHA","-","-","-",3,{"$f":"METAS!X73","v":5},"NÃO ATINGIU"]
[280740,"LAGARTO","TOBIAS BARRETO","-","-","-",3,{"$f":"METAS!X74","v":6},"NÃO ATINGIU"]
[280750,"ESTÂNCIA","TOMAR DO GERU","-","-","-",1,{"$f":"METAS!X75","v":4},"NÃO ATINGIU"]
[280760,"ESTÂNCIA","UMBAUBA","-","-","-",1,{"$f":"METAS!X76","v":4},"NÃO ATINGIU"]
[280000,"SERGIPE","SERGIPE",null,null,null,"N/A","N/A","ATINGIU"]
[]
[]
["Fonte: SISPNCD"]
["Data do banco de dados: 06/09/2017"]

{"sheet":"NOT_AC_TRAB_OCUP","index":124,"n_rows":1755,"n_cols":35,"rows_kept":1755,"cut":false,"hidden":true,"merged":[]}
["CÓD","REGIÃO","MUNICÍPIO","ACID.MAT.BIO. NOTIFICADOS","ACID.MAT.BIO. PREENCHIDOS","ACID.GRAVE NOTIFICADOS","ACID.GRAVE PREENCHIDOS","INTOX EXÓG NOTIFICADOS","INTOX EXÓG PREENCHIDOS","TOTAL NOTIFICADOS","TOTAL PRENCHIDOS","%PREENCHIMENTO","META 2017","SITUAÇÃO",null,null,null,null,null,null,null,null,"CÓD","REGIÃO","ACID.MAT.BIO. NOTIFICADOS","ACID.MAT.BIO. PREENCHIDOS","ACID.GRAVE NOTIFICADOS","ACID.GRAVE PREENCHIDOS","INTOX EXÓG NOTIFICADOS","INTOX EXÓG PREENCHIDOS","TOTAL NOTIFICADOS","TOTAL PRENCHIDOS","%PREENCHIMENTO","META 2017","SITUAÇÃO"]
[280010,"PROPRIÁ","AMPARO DE SÃO FRANCISCO",0,0,0,0,12,0,{"$f":"SUM(D2,F2,H2)","v":12},{"$f":"SUM(E2,G2,I2)","v":0},{"$f":"IFERROR(K2/J2,\"N/A\")","v":0},{"$f":"METAS!Y2","v":0.95},{"$f":"IF(L2=\"N/A\",\"N/A\",IF(L2>=M2,\"ATINGIU\",\"NÃO ATINGIU\"))","v":"NÃO ATINGIU"},null,null,null,null,null,null,null,null,1,"ARACAJU",{"$f":"SUMIF($B$2:$B$77,$X2,D$2:D$77)","v":328},326,62,62,288,32,678,420,{"$f":"AF2/AE2","v":0.61946902654867253},{"$f":"METAS!Y81","v":0.95},{"$f":"IF(AG2>=AH2,\"ATINGIU\",\"NÃO ATINGIU\")","v":"NÃO ATINGIU"}]
[280020,"PROPRIÁ","AQUIDABA",0,0,0,0,0,0,{"$f":"SUM(D3,F3,H3)","v":0},0,{"$f":"IFERROR(K3/J3,\"N/A\")","v":"N/A"},{"$f":"METAS!Y3","v":0.95},{"$f":"IF(L3=\"N/A\",\"N/A\",IF(L3>=M3,\"ATINGIU\",\"NÃO ATINGIU\"))","v":"N/A"},null,null,null,null,null,null,null,null,2,"ESTÂNCIA",{"$f":"SUMIF($B$2:$B$77,X3,D$2:D$77)","v":33},{"$f":"SUMIF($B$2:$B$77,$X3,E$2:E$77)","v":33},8,8,8,5,49,46,{"$f":"AF3/AE3","v":0.93877551020408168},{"$f":"METAS!Y82","v":0.95},{"$f":"IF(AG3>=AH3,\"ATINGIU\",\"NÃO ATINGIU\")","v":"NÃO ATINGIU"}]
[280030,"ARACAJU","ARACAJU",288,286,45,45,240,29,573,360,0.62827225130890052,{"$f":"METAS!Y4","v":0.95},"NÃO ATINGIU",null,"[Opções]",null,null,null,null,null,null,3,"GLÓRIA",3,3,7,7,4,3,14,13,0.9285714285714286,{"$f":"METAS!Y83","v":0.64069999999999994},"ATINGIU"]
[280040,"ESTÂNCIA","ARAUA",0,0,0,0,0,0,0,0,"N/A",{"$f":"METAS!Y5","v":0.95},"N/A",null,"DEF=E:\\SUS\\SINAN\\IntoxNET.def",null,null,null,null,null,null,4,"ITABAIANA",7,7,8,8,15,6,30,21,0.7,{"$f":"METAS!Y84","v":0.95},"NÃO ATINGIU"]
[280050,"ITABAIANA","AREIA BRANCA",0,0,1,1,1,0,2,1,0.5,{"$f":"METAS!Y6","v":0.9},"NÃO ATINGIU",null,"PATH=E:\\SUS\\SINAN\\BASEDBF19_01_2018\\IExogN*.DBF",null,null,null,null,null,null,5,"LAGARTO",23,22,37,37,10,5,70,64,0.91428571428571426,{"$f":"METAS!Y85","v":0.95},"NÃO ATINGIU"]
[280060,"ARACAJU","BARRA DOS COQUEIROS",9,9,2,2,4,0,15,11,0.73333333333333328,{"$f":"METAS!Y7","v":0.95},"NÃO ATINGIU",null,"Linha=Mun Resid SE",null,null,null,null,null,null,6,"PROPRIÁ",10,8,4,4,160,42,174,54,0.31034482758620691,{"$f":"METAS!Y86","v":0.95},"NÃO ATINGIU"]
[280067,"ESTÂNCIA","BOQUIM",0,0,0,0,2,2,2,2,1,{"$f":"METAS!Y8","v":0.95},"ATINGIU",null,"Coluna=Ano da Notific",null,null,null,null,null,null,7,"SOCORRO",46,44,19,18,102,54,167,116,0.69461077844311381,{"$f":"METAS!Y87","v":0.95},"NÃO ATINGIU"]
[280070,"PROPRIÁ","BREJO GRANDE",0,0,0,0,0,0,0,0,"N/A",{"$f":"METAS!Y9","v":0.95},"N/A",null,"Incremento=Freqüência",null,null,null,null,null,null,8,"SERGIPE",468,461,155,154,653,193,1276,808,0.63322884012539182,{"$f":"METAS!Y77","v":0.95},"NÃO ATINGIU"]
[280100,"ITABAIANA","CAMPO DO BRITO",1,1,0,0,0,0,1,1,1,{"$f":"METAS!Y10","v":0.95},"ATINGIU",null,"Suprime_Linhas_Zeradas=false"]
[280110,"PROPRIÁ","CANHOBA",0,0,0,0,2,0,2,0,0,{"$f":"METAS!Y11","v":0.95},"NÃO ATINGIU",null,"Suprime_Colunas_Zeradas=true"]
[280120,"GLÓRIA","CANINDE DE SÃO FRANCISCO",3,3,7,7,4,3,14,13,0.9285714285714286,{"$f":"METAS!Y12","v":0.97599999999999998},"NÃO ATINGIU",null,"Não_Classificados=0"]
[280130,"SOCORRO","CAPELA",0,0,2,2,1,1,3,3,1,{"$f":"METAS!Y13","v":0.95},"ATINGIU",null,"[Seleções_Ativas]"]
[280140,"ITABAIANA","CARIRA",0,0,1,1,0,0,1,1,1,{"$f":"METAS!Y14","v":0.95},"ATINGIU",null,"Ano da Notific: 2017"]
[280150,"SOCORRO","CARMOPOLIS",1,1,1,1,2,0,4,2,0.5,{"$f":"METAS!Y15","v":0.95},"NÃO ATINGIU",null,"[Arquivos]"]
[280160,"PROPRIÁ","CEDRO DE SÃO JOAO",0,0,0,0,13,0,13,0,0,{"$f":"METAS!Y16","v":0.95},"NÃO ATINGIU",null,"IEXOGNET.DBF"]
[280170,"ESTÂNCIA","CRISTINAPOLIS",5,5,0,0,1,1,6,6,1,{"$f":"METAS!Y17","v":1},"ATINGIU",null,"Registros_Processados= 4729"]
[280190,"SOCORRO","CUMBE",2,2,1,0,2,2,5,4,0.8,{"$f":"METAS!Y18","v":0.95},"NÃO ATINGIU",null,"Tempo_Decorrido= 0:00"]
[280200,"ARACAJU","DIVINA PASTORA",0,0,0,0,0,0,0,0,"N/A",{"$f":"METAS!Y19","v":0.95},"N/A"]
[280210,"ESTÂNCIA","ESTANCIA",11,11,4,4,2,1,17,16,0.94117647058823528,{"$f":"METAS!Y20","v":0.95},"NÃO ATINGIU"]
[280220,"GLORIA","FEIRA NOVA",1,1,0,0,4,3,5,4,0.8,{"$f":"METAS!Y21","v":0.95},"NÃO ATINGIU"]
[280230,"ITABAIANA","FREI PAULO",0,0,0,0,0,0,0,0,"N/A",{"$f":"METAS!Y22","v":0.95},"N/A"]
[280240,"GLORIA","GARARU",0,0,0,0,1,0,1,0,0,{"$f":"METAS!Y23","v":0.95},"NÃO ATINGIU"]
[280250,"SOCORRO","GENERAL MAYNARD",0,0,1,1,1,1,2,2,1,{"$f":"METAS!Y24","v":1},"ATINGIU"]
[280260,"GLORIA","GRACHO CARDOSO",0,0,0,0,9,4,9,4,0.44444444444444442,{"$f":"METAS!Y25","v":1},"NÃO ATINGIU"]
[280270,"PROPRIÁ","ILHA DAS FLORES",1,1,0,0,2,0,3,1,0.33333333333333331,{"$f":"METAS!Y26","v":0.95},"NÃO ATINGIU"]
[280280,"ESTÂNCIA","INDIAROBA",0,0,1,1,0,0,1,1,1,{"$f":"METAS!Y27","v":0.95},"ATINGIU"]
[280290,"ITABAIANA","ITABAIANA",5,5,3,3,6,1,14,9,0.6428571428571429,{"$f":"METAS!Y28","v":0.95},"NÃO ATINGIU"]
[280300,"ESTÂNCIA","ITABAIANINHA",2,2,1,1,0,0,3,3,1,{"$f":"METAS!Y29","v":0.95},"ATINGIU"]
[280310,"GLORIA","ITABI",0,0,0,0,3,1,3,1,0.33333333333333331,{"$f":"METAS!Y30","v":0.68769999999999998},"NÃO ATINGIU"]
[280320,"ARACAJU","ITAPORANGA D'AJUDA",7,7,0,0,4,0,11,7,0.63636363636363635,{"$f":"METAS!Y31","v":0.95},"NÃO ATINGIU"]
[280330,"SOCORRO","JAPARATUBA",1,1,0,0,2,1,3,2,0.66666666666666663,{"$f":"METAS!Y32","v":0.95},"NÃO ATINGIU"]
[280340,"PROPRIÁ","JAPOATA",1,1,0,0,6,0,7,1,0.14285714285714285,{"$f":"METAS!Y33","v":0.95},"NÃO ATINGIU"]
[280350,"LAGARTO","LAGARTO",12,12,11,11,0,0,23,23,1,{"$f":"METAS!Y34","v":0.95},"ATINGIU"]
[280360,"ARACAJU","LARANJEIRAS",4,4,1,1,5,1,10,6,0.6,{"$f":"METAS!Y35","v":0.95},"NÃO ATINGIU"]
[280370,"ITABAIANA","MACAMBIRA",0,0,0,0,0,0,0,0,"N/A",{"$f":"METAS!Y36","v":0.95},"N/A"]
[280380,"PROPRIÁ","MALHADA DOS BOIS",0,0,0,0,17,0,17,0,0,{"$f":"METAS!Y37","v":1},"NÃO ATINGIU"]
[280390,"ITABAIANA","MALHADOR",0,0,1,1,1,0,2,1,0.5,{"$f":"METAS!Y38","v":0.95},"NÃO ATINGIU"]
[280400,"SOCORRO","MARUIM",1,1,1,1,4,0,6,2,0.33333333333333331,{"$f":"METAS!Y39","v":0.95},"NÃO ATINGIU"]
[280410,"ITABAIANA","MOITA BONITA",0,0,1,1,0,0,1,1,1,{"$f":"METAS!Y40","v":1},"ATINGIU"]
[280420,"GLORIA","MONTE ALEGRE DE SERGIPE",1,1,1,1,6,5,8,7,0.875,{"$f":"METAS!Y41","v":0.95},"NÃO ATINGIU"]
[280430,"PROPRIÁ","MURIBECA",1,1,1,1,13,0,15,2,0.13333333333333333,{"$f":"METAS!Y42","v":0.95},"NÃO ATINGIU"]
[280440,"PROPRIÁ","NEOPOLIS",3,1,1,1,6,0,10,2,0.2,{"$f":"METAS!Y43","v":0.95},"NÃO ATINGIU"]
[280445,"ITABAIANA","NOSSA SENHORA APARECIDA",0,0,0,0,1,1,1,1,1,{"$f":"METAS!Y44","v":0.95},"ATINGIU"]
[280450,"GLORIA","NOSSA SENHORA DA GLORIA",11,11,6,6,41,33,58,50,0.86206896551724133,{"$f":"METAS!Y45","v":1},"NÃO ATINGIU"]
[280460,"SOCORRO","NOSSA SENHORA DAS DORES",5,5,0,0,5,2,10,7,0.7,{"$f":"METAS!Y46","v":0.95},"NÃO ATINGIU"]
[280470,"PROPRIÁ","NOSSA SENHORA DE LOURDES",0,0,1,1,9,1,10,2,0.2,{"$f":"METAS!Y47","v":1},"NÃO ATINGIU"]
[280480,"SOCORRO","NOSSA SENHORA DO SOCORRO",35,33,9,9,75,46,119,88,0.73949579831932777,{"$f":"METAS!Y48","v":0.95},"NÃO ATINGIU"]
[280490,"PROPRIÁ","PACATUBA",0,0,0,0,5,0,5,0,0,{"$f":"METAS!Y49","v":0.95},"NÃO ATINGIU"]
[280500,"ITABAIANA","PEDRA MOLE",0,0,0,0,0,0,0,0,"N/A",{"$f":"METAS!Y50","v":1},"N/A"]
[280510,"ESTÂNCIA","PEDRINHAS",1,1,0,0,1,0,2,1,0.5,{"$f":"METAS!Y51","v":0.95},"NÃO ATINGIU"]
[280520,"ITABAIANA","PINHAO",0,0,0,0,0,0,0,0,"N/A",{"$f":"METAS!Y52","v":1},"N/A"]
[280530,"SOCORRO","PIRAMBU",1,1,1,1,2,0,4,2,0.5,{"$f":"METAS!Y53","v":0.95},"NÃO ATINGIU"]
[280540,"GLORIA","POCO REDONDO",1,1,0,0,0,0,1,1,1,{"$f":"METAS!Y54","v":0.95},"ATINGIU"]
[280550,"LAGARTO","POCO VERDE",1,1,0,0,0,0,1,1,1,{"$f":"METAS!Y55","v":0.95},"ATINGIU"]
[280560,"GLORIA","PORTO DA FOLHA",4,4,3,3,2,0,9,7,0.77777777777777779,{"$f":"METAS!Y56","v":0.95},"NÃO ATINGIU"]
[280570,"PROPRIÁ","PROPRIA",2,2,1,1,57,41,60,44,0.73333333333333328,{"$f":"METAS!Y57","v":1},"NÃO ATINGIU"]
[280580,"LAGARTO","RIACHAO DO DANTAS",0,0,0,0,0,0,0,0,"N/A",{"$f":"METAS!Y58","v":0.95},"N/A"]
[280590,"ARACAJU","RIACHUELO",1,1,1,1,3,0,5,2,0.4,{"$f":"METAS!Y59","v":0.95},"NÃO ATINGIU"]
[280600,"ITABAIANA","RIBEIROPOLIS",1,1,0,0,1,1,2,2,1,{"$f":"METAS!Y60","v":0.95},"ATINGIU"]
[280610,"SOCORRO","ROSARIO DO CATETE",0,0,3,3,0,0,3,3,1,{"$f":"METAS!Y61","v":0.95},"ATINGIU"]
[280620,"LAGARTO","SALGADO",2,2,0,0,2,0,4,2,0.5,{"$f":"METAS!Y62","v":0.95},"NÃO ATINGIU"]
[280630,"ESTÂNCIA","SANTA LUZIA DO ITANHY",0,0,0,0,0,0,0,0,"N/A",{"$f":"METAS!Y63","v":0.95},"N/A"]
[280640,"PROPRIÁ","SANTANA DO SÃO FRANCISCO",1,1,0,0,0,0,1,1,1,{"$f":"METAS!Y64","v":1},"ATINGIU"]
[280650,"ARACAJU","SANTA ROSA DE LIMA",0,0,1,1,0,0,1,1,1,{"$f":"METAS!Y65","v":0.95},"ATINGIU"]
[280660,"SOCORRO","SANTO AMARO DAS BROTAS",0,0,0,0,4,1,4,1,0.25,{"$f":"METAS!Y66","v":0.95},"NÃO ATINGIU"]
[280670,"ARACAJU","SÃO CRISTOVAO",19,19,12,12,32,2,{"$f":"SUM(D67,F67,H67)","v":63},33,{"$f":"IFERROR(K67/J67,\"N/A\")","v":0.52380952380952384},{"$f":"METAS!Y67","v":0.95},{"$f":"IF(L67=\"N/A\",\"N/A\",IF(L67>=M67,\"ATINGIU\",\"NÃO ATINGIU\"))","v":"NÃO ATINGIU"}]
[280680,"ITABAIANA","SÃO DOMINGOS",0,0,1,1,0,0,1,1,1,{"$f":"METAS!Y68","v":0.95},"ATINGIU"]
[280690,"PROPRIÁ","SÃO FRANCISCO",1,1,0,0,5,0,6,1,0.16666666666666666,{"$f":"METAS!Y69","v":0.95},"NÃO ATINGIU"]
[280700,"ITABAIANA","SÃO MIGUEL DO ALEIXO",0,0,0,0,5,3,5,3,0.6,{"$f":"METAS!Y70","v":0.95},"NÃO ATINGIU"]
[280710,"LAGARTO","SIMÃO DIAS",6,5,24,24,4,4,34,33,0.97058823529411764,{"$f":"METAS!Y71","v":0.95},"ATINGIU"]
[280720,"SOCORRO","SIRIRI",0,0,0,0,4,0,4,0,0,{"$f":"METAS!Y72","v":0.95},"NÃO ATINGIU"]
[280730,"PROPRIÁ","TELHA",0,0,0,0,13,0,13,0,0,{"$f":"METAS!Y73","v":0.95},"NÃO ATINGIU"]
[280740,"LAGARTO","TOBIAS BARRETO",2,2,2,2,4,1,8,5,0.625,{"$f":"METAS!Y74","v":0.95},"NÃO ATINGIU"]
[280750,"ESTÂNCIA","TOMAR DO GERU",6,6,1,1,2,1,9,8,0.88888888888888884,{"$f":"METAS!Y75","v":0.95},"NÃO ATINGIU"]
[280760,"ESTÂNCIA","UMBAUBA",8,8,1,1,0,0,9,9,1,{"$f":"METAS!Y76","v":0.95},"ATINGIU"]
[280000,"SERGIPE","SERGIPE",468,461,155,154,653,193,1276,808,0.63322884012539182,null,"ATINGIU"]
[]
["Base de dados 19.01.2018"]
["[Opções]",null,null,null,null,"[Opções]",null,null,null,"[Opções]"]
["DEF=E:\\SUS\\SINAN\\AcidBioNET.def",null,null,null,null,"DEF=E:\\SUS\\SINAN\\AcidGraveNET.def",null,null,null,"DEF=E:\\SUS\\SINAN\\AcidGraveNET.def",null,null,null,null,null,null,null,null,null,null,null,"[Opções]"]
["PATH=E:\\SUS\\SINAN\\BASEDBF19_01_2018\\AcbioN*.DBF",null,null,null,null,"PATH=E:\\SUS\\SINAN\\BASEDBF19_01_2018\\AcgraN*.DBF",null,null,null,"PATH=E:\\SUS\\SINAN\\BASEDBF19_01_2018\\AcgraN*.DBF",null,null,null,null,null,null,null,null,null,null,null,"DEF=E:\\SUS\\SINAN\\IntoxNET.def"]
["Linha=Mun Resid SE",null,null,null,null,"Linha=Mun Resid SE",null,null,null,"Linha=Mun Resid SE",null,null,null,null,null,null,null,null,null,null,null,"PATH=E:\\SUS\\SINAN\\BASEDBF19_01_2018\\IExogN*.DBF"]
["Coluna=Ano da Notific",null,null,null,null,"Coluna=Ano da Notific",null,null,null,"Coluna=Ano da Notific",null,null,null,null,null,null,null,null,null,null,null,"Linha=Mun Resid SE"]
["Incremento=Freqüência",null,null,null,null,"Incremento=Freqüência",null,null,null,"Incremento=Freqüência",null,null,null,null,null,null,null,null,null,null,null,"Coluna=Ano da Notific"]
["Suprime_Linhas_Zeradas=false",null,null,null,null,"Suprime_Linhas_Zeradas=false",null,null,null,"Suprime_Linhas_Zeradas=false",null,null,null,null,null,null,null,null,null,null,null,"Incremento=Freqüência"]
["Suprime_Colunas_Zeradas=true",null,null,null,null,"Suprime_Colunas_Zeradas=true",null,null,null,"Suprime_Colunas_Zeradas=true",null,null,null,null,null,null,null,null,null,null,null,"Suprime_Linhas_Zeradas=false"]
["Não_Classificados=0",null,null,null,null,"Não_Classificados=0",null,null,null,"Não_Classificados=0",null,null,null,null,null,null,null,null,null,null,null,"Suprime_Colunas_Zeradas=true"]
["[Seleções_Ativas]",null,null,null,null,"[Seleções_Ativas]",null,null,null,"[Seleções_Ativas]",null,null,null,null,null,null,null,null,null,null,null,"Não_Classificados=0"]
["Ano da Notific: 2017",null,null,null,null,"Ano da Notific: 2017",null,null,null,"Ano da Notific: 2017",null,null,null,null,null,null,null,null,null,null,null,"[Seleções_Ativas]"]
["Ocupação: 910125 SUPERVISOR DE MANUTENCAO DE MAQUINAS INDUSTRIAIS TEXTEIS",null,null,null,null,"[Arquivos]",null,null,null,"Ocupação: 910125 SUPERVISOR DE MANUTENCAO DE MAQUINAS INDUSTRIAIS TEXTEIS",null,null,null,null,null,null,null,null,null,null,null,"Ano da Notific: 2017"]
["    910130 SUPERVISOR DE MANUTENCAO DE MAQUINAS OPERATRIZES E DE USINAGEM",null,null,null,null,"ACGRANET.DBF",null,null,null,"    910130 SUPERVISOR DE MANUTENCAO DE MAQUINAS OPERATRIZES E DE USINAGEM",null,null,null,null,null,null,null,null,null,null,null,"Ocupação: 910125 SUPERVISOR DE MANUTENCAO DE MAQUINAS INDUSTRIAIS TEXTEIS"]
["    910205 SUPERVISOR DA MANUTENCAO E REPARACAO DE VEICULOS LEVES",null,null,null,null,"Registros_Processados= 1720",null,null,null,"    910205 SUPERVISOR DA MANUTENCAO E REPARACAO DE VEICULOS LEVES",null,null,null,null,null,null,null,null,null,null,null,"    910130 SUPERVISOR DE MANUTENCAO DE MAQUINAS OPERATRIZES E DE USINAGEM"]
["    910210 SUPERVISOR DA MANUTENCAO E REPARACAO DE VEICULOS PESADOS",null,null,null,null,"Tempo_Decorrido= 0:00",null,null,null,"    910210 SUPERVISOR DA MANUTENCAO E REPARACAO DE VEICULOS PESADOS",null,null,null,null,null,null,null,null,null,null,null,"    910205 SUPERVISOR DA MANUTENCAO E REPARACAO DE VEICULOS LEVES"]
["    910905 SUPERVISOR DE REPAROS LINHAS FERREAS",null,null,null,null,null,null,null,null,"    910905 SUPERVISOR DE REPAROS LINHAS FERREAS",null,null,null,null,null,null,null,null,null,null,null,"    910210 SUPERVISOR DA MANUTENCAO E REPARACAO DE VEICULOS PESADOS"]
["    910910 SUPERVISOR DE MANUTENCAO DE VIAS FERREAS",null,null,null,null,null,null,null,null,"    910910 SUPERVISOR DE MANUTENCAO DE VIAS FERREAS",null,null,null,null,null,null,null,null,null,null,null,"    910905 SUPERVISOR DE REPAROS LINHAS FERREAS"]
["    911105 MECANICO DE MANUTENCAO DE BOMBA INJETORA (EXCETO DE VEICULOS AUTOMOTORES)",null,null,null,null,null,null,null,null,"    911105 MECANICO DE MANUTENCAO DE BOMBA INJETORA (EXCETO DE VEICULOS AUTOMOTORES)",null,null,null,null,null,null,null,null,null,null,null,"    910910 SUPERVISOR DE MANUTENCAO DE VIAS FERREAS"]
["    911110 MECANICO DE MANUTENCAO DE BOMBAS",null,null,null,null,null,null,null,null,"    911110 MECANICO DE MANUTENCAO DE BOMBAS",null,null,null,null,null,null,null,null,null,null,null,"    911105 MECANICO DE MANUTENCAO DE BOMBA INJETORA (EXCETO DE VEICULOS AUTOMOTORES)"]
["    911115 MECANICO DE MANUTENCAO DE COMPRESSORES DE AR",null,null,null,null,null,null,null,null,"    911115 MECANICO DE MANUTENCAO DE COMPRESSORES DE AR",null,null,null,null,null,null,null,null,null,null,null,"    911110 MECANICO DE MANUTENCAO DE BOMBAS"]
["    911120 MECANICO DE MANUTENCAO DE MOTORES DIESEL (EXCETO DE VEICULOS AUTOMOTORES)",null,null,null,null,null,null,null,null,"    911120 MECANICO DE MANUTENCAO DE MOTORES DIESEL (EXCETO DE VEICULOS AUTOMOTORES)",null,null,null,null,null,null,null,null,null,null,null,"    911115 MECANICO DE MANUTENCAO DE COMPRESSORES DE AR"]
["    911125 MECANICO DE MANUTENCAO DE REDUTORES",null,null,null,null,null,null,null,null,"    911125 MECANICO DE MANUTENCAO DE REDUTORES",null,null,null,null,null,null,null,null,null,null,null,"    911120 MECANICO DE MANUTENCAO DE MOTORES DIESEL (EXCETO DE VEICULOS AUTOMOTORES)"]
["    911130 MECANICO DE MANUTENCAO DE TURBINAS (EXCETO DE AERONAVES)",null,null,null,null,null,null,null,null,"    911130 MECANICO DE MANUTENCAO DE TURBINAS (EXCETO DE AERONAVES)",null,null,null,null,null,null,null,null,null,null,null,"    911125 MECANICO DE MANUTENCAO DE REDUTORES"]
["    911135 MECANICO DE MANUTENCAO DE TURBOCOMPRESSORES",null,null,null,null,null,null,null,null,"    911135 MECANICO DE MANUTENCAO DE TURBOCOMPRESSORES",null,null,null,null,null,null,null,null,null,null,null,"    911130 MECANICO DE MANUTENCAO DE TURBINAS (EXCETO DE AERONAVES)"]
["    911205 MECANICO DE MANUTENCAO E INSTALACAO DE APARELHOS DE CLIMATIZACAO E REFRIGERACAO",null,null,null,null,null,null,null,null,"    911205 MECANICO DE MANUTENCAO E INSTALACAO DE APARELHOS DE CLIMATIZACAO E REFRIGERACAO",null,null,null,null,null,null,null,null,null,null,null,"    911135 MECANICO DE MANUTENCAO DE TURBOCOMPRESSORES"]
["    911305 MECANICO DE MANUTENCAO DE MAQUINAS, EM GERAL",null,null,null,null,null,null,null,null,"    911305 MECANICO DE MANUTENCAO DE MAQUINAS, EM GERAL",null,null,null,null,null,null,null,null,null,null,null,"    911205 MECANICO DE MANUTENCAO E INSTALACAO DE APARELHOS DE CLIMATIZACAO E REFRIGERACAO"]
["    911310 MECANICO DE MANUTENCAO DE MAQUINAS GRAFICAS",null,null,null,null,null,null,null,null,"    911310 MECANICO DE MANUTENCAO DE MAQUINAS GRAFICAS",null,null,null,null,null,null,null,null,null,null,null,"    911305 MECANICO DE MANUTENCAO DE MAQUINAS, EM GERAL"]
["    911315 MECANICO DE MANUTENCAO DE MAQUINAS OPERATRIZES (LAVRA DE MADEIRA)",null,null,null,null,null,null,null,null,"    911315 MECANICO DE MANUTENCAO DE MAQUINAS OPERATRIZES (LAVRA DE MADEIRA)",null,null,null,null,null,null,null,null,null,null,null,"    911310 MECANICO DE MANUTENCAO DE MAQUINAS GRAFICAS"]
["    911320 MECANICO DE MANUTENCAO DE MAQUINAS TEXTEIS",null,null,null,null,null,null,null,null,"    911320 MECANICO DE MANUTENCAO DE MAQUINAS TEXTEIS",null,null,null,null,null,null,null,null,null,null,null,"    911315 MECANICO DE MANUTENCAO DE MAQUINAS OPERATRIZES (LAVRA DE MADEIRA)"]
["    911325 MECANICO DE MANUTENCAO DE MAQUINAS-FERRAMENTAS (USINAGEM DE METAIS)",null,null,null,null,null,null,null,null,"    911325 MECANICO DE MANUTENCAO DE MAQUINAS-FERRAMENTAS (USINAGEM DE METAIS)",null,null,null,null,null,null,null,null,null,null,null,"    911320 MECANICO DE MANUTENCAO DE MAQUINAS TEXTEIS"]
["    913105 MECANICO DE MANUTENCAO DE APARELHOS DE LEVANTAMENTO",null,null,null,null,null,null,null,null,"    913105 MECANICO DE MANUTENCAO DE APARELHOS DE LEVANTAMENTO",null,null,null,null,null,null,null,null,null,null,null,"    911325 MECANICO DE MANUTENCAO DE MAQUINAS-FERRAMENTAS (USINAGEM DE METAIS)"]
["    913110 MECANICO DE MANUTENCAO DE EQUIPAMENTO DE MINERACAO",null,null,null,null,null,null,null,null,"    913110 MECANICO DE MANUTENCAO DE EQUIPAMENTO DE MINERACAO",null,null,null,null,null,null,null,null,null,null,null,"    913105 MECANICO DE MANUTENCAO DE APARELHOS DE LEVANTAMENTO"]
["    913115 MECANICO DE MANUTENCAO DE MAQUINAS AGRICOLAS",null,null,null,null,null,null,null,null,"    913115 MECANICO DE MANUTENCAO DE MAQUINAS AGRICOLAS",null,null,null,null,null,null,null,null,null,null,null,"    913110 MECANICO DE MANUTENCAO DE EQUIPAMENTO DE MINERACAO"]
["    913120 MECANICO DE MANUTENCAO DE MAQUINAS DE CONSTRUCAO E TERRAPLENAGEM",null,null,null,null,null,null,null,null,"    913120 MECANICO DE MANUTENCAO DE MAQUINAS DE CONSTRUCAO E TERRAPLENAGEM",null,null,null,null,null,null,null,null,null,null,null,"    913115 MECANICO DE MANUTENCAO DE MAQUINAS AGRICOLAS"]
["    914105 MECANICO DE MANUTENCAO DE AERONAVES, EM GERAL",null,null,null,null,null,null,null,null,"    914105 MECANICO DE MANUTENCAO DE AERONAVES, EM GERAL",null,null,null,null,null,null,null,null,null,null,null,"    913120 MECANICO DE MANUTENCAO DE MAQUINAS DE CONSTRUCAO E TERRAPLENAGEM"]
["    914110 MECANICO DE MANUTENCAO DE SISTEMA HIDRAULICO DE AERONAVES (SERVICOS DE PISTA E HANGAR)",null,null,null,null,null,null,null,null,"    914110 MECANICO DE MANUTENCAO DE SISTEMA HIDRAULICO DE AERONAVES (SERVICOS DE PISTA E HANGAR)",null,null,null,null,null,null,null,null,null,null,null,"    914105 MECANICO DE MANUTENCAO DE AERONAVES, EM GERAL"]
["    914205 MECANICO DE MANUTENCAO DE MOTORES E EQUIPAMENTOS NAVAIS",null,null,null,null,null,null,null,null,"    914205 MECANICO DE MANUTENCAO DE MOTORES E EQUIPAMENTOS NAVAIS",null,null,null,null,null,null,null,null,null,null,null,"    914110 MECANICO DE MANUTENCAO DE SISTEMA HIDRAULICO DE AERONAVES (SERVICOS DE PISTA E HANGAR)"]
["    914305 MECANICO DE MANUTENCAO DE VEICULOS FERROVIARIOS",null,null,null,null,null,null,null,null,"    914305 MECANICO DE MANUTENCAO DE VEICULOS FERROVIARIOS",null,null,null,null,null,null,null,null,null,null,null,"    914205 MECANICO DE MANUTENCAO DE MOTORES E EQUIPAMENTOS NAVAIS"]
["    914405 MECANICO DE MANUTENCAO DE AUTOMOVEIS, MOTOCICLETAS E VEICULOS SIMILARES",null,null,null,null,null,null,null,null,"    914405 MECANICO DE MANUTENCAO DE AUTOMOVEIS, MOTOCICLETAS E VEICULOS SIMILARES",null,null,null,null,null,null,null,null,null,null,null,"    914305 MECANICO DE MANUTENCAO DE VEICULOS FERROVIARIOS"]
["    914410 MECANICO DE MANUTENCAO DE EMPILHADEIRAS E OUTROS VEICULOS DE CARGAS LEVES",null,null,null,null,null,null,null,null,"    914410 MECANICO DE MANUTENCAO DE EMPILHADEIRAS E OUTROS VEICULOS DE CARGAS LEVES",null,null,null,null,null,null,null,null,null,null,null,"    914405 MECANICO DE MANUTENCAO DE AUTOMOVEIS, MOTOCICLETAS E VEICULOS SIMILARES"]
["    914415 MECANICO DE MANUTENCAO DE MOTOCICLETAS",null,null,null,null,null,null,null,null,"    914415 MECANICO DE MANUTENCAO DE MOTOCICLETAS",null,null,null,null,null,null,null,null,null,null,null,"    914410 MECANICO DE MANUTENCAO DE EMPILHADEIRAS E OUTROS VEICULOS DE CARGAS LEVES"]
["    914420 MECANICO DE MANUTENCAO DE TRATORES",null,null,null,null,null,null,null,null,"    914420 MECANICO DE MANUTENCAO DE TRATORES",null,null,null,null,null,null,null,null,null,null,null,"    914415 MECANICO DE MANUTENCAO DE MOTOCICLETAS"]
["    914425 MECANICO DE VEICULOS AUTOMOTORES A DIESEL (EXCETO TRATORES)",null,null,null,null,null,null,null,null,"    914425 MECANICO DE VEICULOS AUTOMOTORES A DIESEL (EXCETO TRATORES)",null,null,null,null,null,null,null,null,null,null,null,"    914420 MECANICO DE MANUTENCAO DE TRATORES"]
["    915105 TECNICO EM MANUTENCAO DE INSTRUMENTOS DE MEDICAO E PRECISAO",null,null,null,null,null,null,null,null,"    915105 TECNICO EM MANUTENCAO DE INSTRUMENTOS DE MEDICAO E PRECISAO",null,null,null,null,null,null,null,null,null,null,null,"    914425 MECANICO DE VEICULOS AUTOMOTORES A DIESEL (EXCETO TRATORES)"]
["    915110 TECNICO EM MANUTENCAO DE HIDROMETROS",null,null,null,null,null,null,null,null,"    915110 TECNICO EM MANUTENCAO DE HIDROMETROS",null,null,null,null,null,null,null,null,null,null,null,"    915105 TECNICO EM MANUTENCAO DE INSTRUMENTOS DE MEDICAO E PRECISAO"]
["    915115 TECNICO EM MANUTENCAO DE BALANCAS",null,null,null,null,null,null,null,null,"    915115 TECNICO EM MANUTENCAO DE BALANCAS",null,null,null,null,null,null,null,null,null,null,null,"    915110 TECNICO EM MANUTENCAO DE HIDROMETROS"]
["    915205 RESTAURADOR DE INSTRUMENTOS MUSICAIS (EXCETO CORDAS ARCADAS)",null,null,null,null,null,null,null,null,"    915205 RESTAURADOR DE INSTRUMENTOS MUSICAIS (EXCETO CORDAS ARCADAS)",null,null,null,null,null,null,null,null,null,null,null,"    915115 TECNICO EM MANUTENCAO DE BALANCAS"]
["    915210 REPARADOR DE INSTRUMENTOS MUSICAIS",null,null,null,null,null,null,null,null,"    915210 REPARADOR DE INSTRUMENTOS MUSICAIS",null,null,null,null,null,null,null,null,null,null,null,"    915205 RESTAURADOR DE INSTRUMENTOS MUSICAIS (EXCETO CORDAS ARCADAS)"]
["    915215 LUTHIER (RESTAURACAO DE CORDAS ARCADAS)",null,null,null,null,null,null,null,null,"    915215 LUTHIER (RESTAURACAO DE CORDAS ARCADAS)",null,null,null,null,null,null,null,null,null,null,null,"    915210 REPARADOR DE INSTRUMENTOS MUSICAIS"]
["    915305 TECNICO EM MANUTENCAO DE EQUIPAMENTOS E INSTRUMENTOS MEDICO-HOSPITALARES",null,null,null,null,null,null,null,null,"    915305 TECNICO EM MANUTENCAO DE EQUIPAMENTOS E INSTRUMENTOS MEDICO-HOSPITALARES",null,null,null,null,null,null,null,null,null,null,null,"    915215 LUTHIER (RESTAURACAO DE CORDAS ARCADAS)"]
["    915405 REPARADOR DE EQUIPAMENTOS FOTOGRAFICOS|919105 LUBRIFICADOR INDUSTRIAL",null,null,null,null,null,null,null,null,"    915405 REPARADOR DE EQUIPAMENTOS FOTOGRAFICOS|919105 LUBRIFICADOR INDUSTRIAL",null,null,null,null,null,null,null,null,null,null,null,"    915305 TECNICO EM MANUTENCAO DE EQUIPAMENTOS E INSTRUMENTOS MEDICO-HOSPITALARES"]
["    919110 LUBRIFICADOR DE VEICULOS AUTOMOTORES (EXCETO EMBARCACOES)",null,null,null,null,null,null,null,null,"    919110 LUBRIFICADOR DE VEICULOS AUTOMOTORES (EXCETO EMBARCACOES)",null,null,null,null,null,null,null,null,null,null,null,"    915405 REPARADOR DE EQUIPAMENTOS FOTOGRAFICOS|919105 LUBRIFICADOR INDUSTRIAL"]
["    919115 LUBRIFICADOR DE EMBARCACOES",null,null,null,null,null,null,null,null,"    919115 LUBRIFICADOR DE EMBARCACOES",null,null,null,null,null,null,null,null,null,null,null,"    919110 LUBRIFICADOR DE VEICULOS AUTOMOTORES (EXCETO EMBARCACOES)"]
["    919205 MECANICO DE MANUTENCAO DE MAQUINAS CORTADORAS DE GRAMA, ROCADEIRAS, MOTOSSERRAS E SIMILARES",null,null,null,null,null,null,null,null,"    919205 MECANICO DE MANUTENCAO DE MAQUINAS CORTADORAS DE GRAMA, ROCADEIRAS, MOTOSSERRAS E SIMILARES",null,null,null,null,null,null,null,null,null,null,null,"    919115 LUBRIFICADOR DE EMBARCACOES"]
["    919305 MECANICO DE MANUTENCAO DE APARELHOS ESPORTIVOS E DE GINASTICA",null,null,null,null,null,null,null,null,"    919305 MECANICO DE MANUTENCAO DE APARELHOS ESPORTIVOS E DE GINASTICA",null,null,null,null,null,null,null,null,null,null,null,"    919205 MECANICO DE MANUTENCAO DE MAQUINAS CORTADORAS DE GRAMA, ROCADEIRAS, MOTOSSERRAS E SIMILARES"]
["    919310 MECANICO DE MANUTENCAO DE BICICLETAS E VEICULOS SIMILARES",null,null,null,null,null,null,null,null,"    919310 MECANICO DE MANUTENCAO DE BICICLETAS E VEICULOS SIMILARES",null,null,null,null,null,null,null,null,null,null,null,"    919305 MECANICO DE MANUTENCAO DE APARELHOS ESPORTIVOS E DE GINASTICA"]
["    919315 MONTADOR DE BICICLETAS",null,null,null,null,null,null,null,null,"    919315 MONTADOR DE BICICLETAS",null,null,null,null,null,null,null,null,null,null,null,"    919310 MECANICO DE MANUTENCAO DE BICICLETAS E VEICULOS SIMILARES"]
["    950105 SUPERVISOR DE MANUTENCAO ELETRICA DE ALTA TENSAO INDUSTRIAL",null,null,null,null,null,null,null,null,"    950105 SUPERVISOR DE MANUTENCAO ELETRICA DE ALTA TENSAO INDUSTRIAL",null,null,null,null,null,null,null,null,null,null,null,"    919315 MONTADOR DE BICICLETAS"]
["    950110 SUPERVISOR DE MANUTENCAO ELETROMECANICA INDUSTRIAL, COMERCIAL E PREDIAL",null,null,null,null,null,null,null,null,"    950110 SUPERVISOR DE MANUTENCAO ELETROMECANICA INDUSTRIAL, COMERCIAL E PREDIAL",null,null,null,null,null,null,null,null,null,null,null,"    950105 SUPERVISOR DE MANUTENCAO ELETRICA DE ALTA TENSAO INDUSTRIAL"]
["    950205 ENCARREGADO DE MANUTENCAO ELETRICA DE VEICULOS",null,null,null,null,null,null,null,null,"    950205 ENCARREGADO DE MANUTENCAO ELETRICA DE VEICULOS",null,null,null,null,null,null,null,null,null,null,null,"    950110 SUPERVISOR DE MANUTENCAO ELETROMECANICA INDUSTRIAL, COMERCIAL E PREDIAL"]
["    950305 SUPERVISOR DE MANUTENCAO ELETROMECANICA",null,null,null,null,null,null,null,null,"    950305 SUPERVISOR DE MANUTENCAO ELETROMECANICA",null,null,null,null,null,null,null,null,null,null,null,"    950205 ENCARREGADO DE MANUTENCAO ELETRICA DE VEICULOS"]
["    951105 ELETRICISTA DE MANUTENCAO ELETROELETRONICA",null,null,null,null,null,null,null,null,"    951105 ELETRICISTA DE MANUTENCAO ELETROELETRONICA",null,null,null,null,null,null,null,null,null,null,null,"    950305 SUPERVISOR DE MANUTENCAO ELETROMECANICA"]
["    951305 INSTALADOR DE SISTEMAS ELETROELETRONICOS DE SEGURANCA",null,null,null,null,null,null,null,null,"    951305 INSTALADOR DE SISTEMAS ELETROELETRONICOS DE SEGURANCA",null,null,null,null,null,null,null,null,null,null,null,"    951105 ELETRICISTA DE MANUTENCAO ELETROELETRONICA"]
["    951310 MANTENEDOR DE SISTEMAS ELETROELETRONICOS DE SEGURANCA",null,null,null,null,null,null,null,null,"    951310 MANTENEDOR DE SISTEMAS ELETROELETRONICOS DE SEGURANCA",null,null,null,null,null,null,null,null,null,null,null,"    951305 INSTALADOR DE SISTEMAS ELETROELETRONICOS DE SEGURANCA"]
["    953105 ELETRICISTA DE INSTALACOES (AERONAVES)",null,null,null,null,null,null,null,null,"    953105 ELETRICISTA DE INSTALACOES (AERONAVES)",null,null,null,null,null,null,null,null,null,null,null,"    951310 MANTENEDOR DE SISTEMAS ELETROELETRONICOS DE SEGURANCA"]
["    953110 ELETRICISTA DE INSTALACOES (EMBARCACOES)",null,null,null,null,null,null,null,null,"    953110 ELETRICISTA DE INSTALACOES (EMBARCACOES)",null,null,null,null,null,null,null,null,null,null,null,"    953105 ELETRICISTA DE INSTALACOES (AERONAVES)"]
["    953115 ELETRICISTA DE INSTALACOES (VEICULOS AUTOMOTORES E MAQUINAS OPERATRIZES, EXCETO AERONAVES E EMBARCAC",null,null,null,null,null,null,null,null,"    953115 ELETRICISTA DE INSTALACOES (VEICULOS AUTOMOTORES E MAQUINAS OPERATRIZES, EXCETO AERONAVES E EMBARCAC",null,null,null,null,null,null,null,null,null,null,null,"    953110 ELETRICISTA DE INSTALACOES (EMBARCACOES)"]
["    954105 ELETROMECANICO DE MANUTENCAO DE ELEVADORES",null,null,null,null,null,null,null,null,"    954105 ELETROMECANICO DE MANUTENCAO DE ELEVADORES",null,null,null,null,null,null,null,null,null,null,null,"    953115 ELETRICISTA DE INSTALACOES (VEICULOS AUTOMOTORES E MAQUINAS OPERATRIZES, EXCETO AERONAVES E EMBARCAC"]
["    954110 ELETROMECANICO DE MANUTENCAO DE ESCADAS ROLANTES",null,null,null,null,null,null,null,null,"    954110 ELETROMECANICO DE MANUTENCAO DE ESCADAS ROLANTES",null,null,null,null,null,null,null,null,null,null,null,"    954105 ELETROMECANICO DE MANUTENCAO DE ELEVADORES"]
["    954115 ELETROMECANICO DE MANUTENCAO DE PORTAS AUTOMATICAS",null,null,null,null,null,null,null,null,"    954115 ELETROMECANICO DE MANUTENCAO DE PORTAS AUTOMATICAS",null,null,null,null,null,null,null,null,null,null,null,"    954110 ELETROMECANICO DE MANUTENCAO DE ESCADAS ROLANTES"]
["    954120 MECANICO DE MANUTENCAO DE INSTALACOES MECANICAS DE EDIFICIOS",null,null,null,null,null,null,null,null,"    954120 MECANICO DE MANUTENCAO DE INSTALACOES MECANICAS DE EDIFICIOS",null,null,null,null,null,null,null,null,null,null,null,"    954115 ELETROMECANICO DE MANUTENCAO DE PORTAS AUTOMATICAS"]
["    954125 OPERADOR ELETROMECANICO",null,null,null,null,null,null,null,null,"    954125 OPERADOR ELETROMECANICO",null,null,null,null,null,null,null,null,null,null,null,"    954120 MECANICO DE MANUTENCAO DE INSTALACOES MECANICAS DE EDIFICIOS"]
["    954205 REPARADOR DE APARELHOS ELETRODOMESTICOS (EXCETO IMAGEM E SOM)",null,null,null,null,null,null,null,null,"    954205 REPARADOR DE APARELHOS ELETRODOMESTICOS (EXCETO IMAGEM E SOM)",null,null,null,null,null,null,null,null,null,null,null,"    954125 OPERADOR ELETROMECANICO"]
["    954210 REPARADOR DE RADIO, TV E SOM",null,null,null,null,null,null,null,null,"    954210 REPARADOR DE RADIO, TV E SOM",null,null,null,null,null,null,null,null,null,null,null,"    954205 REPARADOR DE APARELHOS ELETRODOMESTICOS (EXCETO IMAGEM E SOM)"]
["    954305 REPARADOR DE EQUIPAMENTOS DE ESCRITORIO",null,null,null,null,null,null,null,null,"    954305 REPARADOR DE EQUIPAMENTOS DE ESCRITORIO",null,null,null,null,null,null,null,null,null,null,null,"    954210 REPARADOR DE RADIO, TV E SOM"]
["    991105 CONSERVADOR DE VIA PERMANENTE (TRILHOS)",null,null,null,null,null,null,null,null,"    991105 CONSERVADOR DE VIA PERMANENTE (TRILHOS)",null,null,null,null,null,null,null,null,null,null,null,"    954305 REPARADOR DE EQUIPAMENTOS DE ESCRITORIO"]
["    991110 INSPETOR DE VIA PERMANENTE (TRILHOS)",null,null,null,null,null,null,null,null,"    991110 INSPETOR DE VIA PERMANENTE (TRILHOS)",null,null,null,null,null,null,null,null,null,null,null,"    991105 CONSERVADOR DE VIA PERMANENTE (TRILHOS)"]
["    991115 OPERADOR DE MAQUINAS ESPECIAIS EM CONSERVACAO DE VIA PERMANENTE (TRILHOS)",null,null,null,null,null,null,null,null,"    991115 OPERADOR DE MAQUINAS ESPECIAIS EM CONSERVACAO DE VIA PERMANENTE (TRILHOS)",null,null,null,null,null,null,null,null,null,null,null,"    991110 INSPETOR DE VIA PERMANENTE (TRILHOS)"]
["    991120 SOLDADOR ALUMINOTERMICO EM CONSERVACAO DE TRILHOS",null,null,null,null,null,null,null,null,"    991120 SOLDADOR ALUMINOTERMICO EM CONSERVACAO DE TRILHOS",null,null,null,null,null,null,null,null,null,null,null,"    991115 OPERADOR DE MAQUINAS ESPECIAIS EM CONSERVACAO DE VIA PERMANENTE (TRILHOS)"]
["    991205 MANTENEDOR DE EQUIPAMENTOS DE PARQUES DE DIVERSOES E SIMILARES",null,null,null,null,null,null,null,null,"    991205 MANTENEDOR DE EQUIPAMENTOS DE PARQUES DE DIVERSOES E SIMILARES",null,null,null,null,null,null,null,null,null,null,null,"    991120 SOLDADOR ALUMINOTERMICO EM CONSERVACAO DE TRILHOS"]
["    991305 FUNILEIRO DE VEICULOS (REPARACAO)",null,null,null,null,null,null,null,null,"    991305 FUNILEIRO DE VEICULOS (REPARACAO)",null,null,null,null,null,null,null,null,null,null,null,"    991205 MANTENEDOR DE EQUIPAMENTOS DE PARQUES DE DIVERSOES E SIMILARES"]
["    991310 MONTADOR DE VEICULOS (REPARACAO)",null,null,null,null,null,null,null,null,"    991310 MONTADOR DE VEICULOS (REPARACAO)",null,null,null,null,null,null,null,null,null,null,null,"    991305 FUNILEIRO DE VEICULOS (REPARACAO)"]
["    991315 PINTOR DE VEICULOS (REPARACAO)",null,null,null,null,null,null,null,null,"    991315 PINTOR DE VEICULOS (REPARACAO)",null,null,null,null,null,null,null,null,null,null,null,"    991310 MONTADOR DE VEICULOS (REPARACAO)"]
["    991405 TRABALHADOR DA MANUTENCAO DE EDIFICACOES",null,null,null,null,null,null,null,null,"    991405 TRABALHADOR DA MANUTENCAO DE EDIFICACOES",null,null,null,null,null,null,null,null,null,null,null,"    991315 PINTOR DE VEICULOS (REPARACAO)"]
["    991410 CONSERVADOR DE FACHADAS|991415 LIMPADOR DE FACHADAS",null,null,null,null,null,null,null,null,"    991410 CONSERVADOR DE FACHADAS|991415 LIMPADOR DE FACHADAS",null,null,null,null,null,null,null,null,null,null,null,"    991405 TRABALHADOR DA MANUTENCAO DE EDIFICACOES"]
["    992105 ALINHADOR DE PNEUS|992110 BALANCEADOR|992115 BORRACHEIRO",null,null,null,null,null,null,null,null,"    992105 ALINHADOR DE PNEUS|992110 BALANCEADOR|992115 BORRACHEIRO",null,null,null,null,null,null,null,null,null,null,null,"    991410 CONSERVADOR DE FACHADAS|991415 LIMPADOR DE FACHADAS"]
["    992120 LAVADOR DE PECAS",null,null,null,null,null,null,null,null,"    992120 LAVADOR DE PECAS",null,null,null,null,null,null,null,null,null,null,null,"    992105 ALINHADOR DE PNEUS|992110 BALANCEADOR|992115 BORRACHEIRO"]
["    992205 ENCARREGADO GERAL DE OPERACOES DE CONSERVACAO DE VIAS PERMANENTES (EXCETO TRILHOS)",null,null,null,null,null,null,null,null,"    992205 ENCARREGADO GERAL DE OPERACOES DE CONSERVACAO DE VIAS PERMANENTES (EXCETO TRILHOS)",null,null,null,null,null,null,null,null,null,null,null,"    992120 LAVADOR DE PECAS"]
["    992210 ENCARREGADO DE EQUIPE DE CONSERVACAO DE VIAS PERMANENTES (EXCETO TRILHOS)",null,null,null,null,null,null,null,null,"    992210 ENCARREGADO DE EQUIPE DE CONSERVACAO DE VIAS PERMANENTES (EXCETO TRILHOS)",null,null,null,null,null,null,null,null,null,null,null,"    992205 ENCARREGADO GERAL DE OPERACOES DE CONSERVACAO DE VIAS PERMANENTES (EXCETO TRILHOS)"]
["    992215 OPERADOR DE CEIFADEIRA NA CONSERVACAO DE VIAS PERMANENTES",null,null,null,null,null,null,null,null,"    992215 OPERADOR DE CEIFADEIRA NA CONSERVACAO DE VIAS PERMANENTES",null,null,null,null,null,null,null,null,null,null,null,"    992210 ENCARREGADO DE EQUIPE DE CONSERVACAO DE VIAS PERMANENTES (EXCETO TRILHOS)"]
["    992220 PEDREIRO DE CONSERVACAO DE VIAS PERMANENTES (EXCETO TRILHOS)",null,null,null,null,null,null,null,null,"    992220 PEDREIRO DE CONSERVACAO DE VIAS PERMANENTES (EXCETO TRILHOS)",null,null,null,null,null,null,null,null,null,null,null,"    992215 OPERADOR DE CEIFADEIRA NA CONSERVACAO DE VIAS PERMANENTES"]
["    992225 AUXILIAR GERAL DE CONSERVACAO DE VIAS PERMANENTES (EXCETO TRILHOS)",null,null,null,null,null,null,null,null,"    992225 AUXILIAR GERAL DE CONSERVACAO DE VIAS PERMANENTES (EXCETO TRILHOS)",null,null,null,null,null,null,null,null,null,null,null,"    992220 PEDREIRO DE CONSERVACAO DE VIAS PERMANENTES (EXCETO TRILHOS)"]
["    998999 IGNORADA|999991 ESTUDANTE|999992 DONA DE CASA",null,null,null,null,null,null,null,null,"    998999 IGNORADA|999991 ESTUDANTE|999992 DONA DE CASA",null,null,null,null,null,null,null,null,null,null,null,"    992225 AUXILIAR GERAL DE CONSERVACAO DE VIAS PERMANENTES (EXCETO TRILHOS)"]
["    999993 APOSENTADO/PENSIONISTA",null,null,null,null,null,null,null,null,"    999993 APOSENTADO/PENSIONISTA",null,null,null,null,null,null,null,null,null,null,null,"    998999 IGNORADA|999991 ESTUDANTE|999992 DONA DE CASA"]
["    999994 DESEMPREGADO CRONICO OU CUJA HABITACAO HABITUAL NAO FOI POSSIVEL OBTER",null,null,null,null,null,null,null,null,"    999994 DESEMPREGADO CRONICO OU CUJA HABITACAO HABITUAL NAO FOI POSSIVEL OBTER",null,null,null,null,null,null,null,null,null,null,null,"    999993 APOSENTADO/PENSIONISTA"]
["    910120 SUPERVISOR DE MANUTENCAO DE MAQUINAS GRAFICAS",null,null,null,null,null,null,null,null,"    910120 SUPERVISOR DE MANUTENCAO DE MAQUINAS GRAFICAS",null,null,null,null,null,null,null,null,null,null,null,"    999994 DESEMPREGADO CRONICO OU CUJA HABITACAO HABITUAL NAO FOI POSSIVEL OBTER"]
["    111205 PRESIDENTE DA REPUBLICA|111210 VICE-PRESIDENTE DA REPUBLICA",null,null,null,null,null,null,null,null,"    111205 PRESIDENTE DA REPUBLICA|111210 VICE-PRESIDENTE DA REPUBLICA",null,null,null,null,null,null,null,null,null,null,null,"    910120 SUPERVISOR DE MANUTENCAO DE MAQUINAS GRAFICAS"]
["    111215 MINISTRO DE ESTADO|111220 SECRETARIO - EXECUTIVO",null,null,null,null,null,null,null,null,"    111215 MINISTRO DE ESTADO|111220 SECRETARIO - EXECUTIVO",null,null,null,null,null,null,null,null,null,null,null,"    111205 PRESIDENTE DA REPUBLICA|111210 VICE-PRESIDENTE DA REPUBLICA"]
["    111225 MEMBRO SUPERIOR DO PODER EXECUTIVO|111230 GOVERNADOR DE ESTADO",null,null,null,null,null,null,null,null,"    111225 MEMBRO SUPERIOR DO PODER EXECUTIVO|111230 GOVERNADOR DE ESTADO",null,null,null,null,null,null,null,null,null,null,null,"    111215 MINISTRO DE ESTADO|111220 SECRETARIO - EXECUTIVO"]
["    111235 GOVERNADOR DO DISTRITO FEDERAL|111240 VICE-GOVERNADOR DE ESTADO",null,null,null,null,null,null,null,null,"    111235 GOVERNADOR DO DISTRITO FEDERAL|111240 VICE-GOVERNADOR DE ESTADO",null,null,null,null,null,null,null,null,null,null,null,"    111225 MEMBRO SUPERIOR DO PODER EXECUTIVO|111230 GOVERNADOR DE ESTADO"]
["    111245 VICE-GOVERNADOR DO DISTRITO FEDERAL|111250 PREFEITO",null,null,null,null,null,null,null,null,"    111245 VICE-GOVERNADOR DO DISTRITO FEDERAL|111250 PREFEITO",null,null,null,null,null,null,null,null,null,null,null,"    111235 GOVERNADOR DO DISTRITO FEDERAL|111240 VICE-GOVERNADOR DE ESTADO"]
["    111255 VICE-PREFEITO|111305 MINISTRO DO SUPREMO TRIBUNAL FEDERAL",null,null,null,null,null,null,null,null,"    111255 VICE-PREFEITO|111305 MINISTRO DO SUPREMO TRIBUNAL FEDERAL",null,null,null,null,null,null,null,null,null,null,null,"    111245 VICE-GOVERNADOR DO DISTRITO FEDERAL|111250 PREFEITO"]
["    111310 MINISTRO DO SUPERIOR TRIBUNAL DE JUSTICA",null,null,null,null,null,null,null,null,"    111310 MINISTRO DO SUPERIOR TRIBUNAL DE JUSTICA",null,null,null,null,null,null,null,null,null,null,null,"    111255 VICE-PREFEITO|111305 MINISTRO DO SUPREMO TRIBUNAL FEDERAL"]
["    111315 MINISTRO DO SUPERIOR TRIBUNAL MILITAR",null,null,null,null,null,null,null,null,"    111315 MINISTRO DO SUPERIOR TRIBUNAL MILITAR",null,null,null,null,null,null,null,null,null,null,null,"    111310 MINISTRO DO SUPERIOR TRIBUNAL DE JUSTICA"]
["    111320 MINISTRO DO SUPERIOR TRIBUNAL DO TRABALHO|111325 JUIZ DE DIREITO",null,null,null,null,null,null,null,null,"    111320 MINISTRO DO SUPERIOR TRIBUNAL DO TRABALHO|111325 JUIZ DE DIREITO",null,null,null,null,null,null,null,null,null,null,null,"    111315 MINISTRO DO SUPERIOR TRIBUNAL MILITAR"]
["    111330 JUIZ FEDERAL|111335 JUIZ AUDITOR FEDERAL - JUSTICA MILITAR",null,null,null,null,null,null,null,null,"    111330 JUIZ FEDERAL|111335 JUIZ AUDITOR FEDERAL - JUSTICA MILITAR",null,null,null,null,null,null,null,null,null,null,null,"    111320 MINISTRO DO SUPERIOR TRIBUNAL DO TRABALHO|111325 JUIZ DE DIREITO"]
["    111340 JUIZ AUDITOR ESTADUAL - JUSTICA MILITAR|111345 JUIZ DO TRABALHO",null,null,null,null,null,null,null,null,"    111340 JUIZ AUDITOR ESTADUAL - JUSTICA MILITAR|111345 JUIZ DO TRABALHO",null,null,null,null,null,null,null,null,null,null,null,"    111330 JUIZ FEDERAL|111335 JUIZ AUDITOR FEDERAL - JUSTICA MILITAR"]
["    111405 DIRIGENTE DO SERVICO PUBLICO FEDERAL",null,null,null,null,null,null,null,null,"    111405 DIRIGENTE DO SERVICO PUBLICO FEDERAL",null,null,null,null,null,null,null,null,null,null,null,"    111340 JUIZ AUDITOR ESTADUAL - JUSTICA MILITAR|111345 JUIZ DO TRABALHO"]
["    111410 DIRIGENTE DO SERVICO PUBLICO ESTADUAL E DISTRITAL",null,null,null,null,null,null,null,null,"    111410 DIRIGENTE DO SERVICO PUBLICO ESTADUAL E DISTRITAL",null,null,null,null,null,null,null,null,null,null,null,"    111405 DIRIGENTE DO SERVICO PUBLICO FEDERAL"]
["    111415 DIRIGENTE DO SERVICO PUBLICO MUNICIPAL|113005 CACIQUE",null,null,null,null,null,null,null,null,"    111415 DIRIGENTE DO SERVICO PUBLICO MUNICIPAL|113005 CACIQUE",null,null,null,null,null,null,null,null,null,null,null,"    111410 DIRIGENTE DO SERVICO PUBLICO ESTADUAL E DISTRITAL"]
["    113010 LIDER DE COMUNIDADE CAICARA|113015 MEMBRO DE LIDERANCA QUILOMBOLA",null,null,null,null,null,null,null,null,"    113010 LIDER DE COMUNIDADE CAICARA|113015 MEMBRO DE LIDERANCA QUILOMBOLA",null,null,null,null,null,null,null,null,null,null,null,"    111415 DIRIGENTE DO SERVICO PUBLICO MUNICIPAL|113005 CACIQUE"]
["    114105 DIRIGENTE DE PARTIDO POLITICO",null,null,null,null,null,null,null,null,"    114105 DIRIGENTE DE PARTIDO POLITICO",null,null,null,null,null,null,null,null,null,null,null,"    113010 LIDER DE COMUNIDADE CAICARA|113015 MEMBRO DE LIDERANCA QUILOMBOLA"]
["    114205 DIRIGENTES DE ENTIDADES DE TRABALHADORES",null,null,null,null,null,null,null,null,"    114205 DIRIGENTES DE ENTIDADES DE TRABALHADORES",null,null,null,null,null,null,null,null,null,null,null,"    114105 DIRIGENTE DE PARTIDO POLITICO"]
["    114210 DIRIGENTES DE ENTIDADES PATRONAIS",null,null,null,null,null,null,null,null,"    114210 DIRIGENTES DE ENTIDADES PATRONAIS",null,null,null,null,null,null,null,null,null,null,null,"    114205 DIRIGENTES DE ENTIDADES DE TRABALHADORES"]
["    114305 DIRIGENTE E ADMINISTRADOR DE ORGANIZACAO RELIGIOSA",null,null,null,null,null,null,null,null,"    114305 DIRIGENTE E ADMINISTRADOR DE ORGANIZACAO RELIGIOSA",null,null,null,null,null,null,null,null,null,null,null,"    114210 DIRIGENTES DE ENTIDADES PATRONAIS"]
["    114405 DIRIGENTE E ADMINISTRADOR DE ORGANIZACAO DA SOCIEDADE CIVIL SEM FINS LUCRATIVOS",null,null,null,null,null,null,null,null,"    114405 DIRIGENTE E ADMINISTRADOR DE ORGANIZACAO DA SOCIEDADE CIVIL SEM FINS LUCRATIVOS",null,null,null,null,null,null,null,null,null,null,null,"    114305 DIRIGENTE E ADMINISTRADOR DE ORGANIZACAO RELIGIOSA"]
["    121005 DIRETOR DE PLANEJAMENTO ESTRATEGICO",null,null,null,null,null,null,null,null,"    121005 DIRETOR DE PLANEJAMENTO ESTRATEGICO",null,null,null,null,null,null,null,null,null,null,null,"    114405 DIRIGENTE E ADMINISTRADOR DE ORGANIZACAO DA SOCIEDADE CIVIL SEM FINS LUCRATIVOS"]
["    121010 DIRETOR GERAL DE EMPRESA E ORGANIZACOES (EXCETO DE INTERESSE PUBLICO)",null,null,null,null,null,null,null,null,"    121010 DIRETOR GERAL DE EMPRESA E ORGANIZACOES (EXCETO DE INTERESSE PUBLICO)",null,null,null,null,null,null,null,null,null,null,null,"    121005 DIRETOR DE PLANEJAMENTO ESTRATEGICO"]
["    122105 DIRETOR DE PRODUCAO E OPERACOES EM EMPRESA AGROPECUARIA",null,null,null,null,null,null,null,null,"    122105 DIRETOR DE PRODUCAO E OPERACOES EM EMPRESA AGROPECUARIA",null,null,null,null,null,null,null,null,null,null,null,"    121010 DIRETOR GERAL DE EMPRESA E ORGANIZACOES (EXCETO DE INTERESSE PUBLICO)"]
["    122110 DIRETOR DE PRODUCAO E OPERACOES EM EMPRESA AQUICOLA",null,null,null,null,null,null,null,null,"    122110 DIRETOR DE PRODUCAO E OPERACOES EM EMPRESA AQUICOLA",null,null,null,null,null,null,null,null,null,null,null,"    122105 DIRETOR DE PRODUCAO E OPERACOES EM EMPRESA AGROPECUARIA"]
["    122115 DIRETOR DE PRODUCAO E OPERACOES EM EMPRESA FLORESTAL",null,null,null,null,null,null,null,null,"    122115 DIRETOR DE PRODUCAO E OPERACOES EM EMPRESA FLORESTAL",null,null,null,null,null,null,null,null,null,null,null,"    122110 DIRETOR DE PRODUCAO E OPERACOES EM EMPRESA AQUICOLA"]
["    122120 DIRETOR DE PRODUCAO E OPERACOES EM EMPRESA PESQUEIRA",null,null,null,null,null,null,null,null,"    122120 DIRETOR DE PRODUCAO E OPERACOES EM EMPRESA PESQUEIRA",null,null,null,null,null,null,null,null,null,null,null,"    122115 DIRETOR DE PRODUCAO E OPERACOES EM EMPRESA FLORESTAL"]
["    122205 DIRETOR DE PRODUCAO E OPERACOES DA INDUSTRIA DE TRANSFORMACAO, EXTRACAO MINERAL E UTILIDADES",null,null,null,null,null,null,null,null,"    122205 DIRETOR DE PRODUCAO E OPERACOES DA INDUSTRIA DE TRANSFORMACAO, EXTRACAO MINERAL E UTILIDADES",null,null,null,null,null,null,null,null,null,null,null,"    122120 DIRETOR DE PRODUCAO E OPERACOES EM EMPRESA PESQUEIRA"]
["    122305 DIRETOR DE OPERACOES DE OBRAS PUBLICA E CIVIL",null,null,null,null,null,null,null,null,"    122305 DIRETOR DE OPERACOES DE OBRAS PUBLICA E CIVIL",null,null,null,null,null,null,null,null,null,null,null,"    122205 DIRETOR DE PRODUCAO E OPERACOES DA INDUSTRIA DE TRANSFORMACAO, EXTRACAO MINERAL E UTILIDADES"]
["    122405 DIRETOR DE OPERACOES COMERCIAIS (COMERCIO ATACADISTA E VAREJISTA)",null,null,null,null,null,null,null,null,"    122405 DIRETOR DE OPERACOES COMERCIAIS (COMERCIO ATACADISTA E VAREJISTA)",null,null,null,null,null,null,null,null,null,null,null,"    122305 DIRETOR DE OPERACOES DE OBRAS PUBLICA E CIVIL"]
["    122505 DIRETOR DE PRODUCAO E OPERACOES DE ALIMENTACAO",null,null,null,null,null,null,null,null,"    122505 DIRETOR DE PRODUCAO E OPERACOES DE ALIMENTACAO",null,null,null,null,null,null,null,null,null,null,null,"    122405 DIRETOR DE OPERACOES COMERCIAIS (COMERCIO ATACADISTA E VAREJISTA)"]
["    122510 DIRETOR DE PRODUCAO E OPERACOES DE HOTEL",null,null,null,null,null,null,null,null,"    122510 DIRETOR DE PRODUCAO E OPERACOES DE HOTEL",null,null,null,null,null,null,null,null,null,null,null,"    122505 DIRETOR DE PRODUCAO E OPERACOES DE ALIMENTACAO"]
["    122515 DIRETOR DE PRODUCAO E OPERACOES DE TURISMO",null,null,null,null,null,null,null,null,"    122515 DIRETOR DE PRODUCAO E OPERACOES DE TURISMO",null,null,null,null,null,null,null,null,null,null,null,"    122510 DIRETOR DE PRODUCAO E OPERACOES DE HOTEL"]
["    122605 DIRETOR DE OPERACOES DE CORREIOS",null,null,null,null,null,null,null,null,"    122605 DIRETOR DE OPERACOES DE CORREIOS",null,null,null,null,null,null,null,null,null,null,null,"    122515 DIRETOR DE PRODUCAO E OPERACOES DE TURISMO"]
["    122610 DIRETOR DE OPERACOES DE SERVICOS DE ARMAZENAMENTO",null,null,null,null,null,null,null,null,"    122610 DIRETOR DE OPERACOES DE SERVICOS DE ARMAZENAMENTO",null,null,null,null,null,null,null,null,null,null,null,"    122605 DIRETOR DE OPERACOES DE CORREIOS"]
["    122615 DIRETOR DE OPERACOES DE SERVICOS DE TELECOMUNICACOES",null,null,null,null,null,null,null,null,"    122615 DIRETOR DE OPERACOES DE SERVICOS DE TELECOMUNICACOES",null,null,null,null,null,null,null,null,null,null,null,"    122610 DIRETOR DE OPERACOES DE SERVICOS DE ARMAZENAMENTO"]
["    122620 DIRETOR DE OPERACOES DE SERVICOS DE TRANSPORTE",null,null,null,null,null,null,null,null,"    122620 DIRETOR DE OPERACOES DE SERVICOS DE TRANSPORTE",null,null,null,null,null,null,null,null,null,null,null,"    122615 DIRETOR DE OPERACOES DE SERVICOS DE TELECOMUNICACOES"]
["    122705 DIRETOR COMERCIAL EM OPERACOES DE INTERMEDIACAO FINANCEIRA",null,null,null,null,null,null,null,null,"    122705 DIRETOR COMERCIAL EM OPERACOES DE INTERMEDIACAO FINANCEIRA",null,null,null,null,null,null,null,null,null,null,null,"    122620 DIRETOR DE OPERACOES DE SERVICOS DE TRANSPORTE"]
["    122710 DIRETOR DE PRODUTOS BANCARIOS|122715 DIRETOR DE CREDITO RURAL",null,null,null,null,null,null,null,null,"    122710 DIRETOR DE PRODUTOS BANCARIOS|122715 DIRETOR DE CREDITO RURAL",null,null,null,null,null,null,null,null,null,null,null,"    122705 DIRETOR COMERCIAL EM OPERACOES DE INTERMEDIACAO FINANCEIRA"]
["    122720 DIRETOR DE CAMBIO E COMERCIO EXTERIOR|122725 DIRETOR DE COMPLIANCE",null,null,null,null,null,null,null,null,"    122720 DIRETOR DE CAMBIO E COMERCIO EXTERIOR|122725 DIRETOR DE COMPLIANCE",null,null,null,null,null,null,null,null,null,null,null,"    122710 DIRETOR DE PRODUTOS BANCARIOS|122715 DIRETOR DE CREDITO RURAL"]
["    122730 DIRETOR DE CREDITO (EXCETO CREDITO IMOBILIARIO)",null,null,null,null,null,null,null,null,"    122730 DIRETOR DE CREDITO (EXCETO CREDITO IMOBILIARIO)",null,null,null,null,null,null,null,null,null,null,null,"    122720 DIRETOR DE CAMBIO E COMERCIO EXTERIOR|122725 DIRETOR DE COMPLIANCE"]
["    122735 DIRETOR DE CREDITO IMOBILIARIO|122740 DIRETOR DE LEASING",null,null,null,null,null,null,null,null,"    122735 DIRETOR DE CREDITO IMOBILIARIO|122740 DIRETOR DE LEASING",null,null,null,null,null,null,null,null,null,null,null,"    122730 DIRETOR DE CREDITO (EXCETO CREDITO IMOBILIARIO)"]
["    122745 DIRETOR DE MERCADO DE CAPITAIS",null,null,null,null,null,null,null,null,"    122745 DIRETOR DE MERCADO DE CAPITAIS",null,null,null,null,null,null,null,null,null,null,null,"    122735 DIRETOR DE CREDITO IMOBILIARIO|122740 DIRETOR DE LEASING"]
["    122750 DIRETOR DE RECUPERACAO DE CREDITOS EM OPERACOES DE INTERMEDIACAO FINANCEIRA",null,null,null,null,null,null,null,null,"    122750 DIRETOR DE RECUPERACAO DE CREDITOS EM OPERACOES DE INTERMEDIACAO FINANCEIRA",null,null,null,null,null,null,null,null,null,null,null,"    122745 DIRETOR DE MERCADO DE CAPITAIS"]
["    122755 DIRETOR DE RISCOS DE MERCADO|123105 DIRETOR ADMINISTRATIVO",null,null,null,null,null,null,null,null,"    122755 DIRETOR DE RISCOS DE MERCADO|123105 DIRETOR ADMINISTRATIVO",null,null,null,null,null,null,null,null,null,null,null,"    122750 DIRETOR DE RECUPERACAO DE CREDITOS EM OPERACOES DE INTERMEDIACAO FINANCEIRA"]
["    123110 DIRETOR ADMINISTRATIVO E FINANCEIRO|123115 DIRETOR FINANCEIRO",null,null,null,null,null,null,null,null,"    123110 DIRETOR ADMINISTRATIVO E FINANCEIRO|123115 DIRETOR FINANCEIRO",null,null,null,null,null,null,null,null,null,null,null,"    122755 DIRETOR DE RISCOS DE MERCADO|123105 DIRETOR ADMINISTRATIVO"]
["    123205 DIRETOR DE RECURSOS HUMANOS|123210 DIRETOR DE RELACOES DE TRABALHO",null,null,null,null,null,null,null,null,"    123205 DIRETOR DE RECURSOS HUMANOS|123210 DIRETOR DE RELACOES DE TRABALHO",null,null,null,null,null,null,null,null,null,null,null,"    123110 DIRETOR ADMINISTRATIVO E FINANCEIRO|123115 DIRETOR FINANCEIRO"]
["    123305 DIRETOR COMERCIAL|123310 DIRETOR DE MARKETING",null,null,null,null,null,null,null,null,"    123305 DIRETOR COMERCIAL|123310 DIRETOR DE MARKETING",null,null,null,null,null,null,null,null,null,null,null,"    123205 DIRETOR DE RECURSOS HUMANOS|123210 DIRETOR DE RELACOES DE TRABALHO"]
["    123405 DIRETOR DE SUPRIMENTOS",null,null,null,null,null,null,null,null,"    123405 DIRETOR DE SUPRIMENTOS",null,null,null,null,null,null,null,null,null,null,null,"    123305 DIRETOR COMERCIAL|123310 DIRETOR DE MARKETING"]
["    123410 DIRETOR DE SUPRIMENTOS NO SERVICO PUBLICO",null,null,null,null,null,null,null,null,"    123410 DIRETOR DE SUPRIMENTOS NO SERVICO PUBLICO",null,null,null,null,null,null,null,null,null,null,null,"    123405 DIRETOR DE SUPRIMENTOS"]
["    123605 DIRETOR DE SERVICOS DE INFORMATICA|263110 MISSIONARIO",null,null,null,null,null,null,null,null,"    123605 DIRETOR DE SERVICOS DE INFORMATICA|263110 MISSIONARIO",null,null,null,null,null,null,null,null,null,null,null,"    123410 DIRETOR DE SUPRIMENTOS NO SERVICO PUBLICO"]
["    123705 DIRETOR DE PESQUISA E DESENVOLVIMENTO (P&D)",null,null,null,null,null,null,null,null,"    123705 DIRETOR DE PESQUISA E DESENVOLVIMENTO (P&D)",null,null,null,null,null,null,null,null,null,null,null,"    123605 DIRETOR DE SERVICOS DE INFORMATICA|263110 MISSIONARIO"]
["    123805 DIRETOR DE MANUTENCAO|131105 DIRETOR DE SERVICOS CULTURAIS",null,null,null,null,null,null,null,null,"    123805 DIRETOR DE MANUTENCAO|131105 DIRETOR DE SERVICOS CULTURAIS",null,null,null,null,null,null,null,null,null,null,null,"    123705 DIRETOR DE PESQUISA E DESENVOLVIMENTO (P&D)"]
["    131110 DIRETOR DE SERVICOS SOCIAIS|131115 GERENTE DE SERVICOS CULTURAIS",null,null,null,null,null,null,null,null,"    131110 DIRETOR DE SERVICOS SOCIAIS|131115 GERENTE DE SERVICOS CULTURAIS",null,null,null,null,null,null,null,null,null,null,null,"    123805 DIRETOR DE MANUTENCAO|131105 DIRETOR DE SERVICOS CULTURAIS"]
["    131120 GERENTE DE SERVICOS SOCIAIS|131205 DIRETOR DE SERVICOS DE SAUDE",null,null,null,null,null,null,null,null,"    131120 GERENTE DE SERVICOS SOCIAIS|131205 DIRETOR DE SERVICOS DE SAUDE",null,null,null,null,null,null,null,null,null,null,null,"    131110 DIRETOR DE SERVICOS SOCIAIS|131115 GERENTE DE SERVICOS CULTURAIS"]
["    131210 GERENTE DE SERVICOS DE SAUDE",null,null,null,null,null,null,null,null,"    131210 GERENTE DE SERVICOS DE SAUDE",null,null,null,null,null,null,null,null,null,null,null,"    131120 GERENTE DE SERVICOS SOCIAIS|131205 DIRETOR DE SERVICOS DE SAUDE"]
["    131305 DIRETOR DE INSTITUICAO EDUCACIONAL DA AREA PRIVADA",null,null,null,null,null,null,null,null,"    131305 DIRETOR DE INSTITUICAO EDUCACIONAL DA AREA PRIVADA",null,null,null,null,null,null,null,null,null,null,null,"    131210 GERENTE DE SERVICOS DE SAUDE"]
["    131310 DIRETOR DE INSTITUICAO EDUCACIONAL PUBLICA",null,null,null,null,null,null,null,null,"    131310 DIRETOR DE INSTITUICAO EDUCACIONAL PUBLICA",null,null,null,null,null,null,null,null,null,null,null,"    131305 DIRETOR DE INSTITUICAO EDUCACIONAL DA AREA PRIVADA"]
["    131315 GERENTE DE INSTITUICAO EDUCACIONAL DA AREA PRIVADA",null,null,null,null,null,null,null,null,"    131315 GERENTE DE INSTITUICAO EDUCACIONAL DA AREA PRIVADA",null,null,null,null,null,null,null,null,null,null,null,"    131310 DIRETOR DE INSTITUICAO EDUCACIONAL PUBLICA"]
["    131320 GERENTE DE SERVICOS EDUCACIONAIS DA AREA PUBLICA",null,null,null,null,null,null,null,null,"    131320 GERENTE DE SERVICOS EDUCACIONAIS DA AREA PUBLICA",null,null,null,null,null,null,null,null,null,null,null,"    131315 GERENTE DE INSTITUICAO EDUCACIONAL DA AREA PRIVADA"]
["    141105 GERENTE DE PRODUCAO E OPERACOES AQUICOLAS",null,null,null,null,null,null,null,null,"    141105 GERENTE DE PRODUCAO E OPERACOES AQUICOLAS",null,null,null,null,null,null,null,null,null,null,null,"    131320 GERENTE DE SERVICOS EDUCACIONAIS DA AREA PUBLICA"]
["    141110 GERENTE DE PRODUCAO E OPERACOES FLORESTAIS",null,null,null,null,null,null,null,null,"    141110 GERENTE DE PRODUCAO E OPERACOES FLORESTAIS",null,null,null,null,null,null,null,null,null,null,null,"    141105 GERENTE DE PRODUCAO E OPERACOES AQUICOLAS"]
["    141115 GERENTE DE PRODUCAO E OPERACOES AGROPECUARIAS",null,null,null,null,null,null,null,null,"    141115 GERENTE DE PRODUCAO E OPERACOES AGROPECUARIAS",null,null,null,null,null,null,null,null,null,null,null,"    141110 GERENTE DE PRODUCAO E OPERACOES FLORESTAIS"]
["    141120 GERENTE DE PRODUCAO E OPERACOES PESQUEIRAS",null,null,null,null,null,null,null,null,"    141120 GERENTE DE PRODUCAO E OPERACOES PESQUEIRAS",null,null,null,null,null,null,null,null,null,null,null,"    141115 GERENTE DE PRODUCAO E OPERACOES AGROPECUARIAS"]
["    010105 OFICIAL GENERAL DA AERONAUTICA|010110 OFICIAL GENERAL DO EXERCITO",null,null,null,null,null,null,null,null,"    010105 OFICIAL GENERAL DA AERONAUTICA|010110 OFICIAL GENERAL DO EXERCITO",null,null,null,null,null,null,null,null,null,null,null,"    141120 GERENTE DE PRODUCAO E OPERACOES PESQUEIRAS"]
["    010115 OFICIAL GENERAL DA MARINHA|010205 OFICIAL DA AERONAUTICA",null,null,null,null,null,null,null,null,"    010115 OFICIAL GENERAL DA MARINHA|010205 OFICIAL DA AERONAUTICA",null,null,null,null,null,null,null,null,null,null,null,"    010105 OFICIAL GENERAL DA AERONAUTICA|010110 OFICIAL GENERAL DO EXERCITO"]
["    010210 OFICIAL DO EXERCITO|010215 OFICIAL DA MARINHA",null,null,null,null,null,null,null,null,"    010210 OFICIAL DO EXERCITO|010215 OFICIAL DA MARINHA",null,null,null,null,null,null,null,null,null,null,null,"    010115 OFICIAL GENERAL DA MARINHA|010205 OFICIAL DA AERONAUTICA"]
["    010305 PRACA DA AERONAUTICA|010310 PRACA DO EXERCITO|010315 PRACA DA MARINHA",null,null,null,null,null,null,null,null,"    010305 PRACA DA AERONAUTICA|010310 PRACA DO EXERCITO|010315 PRACA DA MARINHA",null,null,null,null,null,null,null,null,null,null,null,"    010210 OFICIAL DO EXERCITO|010215 OFICIAL DA MARINHA"]
["    020105 CORONEL DA POLICIA MILITAR|020110 TENENTE-CORONEL DA POLICIA MILITAR",null,null,null,null,null,null,null,null,"    020105 CORONEL DA POLICIA MILITAR|020110 TENENTE-CORONEL DA POLICIA MILITAR",null,null,null,null,null,null,null,null,null,null,null,"    010305 PRACA DA AERONAUTICA|010310 PRACA DO EXERCITO|010315 PRACA DA MARINHA"]
["    020115 MAJOR DA POLICIA MILITAR|020205 CAPITAO DA POLICIA MILITAR",null,null,null,null,null,null,null,null,"    020115 MAJOR DA POLICIA MILITAR|020205 CAPITAO DA POLICIA MILITAR",null,null,null,null,null,null,null,null,null,null,null,"    020105 CORONEL DA POLICIA MILITAR|020110 TENENTE-CORONEL DA POLICIA MILITAR"]
["    020305 PRIMEIRO TENENTE DE POLICIA MILITAR",null,null,null,null,null,null,null,null,"    020305 PRIMEIRO TENENTE DE POLICIA MILITAR",null,null,null,null,null,null,null,null,null,null,null,"    020115 MAJOR DA POLICIA MILITAR|020205 CAPITAO DA POLICIA MILITAR"]
["    020310 SEGUNDO TENENTE DE POLICIA MILITAR",null,null,null,null,null,null,null,null,"    020310 SEGUNDO TENENTE DE POLICIA MILITAR",null,null,null,null,null,null,null,null,null,null,null,"    020305 PRIMEIRO TENENTE DE POLICIA MILITAR"]
["    021105 SUBTENENTE DA POLICIA MILITAR|021110 SARGENTO DA POLICIA MILITAR",null,null,null,null,null,null,null,null,"    021105 SUBTENENTE DA POLICIA MILITAR|021110 SARGENTO DA POLICIA MILITAR",null,null,null,null,null,null,null,null,null,null,null,"    020310 SEGUNDO TENENTE DE POLICIA MILITAR"]
["    021205 CABO DA POLICIA MILITAR|021210 SOLDADO DA POLICIA MILITAR",null,null,null,null,null,null,null,null,"    021205 CABO DA POLICIA MILITAR|021210 SOLDADO DA POLICIA MILITAR",null,null,null,null,null,null,null,null,null,null,null,"    021105 SUBTENENTE DA POLICIA MILITAR|021110 SARGENTO DA POLICIA MILITAR"]
["    030105 CORONEL BOMBEIRO MILITAR|030110 MAJOR BOMBEIRO MILITAR",null,null,null,null,null,null,null,null,"    030105 CORONEL BOMBEIRO MILITAR|030110 MAJOR BOMBEIRO MILITAR",null,null,null,null,null,null,null,null,null,null,null,"    021205 CABO DA POLICIA MILITAR|021210 SOLDADO DA POLICIA MILITAR"]
["    030115 TENENTE-CORONEL BOMBEIRO MILITAR|030205 CAPITAO BOMBEIRO MILITAR",null,null,null,null,null,null,null,null,"    030115 TENENTE-CORONEL BOMBEIRO MILITAR|030205 CAPITAO BOMBEIRO MILITAR",null,null,null,null,null,null,null,null,null,null,null,"    030105 CORONEL BOMBEIRO MILITAR|030110 MAJOR BOMBEIRO MILITAR"]
["    030305 TENENTE DO CORPO DE BOMBEIROS MILITAR",null,null,null,null,null,null,null,null,"    030305 TENENTE DO CORPO DE BOMBEIROS MILITAR",null,null,null,null,null,null,null,null,null,null,null,"    030115 TENENTE-CORONEL BOMBEIRO MILITAR|030205 CAPITAO BOMBEIRO MILITAR"]
["    031105 SUBTENENTE BOMBEIRO MILITAR|031110 SARGENTO BOMBEIRO MILITAR",null,null,null,null,null,null,null,null,"    031105 SUBTENENTE BOMBEIRO MILITAR|031110 SARGENTO BOMBEIRO MILITAR",null,null,null,null,null,null,null,null,null,null,null,"    030305 TENENTE DO CORPO DE BOMBEIROS MILITAR"]
["    031205 CABO BOMBEIRO MILITAR|031210 SOLDADO BOMBEIRO MILITAR|111105 SENADOR",null,null,null,null,null,null,null,null,"    031205 CABO BOMBEIRO MILITAR|031210 SOLDADO BOMBEIRO MILITAR|111105 SENADOR",null,null,null,null,null,null,null,null,null,null,null,"    031105 SUBTENENTE BOMBEIRO MILITAR|031110 SARGENTO BOMBEIRO MILITAR"]
["    111110 DEPUTADO FEDERAL|111115 DEPUTADO ESTADUAL E DISTRITAL|111120 VEREADOR",null,null,null,null,null,null,null,null,"    111110 DEPUTADO FEDERAL|111115 DEPUTADO ESTADUAL E DISTRITAL|111120 VEREADOR",null,null,null,null,null,null,null,null,null,null,null,"    031205 CABO BOMBEIRO MILITAR|031210 SOLDADO BOMBEIRO MILITAR|111105 SENADOR"]
["    141205 GERENTE DE PRODUCAO E OPERACOES",null,null,null,null,null,null,null,null,"    141205 GERENTE DE PRODUCAO E OPERACOES",null,null,null,null,null,null,null,null,null,null,null,"    111110 DEPUTADO FEDERAL|111115 DEPUTADO ESTADUAL E DISTRITAL|111120 VEREADOR"]
["    141305 GERENTE DE PRODUCAO E OPERACOES DA CONSTRUCAO CIVIL E OBRAS PUBLICAS",null,null,null,null,null,null,null,null,"    141305 GERENTE DE PRODUCAO E OPERACOES DA CONSTRUCAO CIVIL E OBRAS PUBLICAS",null,null,null,null,null,null,null,null,null,null,null,"    141205 GERENTE DE PRODUCAO E OPERACOES"]
["    141405 COMERCIANTE ATACADISTA|141410 COMERCIANTE VAREJISTA",null,null,null,null,null,null,null,null,"    141405 COMERCIANTE ATACADISTA|141410 COMERCIANTE VAREJISTA",null,null,null,null,null,null,null,null,null,null,null,"    141305 GERENTE DE PRODUCAO E OPERACOES DA CONSTRUCAO CIVIL E OBRAS PUBLICAS"]
["    141415 GERENTE DE LOJA E SUPERMERCADO",null,null,null,null,null,null,null,null,"    141415 GERENTE DE LOJA E SUPERMERCADO",null,null,null,null,null,null,null,null,null,null,null,"    141405 COMERCIANTE ATACADISTA|141410 COMERCIANTE VAREJISTA"]
["    141420 GERENTE DE OPERACOES DE SERVICOS DE ASSISTENCIA TECNICA",null,null,null,null,null,null,null,null,"    141420 GERENTE DE OPERACOES DE SERVICOS DE ASSISTENCIA TECNICA",null,null,null,null,null,null,null,null,null,null,null,"    141415 GERENTE DE LOJA E SUPERMERCADO"]
["    141505 GERENTE DE HOTEL|141510 GERENTE DE RESTAURANTE|141515 GERENTE DE BAR",null,null,null,null,null,null,null,null,"    141505 GERENTE DE HOTEL|141510 GERENTE DE RESTAURANTE|141515 GERENTE DE BAR",null,null,null,null,null,null,null,null,null,null,null,"    141420 GERENTE DE OPERACOES DE SERVICOS DE ASSISTENCIA TECNICA"]
["    141520 GERENTE DE PENSAO|141605 GERENTE DE OPERACOES DE TRANSPORTES",null,null,null,null,null,null,null,null,"    141520 GERENTE DE PENSAO|141605 GERENTE DE OPERACOES DE TRANSPORTES",null,null,null,null,null,null,null,null,null,null,null,"    141505 GERENTE DE HOTEL|141510 GERENTE DE RESTAURANTE|141515 GERENTE DE BAR"]
["    141610 GERENTE DE OPERACOES DE CORREIOS E TELECOMUNICACOES",null,null,null,null,null,null,null,null,"    141610 GERENTE DE OPERACOES DE CORREIOS E TELECOMUNICACOES",null,null,null,null,null,null,null,null,null,null,null,"    141520 GERENTE DE PENSAO|141605 GERENTE DE OPERACOES DE TRANSPORTES"]
["    141615 GERENTE DE LOGISTICA (ARMAZENAGEM E DISTRIBUICAO)",null,null,null,null,null,null,null,null,"    141615 GERENTE DE LOGISTICA (ARMAZENAGEM E DISTRIBUICAO)",null,null,null,null,null,null,null,null,null,null,null,"    141610 GERENTE DE OPERACOES DE CORREIOS E TELECOMUNICACOES"]
["    141705 GERENTE DE PRODUTOS BANCARIOS|141710 GERENTE DE AGENCIA",null,null,null,null,null,null,null,null,"    141705 GERENTE DE PRODUTOS BANCARIOS|141710 GERENTE DE AGENCIA",null,null,null,null,null,null,null,null,null,null,null,"    141615 GERENTE DE LOGISTICA (ARMAZENAGEM E DISTRIBUICAO)"]
["    141715 GERENTE DE CAMBIO E COMERCIO EXTERIOR",null,null,null,null,null,null,null,null,"    141715 GERENTE DE CAMBIO E COMERCIO EXTERIOR",null,null,null,null,null,null,null,null,null,null,null,"    141705 GERENTE DE PRODUTOS BANCARIOS|141710 GERENTE DE AGENCIA"]
["    141720 GERENTE DE CREDITO E COBRANCA|141725 GERENTE DE CREDITO IMOBILIARIO",null,null,null,null,null,null,null,null,"    141720 GERENTE DE CREDITO E COBRANCA|141725 GERENTE DE CREDITO IMOBILIARIO",null,null,null,null,null,null,null,null,null,null,null,"    141715 GERENTE DE CAMBIO E COMERCIO EXTERIOR"]
["    141730 GERENTE DE CREDITO RURAL|142105 GERENTE ADMINISTRATIVO",null,null,null,null,null,null,null,null,"    141730 GERENTE DE CREDITO RURAL|142105 GERENTE ADMINISTRATIVO",null,null,null,null,null,null,null,null,null,null,null,"    141720 GERENTE DE CREDITO E COBRANCA|141725 GERENTE DE CREDITO IMOBILIARIO"]
["    142110 GERENTE DE RISCOS|142115 GERENTE FINANCEIRO",null,null,null,null,null,null,null,null,"    142110 GERENTE DE RISCOS|142115 GERENTE FINANCEIRO",null,null,null,null,null,null,null,null,null,null,null,"    141730 GERENTE DE CREDITO RURAL|142105 GERENTE ADMINISTRATIVO"]
["    142205 GERENTE DE RECURSOS HUMANOS|142210 GERENTE DE DEPARTAMENTO PESSOAL",null,null,null,null,null,null,null,null,"    142205 GERENTE DE RECURSOS HUMANOS|142210 GERENTE DE DEPARTAMENTO PESSOAL",null,null,null,null,null,null,null,null,null,null,null,"    142110 GERENTE DE RISCOS|142115 GERENTE FINANCEIRO"]
["    142305 GERENTE COMERCIAL|142310 GERENTE DE COMUNICACAO",null,null,null,null,null,null,null,null,"    142305 GERENTE COMERCIAL|142310 GERENTE DE COMUNICACAO",null,null,null,null,null,null,null,null,null,null,null,"    142205 GERENTE DE RECURSOS HUMANOS|142210 GERENTE DE DEPARTAMENTO PESSOAL"]
["    142315 GERENTE DE MARKETING|142320 GERENTE DE VENDAS",null,null,null,null,null,null,null,null,"    142315 GERENTE DE MARKETING|142320 GERENTE DE VENDAS",null,null,null,null,null,null,null,null,null,null,null,"    142305 GERENTE COMERCIAL|142310 GERENTE DE COMUNICACAO"]
["    142405 GERENTE DE COMPRAS|142410 GERENTE DE SUPRIMENTOS",null,null,null,null,null,null,null,null,"    142405 GERENTE DE COMPRAS|142410 GERENTE DE SUPRIMENTOS",null,null,null,null,null,null,null,null,null,null,null,"    142315 GERENTE DE MARKETING|142320 GERENTE DE VENDAS"]
["    142415 GERENTE DE ALMOXARIFADO|142505 GERENTE DE REDE",null,null,null,null,null,null,null,null,"    142415 GERENTE DE ALMOXARIFADO|142505 GERENTE DE REDE",null,null,null,null,null,null,null,null,null,null,null,"    142405 GERENTE DE COMPRAS|142410 GERENTE DE SUPRIMENTOS"]
["    142510 GERENTE DE DESENVOLVIMENTO DE SISTEMAS",null,null,null,null,null,null,null,null,"    142510 GERENTE DE DESENVOLVIMENTO DE SISTEMAS",null,null,null,null,null,null,null,null,null,null,null,"    142415 GERENTE DE ALMOXARIFADO|142505 GERENTE DE REDE"]
["    142515 GERENTE DE PRODUCAO DE TECNOLOGIA DA INFORMACAO",null,null,null,null,null,null,null,null,"    142515 GERENTE DE PRODUCAO DE TECNOLOGIA DA INFORMACAO",null,null,null,null,null,null,null,null,null,null,null,"    142510 GERENTE DE DESENVOLVIMENTO DE SISTEMAS"]
["    142520 GERENTE DE PROJETOS DE TECNOLOGIA DA INFORMACAO",null,null,null,null,null,null,null,null,"    142520 GERENTE DE PROJETOS DE TECNOLOGIA DA INFORMACAO",null,null,null,null,null,null,null,null,null,null,null,"    142515 GERENTE DE PRODUCAO DE TECNOLOGIA DA INFORMACAO"]
["    142525 GERENTE DE SEGURANCA DE TECNOLOGIA DA INFORMACAO",null,null,null,null,null,null,null,null,"    142525 GERENTE DE SEGURANCA DE TECNOLOGIA DA INFORMACAO",null,null,null,null,null,null,null,null,null,null,null,"    142520 GERENTE DE PROJETOS DE TECNOLOGIA DA INFORMACAO"]
["    142530 GERENTE DE SUPORTE TECNICO DE TECNOLOGIA DA INFORMACAO",null,null,null,null,null,null,null,null,"    142530 GERENTE DE SUPORTE TECNICO DE TECNOLOGIA DA INFORMACAO",null,null,null,null,null,null,null,null,null,null,null,"    142525 GERENTE DE SEGURANCA DE TECNOLOGIA DA INFORMACAO"]
["    142605 GERENTE DE PESQUISA E DESENVOLVIMENTO (P&D)",null,null,null,null,null,null,null,null,"    142605 GERENTE DE PESQUISA E DESENVOLVIMENTO (P&D)",null,null,null,null,null,null,null,null,null,null,null,"    142530 GERENTE DE SUPORTE TECNICO DE TECNOLOGIA DA INFORMACAO"]
["    142705 GERENTE DE PROJETOS E SERVICOS DE MANUTENCAO|201105 BIOENGENHEIRO",null,null,null,null,null,null,null,null,"    142705 GERENTE DE PROJETOS E SERVICOS DE MANUTENCAO|201105 BIOENGENHEIRO",null,null,null,null,null,null,null,null,null,null,null,"    142605 GERENTE DE PESQUISA E DESENVOLVIMENTO (P&D)"]
["    201110 BIOTECNOLOGISTA|201115 GENETICISTA|201205 PESQUISADOR EM METROLOGIA",null,null,null,null,null,null,null,null,"    201110 BIOTECNOLOGISTA|201115 GENETICISTA|201205 PESQUISADOR EM METROLOGIA",null,null,null,null,null,null,null,null,null,null,null,"    142705 GERENTE DE PROJETOS E SERVICOS DE MANUTENCAO|201105 BIOENGENHEIRO"]
["    201210 ESPECIALISTA EM CALIBRACOES METROLOGICAS",null,null,null,null,null,null,null,null,"    201210 ESPECIALISTA EM CALIBRACOES METROLOGICAS",null,null,null,null,null,null,null,null,null,null,null,"    201110 BIOTECNOLOGISTA|201115 GENETICISTA|201205 PESQUISADOR EM METROLOGIA"]
["    201215 ESPECIALISTA EM ENSAIOS METROLOGICOS",null,null,null,null,null,null,null,null,"    201215 ESPECIALISTA EM ENSAIOS METROLOGICOS",null,null,null,null,null,null,null,null,null,null,null,"    201210 ESPECIALISTA EM CALIBRACOES METROLOGICAS"]
["    201220 ESPECIALISTA EM INSTRUMENTACAO METROLOGICA",null,null,null,null,null,null,null,null,"    201220 ESPECIALISTA EM INSTRUMENTACAO METROLOGICA",null,null,null,null,null,null,null,null,null,null,null,"    201215 ESPECIALISTA EM ENSAIOS METROLOGICOS"]
["    201225 ESPECIALISTA EM MATERIAIS DE REFERENCIA METROLOGICA",null,null,null,null,null,null,null,null,"    201225 ESPECIALISTA EM MATERIAIS DE REFERENCIA METROLOGICA",null,null,null,null,null,null,null,null,null,null,null,"    201220 ESPECIALISTA EM INSTRUMENTACAO METROLOGICA"]
["    202105 ENGENHEIRO MECATRONICO|203005 PESQUISADOR EM BIOLOGIA AMBIENTAL",null,null,null,null,null,null,null,null,"    202105 ENGENHEIRO MECATRONICO|203005 PESQUISADOR EM BIOLOGIA AMBIENTAL",null,null,null,null,null,null,null,null,null,null,null,"    201225 ESPECIALISTA EM MATERIAIS DE REFERENCIA METROLOGICA"]
["    203010 PESQUISADOR EM BIOLOGIA ANIMAL",null,null,null,null,null,null,null,null,"    203010 PESQUISADOR EM BIOLOGIA ANIMAL",null,null,null,null,null,null,null,null,null,null,null,"    202105 ENGENHEIRO MECATRONICO|203005 PESQUISADOR EM BIOLOGIA AMBIENTAL"]
["    203015 PESQUISADOR EM BIOLOGIA DE MICROORGANISMOS E PARASITAS",null,null,null,null,null,null,null,null,"    203015 PESQUISADOR EM BIOLOGIA DE MICROORGANISMOS E PARASITAS",null,null,null,null,null,null,null,null,null,null,null,"    203010 PESQUISADOR EM BIOLOGIA ANIMAL"]
["    203020 PESQUISADOR EM BIOLOGIA HUMANA|203025 PESQUISADOR EM BIOLOGIA VEGETAL",null,null,null,null,null,null,null,null,"    203020 PESQUISADOR EM BIOLOGIA HUMANA|203025 PESQUISADOR EM BIOLOGIA VEGETAL",null,null,null,null,null,null,null,null,null,null,null,"    203015 PESQUISADOR EM BIOLOGIA DE MICROORGANISMOS E PARASITAS"]
["    203105 PESQUISADOR EM CIENCIAS DA COMPUTACAO E INFORMATICA",null,null,null,null,null,null,null,null,"    203105 PESQUISADOR EM CIENCIAS DA COMPUTACAO E INFORMATICA",null,null,null,null,null,null,null,null,null,null,null,"    203020 PESQUISADOR EM BIOLOGIA HUMANA|203025 PESQUISADOR EM BIOLOGIA VEGETAL"]
["    203110 PESQUISADOR EM CIENCIAS DA TERRA E MEIO AMBIENTE",null,null,null,null,null,null,null,null,"    203110 PESQUISADOR EM CIENCIAS DA TERRA E MEIO AMBIENTE",null,null,null,null,null,null,null,null,null,null,null,"    203105 PESQUISADOR EM CIENCIAS DA COMPUTACAO E INFORMATICA"]
["    203115 PESQUISADOR EM FISICA|203120 PESQUISADOR EM MATEMATICA",null,null,null,null,null,null,null,null,"    203115 PESQUISADOR EM FISICA|203120 PESQUISADOR EM MATEMATICA",null,null,null,null,null,null,null,null,null,null,null,"    203110 PESQUISADOR EM CIENCIAS DA TERRA E MEIO AMBIENTE"]
["    203125 PESQUISADOR EM QUIMICA|203205 PESQUISADOR DE ENGENHARIA CIVIL",null,null,null,null,null,null,null,null,"    203125 PESQUISADOR EM QUIMICA|203205 PESQUISADOR DE ENGENHARIA CIVIL",null,null,null,null,null,null,null,null,null,null,null,"    203115 PESQUISADOR EM FISICA|203120 PESQUISADOR EM MATEMATICA"]
["    203210 PESQUISADOR DE ENGENHARIA E TECNOLOGIA (OUTRAS AREAS DA ENGENHARIA)",null,null,null,null,null,null,null,null,"    203210 PESQUISADOR DE ENGENHARIA E TECNOLOGIA (OUTRAS AREAS DA ENGENHARIA)",null,null,null,null,null,null,null,null,null,null,null,"    203125 PESQUISADOR EM QUIMICA|203205 PESQUISADOR DE ENGENHARIA CIVIL"]
["    203215 PESQUISADOR DE ENGENHARIA ELETRICA E ELETRONICA",null,null,null,null,null,null,null,null,"    203215 PESQUISADOR DE ENGENHARIA ELETRICA E ELETRONICA",null,null,null,null,null,null,null,null,null,null,null,"    203210 PESQUISADOR DE ENGENHARIA E TECNOLOGIA (OUTRAS AREAS DA ENGENHARIA)"]
["    203220 PESQUISADOR DE ENGENHARIA MECANICA",null,null,null,null,null,null,null,null,"    203220 PESQUISADOR DE ENGENHARIA MECANICA",null,null,null,null,null,null,null,null,null,null,null,"    203215 PESQUISADOR DE ENGENHARIA ELETRICA E ELETRONICA"]
["    203225 PESQUISADOR DE ENGENHARIA METALURGICA, DE MINAS E DE MATERIAIS",null,null,null,null,null,null,null,null,"    203225 PESQUISADOR DE ENGENHARIA METALURGICA, DE MINAS E DE MATERIAIS",null,null,null,null,null,null,null,null,null,null,null,"    203220 PESQUISADOR DE ENGENHARIA MECANICA"]
["    203230 PESQUISADOR DE ENGENHARIA QUIMICA",null,null,null,null,null,null,null,null,"    203230 PESQUISADOR DE ENGENHARIA QUIMICA",null,null,null,null,null,null,null,null,null,null,null,"    203225 PESQUISADOR DE ENGENHARIA METALURGICA, DE MINAS E DE MATERIAIS"]
["    203305 PESQUISADOR DE CLINICA MEDICA|203310 PESQUISADOR DE MEDICINA BASICA",null,null,null,null,null,null,null,null,"    203305 PESQUISADOR DE CLINICA MEDICA|203310 PESQUISADOR DE MEDICINA BASICA",null,null,null,null,null,null,null,null,null,null,null,"    203230 PESQUISADOR DE ENGENHARIA QUIMICA"]
["    203315 PESQUISADOR EM MEDICINA VETERINARIA",null,null,null,null,null,null,null,null,"    203315 PESQUISADOR EM MEDICINA VETERINARIA",null,null,null,null,null,null,null,null,null,null,null,"    203305 PESQUISADOR DE CLINICA MEDICA|203310 PESQUISADOR DE MEDICINA BASICA"]
["    203320 PESQUISADOR EM SAUDE COLETIVA",null,null,null,null,null,null,null,null,"    203320 PESQUISADOR EM SAUDE COLETIVA",null,null,null,null,null,null,null,null,null,null,null,"    203315 PESQUISADOR EM MEDICINA VETERINARIA"]
["    203405 PESQUISADOR EM CIENCIAS AGRONOMICAS",null,null,null,null,null,null,null,null,"    203405 PESQUISADOR EM CIENCIAS AGRONOMICAS",null,null,null,null,null,null,null,null,null,null,null,"    203320 PESQUISADOR EM SAUDE COLETIVA"]
["    203410 PESQUISADOR EM CIENCIAS DA PESCA E AQUICULTURA",null,null,null,null,null,null,null,null,"    203410 PESQUISADOR EM CIENCIAS DA PESCA E AQUICULTURA",null,null,null,null,null,null,null,null,null,null,null,"    203405 PESQUISADOR EM CIENCIAS AGRONOMICAS"]
["    203415 PESQUISADOR EM CIENCIAS DA ZOOTECNIA",null,null,null,null,null,null,null,null,"    203415 PESQUISADOR EM CIENCIAS DA ZOOTECNIA",null,null,null,null,null,null,null,null,null,null,null,"    203410 PESQUISADOR EM CIENCIAS DA PESCA E AQUICULTURA"]
["    203420 PESQUISADOR EM CIENCIAS FLORESTAIS",null,null,null,null,null,null,null,null,"    203420 PESQUISADOR EM CIENCIAS FLORESTAIS",null,null,null,null,null,null,null,null,null,null,null,"    203415 PESQUISADOR EM CIENCIAS DA ZOOTECNIA"]
["    203505 PESQUISADOR EM CIENCIAS SOCIAIS E HUMANAS",null,null,null,null,null,null,null,null,"    203505 PESQUISADOR EM CIENCIAS SOCIAIS E HUMANAS",null,null,null,null,null,null,null,null,null,null,null,"    203420 PESQUISADOR EM CIENCIAS FLORESTAIS"]
["    203510 PESQUISADOR EM ECONOMIA|203515 PESQUISADOR EM CIENCIAS DA EDUCACAO",null,null,null,null,null,null,null,null,"    203510 PESQUISADOR EM ECONOMIA|203515 PESQUISADOR EM CIENCIAS DA EDUCACAO",null,null,null,null,null,null,null,null,null,null,null,"    203505 PESQUISADOR EM CIENCIAS SOCIAIS E HUMANAS"]
["    203520 PESQUISADOR EM HISTORIA|203525 PESQUISADOR EM PSICOLOGIA",null,null,null,null,null,null,null,null,"    203520 PESQUISADOR EM HISTORIA|203525 PESQUISADOR EM PSICOLOGIA",null,null,null,null,null,null,null,null,null,null,null,"    203510 PESQUISADOR EM ECONOMIA|203515 PESQUISADOR EM CIENCIAS DA EDUCACAO"]
["    204105 PERITO CRIMINAL|211105 ATUARIO",null,null,null,null,null,null,null,null,"    204105 PERITO CRIMINAL|211105 ATUARIO",null,null,null,null,null,null,null,null,null,null,null,"    203520 PESQUISADOR EM HISTORIA|203525 PESQUISADOR EM PSICOLOGIA"]
["    211110 ESPECIALISTA EM PESQUISA OPERACIONAL|211115 MATEMATICO",null,null,null,null,null,null,null,null,"    211110 ESPECIALISTA EM PESQUISA OPERACIONAL|211115 MATEMATICO",null,null,null,null,null,null,null,null,null,null,null,"    204105 PERITO CRIMINAL|211105 ATUARIO"]
["    211120 MATEMATICO APLICADO|211205 ESTATISTICO",null,null,null,null,null,null,null,null,"    211120 MATEMATICO APLICADO|211205 ESTATISTICO",null,null,null,null,null,null,null,null,null,null,null,"    211110 ESPECIALISTA EM PESQUISA OPERACIONAL|211115 MATEMATICO"]
["    211210 ESTATISTICO (ESTATISTICA APLICADA)|211215 ESTATISTICO TEORICO",null,null,null,null,null,null,null,null,"    211210 ESTATISTICO (ESTATISTICA APLICADA)|211215 ESTATISTICO TEORICO",null,null,null,null,null,null,null,null,null,null,null,"    211120 MATEMATICO APLICADO|211205 ESTATISTICO"]
["    212205 ENGENHEIRO DE APLICATIVOS EM COMPUTACAO",null,null,null,null,null,null,null,null,"    212205 ENGENHEIRO DE APLICATIVOS EM COMPUTACAO",null,null,null,null,null,null,null,null,null,null,null,"    211210 ESTATISTICO (ESTATISTICA APLICADA)|211215 ESTATISTICO TEORICO"]
["    212210 ENGENHEIRO DE EQUIPAMENTOS EM COMPUTACAO",null,null,null,null,null,null,null,null,"    212210 ENGENHEIRO DE EQUIPAMENTOS EM COMPUTACAO",null,null,null,null,null,null,null,null,null,null,null,"    212205 ENGENHEIRO DE APLICATIVOS EM COMPUTACAO"]
["    212215 ENGENHEIROS DE SISTEMAS OPERACIONAIS EM COMPUTACAO",null,null,null,null,null,null,null,null,"    212215 ENGENHEIROS DE SISTEMAS OPERACIONAIS EM COMPUTACAO",null,null,null,null,null,null,null,null,null,null,null,"    212210 ENGENHEIRO DE EQUIPAMENTOS EM COMPUTACAO"]
["    212305 ADMINISTRADOR DE BANCO DE DADOS|212310 ADMINISTRADOR DE REDES",null,null,null,null,null,null,null,null,"    212305 ADMINISTRADOR DE BANCO DE DADOS|212310 ADMINISTRADOR DE REDES",null,null,null,null,null,null,null,null,null,null,null,"    212215 ENGENHEIROS DE SISTEMAS OPERACIONAIS EM COMPUTACAO"]
["    212315 ADMINISTRADOR DE SISTEMAS OPERACIONAIS",null,null,null,null,null,null,null,null,"    212315 ADMINISTRADOR DE SISTEMAS OPERACIONAIS",null,null,null,null,null,null,null,null,null,null,null,"    212305 ADMINISTRADOR DE BANCO DE DADOS|212310 ADMINISTRADOR DE REDES"]
["    212405 ANALISTA DE DESENVOLVIMENTO DE SISTEMAS",null,null,null,null,null,null,null,null,"    212405 ANALISTA DE DESENVOLVIMENTO DE SISTEMAS",null,null,null,null,null,null,null,null,null,null,null,"    212315 ADMINISTRADOR DE SISTEMAS OPERACIONAIS"]
["    212410 ANALISTA DE REDES E DE COMUNICACAO DE DADOS",null,null,null,null,null,null,null,null,"    212410 ANALISTA DE REDES E DE COMUNICACAO DE DADOS",null,null,null,null,null,null,null,null,null,null,null,"    212405 ANALISTA DE DESENVOLVIMENTO DE SISTEMAS"]
["    212415 ANALISTA DE SISTEMAS DE AUTOMACAO",null,null,null,null,null,null,null,null,"    212415 ANALISTA DE SISTEMAS DE AUTOMACAO",null,null,null,null,null,null,null,null,null,null,null,"    212410 ANALISTA DE REDES E DE COMUNICACAO DE DADOS"]
["    212420 ANALISTA DE SUPORTE COMPUTACIONAL|213105 FISICO",null,null,null,null,null,null,null,null,"    212420 ANALISTA DE SUPORTE COMPUTACIONAL|213105 FISICO",null,null,null,null,null,null,null,null,null,null,null,"    212415 ANALISTA DE SISTEMAS DE AUTOMACAO"]
["    213110 FISICO (ACUSTICA)|213115 FISICO (ATOMICA E MOLECULAR)",null,null,null,null,null,null,null,null,"    213110 FISICO (ACUSTICA)|213115 FISICO (ATOMICA E MOLECULAR)",null,null,null,null,null,null,null,null,null,null,null,"    212420 ANALISTA DE SUPORTE COMPUTACIONAL|213105 FISICO"]
["    213120 FISICO (COSMOLOGIA)|213125 FISICO (ESTATISTICA E MATEMATICA)",null,null,null,null,null,null,null,null,"    213120 FISICO (COSMOLOGIA)|213125 FISICO (ESTATISTICA E MATEMATICA)",null,null,null,null,null,null,null,null,null,null,null,"    213110 FISICO (ACUSTICA)|213115 FISICO (ATOMICA E MOLECULAR)"]
["    213130 FISICO (FLUIDOS)|213135 FISICO (INSTRUMENTACAO)",null,null,null,null,null,null,null,null,"    213130 FISICO (FLUIDOS)|213135 FISICO (INSTRUMENTACAO)",null,null,null,null,null,null,null,null,null,null,null,"    213120 FISICO (COSMOLOGIA)|213125 FISICO (ESTATISTICA E MATEMATICA)"]
["    213140 FISICO (MATERIA CONDENSADA)|213145 FISICO (MATERIAIS)",null,null,null,null,null,null,null,null,"    213140 FISICO (MATERIA CONDENSADA)|213145 FISICO (MATERIAIS)",null,null,null,null,null,null,null,null,null,null,null,"    213130 FISICO (FLUIDOS)|213135 FISICO (INSTRUMENTACAO)"]
["    213150 FISICO (MEDICINA)|213155 FISICO (NUCLEAR E REATORES)",null,null,null,null,null,null,null,null,"    213150 FISICO (MEDICINA)|213155 FISICO (NUCLEAR E REATORES)",null,null,null,null,null,null,null,null,null,null,null,"    213140 FISICO (MATERIA CONDENSADA)|213145 FISICO (MATERIAIS)"]
["    213160 FISICO (OPTICA)|213165 FISICO (PARTICULAS E CAMPOS)",null,null,null,null,null,null,null,null,"    213160 FISICO (OPTICA)|213165 FISICO (PARTICULAS E CAMPOS)",null,null,null,null,null,null,null,null,null,null,null,"    213150 FISICO (MEDICINA)|213155 FISICO (NUCLEAR E REATORES)"]
["    213170 FISICO (PLASMA)|213175 FISICO (TERMICA)|213205 QUIMICO",null,null,null,null,null,null,null,null,"    213170 FISICO (PLASMA)|213175 FISICO (TERMICA)|213205 QUIMICO",null,null,null,null,null,null,null,null,null,null,null,"    213160 FISICO (OPTICA)|213165 FISICO (PARTICULAS E CAMPOS)"]
["    213210 QUIMICO INDUSTRIAL|213305 ASTRONOMO|213310 GEOFISICO ESPACIAL",null,null,null,null,null,null,null,null,"    213210 QUIMICO INDUSTRIAL|213305 ASTRONOMO|213310 GEOFISICO ESPACIAL",null,null,null,null,null,null,null,null,null,null,null,"    213170 FISICO (PLASMA)|213175 FISICO (TERMICA)|213205 QUIMICO"]
["    213315 METEOROLOGISTA|213405 GEOLOGO|213410 GEOLOGO DE ENGENHARIA",null,null,null,null,null,null,null,null,"    213315 METEOROLOGISTA|213405 GEOLOGO|213410 GEOLOGO DE ENGENHARIA",null,null,null,null,null,null,null,null,null,null,null,"    213210 QUIMICO INDUSTRIAL|213305 ASTRONOMO|213310 GEOFISICO ESPACIAL"]
["    213415 GEOFISICO|213420 GEOQUIMICO|213425 HIDROGEOLOGO|213430 PALEONTOLOGO",null,null,null,null,null,null,null,null,"    213415 GEOFISICO|213420 GEOQUIMICO|213425 HIDROGEOLOGO|213430 PALEONTOLOGO",null,null,null,null,null,null,null,null,null,null,null,"    213315 METEOROLOGISTA|213405 GEOLOGO|213410 GEOLOGO DE ENGENHARIA"]
["    213435 PETROGRAFO|214105 ARQUITETO DE EDIFICACOES",null,null,null,null,null,null,null,null,"    213435 PETROGRAFO|214105 ARQUITETO DE EDIFICACOES",null,null,null,null,null,null,null,null,null,null,null,"    213415 GEOFISICO|213420 GEOQUIMICO|213425 HIDROGEOLOGO|213430 PALEONTOLOGO"]
["    214110 ARQUITETO DE INTERIORES|214115 ARQUITETO DE PATRIMONIO",null,null,null,null,null,null,null,null,"    214110 ARQUITETO DE INTERIORES|214115 ARQUITETO DE PATRIMONIO",null,null,null,null,null,null,null,null,null,null,null,"    213435 PETROGRAFO|214105 ARQUITETO DE EDIFICACOES"]
["    214120 ARQUITETO PAISAGISTA|214125 ARQUITETO URBANISTA",null,null,null,null,null,null,null,null,"    214120 ARQUITETO PAISAGISTA|214125 ARQUITETO URBANISTA",null,null,null,null,null,null,null,null,null,null,null,"    214110 ARQUITETO DE INTERIORES|214115 ARQUITETO DE PATRIMONIO"]
["    214205 ENGENHEIRO CIVIL|214210 ENGENHEIRO CIVIL (AEROPORTOS)",null,null,null,null,null,null,null,null,"    214205 ENGENHEIRO CIVIL|214210 ENGENHEIRO CIVIL (AEROPORTOS)",null,null,null,null,null,null,null,null,null,null,null,"    214120 ARQUITETO PAISAGISTA|214125 ARQUITETO URBANISTA"]
["    214215 ENGENHEIRO CIVIL (EDIFICACOES)",null,null,null,null,null,null,null,null,"    214215 ENGENHEIRO CIVIL (EDIFICACOES)",null,null,null,null,null,null,null,null,null,null,null,"    214205 ENGENHEIRO CIVIL|214210 ENGENHEIRO CIVIL (AEROPORTOS)"]
["    214220 ENGENHEIRO CIVIL (ESTRUTURAS METALICAS)",null,null,null,null,null,null,null,null,"    214220 ENGENHEIRO CIVIL (ESTRUTURAS METALICAS)",null,null,null,null,null,null,null,null,null,null,null,"    214215 ENGENHEIRO CIVIL (EDIFICACOES)"]
["    214225 ENGENHEIRO CIVIL (FERROVIAS E METROVIAS)",null,null,null,null,null,null,null,null,"    214225 ENGENHEIRO CIVIL (FERROVIAS E METROVIAS)",null,null,null,null,null,null,null,null,null,null,null,"    214220 ENGENHEIRO CIVIL (ESTRUTURAS METALICAS)"]
["    214230 ENGENHEIRO CIVIL (GEOTECNIA)|214235 ENGENHEIRO CIVIL (HIDROLOGIA)",null,null,null,null,null,null,null,null,"    214230 ENGENHEIRO CIVIL (GEOTECNIA)|214235 ENGENHEIRO CIVIL (HIDROLOGIA)",null,null,null,null,null,null,null,null,null,null,null,"    214225 ENGENHEIRO CIVIL (FERROVIAS E METROVIAS)"]
["    214240 ENGENHEIRO CIVIL (HIDRAULICA)",null,null,null,null,null,null,null,null,"    214240 ENGENHEIRO CIVIL (HIDRAULICA)",null,null,null,null,null,null,null,null,null,null,null,"    214230 ENGENHEIRO CIVIL (GEOTECNIA)|214235 ENGENHEIRO CIVIL (HIDROLOGIA)"]
["    214245 ENGENHEIRO CIVIL (PONTES E VIADUTOS)",null,null,null,null,null,null,null,null,"    214245 ENGENHEIRO CIVIL (PONTES E VIADUTOS)",null,null,null,null,null,null,null,null,null,null,null,"    214240 ENGENHEIRO CIVIL (HIDRAULICA)"]
["    214250 ENGENHEIRO CIVIL (PORTOS E VIAS NAVEGAVEIS)",null,null,null,null,null,null,null,null,"    214250 ENGENHEIRO CIVIL (PORTOS E VIAS NAVEGAVEIS)",null,null,null,null,null,null,null,null,null,null,null,"    214245 ENGENHEIRO CIVIL (PONTES E VIADUTOS)"]
["    214255 ENGENHEIRO CIVIL (RODOVIAS)|214260 ENGENHEIRO CIVIL (SANEAMENTO)",null,null,null,null,null,null,null,null,"    214255 ENGENHEIRO CIVIL (RODOVIAS)|214260 ENGENHEIRO CIVIL (SANEAMENTO)",null,null,null,null,null,null,null,null,null,null,null,"    214250 ENGENHEIRO CIVIL (PORTOS E VIAS NAVEGAVEIS)"]
["    214265 ENGENHEIRO CIVIL (TUNEIS)",null,null,null,null,null,null,null,null,"    214265 ENGENHEIRO CIVIL (TUNEIS)",null,null,null,null,null,null,null,null,null,null,null,"    214255 ENGENHEIRO CIVIL (RODOVIAS)|214260 ENGENHEIRO CIVIL (SANEAMENTO)"]
["    214270 ENGENHEIRO CIVIL (TRANSPORTES E TRANSITO)",null,null,null,null,null,null,null,null,"    214270 ENGENHEIRO CIVIL (TRANSPORTES E TRANSITO)",null,null,null,null,null,null,null,null,null,null,null,"    214265 ENGENHEIRO CIVIL (TUNEIS)"]
["    214305 ENGENHEIRO ELETRICISTA|214310 ENGENHEIRO ELETRONICO",null,null,null,null,null,null,null,null,"    214305 ENGENHEIRO ELETRICISTA|214310 ENGENHEIRO ELETRONICO",null,null,null,null,null,null,null,null,null,null,null,"    214270 ENGENHEIRO CIVIL (TRANSPORTES E TRANSITO)"]
["    214315 ENGENHEIRO ELETRICISTA DE MANUTENCAO",null,null,null,null,null,null,null,null,"    214315 ENGENHEIRO ELETRICISTA DE MANUTENCAO",null,null,null,null,null,null,null,null,null,null,null,"    214305 ENGENHEIRO ELETRICISTA|214310 ENGENHEIRO ELETRONICO"]
["    214320 ENGENHEIRO ELETRICISTA DE PROJETOS",null,null,null,null,null,null,null,null,"    214320 ENGENHEIRO ELETRICISTA DE PROJETOS",null,null,null,null,null,null,null,null,null,null,null,"    214315 ENGENHEIRO ELETRICISTA DE MANUTENCAO"]
["    214325 ENGENHEIRO ELETRONICO DE MANUTENCAO",null,null,null,null,null,null,null,null,"    214325 ENGENHEIRO ELETRONICO DE MANUTENCAO",null,null,null,null,null,null,null,null,null,null,null,"    214320 ENGENHEIRO ELETRICISTA DE PROJETOS"]
["    214330 ENGENHEIRO ELETRONICO DE PROJETOS",null,null,null,null,null,null,null,null,"    214330 ENGENHEIRO ELETRONICO DE PROJETOS",null,null,null,null,null,null,null,null,null,null,null,"    214325 ENGENHEIRO ELETRONICO DE MANUTENCAO"]
["    214335 ENGENHEIRO DE MANUTENCAO DE TELECOMUNICACOES",null,null,null,null,null,null,null,null,"    214335 ENGENHEIRO DE MANUTENCAO DE TELECOMUNICACOES",null,null,null,null,null,null,null,null,null,null,null,"    214330 ENGENHEIRO ELETRONICO DE PROJETOS"]
["    214340 ENGENHEIRO DE TELECOMUNICACOES",null,null,null,null,null,null,null,null,"    214340 ENGENHEIRO DE TELECOMUNICACOES",null,null,null,null,null,null,null,null,null,null,null,"    214335 ENGENHEIRO DE MANUTENCAO DE TELECOMUNICACOES"]
["    214345 ENGENHEIRO PROJETISTA DE TELECOMUNICACOES",null,null,null,null,null,null,null,null,"    214345 ENGENHEIRO PROJETISTA DE TELECOMUNICACOES",null,null,null,null,null,null,null,null,null,null,null,"    214340 ENGENHEIRO DE TELECOMUNICACOES"]
["    214350 ENGENHEIRO DE REDES DE COMUNICACAO",null,null,null,null,null,null,null,null,"    214350 ENGENHEIRO DE REDES DE COMUNICACAO",null,null,null,null,null,null,null,null,null,null,null,"    214345 ENGENHEIRO PROJETISTA DE TELECOMUNICACOES"]
["    214355 ENGENHEIRO DE CONTROLE E AUTOMACAO|214360 TECNOLOGO EM ELETRICIDADE",null,null,null,null,null,null,null,null,"    214355 ENGENHEIRO DE CONTROLE E AUTOMACAO|214360 TECNOLOGO EM ELETRICIDADE",null,null,null,null,null,null,null,null,null,null,null,"    214350 ENGENHEIRO DE REDES DE COMUNICACAO"]
["    214365 TECNOLOGO EM ELETRONICA|214405 ENGENHEIRO MECANICO",null,null,null,null,null,null,null,null,"    214365 TECNOLOGO EM ELETRONICA|214405 ENGENHEIRO MECANICO",null,null,null,null,null,null,null,null,null,null,null,"    214355 ENGENHEIRO DE CONTROLE E AUTOMACAO|214360 TECNOLOGO EM ELETRICIDADE"]
["    214410 ENGENHEIRO MECANICO AUTOMOTIVO",null,null,null,null,null,null,null,null,"    214410 ENGENHEIRO MECANICO AUTOMOTIVO",null,null,null,null,null,null,null,null,null,null,null,"    214365 TECNOLOGO EM ELETRONICA|214405 ENGENHEIRO MECANICO"]
["    214415 ENGENHEIRO MECANICO (ENERGIA NUCLEAR)",null,null,null,null,null,null,null,null,"    214415 ENGENHEIRO MECANICO (ENERGIA NUCLEAR)",null,null,null,null,null,null,null,null,null,null,null,"    214410 ENGENHEIRO MECANICO AUTOMOTIVO"]
["    214420 ENGENHEIRO MECANICO INDUSTRIAL|214425 ENGENHEIRO AERONAUTICO",null,null,null,null,null,null,null,null,"    214420 ENGENHEIRO MECANICO INDUSTRIAL|214425 ENGENHEIRO AERONAUTICO",null,null,null,null,null,null,null,null,null,null,null,"    214415 ENGENHEIRO MECANICO (ENERGIA NUCLEAR)"]
["    214430 ENGENHEIRO NAVAL|214505 ENGENHEIRO QUIMICO",null,null,null,null,null,null,null,null,"    214430 ENGENHEIRO NAVAL|214505 ENGENHEIRO QUIMICO",null,null,null,null,null,null,null,null,null,null,null,"    214420 ENGENHEIRO MECANICO INDUSTRIAL|214425 ENGENHEIRO AERONAUTICO"]
["    214510 ENGENHEIRO QUIMICO (INDUSTRIA QUIMICA)",null,null,null,null,null,null,null,null,"    214510 ENGENHEIRO QUIMICO (INDUSTRIA QUIMICA)",null,null,null,null,null,null,null,null,null,null,null,"    214430 ENGENHEIRO NAVAL|214505 ENGENHEIRO QUIMICO"]
["    141735 GERENTE DE RECUPERACAO DE CREDITO",null,null,null,null,null,null,null,null,"    141735 GERENTE DE RECUPERACAO DE CREDITO",null,null,null,null,null,null,null,null,null,null,null,"    214510 ENGENHEIRO QUIMICO (INDUSTRIA QUIMICA)"]
["    214520 ENGENHEIRO QUIMICO (PAPEL E CELULOSE)",null,null,null,null,null,null,null,null,"    214520 ENGENHEIRO QUIMICO (PAPEL E CELULOSE)",null,null,null,null,null,null,null,null,null,null,null,"    141735 GERENTE DE RECUPERACAO DE CREDITO"]
["    214525 ENGENHEIRO QUIMICO (PETROLEO E BORRACHA)",null,null,null,null,null,null,null,null,"    214525 ENGENHEIRO QUIMICO (PETROLEO E BORRACHA)",null,null,null,null,null,null,null,null,null,null,null,"    214520 ENGENHEIRO QUIMICO (PAPEL E CELULOSE)"]
["    214530 ENGENHEIRO QUIMICO (UTILIDADES E MEIO AMBIENTE)",null,null,null,null,null,null,null,null,"    214530 ENGENHEIRO QUIMICO (UTILIDADES E MEIO AMBIENTE)",null,null,null,null,null,null,null,null,null,null,null,"    214525 ENGENHEIRO QUIMICO (PETROLEO E BORRACHA)"]
["    214605 ENGENHEIRO DE MATERIAIS|214610 ENGENHEIRO METALURGISTA",null,null,null,null,null,null,null,null,"    214605 ENGENHEIRO DE MATERIAIS|214610 ENGENHEIRO METALURGISTA",null,null,null,null,null,null,null,null,null,null,null,"    214530 ENGENHEIRO QUIMICO (UTILIDADES E MEIO AMBIENTE)"]
["    214705 ENGENHEIRO DE MINAS|214710 ENGENHEIRO DE MINAS (BENEFICIAMENTO)",null,null,null,null,null,null,null,null,"    214705 ENGENHEIRO DE MINAS|214710 ENGENHEIRO DE MINAS (BENEFICIAMENTO)",null,null,null,null,null,null,null,null,null,null,null,"    214605 ENGENHEIRO DE MATERIAIS|214610 ENGENHEIRO METALURGISTA"]
["    214715 ENGENHEIRO DE MINAS (LAVRA A CEU ABERTO)",null,null,null,null,null,null,null,null,"    214715 ENGENHEIRO DE MINAS (LAVRA A CEU ABERTO)",null,null,null,null,null,null,null,null,null,null,null,"    214705 ENGENHEIRO DE MINAS|214710 ENGENHEIRO DE MINAS (BENEFICIAMENTO)"]
["    214720 ENGENHEIRO DE MINAS (LAVRA SUBTERRANEA)",null,null,null,null,null,null,null,null,"    214720 ENGENHEIRO DE MINAS (LAVRA SUBTERRANEA)",null,null,null,null,null,null,null,null,null,null,null,"    214715 ENGENHEIRO DE MINAS (LAVRA A CEU ABERTO)"]
["    214725 ENGENHEIRO DE MINAS (PESQUISA MINERAL)",null,null,null,null,null,null,null,null,"    214725 ENGENHEIRO DE MINAS (PESQUISA MINERAL)",null,null,null,null,null,null,null,null,null,null,null,"    214720 ENGENHEIRO DE MINAS (LAVRA SUBTERRANEA)"]
["    214730 ENGENHEIRO DE MINAS (PLANEJAMENTO)",null,null,null,null,null,null,null,null,"    214730 ENGENHEIRO DE MINAS (PLANEJAMENTO)",null,null,null,null,null,null,null,null,null,null,null,"    214725 ENGENHEIRO DE MINAS (PESQUISA MINERAL)"]
["    214735 ENGENHEIRO DE MINAS (PROCESSO)|214740 ENGENHEIRO DE MINAS (PROJETO)",null,null,null,null,null,null,null,null,"    214735 ENGENHEIRO DE MINAS (PROCESSO)|214740 ENGENHEIRO DE MINAS (PROJETO)",null,null,null,null,null,null,null,null,null,null,null,"    214730 ENGENHEIRO DE MINAS (PLANEJAMENTO)"]
["    214805 ENGENHEIRO AGRIMENSOR|214810 ENGENHEIRO CARTOGRAFO",null,null,null,null,null,null,null,null,"    214805 ENGENHEIRO AGRIMENSOR|214810 ENGENHEIRO CARTOGRAFO",null,null,null,null,null,null,null,null,null,null,null,"    214735 ENGENHEIRO DE MINAS (PROCESSO)|214740 ENGENHEIRO DE MINAS (PROJETO)"]
["    214905 ENGENHEIRO DE PRODUCAO|214910 ENGENHEIRO DE CONTROLE DE QUALIDADE",null,null,null,null,null,null,null,null,"    214905 ENGENHEIRO DE PRODUCAO|214910 ENGENHEIRO DE CONTROLE DE QUALIDADE",null,null,null,null,null,null,null,null,null,null,null,"    214805 ENGENHEIRO AGRIMENSOR|214810 ENGENHEIRO CARTOGRAFO"]
["    214915 ENGENHEIRO DE SEGURANCA DO TRABALHO|214920 ENGENHEIRO DE RISCOS",null,null,null,null,null,null,null,null,"    214915 ENGENHEIRO DE SEGURANCA DO TRABALHO|214920 ENGENHEIRO DE RISCOS",null,null,null,null,null,null,null,null,null,null,null,"    214905 ENGENHEIRO DE PRODUCAO|214910 ENGENHEIRO DE CONTROLE DE QUALIDADE"]
["    214925 ENGENHEIRO DE TEMPOS E MOVIMENTOS|215105 AGENTE DE MANOBRA E DOCAGEM",null,null,null,null,null,null,null,null,"    214925 ENGENHEIRO DE TEMPOS E MOVIMENTOS|215105 AGENTE DE MANOBRA E DOCAGEM",null,null,null,null,null,null,null,null,null,null,null,"    214915 ENGENHEIRO DE SEGURANCA DO TRABALHO|214920 ENGENHEIRO DE RISCOS"]
["    215110 CAPITAO DE MANOBRA DA MARINHA MERCANTE",null,null,null,null,null,null,null,null,"    215110 CAPITAO DE MANOBRA DA MARINHA MERCANTE",null,null,null,null,null,null,null,null,null,null,null,"    214925 ENGENHEIRO DE TEMPOS E MOVIMENTOS|215105 AGENTE DE MANOBRA E DOCAGEM"]
["    215115 COMANDANTE DA MARINHA MERCANTE",null,null,null,null,null,null,null,null,"    215115 COMANDANTE DA MARINHA MERCANTE",null,null,null,null,null,null,null,null,null,null,null,"    215110 CAPITAO DE MANOBRA DA MARINHA MERCANTE"]
["    215120 COORDENADOR DE OPERACOES DE COMBATE A POLUICAO NO MEIO AQUAVIARIO",null,null,null,null,null,null,null,null,"    215120 COORDENADOR DE OPERACOES DE COMBATE A POLUICAO NO MEIO AQUAVIARIO",null,null,null,null,null,null,null,null,null,null,null,"    215115 COMANDANTE DA MARINHA MERCANTE"]
["    215125 IMEDIATO DA MARINHA MERCANTE|215130 INSPETOR DE TERMINAL",null,null,null,null,null,null,null,null,"    215125 IMEDIATO DA MARINHA MERCANTE|215130 INSPETOR DE TERMINAL",null,null,null,null,null,null,null,null,null,null,null,"    215120 COORDENADOR DE OPERACOES DE COMBATE A POLUICAO NO MEIO AQUAVIARIO"]
["    215135 INSPETOR NAVAL",null,null,null,null,null,null,null,null,"    215135 INSPETOR NAVAL",null,null,null,null,null,null,null,null,null,null,null,"    215125 IMEDIATO DA MARINHA MERCANTE|215130 INSPETOR DE TERMINAL"]
["    215140 OFICIAL DE QUARTO DE NAVEGACAO DA MARINHA MERCANTE",null,null,null,null,null,null,null,null,"    215140 OFICIAL DE QUARTO DE NAVEGACAO DA MARINHA MERCANTE",null,null,null,null,null,null,null,null,null,null,null,"    215135 INSPETOR NAVAL"]
["    215145 PRATICO DE PORTOS DA MARINHA MERCANTE|215150 VISTORIADOR NAVAL",null,null,null,null,null,null,null,null,"    215145 PRATICO DE PORTOS DA MARINHA MERCANTE|215150 VISTORIADOR NAVAL",null,null,null,null,null,null,null,null,null,null,null,"    215140 OFICIAL DE QUARTO DE NAVEGACAO DA MARINHA MERCANTE"]
["    215205 OFICIAL SUPERIOR DE MAQUINAS DA MARINHA MERCANTE",null,null,null,null,null,null,null,null,"    215205 OFICIAL SUPERIOR DE MAQUINAS DA MARINHA MERCANTE",null,null,null,null,null,null,null,null,null,null,null,"    215145 PRATICO DE PORTOS DA MARINHA MERCANTE|215150 VISTORIADOR NAVAL"]
["    215210 PRIMEIRO OFICIAL DE MAQUINAS DA MARINHA MERCANTE",null,null,null,null,null,null,null,null,"    215210 PRIMEIRO OFICIAL DE MAQUINAS DA MARINHA MERCANTE",null,null,null,null,null,null,null,null,null,null,null,"    215205 OFICIAL SUPERIOR DE MAQUINAS DA MARINHA MERCANTE"]
["    215215 SEGUNDO OFICIAL DE MAQUINAS DA MARINHA MERCANTE",null,null,null,null,null,null,null,null,"    215215 SEGUNDO OFICIAL DE MAQUINAS DA MARINHA MERCANTE",null,null,null,null,null,null,null,null,null,null,null,"    215210 PRIMEIRO OFICIAL DE MAQUINAS DA MARINHA MERCANTE"]
["    215220 SUPERINTENDENTE TECNICO NO TRANSPORTE AQUAVIARIO",null,null,null,null,null,null,null,null,"    215220 SUPERINTENDENTE TECNICO NO TRANSPORTE AQUAVIARIO",null,null,null,null,null,null,null,null,null,null,null,"    215215 SEGUNDO OFICIAL DE MAQUINAS DA MARINHA MERCANTE"]
["    215305 PILOTO DE AERONAVES|215310 PILOTO DE ENSAIOS EM VOO",null,null,null,null,null,null,null,null,"    215305 PILOTO DE AERONAVES|215310 PILOTO DE ENSAIOS EM VOO",null,null,null,null,null,null,null,null,null,null,null,"    215220 SUPERINTENDENTE TECNICO NO TRANSPORTE AQUAVIARIO"]
["    215315 INSTRUTOR DE VOO|221105 BIOLOGO|222105 ENGENHEIRO AGRICOLA",null,null,null,null,null,null,null,null,"    215315 INSTRUTOR DE VOO|221105 BIOLOGO|222105 ENGENHEIRO AGRICOLA",null,null,null,null,null,null,null,null,null,null,null,"    215305 PILOTO DE AERONAVES|215310 PILOTO DE ENSAIOS EM VOO"]
["    222110 ENGENHEIRO AGRONOMO|222115 ENGENHEIRO DE PESCA",null,null,null,null,null,null,null,null,"    222110 ENGENHEIRO AGRONOMO|222115 ENGENHEIRO DE PESCA",null,null,null,null,null,null,null,null,null,null,null,"    215315 INSTRUTOR DE VOO|221105 BIOLOGO|222105 ENGENHEIRO AGRICOLA"]
["    222120 ENGENHEIRO FLORESTAL|223101 MEDICO ACUPUNTURISTA",null,null,null,null,null,null,null,null,"    222120 ENGENHEIRO FLORESTAL|223101 MEDICO ACUPUNTURISTA",null,null,null,null,null,null,null,null,null,null,null,"    222110 ENGENHEIRO AGRONOMO|222115 ENGENHEIRO DE PESCA"]
["    223102 MEDICO ALERGISTA E IMUNOLOGISTA|223103 MEDICO ANATOMOPATOLOGISTA",null,null,null,null,null,null,null,null,"    223102 MEDICO ALERGISTA E IMUNOLOGISTA|223103 MEDICO ANATOMOPATOLOGISTA",null,null,null,null,null,null,null,null,null,null,null,"    222120 ENGENHEIRO FLORESTAL|223101 MEDICO ACUPUNTURISTA"]
["    223104 MEDICO ANESTESIOLOGISTA|223105 MEDICO ANGIOLOGISTA",null,null,null,null,null,null,null,null,"    223104 MEDICO ANESTESIOLOGISTA|223105 MEDICO ANGIOLOGISTA",null,null,null,null,null,null,null,null,null,null,null,"    223102 MEDICO ALERGISTA E IMUNOLOGISTA|223103 MEDICO ANATOMOPATOLOGISTA"]
["    223106 MEDICO CARDIOLOGISTA|223107 MEDICO CIRURGIAO CARDIOVASCULAR",null,null,null,null,null,null,null,null,"    223106 MEDICO CARDIOLOGISTA|223107 MEDICO CIRURGIAO CARDIOVASCULAR",null,null,null,null,null,null,null,null,null,null,null,"    223104 MEDICO ANESTESIOLOGISTA|223105 MEDICO ANGIOLOGISTA"]
["    223108 MEDICO CIRURGIAO DE CABECA E PESCOCO",null,null,null,null,null,null,null,null,"    223108 MEDICO CIRURGIAO DE CABECA E PESCOCO",null,null,null,null,null,null,null,null,null,null,null,"    223106 MEDICO CARDIOLOGISTA|223107 MEDICO CIRURGIAO CARDIOVASCULAR"]
["    223109 MEDICO CIRURGIAO DO APARELHO DIGESTIVO|223110 MEDICO CIRURGIAO GERAL",null,null,null,null,null,null,null,null,"    223109 MEDICO CIRURGIAO DO APARELHO DIGESTIVO|223110 MEDICO CIRURGIAO GERAL",null,null,null,null,null,null,null,null,null,null,null,"    223108 MEDICO CIRURGIAO DE CABECA E PESCOCO"]
["    223111 MEDICO CIRURGIAO PEDIATRICO|223112 MEDICO CIRURGIAO PLASTICO",null,null,null,null,null,null,null,null,"    223111 MEDICO CIRURGIAO PEDIATRICO|223112 MEDICO CIRURGIAO PLASTICO",null,null,null,null,null,null,null,null,null,null,null,"    223109 MEDICO CIRURGIAO DO APARELHO DIGESTIVO|223110 MEDICO CIRURGIAO GERAL"]
["    223113 MEDICO CIRURGIAO TORACICO|223114 MEDICO CITOPATOLOGISTA",null,null,null,null,null,null,null,null,"    223113 MEDICO CIRURGIAO TORACICO|223114 MEDICO CITOPATOLOGISTA",null,null,null,null,null,null,null,null,null,null,null,"    223111 MEDICO CIRURGIAO PEDIATRICO|223112 MEDICO CIRURGIAO PLASTICO"]
["    223115 MEDICO CLINICO|223116 MEDICO DE SAUDE DA FAMILIA",null,null,null,null,null,null,null,null,"    223115 MEDICO CLINICO|223116 MEDICO DE SAUDE DA FAMILIA",null,null,null,null,null,null,null,null,null,null,null,"    223113 MEDICO CIRURGIAO TORACICO|223114 MEDICO CITOPATOLOGISTA"]
["    223117 MEDICO DERMATOLOGISTA|223118 MEDICO DO TRABALHO",null,null,null,null,null,null,null,null,"    223117 MEDICO DERMATOLOGISTA|223118 MEDICO DO TRABALHO",null,null,null,null,null,null,null,null,null,null,null,"    223115 MEDICO CLINICO|223116 MEDICO DE SAUDE DA FAMILIA"]
["    223119 MEDICO EM ELETROENCEFALOGRAFIA|223120 MEDICO EM ENDOSCOPIA",null,null,null,null,null,null,null,null,"    223119 MEDICO EM ELETROENCEFALOGRAFIA|223120 MEDICO EM ENDOSCOPIA",null,null,null,null,null,null,null,null,null,null,null,"    223117 MEDICO DERMATOLOGISTA|223118 MEDICO DO TRABALHO"]
["    223121 MEDICO EM MEDICINA DE TRAFEGO|223122 MEDICO EM MEDICINA INTENSIVA",null,null,null,null,null,null,null,null,"    223121 MEDICO EM MEDICINA DE TRAFEGO|223122 MEDICO EM MEDICINA INTENSIVA",null,null,null,null,null,null,null,null,null,null,null,"    223119 MEDICO EM ELETROENCEFALOGRAFIA|223120 MEDICO EM ENDOSCOPIA"]
["    223123 MEDICO EM MEDICINA NUCLEAR",null,null,null,null,null,null,null,null,"    223123 MEDICO EM MEDICINA NUCLEAR",null,null,null,null,null,null,null,null,null,null,null,"    223121 MEDICO EM MEDICINA DE TRAFEGO|223122 MEDICO EM MEDICINA INTENSIVA"]
["    223124 MEDICO EM RADIOLOGIA E DIAGNOSTICO POR IMAGEM",null,null,null,null,null,null,null,null,"    223124 MEDICO EM RADIOLOGIA E DIAGNOSTICO POR IMAGEM",null,null,null,null,null,null,null,null,null,null,null,"    223123 MEDICO EM MEDICINA NUCLEAR"]
["    223125 MEDICO ENDOCRINOLOGISTA E METABOLOGISTA|223126 MEDICO FISIATRA",null,null,null,null,null,null,null,null,"    223125 MEDICO ENDOCRINOLOGISTA E METABOLOGISTA|223126 MEDICO FISIATRA",null,null,null,null,null,null,null,null,null,null,null,"    223124 MEDICO EM RADIOLOGIA E DIAGNOSTICO POR IMAGEM"]
["    223127 MEDICO FONIATRA|223128 MEDICO GASTROENTEROLOGISTA",null,null,null,null,null,null,null,null,"    223127 MEDICO FONIATRA|223128 MEDICO GASTROENTEROLOGISTA",null,null,null,null,null,null,null,null,null,null,null,"    223125 MEDICO ENDOCRINOLOGISTA E METABOLOGISTA|223126 MEDICO FISIATRA"]
["    223129 MEDICO GENERALISTA|223130 MEDICO GENETICISTA|223131 MEDICO GERIATRA",null,null,null,null,null,null,null,null,"    223129 MEDICO GENERALISTA|223130 MEDICO GENETICISTA|223131 MEDICO GERIATRA",null,null,null,null,null,null,null,null,null,null,null,"    223127 MEDICO FONIATRA|223128 MEDICO GASTROENTEROLOGISTA"]
["    223132 MEDICO GINECOLOGISTA E OBSTETRA|223133 MEDICO HEMATOLOGISTA",null,null,null,null,null,null,null,null,"    223132 MEDICO GINECOLOGISTA E OBSTETRA|223133 MEDICO HEMATOLOGISTA",null,null,null,null,null,null,null,null,null,null,null,"    223129 MEDICO GENERALISTA|223130 MEDICO GENETICISTA|223131 MEDICO GERIATRA"]
["    223134 MEDICO HEMOTERAPEUTA|223135 MEDICO HOMEOPATA",null,null,null,null,null,null,null,null,"    223134 MEDICO HEMOTERAPEUTA|223135 MEDICO HOMEOPATA",null,null,null,null,null,null,null,null,null,null,null,"    223132 MEDICO GINECOLOGISTA E OBSTETRA|223133 MEDICO HEMATOLOGISTA"]
["    223136 MEDICO INFECTOLOGISTA|223137 MEDICO LEGISTA",null,null,null,null,null,null,null,null,"    223136 MEDICO INFECTOLOGISTA|223137 MEDICO LEGISTA",null,null,null,null,null,null,null,null,null,null,null,"    223134 MEDICO HEMOTERAPEUTA|223135 MEDICO HOMEOPATA"]
["    223138 MEDICO MASTOLOGISTA|223139 MEDICO NEFROLOGISTA",null,null,null,null,null,null,null,null,"    223138 MEDICO MASTOLOGISTA|223139 MEDICO NEFROLOGISTA",null,null,null,null,null,null,null,null,null,null,null,"    223136 MEDICO INFECTOLOGISTA|223137 MEDICO LEGISTA"]
["    223140 MEDICO NEUROCIRURGIAO|223141 MEDICO NEUROFISIOLOGISTA",null,null,null,null,null,null,null,null,"    223140 MEDICO NEUROCIRURGIAO|223141 MEDICO NEUROFISIOLOGISTA",null,null,null,null,null,null,null,null,null,null,null,"    223138 MEDICO MASTOLOGISTA|223139 MEDICO NEFROLOGISTA"]
["    223142 MEDICO NEUROLOGISTA|223143 MEDICO NUTROLOGISTA",null,null,null,null,null,null,null,null,"    223142 MEDICO NEUROLOGISTA|223143 MEDICO NUTROLOGISTA",null,null,null,null,null,null,null,null,null,null,null,"    223140 MEDICO NEUROCIRURGIAO|223141 MEDICO NEUROFISIOLOGISTA"]
["    223144 MEDICO OFTALMOLOGISTA|223145 MEDICO ONCOLOGISTA",null,null,null,null,null,null,null,null,"    223144 MEDICO OFTALMOLOGISTA|223145 MEDICO ONCOLOGISTA",null,null,null,null,null,null,null,null,null,null,null,"    223142 MEDICO NEUROLOGISTA|223143 MEDICO NUTROLOGISTA"]
["    223146 MEDICO ORTOPEDISTA E TRAUMATOLOGISTA",null,null,null,null,null,null,null,null,"    223146 MEDICO ORTOPEDISTA E TRAUMATOLOGISTA",null,null,null,null,null,null,null,null,null,null,null,"    223144 MEDICO OFTALMOLOGISTA|223145 MEDICO ONCOLOGISTA"]
["    223147 MEDICO OTORRINOLARINGOLOGISTA|223148 MEDICO PATOLOGISTA CLINICO",null,null,null,null,null,null,null,null,"    223147 MEDICO OTORRINOLARINGOLOGISTA|223148 MEDICO PATOLOGISTA CLINICO",null,null,null,null,null,null,null,null,null,null,null,"    223146 MEDICO ORTOPEDISTA E TRAUMATOLOGISTA"]
["    223149 MEDICO PEDIATRA|223150 MEDICO PERITO|223151 MEDICO PNEUMOLOGISTA",null,null,null,null,null,null,null,null,"    223149 MEDICO PEDIATRA|223150 MEDICO PERITO|223151 MEDICO PNEUMOLOGISTA",null,null,null,null,null,null,null,null,null,null,null,"    223147 MEDICO OTORRINOLARINGOLOGISTA|223148 MEDICO PATOLOGISTA CLINICO"]
["    223152 MEDICO PROCTOLOGISTA|223153 MEDICO PSIQUIATRA",null,null,null,null,null,null,null,null,"    223152 MEDICO PROCTOLOGISTA|223153 MEDICO PSIQUIATRA",null,null,null,null,null,null,null,null,null,null,null,"    223149 MEDICO PEDIATRA|223150 MEDICO PERITO|223151 MEDICO PNEUMOLOGISTA"]
["    223154 MEDICO RADIOTERAPEUTA|223155 MEDICO REUMATOLOGISTA",null,null,null,null,null,null,null,null,"    223154 MEDICO RADIOTERAPEUTA|223155 MEDICO REUMATOLOGISTA",null,null,null,null,null,null,null,null,null,null,null,"    223152 MEDICO PROCTOLOGISTA|223153 MEDICO PSIQUIATRA"]
["    223156 MEDICO SANITARISTA|223157 MEDICO UROLOGISTA",null,null,null,null,null,null,null,null,"    223156 MEDICO SANITARISTA|223157 MEDICO UROLOGISTA",null,null,null,null,null,null,null,null,null,null,null,"    223154 MEDICO RADIOTERAPEUTA|223155 MEDICO REUMATOLOGISTA"]
["    223204 CIRURGIAO DENTISTA - AUDITOR",null,null,null,null,null,null,null,null,"    223204 CIRURGIAO DENTISTA - AUDITOR",null,null,null,null,null,null,null,null,null,null,null,"    223156 MEDICO SANITARISTA|223157 MEDICO UROLOGISTA"]
["    223208 CIRURGIAO DENTISTA - CLINICO GERAL",null,null,null,null,null,null,null,null,"    223208 CIRURGIAO DENTISTA - CLINICO GERAL",null,null,null,null,null,null,null,null,null,null,null,"    223204 CIRURGIAO DENTISTA - AUDITOR"]
["    223212 CIRURGIAO DENTISTA - ENDODONTISTA",null,null,null,null,null,null,null,null,"    223212 CIRURGIAO DENTISTA - ENDODONTISTA",null,null,null,null,null,null,null,null,null,null,null,"    223208 CIRURGIAO DENTISTA - CLINICO GERAL"]
["    223216 CIRURGIAO DENTISTA - EPIDEMIOLOGISTA",null,null,null,null,null,null,null,null,"    223216 CIRURGIAO DENTISTA - EPIDEMIOLOGISTA",null,null,null,null,null,null,null,null,null,null,null,"    223212 CIRURGIAO DENTISTA - ENDODONTISTA"]
["    223220 CIRURGIAO DENTISTA - ESTOMATOLOGISTA",null,null,null,null,null,null,null,null,"    223220 CIRURGIAO DENTISTA - ESTOMATOLOGISTA",null,null,null,null,null,null,null,null,null,null,null,"    223216 CIRURGIAO DENTISTA - EPIDEMIOLOGISTA"]
["    223224 CIRURGIAO DENTISTA - IMPLANTODONTISTA",null,null,null,null,null,null,null,null,"    223224 CIRURGIAO DENTISTA - IMPLANTODONTISTA",null,null,null,null,null,null,null,null,null,null,null,"    223220 CIRURGIAO DENTISTA - ESTOMATOLOGISTA"]
["    223228 CIRURGIAO DENTISTA - ODONTOGERIATRA",null,null,null,null,null,null,null,null,"    223228 CIRURGIAO DENTISTA - ODONTOGERIATRA",null,null,null,null,null,null,null,null,null,null,null,"    223224 CIRURGIAO DENTISTA - IMPLANTODONTISTA"]
["    223232 CIRURGIAO DENTISTA - ODONTOLOGISTA LEGAL",null,null,null,null,null,null,null,null,"    223232 CIRURGIAO DENTISTA - ODONTOLOGISTA LEGAL",null,null,null,null,null,null,null,null,null,null,null,"    223228 CIRURGIAO DENTISTA - ODONTOGERIATRA"]
["    223236 CIRURGIAO DENTISTA - ODONTOPEDIATRA",null,null,null,null,null,null,null,null,"    223236 CIRURGIAO DENTISTA - ODONTOPEDIATRA",null,null,null,null,null,null,null,null,null,null,null,"    223232 CIRURGIAO DENTISTA - ODONTOLOGISTA LEGAL"]
["    223240 CIRURGIAO DENTISTA - ORTOPEDISTA E ORTODONTISTA",null,null,null,null,null,null,null,null,"    223240 CIRURGIAO DENTISTA - ORTOPEDISTA E ORTODONTISTA",null,null,null,null,null,null,null,null,null,null,null,"    223236 CIRURGIAO DENTISTA - ODONTOPEDIATRA"]
["    223244 CIRURGIAO DENTISTA - PATOLOGISTA BUCAL",null,null,null,null,null,null,null,null,"    223244 CIRURGIAO DENTISTA - PATOLOGISTA BUCAL",null,null,null,null,null,null,null,null,null,null,null,"    223240 CIRURGIAO DENTISTA - ORTOPEDISTA E ORTODONTISTA"]
["    223248 CIRURGIAO DENTISTA - PERIODONTISTA",null,null,null,null,null,null,null,null,"    223248 CIRURGIAO DENTISTA - PERIODONTISTA",null,null,null,null,null,null,null,null,null,null,null,"    223244 CIRURGIAO DENTISTA - PATOLOGISTA BUCAL"]
["    223252 CIRURGIAO DENTISTA - PROTESIOLOGO BUCOMAXILOFACIAL",null,null,null,null,null,null,null,null,"    223252 CIRURGIAO DENTISTA - PROTESIOLOGO BUCOMAXILOFACIAL",null,null,null,null,null,null,null,null,null,null,null,"    223248 CIRURGIAO DENTISTA - PERIODONTISTA"]
["    223256 CIRURGIAO DENTISTA - PROTESISTA",null,null,null,null,null,null,null,null,"    223256 CIRURGIAO DENTISTA - PROTESISTA",null,null,null,null,null,null,null,null,null,null,null,"    223252 CIRURGIAO DENTISTA - PROTESIOLOGO BUCOMAXILOFACIAL"]
["    223260 CIRURGIAO DENTISTA - RADIOLOGISTA",null,null,null,null,null,null,null,null,"    223260 CIRURGIAO DENTISTA - RADIOLOGISTA",null,null,null,null,null,null,null,null,null,null,null,"    223256 CIRURGIAO DENTISTA - PROTESISTA"]
["    223264 CIRURGIAO DENTISTA - REABILITADOR ORAL",null,null,null,null,null,null,null,null,"    223264 CIRURGIAO DENTISTA - REABILITADOR ORAL",null,null,null,null,null,null,null,null,null,null,null,"    223260 CIRURGIAO DENTISTA - RADIOLOGISTA"]
["    223268 CIRURGIAO DENTISTA - TRAUMATOLOGISTA BUCOMAXILOFACIAL",null,null,null,null,null,null,null,null,"    223268 CIRURGIAO DENTISTA - TRAUMATOLOGISTA BUCOMAXILOFACIAL",null,null,null,null,null,null,null,null,null,null,null,"    223264 CIRURGIAO DENTISTA - REABILITADOR ORAL"]
["    223272 CIRURGIAO DENTISTA DE SAUDE COLETIVA|223305 MEDICO VETERINARIO",null,null,null,null,null,null,null,null,"    223272 CIRURGIAO DENTISTA DE SAUDE COLETIVA|223305 MEDICO VETERINARIO",null,null,null,null,null,null,null,null,null,null,null,"    223268 CIRURGIAO DENTISTA - TRAUMATOLOGISTA BUCOMAXILOFACIAL"]
["    223310 ZOOTECNISTA|223405 FARMACEUTICO|223410 FARMACEUTICO BIOQUIMICO",null,null,null,null,null,null,null,null,"    223310 ZOOTECNISTA|223405 FARMACEUTICO|223410 FARMACEUTICO BIOQUIMICO",null,null,null,null,null,null,null,null,null,null,null,"    223272 CIRURGIAO DENTISTA DE SAUDE COLETIVA|223305 MEDICO VETERINARIO"]
["    223505 ENFERMEIRO|223510 ENFERMEIRO AUDITOR|223515 ENFERMEIRO DE BORDO",null,null,null,null,null,null,null,null,"    223505 ENFERMEIRO|223510 ENFERMEIRO AUDITOR|223515 ENFERMEIRO DE BORDO",null,null,null,null,null,null,null,null,null,null,null,"    223310 ZOOTECNISTA|223405 FARMACEUTICO|223410 FARMACEUTICO BIOQUIMICO"]
["    223520 ENFERMEIRO DE CENTRO CIRURGICO|223525 ENFERMEIRO DE TERAPIA INTENSIVA",null,null,null,null,null,null,null,null,"    223520 ENFERMEIRO DE CENTRO CIRURGICO|223525 ENFERMEIRO DE TERAPIA INTENSIVA",null,null,null,null,null,null,null,null,null,null,null,"    223505 ENFERMEIRO|223510 ENFERMEIRO AUDITOR|223515 ENFERMEIRO DE BORDO"]
["    223530 ENFERMEIRO DO TRABALHO|223535 ENFERMEIRO NEFROLOGISTA",null,null,null,null,null,null,null,null,"    223530 ENFERMEIRO DO TRABALHO|223535 ENFERMEIRO NEFROLOGISTA",null,null,null,null,null,null,null,null,null,null,null,"    223520 ENFERMEIRO DE CENTRO CIRURGICO|223525 ENFERMEIRO DE TERAPIA INTENSIVA"]
["    223540 ENFERMEIRO NEONATOLOGISTA|223545 ENFERMEIRO OBSTETRICO",null,null,null,null,null,null,null,null,"    223540 ENFERMEIRO NEONATOLOGISTA|223545 ENFERMEIRO OBSTETRICO",null,null,null,null,null,null,null,null,null,null,null,"    223530 ENFERMEIRO DO TRABALHO|223535 ENFERMEIRO NEFROLOGISTA"]
["    223550 ENFERMEIRO PSIQUIATRICO|223555 ENFERMEIRO PUERICULTOR E PEDIATRICO",null,null,null,null,null,null,null,null,"    223550 ENFERMEIRO PSIQUIATRICO|223555 ENFERMEIRO PUERICULTOR E PEDIATRICO",null,null,null,null,null,null,null,null,null,null,null,"    223540 ENFERMEIRO NEONATOLOGISTA|223545 ENFERMEIRO OBSTETRICO"]
["    223560 ENFERMEIRO SANITARISTA|223605 FISIOTERAPEUTA|223610 FONOAUDIOLOGO",null,null,null,null,null,null,null,null,"    223560 ENFERMEIRO SANITARISTA|223605 FISIOTERAPEUTA|223610 FONOAUDIOLOGO",null,null,null,null,null,null,null,null,null,null,null,"    223550 ENFERMEIRO PSIQUIATRICO|223555 ENFERMEIRO PUERICULTOR E PEDIATRICO"]
["    214515 ENGENHEIRO QUIMICO (MINERACAO, METALURGIA, SIDERURGIA, CIMENTEIRA E CERAMICA)",null,null,null,null,null,null,null,null,"    214515 ENGENHEIRO QUIMICO (MINERACAO, METALURGIA, SIDERURGIA, CIMENTEIRA E CERAMICA)",null,null,null,null,null,null,null,null,null,null,null,"    223560 ENFERMEIRO SANITARISTA|223605 FISIOTERAPEUTA|223610 FONOAUDIOLOGO"]
["    223615 ORTOPTISTA|223620 TERAPEUTA OCUPACIONAL|223705 DIETISTA",null,null,null,null,null,null,null,null,"    223615 ORTOPTISTA|223620 TERAPEUTA OCUPACIONAL|223705 DIETISTA",null,null,null,null,null,null,null,null,null,null,null,"    214515 ENGENHEIRO QUIMICO (MINERACAO, METALURGIA, SIDERURGIA, CIMENTEIRA E CERAMICA)"]
["    223710 NUTRICIONISTA|224105 AVALIADOR FISICO|224110 LUDOMOTRICISTA",null,null,null,null,null,null,null,null,"    223710 NUTRICIONISTA|224105 AVALIADOR FISICO|224110 LUDOMOTRICISTA",null,null,null,null,null,null,null,null,null,null,null,"    223615 ORTOPTISTA|223620 TERAPEUTA OCUPACIONAL|223705 DIETISTA"]
["    224115 PREPARADOR DE ATLETA|224120 PREPARADOR FISICO",null,null,null,null,null,null,null,null,"    224115 PREPARADOR DE ATLETA|224120 PREPARADOR FISICO",null,null,null,null,null,null,null,null,null,null,null,"    223710 NUTRICIONISTA|224105 AVALIADOR FISICO|224110 LUDOMOTRICISTA"]
["    224125 TECNICO DE DESPORTO INDIVIDUAL E COLETIVO (EXCETO FUTEBOL)",null,null,null,null,null,null,null,null,"    224125 TECNICO DE DESPORTO INDIVIDUAL E COLETIVO (EXCETO FUTEBOL)",null,null,null,null,null,null,null,null,null,null,null,"    224115 PREPARADOR DE ATLETA|224120 PREPARADOR FISICO"]
["    224130 TECNICO DE LABORATORIO E FISCALIZACAO DESPORTIVA",null,null,null,null,null,null,null,null,"    224130 TECNICO DE LABORATORIO E FISCALIZACAO DESPORTIVA",null,null,null,null,null,null,null,null,null,null,null,"    224125 TECNICO DE DESPORTO INDIVIDUAL E COLETIVO (EXCETO FUTEBOL)"]
["    224135 TREINADOR PROFISSIONAL DE FUTEBOL",null,null,null,null,null,null,null,null,"    224135 TREINADOR PROFISSIONAL DE FUTEBOL",null,null,null,null,null,null,null,null,null,null,null,"    224130 TECNICO DE LABORATORIO E FISCALIZACAO DESPORTIVA"]
["    231105 PROFESSOR DE NIVEL SUPERIOR NA EDUCACAO INFANTIL (QUATRO A SEIS ANOS)",null,null,null,null,null,null,null,null,"    231105 PROFESSOR DE NIVEL SUPERIOR NA EDUCACAO INFANTIL (QUATRO A SEIS ANOS)",null,null,null,null,null,null,null,null,null,null,null,"    224135 TREINADOR PROFISSIONAL DE FUTEBOL"]
["    231205 PROFESSOR DA EDUCACAO DE JOVENS E ADULTOS DO ENSINO FUNDAMENTAL (PRIMEIRA A QUARTA SERIE)",null,null,null,null,null,null,null,null,"    231205 PROFESSOR DA EDUCACAO DE JOVENS E ADULTOS DO ENSINO FUNDAMENTAL (PRIMEIRA A QUARTA SERIE)",null,null,null,null,null,null,null,null,null,null,null,"    231105 PROFESSOR DE NIVEL SUPERIOR NA EDUCACAO INFANTIL (QUATRO A SEIS ANOS)"]
["    231210 PROFESSOR DE NIVEL SUPERIOR DO ENSINO FUNDAMENTAL (PRIMEIRA A QUARTA SERIE)",null,null,null,null,null,null,null,null,"    231210 PROFESSOR DE NIVEL SUPERIOR DO ENSINO FUNDAMENTAL (PRIMEIRA A QUARTA SERIE)",null,null,null,null,null,null,null,null,null,null,null,"    231205 PROFESSOR DA EDUCACAO DE JOVENS E ADULTOS DO ENSINO FUNDAMENTAL (PRIMEIRA A QUARTA SERIE)"]
["    231305 PROFESSOR DE CIENCIAS EXATAS E NATURAIS DO ENSINO FUNDAMENTAL",null,null,null,null,null,null,null,null,"    231305 PROFESSOR DE CIENCIAS EXATAS E NATURAIS DO ENSINO FUNDAMENTAL",null,null,null,null,null,null,null,null,null,null,null,"    231210 PROFESSOR DE NIVEL SUPERIOR DO ENSINO FUNDAMENTAL (PRIMEIRA A QUARTA SERIE)"]
["    231310 PROFESSOR DE EDUCACAO ARTISTICA DO ENSINO FUNDAMENTAL",null,null,null,null,null,null,null,null,"    231310 PROFESSOR DE EDUCACAO ARTISTICA DO ENSINO FUNDAMENTAL",null,null,null,null,null,null,null,null,null,null,null,"    231305 PROFESSOR DE CIENCIAS EXATAS E NATURAIS DO ENSINO FUNDAMENTAL"]
["    231315 PROFESSOR DE EDUCACAO FISICA DO ENSINO FUNDAMENTAL",null,null,null,null,null,null,null,null,"    231315 PROFESSOR DE EDUCACAO FISICA DO ENSINO FUNDAMENTAL",null,null,null,null,null,null,null,null,null,null,null,"    231310 PROFESSOR DE EDUCACAO ARTISTICA DO ENSINO FUNDAMENTAL"]
["    231320 PROFESSOR DE GEOGRAFIA DO ENSINO FUNDAMENTAL",null,null,null,null,null,null,null,null,"    231320 PROFESSOR DE GEOGRAFIA DO ENSINO FUNDAMENTAL",null,null,null,null,null,null,null,null,null,null,null,"    231315 PROFESSOR DE EDUCACAO FISICA DO ENSINO FUNDAMENTAL"]
["    231325 PROFESSOR DE HISTORIA DO ENSINO FUNDAMENTAL",null,null,null,null,null,null,null,null,"    231325 PROFESSOR DE HISTORIA DO ENSINO FUNDAMENTAL",null,null,null,null,null,null,null,null,null,null,null,"    231320 PROFESSOR DE GEOGRAFIA DO ENSINO FUNDAMENTAL"]
["    231330 PROFESSOR DE LINGUA ESTRANGEIRA MODERNA DO ENSINO FUNDAMENTAL",null,null,null,null,null,null,null,null,"    231330 PROFESSOR DE LINGUA ESTRANGEIRA MODERNA DO ENSINO FUNDAMENTAL",null,null,null,null,null,null,null,null,null,null,null,"    231325 PROFESSOR DE HISTORIA DO ENSINO FUNDAMENTAL"]
["    231335 PROFESSOR DE LINGUA PORTUGUESA DO ENSINO FUNDAMENTAL|263115 TEOLOGO",null,null,null,null,null,null,null,null,"    231335 PROFESSOR DE LINGUA PORTUGUESA DO ENSINO FUNDAMENTAL|263115 TEOLOGO",null,null,null,null,null,null,null,null,null,null,null,"    231330 PROFESSOR DE LINGUA ESTRANGEIRA MODERNA DO ENSINO FUNDAMENTAL"]
["    231340 PROFESSOR DE MATEMATICA DO ENSINO FUNDAMENTAL",null,null,null,null,null,null,null,null,"    231340 PROFESSOR DE MATEMATICA DO ENSINO FUNDAMENTAL",null,null,null,null,null,null,null,null,null,null,null,"    231335 PROFESSOR DE LINGUA PORTUGUESA DO ENSINO FUNDAMENTAL|263115 TEOLOGO"]
["    232105 PROFESSOR DE ARTES NO ENSINO MEDIO",null,null,null,null,null,null,null,null,"    232105 PROFESSOR DE ARTES NO ENSINO MEDIO",null,null,null,null,null,null,null,null,null,null,null,"    231340 PROFESSOR DE MATEMATICA DO ENSINO FUNDAMENTAL"]
["    232110 PROFESSOR DE BIOLOGIA NO ENSINO MEDIO",null,null,null,null,null,null,null,null,"    232110 PROFESSOR DE BIOLOGIA NO ENSINO MEDIO",null,null,null,null,null,null,null,null,null,null,null,"    232105 PROFESSOR DE ARTES NO ENSINO MEDIO"]
["    232115 PROFESSOR DE DISCIPLINAS PEDAGOGICAS NO ENSINO MEDIO",null,null,null,null,null,null,null,null,"    232115 PROFESSOR DE DISCIPLINAS PEDAGOGICAS NO ENSINO MEDIO",null,null,null,null,null,null,null,null,null,null,null,"    232110 PROFESSOR DE BIOLOGIA NO ENSINO MEDIO"]
["    232120 PROFESSOR DE EDUCACAO FISICA NO ENSINO MEDIO",null,null,null,null,null,null,null,null,"    232120 PROFESSOR DE EDUCACAO FISICA NO ENSINO MEDIO",null,null,null,null,null,null,null,null,null,null,null,"    232115 PROFESSOR DE DISCIPLINAS PEDAGOGICAS NO ENSINO MEDIO"]
["    232125 PROFESSOR DE FILOSOFIA NO ENSINO MEDIO",null,null,null,null,null,null,null,null,"    232125 PROFESSOR DE FILOSOFIA NO ENSINO MEDIO",null,null,null,null,null,null,null,null,null,null,null,"    232120 PROFESSOR DE EDUCACAO FISICA NO ENSINO MEDIO"]
["    232130 PROFESSOR DE FISICA NO ENSINO MEDIO",null,null,null,null,null,null,null,null,"    232130 PROFESSOR DE FISICA NO ENSINO MEDIO",null,null,null,null,null,null,null,null,null,null,null,"    232125 PROFESSOR DE FILOSOFIA NO ENSINO MEDIO"]
["    232135 PROFESSOR DE GEOGRAFIA NO ENSINO MEDIO",null,null,null,null,null,null,null,null,"    232135 PROFESSOR DE GEOGRAFIA NO ENSINO MEDIO",null,null,null,null,null,null,null,null,null,null,null,"    232130 PROFESSOR DE FISICA NO ENSINO MEDIO"]
["    232140 PROFESSOR DE HISTORIA NO ENSINO MEDIO",null,null,null,null,null,null,null,null,"    232140 PROFESSOR DE HISTORIA NO ENSINO MEDIO",null,null,null,null,null,null,null,null,null,null,null,"    232135 PROFESSOR DE GEOGRAFIA NO ENSINO MEDIO"]
["    232145 PROFESSOR DE LINGUA E LITERATURA BRASILEIRA NO ENSINO MEDIO",null,null,null,null,null,null,null,null,"    232145 PROFESSOR DE LINGUA E LITERATURA BRASILEIRA NO ENSINO MEDIO",null,null,null,null,null,null,null,null,null,null,null,"    232140 PROFESSOR DE HISTORIA NO ENSINO MEDIO"]
["    232150 PROFESSOR DE LINGUA ESTRANGEIRA MODERNA NO ENSINO MEDIO",null,null,null,null,null,null,null,null,"    232150 PROFESSOR DE LINGUA ESTRANGEIRA MODERNA NO ENSINO MEDIO",null,null,null,null,null,null,null,null,null,null,null,"    232145 PROFESSOR DE LINGUA E LITERATURA BRASILEIRA NO ENSINO MEDIO"]
["    232155 PROFESSOR DE MATEMATICA NO ENSINO MEDIO",null,null,null,null,null,null,null,null,"    232155 PROFESSOR DE MATEMATICA NO ENSINO MEDIO",null,null,null,null,null,null,null,null,null,null,null,"    232150 PROFESSOR DE LINGUA ESTRANGEIRA MODERNA NO ENSINO MEDIO"]
["    232160 PROFESSOR DE PSICOLOGIA NO ENSINO MEDIO",null,null,null,null,null,null,null,null,"    232160 PROFESSOR DE PSICOLOGIA NO ENSINO MEDIO",null,null,null,null,null,null,null,null,null,null,null,"    232155 PROFESSOR DE MATEMATICA NO ENSINO MEDIO"]
["    232165 PROFESSOR DE QUIMICA NO ENSINO MEDIO",null,null,null,null,null,null,null,null,"    232165 PROFESSOR DE QUIMICA NO ENSINO MEDIO",null,null,null,null,null,null,null,null,null,null,null,"    232160 PROFESSOR DE PSICOLOGIA NO ENSINO MEDIO"]
["    232170 PROFESSOR DE SOCIOLOGIA NO ENSINO MEDIO",null,null,null,null,null,null,null,null,"    232170 PROFESSOR DE SOCIOLOGIA NO ENSINO MEDIO",null,null,null,null,null,null,null,null,null,null,null,"    232165 PROFESSOR DE QUIMICA NO ENSINO MEDIO"]
["    233105 PROFESSOR DA AREA DE MEIO AMBIENTE",null,null,null,null,null,null,null,null,"    233105 PROFESSOR DA AREA DE MEIO AMBIENTE",null,null,null,null,null,null,null,null,null,null,null,"    232170 PROFESSOR DE SOCIOLOGIA NO ENSINO MEDIO"]
["    233110 PROFESSOR DE DESENHO TECNICO|233115 PROFESSOR DE TECNICAS AGRICOLAS",null,null,null,null,null,null,null,null,"    233110 PROFESSOR DE DESENHO TECNICO|233115 PROFESSOR DE TECNICAS AGRICOLAS",null,null,null,null,null,null,null,null,null,null,null,"    233105 PROFESSOR DA AREA DE MEIO AMBIENTE"]
["    233120 PROFESSOR DE TECNICAS COMERCIAIS E SECRETARIAIS",null,null,null,null,null,null,null,null,"    233120 PROFESSOR DE TECNICAS COMERCIAIS E SECRETARIAIS",null,null,null,null,null,null,null,null,null,null,null,"    233110 PROFESSOR DE DESENHO TECNICO|233115 PROFESSOR DE TECNICAS AGRICOLAS"]
["    233125 PROFESSOR DE TECNICAS DE ENFERMAGEM",null,null,null,null,null,null,null,null,"    233125 PROFESSOR DE TECNICAS DE ENFERMAGEM",null,null,null,null,null,null,null,null,null,null,null,"    233120 PROFESSOR DE TECNICAS COMERCIAIS E SECRETARIAIS"]
["    233130 PROFESSOR DE TECNICAS INDUSTRIAIS",null,null,null,null,null,null,null,null,"    233130 PROFESSOR DE TECNICAS INDUSTRIAIS",null,null,null,null,null,null,null,null,null,null,null,"    233125 PROFESSOR DE TECNICAS DE ENFERMAGEM"]
["    233135 PROFESSOR DE TECNOLOGIA E CALCULO TECNICO",null,null,null,null,null,null,null,null,"    233135 PROFESSOR DE TECNOLOGIA E CALCULO TECNICO",null,null,null,null,null,null,null,null,null,null,null,"    233130 PROFESSOR DE TECNICAS INDUSTRIAIS"]
["    233205 INSTRUTOR DE APRENDIZAGEM E TREINAMENTO AGROPECUARIO",null,null,null,null,null,null,null,null,"    233205 INSTRUTOR DE APRENDIZAGEM E TREINAMENTO AGROPECUARIO",null,null,null,null,null,null,null,null,null,null,null,"    233135 PROFESSOR DE TECNOLOGIA E CALCULO TECNICO"]
["    233210 INSTRUTOR DE APRENDIZAGEM E TREINAMENTO INDUSTRIAL",null,null,null,null,null,null,null,null,"    233210 INSTRUTOR DE APRENDIZAGEM E TREINAMENTO INDUSTRIAL",null,null,null,null,null,null,null,null,null,null,null,"    233205 INSTRUTOR DE APRENDIZAGEM E TREINAMENTO AGROPECUARIO"]
["    233215 PROFESSOR DE APRENDIZAGEM E TREINAMENTO COMERCIAL",null,null,null,null,null,null,null,null,"    233215 PROFESSOR DE APRENDIZAGEM E TREINAMENTO COMERCIAL",null,null,null,null,null,null,null,null,null,null,null,"    233210 INSTRUTOR DE APRENDIZAGEM E TREINAMENTO INDUSTRIAL"]
["    233220 PROFESSOR INSTRUTOR DE ENSINO E APRENDIZAGEM AGROFLORESTAL",null,null,null,null,null,null,null,null,"    233220 PROFESSOR INSTRUTOR DE ENSINO E APRENDIZAGEM AGROFLORESTAL",null,null,null,null,null,null,null,null,null,null,null,"    233215 PROFESSOR DE APRENDIZAGEM E TREINAMENTO COMERCIAL"]
["    233225 PROFESSOR INSTRUTOR DE ENSINO E APRENDIZAGEM EM SERVICOS",null,null,null,null,null,null,null,null,"    233225 PROFESSOR INSTRUTOR DE ENSINO E APRENDIZAGEM EM SERVICOS",null,null,null,null,null,null,null,null,null,null,null,"    233220 PROFESSOR INSTRUTOR DE ENSINO E APRENDIZAGEM AGROFLORESTAL"]
["    234105 PROFESSOR DE MATEMATICA APLICADA (NO ENSINO SUPERIOR)",null,null,null,null,null,null,null,null,"    234105 PROFESSOR DE MATEMATICA APLICADA (NO ENSINO SUPERIOR)",null,null,null,null,null,null,null,null,null,null,null,"    233225 PROFESSOR INSTRUTOR DE ENSINO E APRENDIZAGEM EM SERVICOS"]
["    234110 PROFESSOR DE MATEMATICA PURA (NO ENSINO SUPERIOR)",null,null,null,null,null,null,null,null,"    234110 PROFESSOR DE MATEMATICA PURA (NO ENSINO SUPERIOR)",null,null,null,null,null,null,null,null,null,null,null,"    234105 PROFESSOR DE MATEMATICA APLICADA (NO ENSINO SUPERIOR)"]
["    234115 PROFESSOR DE ESTATISTICA (NO ENSINO SUPERIOR)",null,null,null,null,null,null,null,null,"    234115 PROFESSOR DE ESTATISTICA (NO ENSINO SUPERIOR)",null,null,null,null,null,null,null,null,null,null,null,"    234110 PROFESSOR DE MATEMATICA PURA (NO ENSINO SUPERIOR)"]
["    234120 PROFESSOR DE COMPUTACAO (NO ENSINO SUPERIOR)",null,null,null,null,null,null,null,null,"    234120 PROFESSOR DE COMPUTACAO (NO ENSINO SUPERIOR)",null,null,null,null,null,null,null,null,null,null,null,"    234115 PROFESSOR DE ESTATISTICA (NO ENSINO SUPERIOR)"]
["    234125 PROFESSOR DE PESQUISA OPERACIONAL (NO ENSINO SUPERIOR)",null,null,null,null,null,null,null,null,"    234125 PROFESSOR DE PESQUISA OPERACIONAL (NO ENSINO SUPERIOR)",null,null,null,null,null,null,null,null,null,null,null,"    234120 PROFESSOR DE COMPUTACAO (NO ENSINO SUPERIOR)"]
["    234205 PROFESSOR DE FISICA (ENSINO SUPERIOR)",null,null,null,null,null,null,null,null,"    234205 PROFESSOR DE FISICA (ENSINO SUPERIOR)",null,null,null,null,null,null,null,null,null,null,null,"    234125 PROFESSOR DE PESQUISA OPERACIONAL (NO ENSINO SUPERIOR)"]
["    234210 PROFESSOR DE QUIMICA (ENSINO SUPERIOR)",null,null,null,null,null,null,null,null,"    234210 PROFESSOR DE QUIMICA (ENSINO SUPERIOR)",null,null,null,null,null,null,null,null,null,null,null,"    234205 PROFESSOR DE FISICA (ENSINO SUPERIOR)"]
["    234215 PROFESSOR DE ASTRONOMIA (ENSINO SUPERIOR)",null,null,null,null,null,null,null,null,"    234215 PROFESSOR DE ASTRONOMIA (ENSINO SUPERIOR)",null,null,null,null,null,null,null,null,null,null,null,"    234210 PROFESSOR DE QUIMICA (ENSINO SUPERIOR)"]
["    234305 PROFESSOR DE ARQUITETURA|234310 PROFESSOR DE ENGENHARIA",null,null,null,null,null,null,null,null,"    234305 PROFESSOR DE ARQUITETURA|234310 PROFESSOR DE ENGENHARIA",null,null,null,null,null,null,null,null,null,null,null,"    234215 PROFESSOR DE ASTRONOMIA (ENSINO SUPERIOR)"]
["    234315 PROFESSOR DE GEOFISICA|234320 PROFESSOR DE GEOLOGIA",null,null,null,null,null,null,null,null,"    234315 PROFESSOR DE GEOFISICA|234320 PROFESSOR DE GEOLOGIA",null,null,null,null,null,null,null,null,null,null,null,"    234305 PROFESSOR DE ARQUITETURA|234310 PROFESSOR DE ENGENHARIA"]
["    234405 PROFESSOR DE CIENCIAS BIOLOGICAS DO ENSINO SUPERIOR",null,null,null,null,null,null,null,null,"    234405 PROFESSOR DE CIENCIAS BIOLOGICAS DO ENSINO SUPERIOR",null,null,null,null,null,null,null,null,null,null,null,"    234315 PROFESSOR DE GEOFISICA|234320 PROFESSOR DE GEOLOGIA"]
["    234410 PROFESSOR DE EDUCACAO FISICA NO ENSINO SUPERIOR",null,null,null,null,null,null,null,null,"    234410 PROFESSOR DE EDUCACAO FISICA NO ENSINO SUPERIOR",null,null,null,null,null,null,null,null,null,null,null,"    234405 PROFESSOR DE CIENCIAS BIOLOGICAS DO ENSINO SUPERIOR"]
["    234415 PROFESSOR DE ENFERMAGEM DO ENSINO SUPERIOR",null,null,null,null,null,null,null,null,"    234415 PROFESSOR DE ENFERMAGEM DO ENSINO SUPERIOR",null,null,null,null,null,null,null,null,null,null,null,"    234410 PROFESSOR DE EDUCACAO FISICA NO ENSINO SUPERIOR"]
["    234420 PROFESSOR DE FARMACIA E BIOQUIMICA|234425 PROFESSOR DE FISIOTERAPIA",null,null,null,null,null,null,null,null,"    234420 PROFESSOR DE FARMACIA E BIOQUIMICA|234425 PROFESSOR DE FISIOTERAPIA",null,null,null,null,null,null,null,null,null,null,null,"    234415 PROFESSOR DE ENFERMAGEM DO ENSINO SUPERIOR"]
["    234430 PROFESSOR DE FONOAUDIOLOGIA|234435 PROFESSOR DE MEDICINA",null,null,null,null,null,null,null,null,"    234430 PROFESSOR DE FONOAUDIOLOGIA|234435 PROFESSOR DE MEDICINA",null,null,null,null,null,null,null,null,null,null,null,"    234420 PROFESSOR DE FARMACIA E BIOQUIMICA|234425 PROFESSOR DE FISIOTERAPIA"]
["    234440 PROFESSOR DE MEDICINA VETERINARIA|234445 PROFESSOR DE NUTRICAO",null,null,null,null,null,null,null,null,"    234440 PROFESSOR DE MEDICINA VETERINARIA|234445 PROFESSOR DE NUTRICAO",null,null,null,null,null,null,null,null,null,null,null,"    234430 PROFESSOR DE FONOAUDIOLOGIA|234435 PROFESSOR DE MEDICINA"]
["    234450 PROFESSOR DE ODONTOLOGIA|234455 PROFESSOR DE TERAPIA OCUPACIONAL",null,null,null,null,null,null,null,null,"    234450 PROFESSOR DE ODONTOLOGIA|234455 PROFESSOR DE TERAPIA OCUPACIONAL",null,null,null,null,null,null,null,null,null,null,null,"    234440 PROFESSOR DE MEDICINA VETERINARIA|234445 PROFESSOR DE NUTRICAO"]
["    234460 PROFESSOR DE ZOOTECNIA DO ENSINO SUPERIOR",null,null,null,null,null,null,null,null,"    234460 PROFESSOR DE ZOOTECNIA DO ENSINO SUPERIOR",null,null,null,null,null,null,null,null,null,null,null,"    234450 PROFESSOR DE ODONTOLOGIA|234455 PROFESSOR DE TERAPIA OCUPACIONAL"]
["    234505 PROFESSOR DE ENSINO SUPERIOR NA AREA DE DIDATICA",null,null,null,null,null,null,null,null,"    234505 PROFESSOR DE ENSINO SUPERIOR NA AREA DE DIDATICA",null,null,null,null,null,null,null,null,null,null,null,"    234460 PROFESSOR DE ZOOTECNIA DO ENSINO SUPERIOR"]
["    234510 PROFESSOR DE ENSINO SUPERIOR NA AREA DE ORIENTACAO EDUCACIONAL",null,null,null,null,null,null,null,null,"    234510 PROFESSOR DE ENSINO SUPERIOR NA AREA DE ORIENTACAO EDUCACIONAL",null,null,null,null,null,null,null,null,null,null,null,"    234505 PROFESSOR DE ENSINO SUPERIOR NA AREA DE DIDATICA"]
["    234515 PROFESSOR DE ENSINO SUPERIOR NA AREA DE PESQUISA EDUCACIONAL",null,null,null,null,null,null,null,null,"    234515 PROFESSOR DE ENSINO SUPERIOR NA AREA DE PESQUISA EDUCACIONAL",null,null,null,null,null,null,null,null,null,null,null,"    234510 PROFESSOR DE ENSINO SUPERIOR NA AREA DE ORIENTACAO EDUCACIONAL"]
["    234520 PROFESSOR DE ENSINO SUPERIOR NA AREA DE PRATICA DE ENSINO",null,null,null,null,null,null,null,null,"    234520 PROFESSOR DE ENSINO SUPERIOR NA AREA DE PRATICA DE ENSINO",null,null,null,null,null,null,null,null,null,null,null,"    234515 PROFESSOR DE ENSINO SUPERIOR NA AREA DE PESQUISA EDUCACIONAL"]
["    234604 PROFESSOR DE LINGUA ALEMA|234608 PROFESSOR DE LINGUA ITALIANA",null,null,null,null,null,null,null,null,"    234604 PROFESSOR DE LINGUA ALEMA|234608 PROFESSOR DE LINGUA ITALIANA",null,null,null,null,null,null,null,null,null,null,null,"    234520 PROFESSOR DE ENSINO SUPERIOR NA AREA DE PRATICA DE ENSINO"]
["    234612 PROFESSOR DE LINGUA FRANCESA|234616 PROFESSOR DE LINGUA INGLESA",null,null,null,null,null,null,null,null,"    234612 PROFESSOR DE LINGUA FRANCESA|234616 PROFESSOR DE LINGUA INGLESA",null,null,null,null,null,null,null,null,null,null,null,"    234604 PROFESSOR DE LINGUA ALEMA|234608 PROFESSOR DE LINGUA ITALIANA"]
["    234620 PROFESSOR DE LINGUA ESPANHOLA|234624 PROFESSOR DE LINGUA PORTUGUESA",null,null,null,null,null,null,null,null,"    234620 PROFESSOR DE LINGUA ESPANHOLA|234624 PROFESSOR DE LINGUA PORTUGUESA",null,null,null,null,null,null,null,null,null,null,null,"    234612 PROFESSOR DE LINGUA FRANCESA|234616 PROFESSOR DE LINGUA INGLESA"]
["    234628 PROFESSOR DE LITERATURA BRASILEIRA",null,null,null,null,null,null,null,null,"    234628 PROFESSOR DE LITERATURA BRASILEIRA",null,null,null,null,null,null,null,null,null,null,null,"    234620 PROFESSOR DE LINGUA ESPANHOLA|234624 PROFESSOR DE LINGUA PORTUGUESA"]
["    234632 PROFESSOR DE LITERATURA PORTUGUESA",null,null,null,null,null,null,null,null,"    234632 PROFESSOR DE LITERATURA PORTUGUESA",null,null,null,null,null,null,null,null,null,null,null,"    234628 PROFESSOR DE LITERATURA BRASILEIRA"]
["    234636 PROFESSOR DE LITERATURA ALEMA",null,null,null,null,null,null,null,null,"    234636 PROFESSOR DE LITERATURA ALEMA",null,null,null,null,null,null,null,null,null,null,null,"    234632 PROFESSOR DE LITERATURA PORTUGUESA"]
["    234640 PROFESSOR DE LITERATURA COMPARADA",null,null,null,null,null,null,null,null,"    234640 PROFESSOR DE LITERATURA COMPARADA",null,null,null,null,null,null,null,null,null,null,null,"    234636 PROFESSOR DE LITERATURA ALEMA"]
["    234644 PROFESSOR DE LITERATURA ESPANHOLA",null,null,null,null,null,null,null,null,"    234644 PROFESSOR DE LITERATURA ESPANHOLA",null,null,null,null,null,null,null,null,null,null,null,"    234640 PROFESSOR DE LITERATURA COMPARADA"]
["    234648 PROFESSOR DE LITERATURA FRANCESA",null,null,null,null,null,null,null,null,"    234648 PROFESSOR DE LITERATURA FRANCESA",null,null,null,null,null,null,null,null,null,null,null,"    234644 PROFESSOR DE LITERATURA ESPANHOLA"]
["    234652 PROFESSOR DE LITERATURA INGLESA",null,null,null,null,null,null,null,null,"    234652 PROFESSOR DE LITERATURA INGLESA",null,null,null,null,null,null,null,null,null,null,null,"    234648 PROFESSOR DE LITERATURA FRANCESA"]
["    234656 PROFESSOR DE LITERATURA ITALIANA",null,null,null,null,null,null,null,null,"    234656 PROFESSOR DE LITERATURA ITALIANA",null,null,null,null,null,null,null,null,null,null,null,"    234652 PROFESSOR DE LITERATURA INGLESA"]
["    234660 PROFESSOR DE LITERATURA DE LINGUAS ESTRANGEIRAS MODERNAS",null,null,null,null,null,null,null,null,"    234660 PROFESSOR DE LITERATURA DE LINGUAS ESTRANGEIRAS MODERNAS",null,null,null,null,null,null,null,null,null,null,null,"    234656 PROFESSOR DE LITERATURA ITALIANA"]
["    234664 PROFESSOR DE OUTRAS LINGUAS E LITERATURAS",null,null,null,null,null,null,null,null,"    234664 PROFESSOR DE OUTRAS LINGUAS E LITERATURAS",null,null,null,null,null,null,null,null,null,null,null,"    234660 PROFESSOR DE LITERATURA DE LINGUAS ESTRANGEIRAS MODERNAS"]
["    234668 PROFESSOR DE LINGUAS ESTRANGEIRAS MODERNAS",null,null,null,null,null,null,null,null,"    234668 PROFESSOR DE LINGUAS ESTRANGEIRAS MODERNAS",null,null,null,null,null,null,null,null,null,null,null,"    234664 PROFESSOR DE OUTRAS LINGUAS E LITERATURAS"]
["    234672 PROFESSOR DE LINGUISTICA E LINGUISTICA APLICADA",null,null,null,null,null,null,null,null,"    234672 PROFESSOR DE LINGUISTICA E LINGUISTICA APLICADA",null,null,null,null,null,null,null,null,null,null,null,"    234668 PROFESSOR DE LINGUAS ESTRANGEIRAS MODERNAS"]
["    234676 PROFESSOR DE FILOLOGIA E CRITICA TEXTUAL",null,null,null,null,null,null,null,null,"    234676 PROFESSOR DE FILOLOGIA E CRITICA TEXTUAL",null,null,null,null,null,null,null,null,null,null,null,"    234672 PROFESSOR DE LINGUISTICA E LINGUISTICA APLICADA"]
["    234680 PROFESSOR DE SEMIOTICA|234684 PROFESSOR DE TEORIA DA LITERATURA",null,null,null,null,null,null,null,null,"    234680 PROFESSOR DE SEMIOTICA|234684 PROFESSOR DE TEORIA DA LITERATURA",null,null,null,null,null,null,null,null,null,null,null,"    234676 PROFESSOR DE FILOLOGIA E CRITICA TEXTUAL"]
["    234705 PROFESSOR DE ANTROPOLOGIA DO ENSINO SUPERIOR",null,null,null,null,null,null,null,null,"    234705 PROFESSOR DE ANTROPOLOGIA DO ENSINO SUPERIOR",null,null,null,null,null,null,null,null,null,null,null,"    234680 PROFESSOR DE SEMIOTICA|234684 PROFESSOR DE TEORIA DA LITERATURA"]
["    234710 PROFESSOR DE ARQUIVOLOGIA DO ENSINO SUPERIOR",null,null,null,null,null,null,null,null,"    234710 PROFESSOR DE ARQUIVOLOGIA DO ENSINO SUPERIOR",null,null,null,null,null,null,null,null,null,null,null,"    234705 PROFESSOR DE ANTROPOLOGIA DO ENSINO SUPERIOR"]
["    234715 PROFESSOR DE BIBLIOTECONOMIA DO ENSIO SUPERIOR",null,null,null,null,null,null,null,null,"    234715 PROFESSOR DE BIBLIOTECONOMIA DO ENSIO SUPERIOR",null,null,null,null,null,null,null,null,null,null,null,"    234710 PROFESSOR DE ARQUIVOLOGIA DO ENSINO SUPERIOR"]
["    234720 PROFESSOR DE CIENCIA POLITICA DO ENSINO SUPERIOR",null,null,null,null,null,null,null,null,"    234720 PROFESSOR DE CIENCIA POLITICA DO ENSINO SUPERIOR",null,null,null,null,null,null,null,null,null,null,null,"    234715 PROFESSOR DE BIBLIOTECONOMIA DO ENSIO SUPERIOR"]
["    234725 PROFESSOR DE COMUNICACAO SOCIAL DO ENSINO SUPERIOR",null,null,null,null,null,null,null,null,"    234725 PROFESSOR DE COMUNICACAO SOCIAL DO ENSINO SUPERIOR",null,null,null,null,null,null,null,null,null,null,null,"    234720 PROFESSOR DE CIENCIA POLITICA DO ENSINO SUPERIOR"]
["    234730 PROFESSOR DE DIREITO DO ENSINO SUPERIOR",null,null,null,null,null,null,null,null,"    234730 PROFESSOR DE DIREITO DO ENSINO SUPERIOR",null,null,null,null,null,null,null,null,null,null,null,"    234725 PROFESSOR DE COMUNICACAO SOCIAL DO ENSINO SUPERIOR"]
["    234735 PROFESSOR DE FILOSOFIA DO ENSINO SUPERIOR",null,null,null,null,null,null,null,null,"    234735 PROFESSOR DE FILOSOFIA DO ENSINO SUPERIOR",null,null,null,null,null,null,null,null,null,null,null,"    234730 PROFESSOR DE DIREITO DO ENSINO SUPERIOR"]
["    234740 PROFESSOR DE GEOGRAFIA DO ENSINO SUPERIOR",null,null,null,null,null,null,null,null,"    234740 PROFESSOR DE GEOGRAFIA DO ENSINO SUPERIOR",null,null,null,null,null,null,null,null,null,null,null,"    234735 PROFESSOR DE FILOSOFIA DO ENSINO SUPERIOR"]
["    234745 PROFESSOR DE HISTORIA DO ENSINO SUPERIOR",null,null,null,null,null,null,null,null,"    234745 PROFESSOR DE HISTORIA DO ENSINO SUPERIOR",null,null,null,null,null,null,null,null,null,null,null,"    234740 PROFESSOR DE GEOGRAFIA DO ENSINO SUPERIOR"]
["    234750 PROFESSOR DE JORNALISMO",null,null,null,null,null,null,null,null,"    234750 PROFESSOR DE JORNALISMO",null,null,null,null,null,null,null,null,null,null,null,"    234745 PROFESSOR DE HISTORIA DO ENSINO SUPERIOR"]
["    234755 PROFESSOR DE MUSEOLOGIA DO ENSINO SUPERIOR",null,null,null,null,null,null,null,null,"    234755 PROFESSOR DE MUSEOLOGIA DO ENSINO SUPERIOR",null,null,null,null,null,null,null,null,null,null,null,"    234750 PROFESSOR DE JORNALISMO"]
["    234760 PROFESSOR DE PSICOLOGIA DO ENSINO SUPERIOR",null,null,null,null,null,null,null,null,"    234760 PROFESSOR DE PSICOLOGIA DO ENSINO SUPERIOR",null,null,null,null,null,null,null,null,null,null,null,"    234755 PROFESSOR DE MUSEOLOGIA DO ENSINO SUPERIOR"]
["    234765 PROFESSOR DE SERVICO SOCIAL DO ENSINO SUPERIOR",null,null,null,null,null,null,null,null,"    234765 PROFESSOR DE SERVICO SOCIAL DO ENSINO SUPERIOR",null,null,null,null,null,null,null,null,null,null,null,"    234760 PROFESSOR DE PSICOLOGIA DO ENSINO SUPERIOR"]
["    234770 PROFESSOR DE SOCIOLOGIA DO ENSINO SUPERIOR",null,null,null,null,null,null,null,null,"    234770 PROFESSOR DE SOCIOLOGIA DO ENSINO SUPERIOR",null,null,null,null,null,null,null,null,null,null,null,"    234765 PROFESSOR DE SERVICO SOCIAL DO ENSINO SUPERIOR"]
["    234805 PROFESSOR DE ECONOMIA|234810 PROFESSOR DE ADMINISTRACAO",null,null,null,null,null,null,null,null,"    234805 PROFESSOR DE ECONOMIA|234810 PROFESSOR DE ADMINISTRACAO",null,null,null,null,null,null,null,null,null,null,null,"    234770 PROFESSOR DE SOCIOLOGIA DO ENSINO SUPERIOR"]
["    234815 PROFESSOR DE CONTABILIDADE",null,null,null,null,null,null,null,null,"    234815 PROFESSOR DE CONTABILIDADE",null,null,null,null,null,null,null,null,null,null,null,"    234805 PROFESSOR DE ECONOMIA|234810 PROFESSOR DE ADMINISTRACAO"]
["    234905 PROFESSOR DE ARTES DO ESPETACULO NO ENSINO SUPERIOR",null,null,null,null,null,null,null,null,"    234905 PROFESSOR DE ARTES DO ESPETACULO NO ENSINO SUPERIOR",null,null,null,null,null,null,null,null,null,null,null,"    234815 PROFESSOR DE CONTABILIDADE"]
["    234910 PROFESSOR DE ARTES VISUAIS NO ENSINO SUPERIOR (ARTES PLASTICAS E MULTIMIDIA)",null,null,null,null,null,null,null,null,"    234910 PROFESSOR DE ARTES VISUAIS NO ENSINO SUPERIOR (ARTES PLASTICAS E MULTIMIDIA)",null,null,null,null,null,null,null,null,null,null,null,"    234905 PROFESSOR DE ARTES DO ESPETACULO NO ENSINO SUPERIOR"]
["    234915 PROFESSOR DE MUSICA NO ENSINO SUPERIOR",null,null,null,null,null,null,null,null,"    234915 PROFESSOR DE MUSICA NO ENSINO SUPERIOR",null,null,null,null,null,null,null,null,null,null,null,"    234910 PROFESSOR DE ARTES VISUAIS NO ENSINO SUPERIOR (ARTES PLASTICAS E MULTIMIDIA)"]
["    239205 PROFESSOR DE ALUNOS COM DEFICIENCIA AUDITIVA E SURDOS",null,null,null,null,null,null,null,null,"    239205 PROFESSOR DE ALUNOS COM DEFICIENCIA AUDITIVA E SURDOS",null,null,null,null,null,null,null,null,null,null,null,"    234915 PROFESSOR DE MUSICA NO ENSINO SUPERIOR"]
["    239210 PROFESSOR DE ALUNOS COM DEFICIENCIA FISICA",null,null,null,null,null,null,null,null,"    239210 PROFESSOR DE ALUNOS COM DEFICIENCIA FISICA",null,null,null,null,null,null,null,null,null,null,null,"    239205 PROFESSOR DE ALUNOS COM DEFICIENCIA AUDITIVA E SURDOS"]
["    239215 PROFESSOR DE ALUNOS COM DEFICIENCIA MENTAL",null,null,null,null,null,null,null,null,"    239215 PROFESSOR DE ALUNOS COM DEFICIENCIA MENTAL",null,null,null,null,null,null,null,null,null,null,null,"    239210 PROFESSOR DE ALUNOS COM DEFICIENCIA FISICA"]
["    239220 PROFESSOR DE ALUNOS COM DEFICIENCIA MULTIPLA",null,null,null,null,null,null,null,null,"    239220 PROFESSOR DE ALUNOS COM DEFICIENCIA MULTIPLA",null,null,null,null,null,null,null,null,null,null,null,"    239215 PROFESSOR DE ALUNOS COM DEFICIENCIA MENTAL"]
["    239225 PROFESSOR DE ALUNOS COM DEFICIENCIA VISUAL",null,null,null,null,null,null,null,null,"    239225 PROFESSOR DE ALUNOS COM DEFICIENCIA VISUAL",null,null,null,null,null,null,null,null,null,null,null,"    239220 PROFESSOR DE ALUNOS COM DEFICIENCIA MULTIPLA"]
["    239405 COORDENADOR PEDAGOGICO|239410 ORIENTADOR EDUCACIONAL|239415 PEDAGOGO",null,null,null,null,null,null,null,null,"    239405 COORDENADOR PEDAGOGICO|239410 ORIENTADOR EDUCACIONAL|239415 PEDAGOGO",null,null,null,null,null,null,null,null,null,null,null,"    239225 PROFESSOR DE ALUNOS COM DEFICIENCIA VISUAL"]
["    239420 PROFESSOR DE TECNICAS E RECURSOS AUDIOVISUAIS",null,null,null,null,null,null,null,null,"    239420 PROFESSOR DE TECNICAS E RECURSOS AUDIOVISUAIS",null,null,null,null,null,null,null,null,null,null,null,"    239405 COORDENADOR PEDAGOGICO|239410 ORIENTADOR EDUCACIONAL|239415 PEDAGOGO"]
["    231110 PROFESSOR DE NIVEL SUPERIOR NA EDUCACAO INFANTIL (ZERO A TRES ANOS)",null,null,null,null,null,null,null,null,"    231110 PROFESSOR DE NIVEL SUPERIOR NA EDUCACAO INFANTIL (ZERO A TRES ANOS)",null,null,null,null,null,null,null,null,null,null,null,"    239420 PROFESSOR DE TECNICAS E RECURSOS AUDIOVISUAIS"]
["    239430 SUPERVISOR DE ENSINO|241005 ADVOGADO|241010 ADVOGADO DE EMPRESA",null,null,null,null,null,null,null,null,"    239430 SUPERVISOR DE ENSINO|241005 ADVOGADO|241010 ADVOGADO DE EMPRESA",null,null,null,null,null,null,null,null,null,null,null,"    231110 PROFESSOR DE NIVEL SUPERIOR NA EDUCACAO INFANTIL (ZERO A TRES ANOS)"]
["    241015 ADVOGADO (DIREITO CIVIL)|241020 ADVOGADO (DIREITO PUBLICO)",null,null,null,null,null,null,null,null,"    241015 ADVOGADO (DIREITO CIVIL)|241020 ADVOGADO (DIREITO PUBLICO)",null,null,null,null,null,null,null,null,null,null,null,"    239430 SUPERVISOR DE ENSINO|241005 ADVOGADO|241010 ADVOGADO DE EMPRESA"]
["    241025 ADVOGADO (DIREITO PENAL)|241030 ADVOGADO (AREAS ESPECIAIS)",null,null,null,null,null,null,null,null,"    241025 ADVOGADO (DIREITO PENAL)|241030 ADVOGADO (AREAS ESPECIAIS)",null,null,null,null,null,null,null,null,null,null,null,"    241015 ADVOGADO (DIREITO CIVIL)|241020 ADVOGADO (DIREITO PUBLICO)"]
["    241035 ADVOGADO (DIREITO DO TRABALHO)|241040 CONSULTOR JURIDICO",null,null,null,null,null,null,null,null,"    241035 ADVOGADO (DIREITO DO TRABALHO)|241040 CONSULTOR JURIDICO",null,null,null,null,null,null,null,null,null,null,null,"    241025 ADVOGADO (DIREITO PENAL)|241030 ADVOGADO (AREAS ESPECIAIS)"]
["    241205 ADVOGADO DA UNIAO|241210 PROCURADOR AUTARQUICO",null,null,null,null,null,null,null,null,"    241205 ADVOGADO DA UNIAO|241210 PROCURADOR AUTARQUICO",null,null,null,null,null,null,null,null,null,null,null,"    241035 ADVOGADO (DIREITO DO TRABALHO)|241040 CONSULTOR JURIDICO"]
["    241215 PROCURADOR DA FAZENDA NACIONAL|241220 PROCURADOR DO ESTADO",null,null,null,null,null,null,null,null,"    241215 PROCURADOR DA FAZENDA NACIONAL|241220 PROCURADOR DO ESTADO",null,null,null,null,null,null,null,null,null,null,null,"    241205 ADVOGADO DA UNIAO|241210 PROCURADOR AUTARQUICO"]
["    241225 PROCURADOR DO MUNICIPIO|241230 PROCURADOR FEDERAL",null,null,null,null,null,null,null,null,"    241225 PROCURADOR DO MUNICIPIO|241230 PROCURADOR FEDERAL",null,null,null,null,null,null,null,null,null,null,null,"    241215 PROCURADOR DA FAZENDA NACIONAL|241220 PROCURADOR DO ESTADO"]
["    241235 PROCURADOR FUNDACIONAL",null,null,null,null,null,null,null,null,"    241235 PROCURADOR FUNDACIONAL",null,null,null,null,null,null,null,null,null,null,null,"    241225 PROCURADOR DO MUNICIPIO|241230 PROCURADOR FEDERAL"]
["    241305 OFICIAL DE REGISTRO DE CONTRATOS MARITIMOS",null,null,null,null,null,null,null,null,"    241305 OFICIAL DE REGISTRO DE CONTRATOS MARITIMOS",null,null,null,null,null,null,null,null,null,null,null,"    241235 PROCURADOR FUNDACIONAL"]
["    241310 OFICIAL DO REGISTRO CIVIL DE PESSOAS JURIDICAS",null,null,null,null,null,null,null,null,"    241310 OFICIAL DO REGISTRO CIVIL DE PESSOAS JURIDICAS",null,null,null,null,null,null,null,null,null,null,null,"    241305 OFICIAL DE REGISTRO DE CONTRATOS MARITIMOS"]
["    241315 OFICIAL DO REGISTRO CIVIL DE PESSOAS NATURAIS",null,null,null,null,null,null,null,null,"    241315 OFICIAL DO REGISTRO CIVIL DE PESSOAS NATURAIS",null,null,null,null,null,null,null,null,null,null,null,"    241310 OFICIAL DO REGISTRO CIVIL DE PESSOAS JURIDICAS"]
["    241320 OFICIAL DO REGISTRO DE DISTRIBUICOES",null,null,null,null,null,null,null,null,"    241320 OFICIAL DO REGISTRO DE DISTRIBUICOES",null,null,null,null,null,null,null,null,null,null,null,"    241315 OFICIAL DO REGISTRO CIVIL DE PESSOAS NATURAIS"]
["    241325 OFICIAL DO REGISTRO DE IMOVEIS",null,null,null,null,null,null,null,null,"    241325 OFICIAL DO REGISTRO DE IMOVEIS",null,null,null,null,null,null,null,null,null,null,null,"    241320 OFICIAL DO REGISTRO DE DISTRIBUICOES"]
["    241330 OFICIAL DO REGISTRO DE TITULOS E DOCUMENTOS|241335 TABELIAO DE NOTAS",null,null,null,null,null,null,null,null,"    241330 OFICIAL DO REGISTRO DE TITULOS E DOCUMENTOS|241335 TABELIAO DE NOTAS",null,null,null,null,null,null,null,null,null,null,null,"    241325 OFICIAL DO REGISTRO DE IMOVEIS"]
["    241340 TABELIAO DE PROTESTOS|242205 PROCURADOR DA REPUBLICA",null,null,null,null,null,null,null,null,"    241340 TABELIAO DE PROTESTOS|242205 PROCURADOR DA REPUBLICA",null,null,null,null,null,null,null,null,null,null,null,"    241330 OFICIAL DO REGISTRO DE TITULOS E DOCUMENTOS|241335 TABELIAO DE NOTAS"]
["    242210 PROCURADOR DE JUSTICA|242215 PROCURADOR DE JUSTICA MILITAR",null,null,null,null,null,null,null,null,"    242210 PROCURADOR DE JUSTICA|242215 PROCURADOR DE JUSTICA MILITAR",null,null,null,null,null,null,null,null,null,null,null,"    241340 TABELIAO DE PROTESTOS|242205 PROCURADOR DA REPUBLICA"]
["    242220 PROCURADOR DO TRABALHO|242225 PROCURADOR REGIONAL DA REPUBLICA",null,null,null,null,null,null,null,null,"    242220 PROCURADOR DO TRABALHO|242225 PROCURADOR REGIONAL DA REPUBLICA",null,null,null,null,null,null,null,null,null,null,null,"    242210 PROCURADOR DE JUSTICA|242215 PROCURADOR DE JUSTICA MILITAR"]
["    242230 PROCURADOR REGIONAL DO TRABALHO|242235 PROMOTOR DE JUSTICA",null,null,null,null,null,null,null,null,"    242230 PROCURADOR REGIONAL DO TRABALHO|242235 PROMOTOR DE JUSTICA",null,null,null,null,null,null,null,null,null,null,null,"    242220 PROCURADOR DO TRABALHO|242225 PROCURADOR REGIONAL DA REPUBLICA"]
["    242240 SUBPROCURADOR DE JUSTICA MILITAR",null,null,null,null,null,null,null,null,"    242240 SUBPROCURADOR DE JUSTICA MILITAR",null,null,null,null,null,null,null,null,null,null,null,"    242230 PROCURADOR REGIONAL DO TRABALHO|242235 PROMOTOR DE JUSTICA"]
["    242245 SUBPROCURADOR-GERAL DA REPUBLICA",null,null,null,null,null,null,null,null,"    242245 SUBPROCURADOR-GERAL DA REPUBLICA",null,null,null,null,null,null,null,null,null,null,null,"    242240 SUBPROCURADOR DE JUSTICA MILITAR"]
["    242250 SUBPROCURADOR-GERAL DO TRABALHO|242305 DELEGADO DE POLICIA",null,null,null,null,null,null,null,null,"    242250 SUBPROCURADOR-GERAL DO TRABALHO|242305 DELEGADO DE POLICIA",null,null,null,null,null,null,null,null,null,null,null,"    242245 SUBPROCURADOR-GERAL DA REPUBLICA"]
["    242405 DEFENSOR PUBLICO|242410 PROCURADOR DA ASSISTENCIA JUDICIARIA",null,null,null,null,null,null,null,null,"    242405 DEFENSOR PUBLICO|242410 PROCURADOR DA ASSISTENCIA JUDICIARIA",null,null,null,null,null,null,null,null,null,null,null,"    242250 SUBPROCURADOR-GERAL DO TRABALHO|242305 DELEGADO DE POLICIA"]
["    251105 ANTROPOLOGO|251110 ARQUEOLOGO|251115 CIENTISTA POLITICO",null,null,null,null,null,null,null,null,"    251105 ANTROPOLOGO|251110 ARQUEOLOGO|251115 CIENTISTA POLITICO",null,null,null,null,null,null,null,null,null,null,null,"    242405 DEFENSOR PUBLICO|242410 PROCURADOR DA ASSISTENCIA JUDICIARIA"]
["    251120 SOCIOLOGO|251205 ECONOMISTA|251210 ECONOMISTA AGROINDUSTRIAL",null,null,null,null,null,null,null,null,"    251120 SOCIOLOGO|251205 ECONOMISTA|251210 ECONOMISTA AGROINDUSTRIAL",null,null,null,null,null,null,null,null,null,null,null,"    251105 ANTROPOLOGO|251110 ARQUEOLOGO|251115 CIENTISTA POLITICO"]
["    251215 ECONOMISTA FINANCEIRO|251220 ECONOMISTA INDUSTRIAL",null,null,null,null,null,null,null,null,"    251215 ECONOMISTA FINANCEIRO|251220 ECONOMISTA INDUSTRIAL",null,null,null,null,null,null,null,null,null,null,null,"    251120 SOCIOLOGO|251205 ECONOMISTA|251210 ECONOMISTA AGROINDUSTRIAL"]
["    251225 ECONOMISTA DO SETOR PUBLICO|251230 ECONOMISTA AMBIENTAL",null,null,null,null,null,null,null,null,"    251225 ECONOMISTA DO SETOR PUBLICO|251230 ECONOMISTA AMBIENTAL",null,null,null,null,null,null,null,null,null,null,null,"    251215 ECONOMISTA FINANCEIRO|251220 ECONOMISTA INDUSTRIAL"]
["    251235 ECONOMISTA REGIONAL E URBANO|251305 GEOGRAFO|251405 FILOSOFO",null,null,null,null,null,null,null,null,"    251235 ECONOMISTA REGIONAL E URBANO|251305 GEOGRAFO|251405 FILOSOFO",null,null,null,null,null,null,null,null,null,null,null,"    251225 ECONOMISTA DO SETOR PUBLICO|251230 ECONOMISTA AMBIENTAL"]
["    251505 PSICOLOGO EDUCACIONAL|251510 PSICOLOGO CLINICO",null,null,null,null,null,null,null,null,"    251505 PSICOLOGO EDUCACIONAL|251510 PSICOLOGO CLINICO",null,null,null,null,null,null,null,null,null,null,null,"    251235 ECONOMISTA REGIONAL E URBANO|251305 GEOGRAFO|251405 FILOSOFO"]
["    251515 PSICOLOGO DO ESPORTE|251520 PSICOLOGO HOSPITALAR",null,null,null,null,null,null,null,null,"    251515 PSICOLOGO DO ESPORTE|251520 PSICOLOGO HOSPITALAR",null,null,null,null,null,null,null,null,null,null,null,"    251505 PSICOLOGO EDUCACIONAL|251510 PSICOLOGO CLINICO"]
["    251525 PSICOLOGO JURIDICO|251530 PSICOLOGO SOCIAL",null,null,null,null,null,null,null,null,"    251525 PSICOLOGO JURIDICO|251530 PSICOLOGO SOCIAL",null,null,null,null,null,null,null,null,null,null,null,"    251515 PSICOLOGO DO ESPORTE|251520 PSICOLOGO HOSPITALAR"]
["    251535 PSICOLOGO DO TRANSITO|251540 PSICOLOGO DO TRABALHO",null,null,null,null,null,null,null,null,"    251535 PSICOLOGO DO TRANSITO|251540 PSICOLOGO DO TRABALHO",null,null,null,null,null,null,null,null,null,null,null,"    251525 PSICOLOGO JURIDICO|251530 PSICOLOGO SOCIAL"]
["    251545 NEUROPSICOLOGO|251550 PSICANALISTA|251605 ASSISTENTE SOCIAL",null,null,null,null,null,null,null,null,"    251545 NEUROPSICOLOGO|251550 PSICANALISTA|251605 ASSISTENTE SOCIAL",null,null,null,null,null,null,null,null,null,null,null,"    251535 PSICOLOGO DO TRANSITO|251540 PSICOLOGO DO TRABALHO"]
["    251610 ECONOMISTA DOMESTICO|252105 ADMINISTRADOR",null,null,null,null,null,null,null,null,"    251610 ECONOMISTA DOMESTICO|252105 ADMINISTRADOR",null,null,null,null,null,null,null,null,null,null,null,"    251545 NEUROPSICOLOGO|251550 PSICANALISTA|251605 ASSISTENTE SOCIAL"]
["    252205 AUDITOR (CONTADORES E AFINS)|252210 CONTADOR|252215 PERITO CONTABIL",null,null,null,null,null,null,null,null,"    252205 AUDITOR (CONTADORES E AFINS)|252210 CONTADOR|252215 PERITO CONTABIL",null,null,null,null,null,null,null,null,null,null,null,"    251610 ECONOMISTA DOMESTICO|252105 ADMINISTRADOR"]
["    252305 SECRETARIA EXECUTIVA|252310 SECRETARIO BILINGUE",null,null,null,null,null,null,null,null,"    252305 SECRETARIA EXECUTIVA|252310 SECRETARIO BILINGUE",null,null,null,null,null,null,null,null,null,null,null,"    252205 AUDITOR (CONTADORES E AFINS)|252210 CONTADOR|252215 PERITO CONTABIL"]
["    252315 SECRETARIA TRILINGUE|252405 ANALISTA DE RECURSOS HUMANOS",null,null,null,null,null,null,null,null,"    252315 SECRETARIA TRILINGUE|252405 ANALISTA DE RECURSOS HUMANOS",null,null,null,null,null,null,null,null,null,null,null,"    252305 SECRETARIA EXECUTIVA|252310 SECRETARIO BILINGUE"]
["    252505 ADMINISTRADOR DE FUNDOS E CARTEIRAS DE INVESTIMENTO",null,null,null,null,null,null,null,null,"    252505 ADMINISTRADOR DE FUNDOS E CARTEIRAS DE INVESTIMENTO",null,null,null,null,null,null,null,null,null,null,null,"    252315 SECRETARIA TRILINGUE|252405 ANALISTA DE RECURSOS HUMANOS"]
["    252510 ANALISTA DE CAMBIO",null,null,null,null,null,null,null,null,"    252510 ANALISTA DE CAMBIO",null,null,null,null,null,null,null,null,null,null,null,"    252505 ADMINISTRADOR DE FUNDOS E CARTEIRAS DE INVESTIMENTO"]
["    252515 ANALISTA DE COBRANCA (INSTITUICOES FINANCEIRAS)",null,null,null,null,null,null,null,null,"    252515 ANALISTA DE COBRANCA (INSTITUICOES FINANCEIRAS)",null,null,null,null,null,null,null,null,null,null,null,"    252510 ANALISTA DE CAMBIO"]
["    252525 ANALISTA DE CREDITO (INSTITUICOES FINANCEIRAS)",null,null,null,null,null,null,null,null,"    252525 ANALISTA DE CREDITO (INSTITUICOES FINANCEIRAS)",null,null,null,null,null,null,null,null,null,null,null,"    252515 ANALISTA DE COBRANCA (INSTITUICOES FINANCEIRAS)"]
["    252530 ANALISTA DE CREDITO RURAL|252535 ANALISTA DE LEASING",null,null,null,null,null,null,null,null,"    252530 ANALISTA DE CREDITO RURAL|252535 ANALISTA DE LEASING",null,null,null,null,null,null,null,null,null,null,null,"    252525 ANALISTA DE CREDITO (INSTITUICOES FINANCEIRAS)"]
["    252540 ANALISTA DE PRODUTOS BANCARIOS",null,null,null,null,null,null,null,null,"    252540 ANALISTA DE PRODUTOS BANCARIOS",null,null,null,null,null,null,null,null,null,null,null,"    252530 ANALISTA DE CREDITO RURAL|252535 ANALISTA DE LEASING"]
["    252545 ANALISTA FINANCEIRO (INSTITUICOES FINANCEIRAS)",null,null,null,null,null,null,null,null,"    252545 ANALISTA FINANCEIRO (INSTITUICOES FINANCEIRAS)",null,null,null,null,null,null,null,null,null,null,null,"    252540 ANALISTA DE PRODUTOS BANCARIOS"]
["    253105 RELACOES PUBLICAS|253110 REDATOR DE PUBLICIDADE",null,null,null,null,null,null,null,null,"    253105 RELACOES PUBLICAS|253110 REDATOR DE PUBLICIDADE",null,null,null,null,null,null,null,null,null,null,null,"    252545 ANALISTA FINANCEIRO (INSTITUICOES FINANCEIRAS)"]
["    253115 AGENTE PUBLICITARIO|253120 ANALISTA DE NEGOCIOS",null,null,null,null,null,null,null,null,"    253115 AGENTE PUBLICITARIO|253120 ANALISTA DE NEGOCIOS",null,null,null,null,null,null,null,null,null,null,null,"    253105 RELACOES PUBLICAS|253110 REDATOR DE PUBLICIDADE"]
["    253125 ANALISTA DE PESQUISA DE MERCADO",null,null,null,null,null,null,null,null,"    253125 ANALISTA DE PESQUISA DE MERCADO",null,null,null,null,null,null,null,null,null,null,null,"    253115 AGENTE PUBLICITARIO|253120 ANALISTA DE NEGOCIOS"]
["    253205 GERENTE DE CAPTACAO (FUNDOS E INVESTIMENTOS INSTITUCIONAIS)",null,null,null,null,null,null,null,null,"    253205 GERENTE DE CAPTACAO (FUNDOS E INVESTIMENTOS INSTITUCIONAIS)",null,null,null,null,null,null,null,null,null,null,null,"    253125 ANALISTA DE PESQUISA DE MERCADO"]
["    253210 GERENTE DE CLIENTES ESPECIAIS (PRIVATE)",null,null,null,null,null,null,null,null,"    253210 GERENTE DE CLIENTES ESPECIAIS (PRIVATE)",null,null,null,null,null,null,null,null,null,null,null,"    253205 GERENTE DE CAPTACAO (FUNDOS E INVESTIMENTOS INSTITUCIONAIS)"]
["    253215 GERENTE DE CONTAS - PESSOA FISICA E JURIDICA",null,null,null,null,null,null,null,null,"    253215 GERENTE DE CONTAS - PESSOA FISICA E JURIDICA",null,null,null,null,null,null,null,null,null,null,null,"    253210 GERENTE DE CLIENTES ESPECIAIS (PRIVATE)"]
["    253220 GERENTE DE GRANDES CONTAS (CORPORATE)|253225 OPERADOR DE NEGOCIOS",null,null,null,null,null,null,null,null,"    253220 GERENTE DE GRANDES CONTAS (CORPORATE)|253225 OPERADOR DE NEGOCIOS",null,null,null,null,null,null,null,null,null,null,null,"    253215 GERENTE DE CONTAS - PESSOA FISICA E JURIDICA"]
["    253305 CORRETOR DE VALORES, ATIVOS FINANCEIROS, MERCADORIAS E DERIVATIVOS",null,null,null,null,null,null,null,null,"    253305 CORRETOR DE VALORES, ATIVOS FINANCEIROS, MERCADORIAS E DERIVATIVOS",null,null,null,null,null,null,null,null,null,null,null,"    253220 GERENTE DE GRANDES CONTAS (CORPORATE)|253225 OPERADOR DE NEGOCIOS"]
["    254105 AUDITOR-FISCAL DA RECEITA FEDERAL|254110 TECNICO DA RECEITA FEDERAL",null,null,null,null,null,null,null,null,"    254105 AUDITOR-FISCAL DA RECEITA FEDERAL|254110 TECNICO DA RECEITA FEDERAL",null,null,null,null,null,null,null,null,null,null,null,"    253305 CORRETOR DE VALORES, ATIVOS FINANCEIROS, MERCADORIAS E DERIVATIVOS"]
["    254205 AUDITOR-FISCAL DA PREVIDENCIA SOCIAL",null,null,null,null,null,null,null,null,"    254205 AUDITOR-FISCAL DA PREVIDENCIA SOCIAL",null,null,null,null,null,null,null,null,null,null,null,"    254105 AUDITOR-FISCAL DA RECEITA FEDERAL|254110 TECNICO DA RECEITA FEDERAL"]
["    254305 AUDITOR-FISCAL DO TRABALHO|254310 AGENTE DE HIGIENE E SEGURANCA",null,null,null,null,null,null,null,null,"    254305 AUDITOR-FISCAL DO TRABALHO|254310 AGENTE DE HIGIENE E SEGURANCA",null,null,null,null,null,null,null,null,null,null,null,"    254205 AUDITOR-FISCAL DA PREVIDENCIA SOCIAL"]
["    254405 FISCAL DE TRIBUTOS ESTADUAL|254410 FISCAL DE TRIBUTOS MUNICIPAL",null,null,null,null,null,null,null,null,"    254405 FISCAL DE TRIBUTOS ESTADUAL|254410 FISCAL DE TRIBUTOS MUNICIPAL",null,null,null,null,null,null,null,null,null,null,null,"    254305 AUDITOR-FISCAL DO TRABALHO|254310 AGENTE DE HIGIENE E SEGURANCA"]
["    254415 TECNICO DE TRIBUTOS ESTADUAL|254420 TECNICO DE TRIBUTOS MUNICIPAL",null,null,null,null,null,null,null,null,"    254415 TECNICO DE TRIBUTOS ESTADUAL|254420 TECNICO DE TRIBUTOS MUNICIPAL",null,null,null,null,null,null,null,null,null,null,null,"    254405 FISCAL DE TRIBUTOS ESTADUAL|254410 FISCAL DE TRIBUTOS MUNICIPAL"]
["    261105 ARQUIVISTA PESQUISADOR (JORNALISMO)|261110 ASSESSOR DE IMPRENSA",null,null,null,null,null,null,null,null,"    261105 ARQUIVISTA PESQUISADOR (JORNALISMO)|261110 ASSESSOR DE IMPRENSA",null,null,null,null,null,null,null,null,null,null,null,"    254415 TECNICO DE TRIBUTOS ESTADUAL|254420 TECNICO DE TRIBUTOS MUNICIPAL"]
["    261115 DIRETOR DE REDACAO|261120 EDITOR|261125 JORNALISTA",null,null,null,null,null,null,null,null,"    261115 DIRETOR DE REDACAO|261120 EDITOR|261125 JORNALISTA",null,null,null,null,null,null,null,null,null,null,null,"    261105 ARQUIVISTA PESQUISADOR (JORNALISMO)|261110 ASSESSOR DE IMPRENSA"]
["    261130 PRODUTOR DE TEXTO|261135 REPORTER (EXCLUSIVE RADIO E TELEVISAO)",null,null,null,null,null,null,null,null,"    261130 PRODUTOR DE TEXTO|261135 REPORTER (EXCLUSIVE RADIO E TELEVISAO)",null,null,null,null,null,null,null,null,null,null,null,"    261115 DIRETOR DE REDACAO|261120 EDITOR|261125 JORNALISTA"]
["    261140 REVISOR|261205 BIBLIOTECARIO|261210 DOCUMENTALISTA",null,null,null,null,null,null,null,null,"    261140 REVISOR|261205 BIBLIOTECARIO|261210 DOCUMENTALISTA",null,null,null,null,null,null,null,null,null,null,null,"    261130 PRODUTOR DE TEXTO|261135 REPORTER (EXCLUSIVE RADIO E TELEVISAO)"]
["    261215 ANALISTA DE INFORMACOES (PESQUISADOR DE INFORMACOES DE REDE)",null,null,null,null,null,null,null,null,"    261215 ANALISTA DE INFORMACOES (PESQUISADOR DE INFORMACOES DE REDE)",null,null,null,null,null,null,null,null,null,null,null,"    261140 REVISOR|261205 BIBLIOTECARIO|261210 DOCUMENTALISTA"]
["    261305 ARQUIVISTA|261310 MUSEOLOGO|261405 FILOLOGO|261410 INTERPRETE",null,null,null,null,null,null,null,null,"    261305 ARQUIVISTA|261310 MUSEOLOGO|261405 FILOLOGO|261410 INTERPRETE",null,null,null,null,null,null,null,null,null,null,null,"    261215 ANALISTA DE INFORMACOES (PESQUISADOR DE INFORMACOES DE REDE)"]
["    261415 LINGUISTA|239425 PSICOPEDAGOGO|261420 TRADUTOR",null,null,null,null,null,null,null,null,"    261415 LINGUISTA|239425 PSICOPEDAGOGO|261420 TRADUTOR",null,null,null,null,null,null,null,null,null,null,null,"    261305 ARQUIVISTA|261310 MUSEOLOGO|261405 FILOLOGO|261410 INTERPRETE"]
["    261505 AUTOR-ROTEIRISTA|261510 CRITICO|261515 ESCRITOR DE FICCAO",null,null,null,null,null,null,null,null,"    261505 AUTOR-ROTEIRISTA|261510 CRITICO|261515 ESCRITOR DE FICCAO",null,null,null,null,null,null,null,null,null,null,null,"    261415 LINGUISTA|239425 PSICOPEDAGOGO|261420 TRADUTOR"]
["    261520 ESCRITOR DE NAO FICCAO|261525 POETA|261530 REDATOR DE TEXTOS TECNICOS",null,null,null,null,null,null,null,null,"    261520 ESCRITOR DE NAO FICCAO|261525 POETA|261530 REDATOR DE TEXTOS TECNICOS",null,null,null,null,null,null,null,null,null,null,null,"    261505 AUTOR-ROTEIRISTA|261510 CRITICO|261515 ESCRITOR DE FICCAO"]
["    261605 EDITOR DE JORNAL|261610 EDITOR DE LIVRO",null,null,null,null,null,null,null,null,"    261605 EDITOR DE JORNAL|261610 EDITOR DE LIVRO",null,null,null,null,null,null,null,null,null,null,null,"    261520 ESCRITOR DE NAO FICCAO|261525 POETA|261530 REDATOR DE TEXTOS TECNICOS"]
["    261615 EDITOR DE MIDIA ELETRONICA|261620 EDITOR DE REVISTA",null,null,null,null,null,null,null,null,"    261615 EDITOR DE MIDIA ELETRONICA|261620 EDITOR DE REVISTA",null,null,null,null,null,null,null,null,null,null,null,"    261605 EDITOR DE JORNAL|261610 EDITOR DE LIVRO"]
["    261625 EDITOR DE REVISTA CIENTIFICA|261705 ANCORA DE RADIO E TELEVISAO",null,null,null,null,null,null,null,null,"    261625 EDITOR DE REVISTA CIENTIFICA|261705 ANCORA DE RADIO E TELEVISAO",null,null,null,null,null,null,null,null,null,null,null,"    261615 EDITOR DE MIDIA ELETRONICA|261620 EDITOR DE REVISTA"]
["    261710 COMENTARISTA DE RADIO E TELEVISAO|261715 LOCUTOR DE RADIO E TELEVISAO",null,null,null,null,null,null,null,null,"    261710 COMENTARISTA DE RADIO E TELEVISAO|261715 LOCUTOR DE RADIO E TELEVISAO",null,null,null,null,null,null,null,null,null,null,null,"    261625 EDITOR DE REVISTA CIENTIFICA|261705 ANCORA DE RADIO E TELEVISAO"]
["    261720 LOCUTOR PUBLICITARIO DE RADIO E TELEVISAO",null,null,null,null,null,null,null,null,"    261720 LOCUTOR PUBLICITARIO DE RADIO E TELEVISAO",null,null,null,null,null,null,null,null,null,null,null,"    261710 COMENTARISTA DE RADIO E TELEVISAO|261715 LOCUTOR DE RADIO E TELEVISAO"]
["    261725 NARRADOR EM PROGRAMAS DE RADIO E TELEVISAO",null,null,null,null,null,null,null,null,"    261725 NARRADOR EM PROGRAMAS DE RADIO E TELEVISAO",null,null,null,null,null,null,null,null,null,null,null,"    261720 LOCUTOR PUBLICITARIO DE RADIO E TELEVISAO"]
["    261730 REPORTER DE RADIO E TELEVISAO|261805 FOTOGRAFO",null,null,null,null,null,null,null,null,"    261730 REPORTER DE RADIO E TELEVISAO|261805 FOTOGRAFO",null,null,null,null,null,null,null,null,null,null,null,"    261725 NARRADOR EM PROGRAMAS DE RADIO E TELEVISAO"]
["    261810 FOTOGRAFO PUBLICITARIO|261815 FOTOGRAFO RETRATISTA",null,null,null,null,null,null,null,null,"    261810 FOTOGRAFO PUBLICITARIO|261815 FOTOGRAFO RETRATISTA",null,null,null,null,null,null,null,null,null,null,null,"    261730 REPORTER DE RADIO E TELEVISAO|261805 FOTOGRAFO"]
["    261820 REPOTER FOTOGRAFICO|262105 EMPRESARIO DE ESPETACULO",null,null,null,null,null,null,null,null,"    261820 REPOTER FOTOGRAFICO|262105 EMPRESARIO DE ESPETACULO",null,null,null,null,null,null,null,null,null,null,null,"    261810 FOTOGRAFO PUBLICITARIO|261815 FOTOGRAFO RETRATISTA"]
["    262110 PRODUTOR CINEMATOGRAFICO|262115 PRODUTOR DE RADIO",null,null,null,null,null,null,null,null,"    262110 PRODUTOR CINEMATOGRAFICO|262115 PRODUTOR DE RADIO",null,null,null,null,null,null,null,null,null,null,null,"    261820 REPOTER FOTOGRAFICO|262105 EMPRESARIO DE ESPETACULO"]
["    262120 PRODUTOR DE TEATRO|262125 PRODUTOR DE TELEVISAO",null,null,null,null,null,null,null,null,"    262120 PRODUTOR DE TEATRO|262125 PRODUTOR DE TELEVISAO",null,null,null,null,null,null,null,null,null,null,null,"    262110 PRODUTOR CINEMATOGRAFICO|262115 PRODUTOR DE RADIO"]
["    262205 DIRETOR DE CINEMA|262210 DIRETOR DE PROGRAMAS DE RADIO",null,null,null,null,null,null,null,null,"    262205 DIRETOR DE CINEMA|262210 DIRETOR DE PROGRAMAS DE RADIO",null,null,null,null,null,null,null,null,null,null,null,"    262120 PRODUTOR DE TEATRO|262125 PRODUTOR DE TELEVISAO"]
["    262215 DIRETOR DE PROGRAMAS DE TELEVISAO|262220 DIRETOR TEATRAL",null,null,null,null,null,null,null,null,"    262215 DIRETOR DE PROGRAMAS DE TELEVISAO|262220 DIRETOR TEATRAL",null,null,null,null,null,null,null,null,null,null,null,"    262205 DIRETOR DE CINEMA|262210 DIRETOR DE PROGRAMAS DE RADIO"]
["    262305 CENOGRAFO CARNAVALESCO E FESTAS POPULARES|262310 CENOGRAFO DE CINEMA",null,null,null,null,null,null,null,null,"    262305 CENOGRAFO CARNAVALESCO E FESTAS POPULARES|262310 CENOGRAFO DE CINEMA",null,null,null,null,null,null,null,null,null,null,null,"    262215 DIRETOR DE PROGRAMAS DE TELEVISAO|262220 DIRETOR TEATRAL"]
["    262315 CENOGRAFO DE EVENTOS|262320 CENOGRAFO DE TEATRO",null,null,null,null,null,null,null,null,"    262315 CENOGRAFO DE EVENTOS|262320 CENOGRAFO DE TEATRO",null,null,null,null,null,null,null,null,null,null,null,"    262305 CENOGRAFO CARNAVALESCO E FESTAS POPULARES|262310 CENOGRAFO DE CINEMA"]
["    262325 CENOGRAFO DE TV|262330 DIRETOR DE ARTE|262405 ARTISTA (ARTES VISUAIS)",null,null,null,null,null,null,null,null,"    262325 CENOGRAFO DE TV|262330 DIRETOR DE ARTE|262405 ARTISTA (ARTES VISUAIS)",null,null,null,null,null,null,null,null,null,null,null,"    262315 CENOGRAFO DE EVENTOS|262320 CENOGRAFO DE TEATRO"]
["    262410 DESENHISTA INDUSTRIAL (DESIGNER)|262505 ATOR|262605 COMPOSITOR",null,null,null,null,null,null,null,null,"    262410 DESENHISTA INDUSTRIAL (DESIGNER)|262505 ATOR|262605 COMPOSITOR",null,null,null,null,null,null,null,null,null,null,null,"    262325 CENOGRAFO DE TV|262330 DIRETOR DE ARTE|262405 ARTISTA (ARTES VISUAIS)"]
["    262610 MUSICO ARRANJADOR|262615 MUSICO REGENTE|262620 MUSICOLOGO",null,null,null,null,null,null,null,null,"    262610 MUSICO ARRANJADOR|262615 MUSICO REGENTE|262620 MUSICOLOGO",null,null,null,null,null,null,null,null,null,null,null,"    262410 DESENHISTA INDUSTRIAL (DESIGNER)|262505 ATOR|262605 COMPOSITOR"]
["    262705 MUSICO INTERPRETE CANTOR|262710 MUSICO INTERPRETE INSTRUMENTISTA",null,null,null,null,null,null,null,null,"    262705 MUSICO INTERPRETE CANTOR|262710 MUSICO INTERPRETE INSTRUMENTISTA",null,null,null,null,null,null,null,null,null,null,null,"    262610 MUSICO ARRANJADOR|262615 MUSICO REGENTE|262620 MUSICOLOGO"]
["    262810 BAILARINO (EXCETO DANCAS POPULARES)|262815 COREOGRAFO",null,null,null,null,null,null,null,null,"    262810 BAILARINO (EXCETO DANCAS POPULARES)|262815 COREOGRAFO",null,null,null,null,null,null,null,null,null,null,null,"    262705 MUSICO INTERPRETE CANTOR|262710 MUSICO INTERPRETE INSTRUMENTISTA"]
["    262820 DRAMATURGO DE DANCA|262825 ENSAIADOR DE DANCA",null,null,null,null,null,null,null,null,"    262820 DRAMATURGO DE DANCA|262825 ENSAIADOR DE DANCA",null,null,null,null,null,null,null,null,null,null,null,"    262810 BAILARINO (EXCETO DANCAS POPULARES)|262815 COREOGRAFO"]
["    262830 PROFESSOR DE DANCA|262905 DECORADOR DE INTERIORES DE NIVEL SUPERIOR",null,null,null,null,null,null,null,null,"    262830 PROFESSOR DE DANCA|262905 DECORADOR DE INTERIORES DE NIVEL SUPERIOR",null,null,null,null,null,null,null,null,null,null,null,"    262820 DRAMATURGO DE DANCA|262825 ENSAIADOR DE DANCA"]
["    263105 MINISTRO DE CULTO RELIGIOSO",null,null,null,null,null,null,null,null,"    263105 MINISTRO DE CULTO RELIGIOSO",null,null,null,null,null,null,null,null,null,null,null,"    262830 PROFESSOR DE DANCA|262905 DECORADOR DE INTERIORES DE NIVEL SUPERIOR"]
["    300105 TECNICO EM MECATRONICA - AUTOMACAO DA MANUFATURA",null,null,null,null,null,null,null,null,"    300105 TECNICO EM MECATRONICA - AUTOMACAO DA MANUFATURA",null,null,null,null,null,null,null,null,null,null,null,"    263105 MINISTRO DE CULTO RELIGIOSO"]
["    300110 TECNICO EM MECATRONICA - ROBOTICA|300305 TECNICO EM ELETROMECANICA",null,null,null,null,null,null,null,null,"    300110 TECNICO EM MECATRONICA - ROBOTICA|300305 TECNICO EM ELETROMECANICA",null,null,null,null,null,null,null,null,null,null,null,"    300105 TECNICO EM MECATRONICA - AUTOMACAO DA MANUFATURA"]
["    301105 TECNICO DE LABORATORIO INDUSTRIAL",null,null,null,null,null,null,null,null,"    301105 TECNICO DE LABORATORIO INDUSTRIAL",null,null,null,null,null,null,null,null,null,null,null,"    300110 TECNICO EM MECATRONICA - ROBOTICA|300305 TECNICO EM ELETROMECANICA"]
["    301110 TECNICO DE LABORATORIO DE ANALISES FISICO-QUIMICAS (MATERIAIS DE CONSTRUCAO)",null,null,null,null,null,null,null,null,"    301110 TECNICO DE LABORATORIO DE ANALISES FISICO-QUIMICAS (MATERIAIS DE CONSTRUCAO)",null,null,null,null,null,null,null,null,null,null,null,"    301105 TECNICO DE LABORATORIO INDUSTRIAL"]
["    301115 TECNICO QUIMICO DE PETROLEO|301205 TECNICO DE APOIO A BIOENGENHARIA",null,null,null,null,null,null,null,null,"    301115 TECNICO QUIMICO DE PETROLEO|301205 TECNICO DE APOIO A BIOENGENHARIA",null,null,null,null,null,null,null,null,null,null,null,"    301110 TECNICO DE LABORATORIO DE ANALISES FISICO-QUIMICAS (MATERIAIS DE CONSTRUCAO)"]
["    311105 TECNICO QUIMICO|311110 TECNICO DE CELULOSE E PAPEL",null,null,null,null,null,null,null,null,"    311105 TECNICO QUIMICO|311110 TECNICO DE CELULOSE E PAPEL",null,null,null,null,null,null,null,null,null,null,null,"    301115 TECNICO QUIMICO DE PETROLEO|301205 TECNICO DE APOIO A BIOENGENHARIA"]
["    311115 TECNICO EM CURTIMENTO|311205 TECNICO EM PETROQUIMICA",null,null,null,null,null,null,null,null,"    311115 TECNICO EM CURTIMENTO|311205 TECNICO EM PETROQUIMICA",null,null,null,null,null,null,null,null,null,null,null,"    311105 TECNICO QUIMICO|311110 TECNICO DE CELULOSE E PAPEL"]
["    311305 TECNICO EM MATERIAIS, PRODUTOS CERAMICOS E VIDROS",null,null,null,null,null,null,null,null,"    311305 TECNICO EM MATERIAIS, PRODUTOS CERAMICOS E VIDROS",null,null,null,null,null,null,null,null,null,null,null,"    311115 TECNICO EM CURTIMENTO|311205 TECNICO EM PETROQUIMICA"]
["    311405 TECNICO EM BORRACHA|311410 TECNICO EM PLASTICO",null,null,null,null,null,null,null,null,"    311405 TECNICO EM BORRACHA|311410 TECNICO EM PLASTICO",null,null,null,null,null,null,null,null,null,null,null,"    311305 TECNICO EM MATERIAIS, PRODUTOS CERAMICOS E VIDROS"]
["    311505 TECNICO DE CONTROLE DE MEIO AMBIENTE|311510 TECNICO DE METEOROLOGIA",null,null,null,null,null,null,null,null,"    311505 TECNICO DE CONTROLE DE MEIO AMBIENTE|311510 TECNICO DE METEOROLOGIA",null,null,null,null,null,null,null,null,null,null,null,"    311405 TECNICO EM BORRACHA|311410 TECNICO EM PLASTICO"]
["    311515 TECNICO DE UTILIDADE (PRODUCAO E DISTRIBUICAO DE VAPOR, GASES, OLEOS, COMBUSTIVEIS, ENERGIA)",null,null,null,null,null,null,null,null,"    311515 TECNICO DE UTILIDADE (PRODUCAO E DISTRIBUICAO DE VAPOR, GASES, OLEOS, COMBUSTIVEIS, ENERGIA)",null,null,null,null,null,null,null,null,null,null,null,"    311505 TECNICO DE CONTROLE DE MEIO AMBIENTE|311510 TECNICO DE METEOROLOGIA"]
["    311520 TECNICO EM TRATAMENTO DE EFLUENTES|311605 TECNICO TEXTIL",null,null,null,null,null,null,null,null,"    311520 TECNICO EM TRATAMENTO DE EFLUENTES|311605 TECNICO TEXTIL",null,null,null,null,null,null,null,null,null,null,null,"    311515 TECNICO DE UTILIDADE (PRODUCAO E DISTRIBUICAO DE VAPOR, GASES, OLEOS, COMBUSTIVEIS, ENERGIA)"]
["    311610 TECNICO TEXTIL (TRATAMENTOS QUIMICOS)|311615 TECNICO TEXTIL DE FIACAO",null,null,null,null,null,null,null,null,"    311610 TECNICO TEXTIL (TRATAMENTOS QUIMICOS)|311615 TECNICO TEXTIL DE FIACAO",null,null,null,null,null,null,null,null,null,null,null,"    311520 TECNICO EM TRATAMENTO DE EFLUENTES|311605 TECNICO TEXTIL"]
["    311620 TECNICO TEXTIL DE MALHARIA|311625 TECNICO TEXTIL DE TECELAGEM",null,null,null,null,null,null,null,null,"    311620 TECNICO TEXTIL DE MALHARIA|311625 TECNICO TEXTIL DE TECELAGEM",null,null,null,null,null,null,null,null,null,null,null,"    311610 TECNICO TEXTIL (TRATAMENTOS QUIMICOS)|311615 TECNICO TEXTIL DE FIACAO"]
["    311705 COLORISTA DE PAPEL|311710 COLORISTA TEXTIL",null,null,null,null,null,null,null,null,"    311705 COLORISTA DE PAPEL|311710 COLORISTA TEXTIL",null,null,null,null,null,null,null,null,null,null,null,"    311620 TECNICO TEXTIL DE MALHARIA|311625 TECNICO TEXTIL DE TECELAGEM"]
["    311715 PREPARADOR DE TINTAS|311720 PREPARADOR DE TINTAS (FABRICA DE TECIDOS)",null,null,null,null,null,null,null,null,"    311715 PREPARADOR DE TINTAS|311720 PREPARADOR DE TINTAS (FABRICA DE TECIDOS)",null,null,null,null,null,null,null,null,null,null,null,"    311705 COLORISTA DE PAPEL|311710 COLORISTA TEXTIL"]
["    311725 TINGIDOR DE COUROS E PELES|312105 TECNICO DE OBRAS CIVIS",null,null,null,null,null,null,null,null,"    311725 TINGIDOR DE COUROS E PELES|312105 TECNICO DE OBRAS CIVIS",null,null,null,null,null,null,null,null,null,null,null,"    311715 PREPARADOR DE TINTAS|311720 PREPARADOR DE TINTAS (FABRICA DE TECIDOS)"]
["    312205 TECNICO DE ESTRADAS|312210 TECNICO DE SANEAMENTO",null,null,null,null,null,null,null,null,"    312205 TECNICO DE ESTRADAS|312210 TECNICO DE SANEAMENTO",null,null,null,null,null,null,null,null,null,null,null,"    311725 TINGIDOR DE COUROS E PELES|312105 TECNICO DE OBRAS CIVIS"]
["    312305 TECNICO EM AGRIMENSURA|312310 TECNICO EM GEODESIA E CARTOGRAFIA",null,null,null,null,null,null,null,null,"    312305 TECNICO EM AGRIMENSURA|312310 TECNICO EM GEODESIA E CARTOGRAFIA",null,null,null,null,null,null,null,null,null,null,null,"    312205 TECNICO DE ESTRADAS|312210 TECNICO DE SANEAMENTO"]
["    312315 TECNICO EM HIDROGRAFIA|312320 TOPOGRAFO|313105 ELETROTECNICO",null,null,null,null,null,null,null,null,"    312315 TECNICO EM HIDROGRAFIA|312320 TOPOGRAFO|313105 ELETROTECNICO",null,null,null,null,null,null,null,null,null,null,null,"    312305 TECNICO EM AGRIMENSURA|312310 TECNICO EM GEODESIA E CARTOGRAFIA"]
["    313110 ELETROTECNICO (PRODUCAO DE ENERGIA)",null,null,null,null,null,null,null,null,"    313110 ELETROTECNICO (PRODUCAO DE ENERGIA)",null,null,null,null,null,null,null,null,null,null,null,"    312315 TECNICO EM HIDROGRAFIA|312320 TOPOGRAFO|313105 ELETROTECNICO"]
["    313115 ELETROTENICO NA FABRICACAO, MONTAGEM E INSTALACAO DE MAQUINAS E EQUIPAMENTOS",null,null,null,null,null,null,null,null,"    313115 ELETROTENICO NA FABRICACAO, MONTAGEM E INSTALACAO DE MAQUINAS E EQUIPAMENTOS",null,null,null,null,null,null,null,null,null,null,null,"    313110 ELETROTECNICO (PRODUCAO DE ENERGIA)"]
["    313120 TECNICO DE MANUTENCAO ELETRICA",null,null,null,null,null,null,null,null,"    313120 TECNICO DE MANUTENCAO ELETRICA",null,null,null,null,null,null,null,null,null,null,null,"    313115 ELETROTENICO NA FABRICACAO, MONTAGEM E INSTALACAO DE MAQUINAS E EQUIPAMENTOS"]
["    313125 TECNICO DE MANUTENCAO ELETRICA DE MAQUINA|313130 TECNICO ELETRICISTA",null,null,null,null,null,null,null,null,"    313125 TECNICO DE MANUTENCAO ELETRICA DE MAQUINA|313130 TECNICO ELETRICISTA",null,null,null,null,null,null,null,null,null,null,null,"    313120 TECNICO DE MANUTENCAO ELETRICA"]
["    313205 TECNICO DE MANUTENCAO ELETRONICA",null,null,null,null,null,null,null,null,"    313205 TECNICO DE MANUTENCAO ELETRONICA",null,null,null,null,null,null,null,null,null,null,null,"    313125 TECNICO DE MANUTENCAO ELETRICA DE MAQUINA|313130 TECNICO ELETRICISTA"]
["    313210 TECNICO DE MANUTENCAO ELETRONICA (CIRCUITOS DE MAQUINAS COM COMANDO NUMERICO)",null,null,null,null,null,null,null,null,"    313210 TECNICO DE MANUTENCAO ELETRONICA (CIRCUITOS DE MAQUINAS COM COMANDO NUMERICO)",null,null,null,null,null,null,null,null,null,null,null,"    313205 TECNICO DE MANUTENCAO ELETRONICA"]
["    313215 TECNICO ELETRONICO",null,null,null,null,null,null,null,null,"    313215 TECNICO ELETRONICO",null,null,null,null,null,null,null,null,null,null,null,"    313210 TECNICO DE MANUTENCAO ELETRONICA (CIRCUITOS DE MAQUINAS COM COMANDO NUMERICO)"]
["    313220 TECNICO EM MANUTENCAO DE EQUIPAMENTOS DE INFORMATICA",null,null,null,null,null,null,null,null,"    313220 TECNICO EM MANUTENCAO DE EQUIPAMENTOS DE INFORMATICA",null,null,null,null,null,null,null,null,null,null,null,"    313215 TECNICO ELETRONICO"]
["    313305 TECNICO DE COMUNICACAO DE DADOS",null,null,null,null,null,null,null,null,"    313305 TECNICO DE COMUNICACAO DE DADOS",null,null,null,null,null,null,null,null,null,null,null,"    313220 TECNICO EM MANUTENCAO DE EQUIPAMENTOS DE INFORMATICA"]
["    313310 TECNICO DE REDE (TELECOMUNICACOES)",null,null,null,null,null,null,null,null,"    313310 TECNICO DE REDE (TELECOMUNICACOES)",null,null,null,null,null,null,null,null,null,null,null,"    313305 TECNICO DE COMUNICACAO DE DADOS"]
["    313315 TECNICO DE TELECOMUNICACOES (TELEFONIA)",null,null,null,null,null,null,null,null,"    313315 TECNICO DE TELECOMUNICACOES (TELEFONIA)",null,null,null,null,null,null,null,null,null,null,null,"    313310 TECNICO DE REDE (TELECOMUNICACOES)"]
["    313320 TECNICO DE TRANSMISSAO (TELECOMUNICACOES)",null,null,null,null,null,null,null,null,"    313320 TECNICO DE TRANSMISSAO (TELECOMUNICACOES)",null,null,null,null,null,null,null,null,null,null,null,"    313315 TECNICO DE TELECOMUNICACOES (TELEFONIA)"]
["    313405 TECNICO EM CALIBRACAO|313410 TECNICO EM INSTRUMENTACAO",null,null,null,null,null,null,null,null,"    313405 TECNICO EM CALIBRACAO|313410 TECNICO EM INSTRUMENTACAO",null,null,null,null,null,null,null,null,null,null,null,"    313320 TECNICO DE TRANSMISSAO (TELECOMUNICACOES)"]
["    313415 ENCARREGADO DE MANUTENCAO DE INSTRUMENTOS DE CONTROLE, MEDICAO E SIMILARES",null,null,null,null,null,null,null,null,"    313415 ENCARREGADO DE MANUTENCAO DE INSTRUMENTOS DE CONTROLE, MEDICAO E SIMILARES",null,null,null,null,null,null,null,null,null,null,null,"    313405 TECNICO EM CALIBRACAO|313410 TECNICO EM INSTRUMENTACAO"]
["    313505 TECNICO EM FOTONICA|314105 TECNICO EM MECANICA DE PRECISAO",null,null,null,null,null,null,null,null,"    313505 TECNICO EM FOTONICA|314105 TECNICO EM MECANICA DE PRECISAO",null,null,null,null,null,null,null,null,null,null,null,"    313415 ENCARREGADO DE MANUTENCAO DE INSTRUMENTOS DE CONTROLE, MEDICAO E SIMILARES"]
["    314110 TECNICO MECANICO",null,null,null,null,null,null,null,null,"    314110 TECNICO MECANICO",null,null,null,null,null,null,null,null,null,null,null,"    313505 TECNICO EM FOTONICA|314105 TECNICO EM MECANICA DE PRECISAO"]
["    314115 TECNICO MECANICO (CALEFACAO, VENTILACAO E REFRIGERACAO)",null,null,null,null,null,null,null,null,"    314115 TECNICO MECANICO (CALEFACAO, VENTILACAO E REFRIGERACAO)",null,null,null,null,null,null,null,null,null,null,null,"    314110 TECNICO MECANICO"]
["    314120 TECNICO MECANICO (MAQUINAS)|314125 TECNICO MECANICO (MOTORES)",null,null,null,null,null,null,null,null,"    314120 TECNICO MECANICO (MAQUINAS)|314125 TECNICO MECANICO (MOTORES)",null,null,null,null,null,null,null,null,null,null,null,"    314115 TECNICO MECANICO (CALEFACAO, VENTILACAO E REFRIGERACAO)"]
["    314205 TECNICO MECANICO NA FABRICACAO DE FERRAMENTAS",null,null,null,null,null,null,null,null,"    314205 TECNICO MECANICO NA FABRICACAO DE FERRAMENTAS",null,null,null,null,null,null,null,null,null,null,null,"    314120 TECNICO MECANICO (MAQUINAS)|314125 TECNICO MECANICO (MOTORES)"]
["    314210 TECNICO MECANICO NA MANUTENCAO DE FERRAMENTAS",null,null,null,null,null,null,null,null,"    314210 TECNICO MECANICO NA MANUTENCAO DE FERRAMENTAS",null,null,null,null,null,null,null,null,null,null,null,"    314205 TECNICO MECANICO NA FABRICACAO DE FERRAMENTAS"]
["    314305 TECNICO EM AUTOMOBILISTICA|314310 TECNICO MECANICO (AERONAVES)",null,null,null,null,null,null,null,null,"    314305 TECNICO EM AUTOMOBILISTICA|314310 TECNICO MECANICO (AERONAVES)",null,null,null,null,null,null,null,null,null,null,null,"    314210 TECNICO MECANICO NA MANUTENCAO DE FERRAMENTAS"]
["    314315 TECNICO MECANICO (EMBARCACOES)",null,null,null,null,null,null,null,null,"    314315 TECNICO MECANICO (EMBARCACOES)",null,null,null,null,null,null,null,null,null,null,null,"    314305 TECNICO EM AUTOMOBILISTICA|314310 TECNICO MECANICO (AERONAVES)"]
["    314405 TECNICO DE MANUTENCAO DE SISTEMAS E INSTRUMENTOS",null,null,null,null,null,null,null,null,"    314405 TECNICO DE MANUTENCAO DE SISTEMAS E INSTRUMENTOS",null,null,null,null,null,null,null,null,null,null,null,"    314315 TECNICO MECANICO (EMBARCACOES)"]
["    314410 TECNICO EM MANUTENCAO DE MAQUINAS|314605 INSPETOR DE SOLDAGEM",null,null,null,null,null,null,null,null,"    314410 TECNICO EM MANUTENCAO DE MAQUINAS|314605 INSPETOR DE SOLDAGEM",null,null,null,null,null,null,null,null,null,null,null,"    314405 TECNICO DE MANUTENCAO DE SISTEMAS E INSTRUMENTOS"]
["    314610 TECNICO EM CALDEIRARIA|314615 TECNICO EM ESTRUTURAS METALICAS",null,null,null,null,null,null,null,null,"    314610 TECNICO EM CALDEIRARIA|314615 TECNICO EM ESTRUTURAS METALICAS",null,null,null,null,null,null,null,null,null,null,null,"    314410 TECNICO EM MANUTENCAO DE MAQUINAS|314605 INSPETOR DE SOLDAGEM"]
["    314620 TECNICO EM SOLDAGEM|314705 TECNICO DE ACABAMENTO EM SIDERURGIA",null,null,null,null,null,null,null,null,"    314620 TECNICO EM SOLDAGEM|314705 TECNICO DE ACABAMENTO EM SIDERURGIA",null,null,null,null,null,null,null,null,null,null,null,"    314610 TECNICO EM CALDEIRARIA|314615 TECNICO EM ESTRUTURAS METALICAS"]
["    314710 TECNICO DE ACIARIA EM SIDERURGIA",null,null,null,null,null,null,null,null,"    314710 TECNICO DE ACIARIA EM SIDERURGIA",null,null,null,null,null,null,null,null,null,null,null,"    314620 TECNICO EM SOLDAGEM|314705 TECNICO DE ACABAMENTO EM SIDERURGIA"]
["    314715 TECNICO DE FUNDICAO EM SIDERURGIA",null,null,null,null,null,null,null,null,"    314715 TECNICO DE FUNDICAO EM SIDERURGIA",null,null,null,null,null,null,null,null,null,null,null,"    314710 TECNICO DE ACIARIA EM SIDERURGIA"]
["    314720 TECNICO DE LAMINACAO EM SIDERURGIA",null,null,null,null,null,null,null,null,"    314720 TECNICO DE LAMINACAO EM SIDERURGIA",null,null,null,null,null,null,null,null,null,null,null,"    314715 TECNICO DE FUNDICAO EM SIDERURGIA"]
["    314725 TECNICO DE REDUCAO NA SIDERURGIA (PRIMEIRA FUSAO)",null,null,null,null,null,null,null,null,"    314725 TECNICO DE REDUCAO NA SIDERURGIA (PRIMEIRA FUSAO)",null,null,null,null,null,null,null,null,null,null,null,"    314720 TECNICO DE LAMINACAO EM SIDERURGIA"]
["    314730 TECNICO DE REFRATARIO EM SIDERURGIA|316105 TECNICO EM GEOFISICA",null,null,null,null,null,null,null,null,"    314730 TECNICO DE REFRATARIO EM SIDERURGIA|316105 TECNICO EM GEOFISICA",null,null,null,null,null,null,null,null,null,null,null,"    314725 TECNICO DE REDUCAO NA SIDERURGIA (PRIMEIRA FUSAO)"]
["    316110 TECNICO EM GEOLOGIA|316115 TECNICO EM GEOQUIMICA",null,null,null,null,null,null,null,null,"    316110 TECNICO EM GEOLOGIA|316115 TECNICO EM GEOQUIMICA",null,null,null,null,null,null,null,null,null,null,null,"    314730 TECNICO DE REFRATARIO EM SIDERURGIA|316105 TECNICO EM GEOFISICA"]
["    316120 TECNICO EM GEOTECNIA|316305 TECNICO DE MINERACAO",null,null,null,null,null,null,null,null,"    316120 TECNICO EM GEOTECNIA|316305 TECNICO DE MINERACAO",null,null,null,null,null,null,null,null,null,null,null,"    316110 TECNICO EM GEOLOGIA|316115 TECNICO EM GEOQUIMICA"]
["    316310 TECNICO DE MINERACAO (OLEO E PETROLEO)",null,null,null,null,null,null,null,null,"    316310 TECNICO DE MINERACAO (OLEO E PETROLEO)",null,null,null,null,null,null,null,null,null,null,null,"    316120 TECNICO EM GEOTECNIA|316305 TECNICO DE MINERACAO"]
["    316315 TECNICO EM PROCESSAMENTO MINERAL (EXCETO PETROLEO)",null,null,null,null,null,null,null,null,"    316315 TECNICO EM PROCESSAMENTO MINERAL (EXCETO PETROLEO)",null,null,null,null,null,null,null,null,null,null,null,"    316310 TECNICO DE MINERACAO (OLEO E PETROLEO)"]
["    316320 TECNICO EM PESQUISA MINERAL",null,null,null,null,null,null,null,null,"    316320 TECNICO EM PESQUISA MINERAL",null,null,null,null,null,null,null,null,null,null,null,"    316315 TECNICO EM PROCESSAMENTO MINERAL (EXCETO PETROLEO)"]
["    316325 TECNICO DE PRODUCAO EM REFINO DE PETROLEO",null,null,null,null,null,null,null,null,"    316325 TECNICO DE PRODUCAO EM REFINO DE PETROLEO",null,null,null,null,null,null,null,null,null,null,null,"    316320 TECNICO EM PESQUISA MINERAL"]
["    316330 TECNICO EM PLANEJAMENTO DE LAVRA DE MINAS",null,null,null,null,null,null,null,null,"    316330 TECNICO EM PLANEJAMENTO DE LAVRA DE MINAS",null,null,null,null,null,null,null,null,null,null,null,"    316325 TECNICO DE PRODUCAO EM REFINO DE PETROLEO"]
["    316335 DESINCRUSTADOR (POCOS DE PETROLEO)",null,null,null,null,null,null,null,null,"    316335 DESINCRUSTADOR (POCOS DE PETROLEO)",null,null,null,null,null,null,null,null,null,null,null,"    316330 TECNICO EM PLANEJAMENTO DE LAVRA DE MINAS"]
["    316340 CIMENTADOR (POCOS DE PETROLEO)|317105 PROGRAMADOR DE INTERNET",null,null,null,null,null,null,null,null,"    316340 CIMENTADOR (POCOS DE PETROLEO)|317105 PROGRAMADOR DE INTERNET",null,null,null,null,null,null,null,null,null,null,null,"    316335 DESINCRUSTADOR (POCOS DE PETROLEO)"]
["    317110 PROGRAMADOR DE SISTEMAS DE INFORMACAO",null,null,null,null,null,null,null,null,"    317110 PROGRAMADOR DE SISTEMAS DE INFORMACAO",null,null,null,null,null,null,null,null,null,null,null,"    316340 CIMENTADOR (POCOS DE PETROLEO)|317105 PROGRAMADOR DE INTERNET"]
["    317115 PROGRAMADOR DE MAQUINAS - FERRAMENTA COM COMANDO NUMERICO",null,null,null,null,null,null,null,null,"    317115 PROGRAMADOR DE MAQUINAS - FERRAMENTA COM COMANDO NUMERICO",null,null,null,null,null,null,null,null,null,null,null,"    317110 PROGRAMADOR DE SISTEMAS DE INFORMACAO"]
["    317120 PROGRAMADOR DE MULTIMIDIA",null,null,null,null,null,null,null,null,"    317120 PROGRAMADOR DE MULTIMIDIA",null,null,null,null,null,null,null,null,null,null,null,"    317115 PROGRAMADOR DE MAQUINAS - FERRAMENTA COM COMANDO NUMERICO"]
["    317205 OPERADOR DE COMPUTADOR (INCLUSIVE MICROCOMPUTADOR)",null,null,null,null,null,null,null,null,"    317205 OPERADOR DE COMPUTADOR (INCLUSIVE MICROCOMPUTADOR)",null,null,null,null,null,null,null,null,null,null,null,"    317120 PROGRAMADOR DE MULTIMIDIA"]
["    317210 TECNICO DE APOIO AO USUARIO DE INFORMATICA (HELPDESK)",null,null,null,null,null,null,null,null,"    317210 TECNICO DE APOIO AO USUARIO DE INFORMATICA (HELPDESK)",null,null,null,null,null,null,null,null,null,null,null,"    317205 OPERADOR DE COMPUTADOR (INCLUSIVE MICROCOMPUTADOR)"]
["    318005 DESENHISTA TECNICO|318010 DESENHISTA COPISTA",null,null,null,null,null,null,null,null,"    318005 DESENHISTA TECNICO|318010 DESENHISTA COPISTA",null,null,null,null,null,null,null,null,null,null,null,"    317210 TECNICO DE APOIO AO USUARIO DE INFORMATICA (HELPDESK)"]
["    318015 DESENHISTA DETALHISTA|318105 DESENHISTA TECNICO (ARQUITETURA)",null,null,null,null,null,null,null,null,"    318015 DESENHISTA DETALHISTA|318105 DESENHISTA TECNICO (ARQUITETURA)",null,null,null,null,null,null,null,null,null,null,null,"    318005 DESENHISTA TECNICO|318010 DESENHISTA COPISTA"]
["    318110 DESENHISTA TECNICO (CARTOGRAFIA)",null,null,null,null,null,null,null,null,"    318110 DESENHISTA TECNICO (CARTOGRAFIA)",null,null,null,null,null,null,null,null,null,null,null,"    318015 DESENHISTA DETALHISTA|318105 DESENHISTA TECNICO (ARQUITETURA)"]
["    318115 DESENHISTA TECNICO (CONSTRUCAO CIVIL)",null,null,null,null,null,null,null,null,"    318115 DESENHISTA TECNICO (CONSTRUCAO CIVIL)",null,null,null,null,null,null,null,null,null,null,null,"    318110 DESENHISTA TECNICO (CARTOGRAFIA)"]
["    318120 DESENHISTA TECNICO (INSTALACOES HIDROSSANITARIAS)",null,null,null,null,null,null,null,null,"    318120 DESENHISTA TECNICO (INSTALACOES HIDROSSANITARIAS)",null,null,null,null,null,null,null,null,null,null,null,"    318115 DESENHISTA TECNICO (CONSTRUCAO CIVIL)"]
["    318205 DESENHISTA TECNICO MECANICO|318210 DESENHISTA TECNICO AERONAUTICO",null,null,null,null,null,null,null,null,"    318205 DESENHISTA TECNICO MECANICO|318210 DESENHISTA TECNICO AERONAUTICO",null,null,null,null,null,null,null,null,null,null,null,"    318120 DESENHISTA TECNICO (INSTALACOES HIDROSSANITARIAS)"]
["    318215 DESENHISTA TECNICO NAVAL",null,null,null,null,null,null,null,null,"    318215 DESENHISTA TECNICO NAVAL",null,null,null,null,null,null,null,null,null,null,null,"    318205 DESENHISTA TECNICO MECANICO|318210 DESENHISTA TECNICO AERONAUTICO"]
["    318305 DESENHISTA TECNICO (ELETRICIDADE E ELETRONICA)",null,null,null,null,null,null,null,null,"    318305 DESENHISTA TECNICO (ELETRICIDADE E ELETRONICA)",null,null,null,null,null,null,null,null,null,null,null,"    318215 DESENHISTA TECNICO NAVAL"]
["    318310 DESENHISTA TECNICO (CALEFACAO, VENTILACAO E REFRIGERACAO)",null,null,null,null,null,null,null,null,"    318310 DESENHISTA TECNICO (CALEFACAO, VENTILACAO E REFRIGERACAO)",null,null,null,null,null,null,null,null,null,null,null,"    318305 DESENHISTA TECNICO (ELETRICIDADE E ELETRONICA)"]
["    318405 DESENHISTA TECNICO (ARTES GRAFICAS)",null,null,null,null,null,null,null,null,"    318405 DESENHISTA TECNICO (ARTES GRAFICAS)",null,null,null,null,null,null,null,null,null,null,null,"    318310 DESENHISTA TECNICO (CALEFACAO, VENTILACAO E REFRIGERACAO)"]
["    318410 DESENHISTA TECNICO (ILUSTRACOES ARTISTICAS)",null,null,null,null,null,null,null,null,"    318410 DESENHISTA TECNICO (ILUSTRACOES ARTISTICAS)",null,null,null,null,null,null,null,null,null,null,null,"    318405 DESENHISTA TECNICO (ARTES GRAFICAS)"]
["    318415 DESENHISTA TECNICO (ILUSTRACOES TECNICAS)",null,null,null,null,null,null,null,null,"    318415 DESENHISTA TECNICO (ILUSTRACOES TECNICAS)",null,null,null,null,null,null,null,null,null,null,null,"    318410 DESENHISTA TECNICO (ILUSTRACOES ARTISTICAS)"]
["    318420 DESENHISTA TECNICO (INDUSTRIA TEXTIL)",null,null,null,null,null,null,null,null,"    318420 DESENHISTA TECNICO (INDUSTRIA TEXTIL)",null,null,null,null,null,null,null,null,null,null,null,"    318415 DESENHISTA TECNICO (ILUSTRACOES TECNICAS)"]
["    318425 DESENHISTA TECNICO (MOBILIARIO)",null,null,null,null,null,null,null,null,"    318425 DESENHISTA TECNICO (MOBILIARIO)",null,null,null,null,null,null,null,null,null,null,null,"    318420 DESENHISTA TECNICO (INDUSTRIA TEXTIL)"]
["    318430 DESENHISTA TECNICO DE EMBALAGENS, MAQUETES E LEIAUTES",null,null,null,null,null,null,null,null,"    318430 DESENHISTA TECNICO DE EMBALAGENS, MAQUETES E LEIAUTES",null,null,null,null,null,null,null,null,null,null,null,"    318425 DESENHISTA TECNICO (MOBILIARIO)"]
["    318505 DESENHISTA PROJETISTA DE ARQUITETURA",null,null,null,null,null,null,null,null,"    318505 DESENHISTA PROJETISTA DE ARQUITETURA",null,null,null,null,null,null,null,null,null,null,null,"    318430 DESENHISTA TECNICO DE EMBALAGENS, MAQUETES E LEIAUTES"]
["    318510 DESENHISTA PROJETISTA DE CONSTRUCAO CIVIL",null,null,null,null,null,null,null,null,"    318510 DESENHISTA PROJETISTA DE CONSTRUCAO CIVIL",null,null,null,null,null,null,null,null,null,null,null,"    318505 DESENHISTA PROJETISTA DE ARQUITETURA"]
["    318605 DESENHISTA PROJETISTA DE MAQUINAS",null,null,null,null,null,null,null,null,"    318605 DESENHISTA PROJETISTA DE MAQUINAS",null,null,null,null,null,null,null,null,null,null,null,"    318510 DESENHISTA PROJETISTA DE CONSTRUCAO CIVIL"]
["    318610 DESENHISTA PROJETISTA MECANICO",null,null,null,null,null,null,null,null,"    318610 DESENHISTA PROJETISTA MECANICO",null,null,null,null,null,null,null,null,null,null,null,"    318605 DESENHISTA PROJETISTA DE MAQUINAS"]
["    318705 DESENHISTA PROJETISTA DE ELETRICIDADE",null,null,null,null,null,null,null,null,"    318705 DESENHISTA PROJETISTA DE ELETRICIDADE",null,null,null,null,null,null,null,null,null,null,null,"    318610 DESENHISTA PROJETISTA MECANICO"]
["    318710 DESENHISTA PROJETISTA ELETRONICO|318805 PROJETISTA DE MOVEIS",null,null,null,null,null,null,null,null,"    318710 DESENHISTA PROJETISTA ELETRONICO|318805 PROJETISTA DE MOVEIS",null,null,null,null,null,null,null,null,null,null,null,"    318705 DESENHISTA PROJETISTA DE ELETRICIDADE"]
["    318810 MODELISTA DE ROUPAS|318815 MODELISTA DE CALCADOS",null,null,null,null,null,null,null,null,"    318810 MODELISTA DE ROUPAS|318815 MODELISTA DE CALCADOS",null,null,null,null,null,null,null,null,null,null,null,"    318710 DESENHISTA PROJETISTA ELETRONICO|318805 PROJETISTA DE MOVEIS"]
["    319105 TECNICO EM CALCADOS E ARTEFATOS DE COURO",null,null,null,null,null,null,null,null,"    319105 TECNICO EM CALCADOS E ARTEFATOS DE COURO",null,null,null,null,null,null,null,null,null,null,null,"    318810 MODELISTA DE ROUPAS|318815 MODELISTA DE CALCADOS"]
["    319110 TECNICO EM CONFECCOES DO VESTUARIO|319205 TECNICO DO MOBILIARIO",null,null,null,null,null,null,null,null,"    319110 TECNICO EM CONFECCOES DO VESTUARIO|319205 TECNICO DO MOBILIARIO",null,null,null,null,null,null,null,null,null,null,null,"    319105 TECNICO EM CALCADOS E ARTEFATOS DE COURO"]
["    320105 TECNICO EM BIOTERISMO|320110 TECNICO EM HISTOLOGIA",null,null,null,null,null,null,null,null,"    320105 TECNICO EM BIOTERISMO|320110 TECNICO EM HISTOLOGIA",null,null,null,null,null,null,null,null,null,null,null,"    319110 TECNICO EM CONFECCOES DO VESTUARIO|319205 TECNICO DO MOBILIARIO"]
["    262805 ASSISTENTE DE COREOGRAFIA|321110 TECNICO AGROPECUARIO",null,null,null,null,null,null,null,null,"    262805 ASSISTENTE DE COREOGRAFIA|321110 TECNICO AGROPECUARIO",null,null,null,null,null,null,null,null,null,null,null,"    320105 TECNICO EM BIOTERISMO|320110 TECNICO EM HISTOLOGIA"]
["    321205 TECNICO EM MADEIRA|321210 TECNICO FLORESTAL",null,null,null,null,null,null,null,null,"    321205 TECNICO EM MADEIRA|321210 TECNICO FLORESTAL",null,null,null,null,null,null,null,null,null,null,null,"    262805 ASSISTENTE DE COREOGRAFIA|321110 TECNICO AGROPECUARIO"]
["    321305 TECNICO EM PISCICULTURA|321310 TECNICO EM CARCINICULTURA",null,null,null,null,null,null,null,null,"    321305 TECNICO EM PISCICULTURA|321310 TECNICO EM CARCINICULTURA",null,null,null,null,null,null,null,null,null,null,null,"    321205 TECNICO EM MADEIRA|321210 TECNICO FLORESTAL"]
["    321315 TECNICO EM MITILICULTURA|321320 TECNICO EM RANICULTURA",null,null,null,null,null,null,null,null,"    321315 TECNICO EM MITILICULTURA|321320 TECNICO EM RANICULTURA",null,null,null,null,null,null,null,null,null,null,null,"    321305 TECNICO EM PISCICULTURA|321310 TECNICO EM CARCINICULTURA"]
["    322105 ACUPUNTURISTA|322110 PODOLOGO|322115 QUIROPRAXISTA",null,null,null,null,null,null,null,null,"    322105 ACUPUNTURISTA|322110 PODOLOGO|322115 QUIROPRAXISTA",null,null,null,null,null,null,null,null,null,null,null,"    321315 TECNICO EM MITILICULTURA|321320 TECNICO EM RANICULTURA"]
["    322205 TECNICO DE ENFERMAGEM",null,null,null,null,null,null,null,null,"    322205 TECNICO DE ENFERMAGEM",null,null,null,null,null,null,null,null,null,null,null,"    322105 ACUPUNTURISTA|322110 PODOLOGO|322115 QUIROPRAXISTA"]
["    322210 TECNICO DE ENFERMAGEM DE TERAPIA INTENSIVA",null,null,null,null,null,null,null,null,"    322210 TECNICO DE ENFERMAGEM DE TERAPIA INTENSIVA",null,null,null,null,null,null,null,null,null,null,null,"    322205 TECNICO DE ENFERMAGEM"]
["    322215 TECNICO DE ENFERMAGEM DO TRABALHO",null,null,null,null,null,null,null,null,"    322215 TECNICO DE ENFERMAGEM DO TRABALHO",null,null,null,null,null,null,null,null,null,null,null,"    322210 TECNICO DE ENFERMAGEM DE TERAPIA INTENSIVA"]
["    322220 TECNICO DE ENFERMAGEM PSIQUIATRICA|322225 INSTRUMENTADOR CIRURGICO",null,null,null,null,null,null,null,null,"    322220 TECNICO DE ENFERMAGEM PSIQUIATRICA|322225 INSTRUMENTADOR CIRURGICO",null,null,null,null,null,null,null,null,null,null,null,"    322215 TECNICO DE ENFERMAGEM DO TRABALHO"]
["    322230 AUXILIAR DE ENFERMAGEM|322235 AUXILIAR DE ENFERMAGEM DO TRABALHO",null,null,null,null,null,null,null,null,"    322230 AUXILIAR DE ENFERMAGEM|322235 AUXILIAR DE ENFERMAGEM DO TRABALHO",null,null,null,null,null,null,null,null,null,null,null,"    322220 TECNICO DE ENFERMAGEM PSIQUIATRICA|322225 INSTRUMENTADOR CIRURGICO"]
["    322240 AUXILIAR DE SAUDE (NAVEGACAO MARITIMA)|322305 TECNICO EM OPTICA",null,null,null,null,null,null,null,null,"    322240 AUXILIAR DE SAUDE (NAVEGACAO MARITIMA)|322305 TECNICO EM OPTICA",null,null,null,null,null,null,null,null,null,null,null,"    322230 AUXILIAR DE ENFERMAGEM|322235 AUXILIAR DE ENFERMAGEM DO TRABALHO"]
["    322310 TECNICO EM OPTOMETRIA|322405 TECNICO EM HIGIENE DENTAL",null,null,null,null,null,null,null,null,"    322310 TECNICO EM OPTOMETRIA|322405 TECNICO EM HIGIENE DENTAL",null,null,null,null,null,null,null,null,null,null,null,"    322240 AUXILIAR DE SAUDE (NAVEGACAO MARITIMA)|322305 TECNICO EM OPTICA"]
["    322410 PROTETICO DENTARIO|322415 ATENDENTE DE CONSULTORIO DENTARIO",null,null,null,null,null,null,null,null,"    322410 PROTETICO DENTARIO|322415 ATENDENTE DE CONSULTORIO DENTARIO",null,null,null,null,null,null,null,null,null,null,null,"    322310 TECNICO EM OPTOMETRIA|322405 TECNICO EM HIGIENE DENTAL"]
["    322420 AUXILIAR DE PROTESE DENTARIA|322505 TECNICO DE ORTOPEDIA",null,null,null,null,null,null,null,null,"    322420 AUXILIAR DE PROTESE DENTARIA|322505 TECNICO DE ORTOPEDIA",null,null,null,null,null,null,null,null,null,null,null,"    322410 PROTETICO DENTARIO|322415 ATENDENTE DE CONSULTORIO DENTARIO"]
["    322605 TECNICO DE IMOBILIZACAO ORTOPEDICA|323105 TECNICO EM PECUARIA",null,null,null,null,null,null,null,null,"    322605 TECNICO DE IMOBILIZACAO ORTOPEDICA|323105 TECNICO EM PECUARIA",null,null,null,null,null,null,null,null,null,null,null,"    322420 AUXILIAR DE PROTESE DENTARIA|322505 TECNICO DE ORTOPEDIA"]
["    324105 TECNICO EM METODOS ELETROGRAFICOS EM ENCEFALOGRAFIA",null,null,null,null,null,null,null,null,"    324105 TECNICO EM METODOS ELETROGRAFICOS EM ENCEFALOGRAFIA",null,null,null,null,null,null,null,null,null,null,null,"    322605 TECNICO DE IMOBILIZACAO ORTOPEDICA|323105 TECNICO EM PECUARIA"]
["    324110 TECNICO EM METODOS GRAFICOS EM CARDIOLOGIA",null,null,null,null,null,null,null,null,"    324110 TECNICO EM METODOS GRAFICOS EM CARDIOLOGIA",null,null,null,null,null,null,null,null,null,null,null,"    324105 TECNICO EM METODOS ELETROGRAFICOS EM ENCEFALOGRAFIA"]
["    324115 TECNICO EM RADIOLOGIA E IMAGENOLOGIA",null,null,null,null,null,null,null,null,"    324115 TECNICO EM RADIOLOGIA E IMAGENOLOGIA",null,null,null,null,null,null,null,null,null,null,null,"    324110 TECNICO EM METODOS GRAFICOS EM CARDIOLOGIA"]
["    324205 TECNICO EM PATOLOGIA CLINICA",null,null,null,null,null,null,null,null,"    324205 TECNICO EM PATOLOGIA CLINICA",null,null,null,null,null,null,null,null,null,null,null,"    324115 TECNICO EM RADIOLOGIA E IMAGENOLOGIA"]
["    324210 AUXILIAR TECNICO EM PATOLOGIA CLINICA|325005 ENOLOGO|325010 AROMISTA",null,null,null,null,null,null,null,null,"    324210 AUXILIAR TECNICO EM PATOLOGIA CLINICA|325005 ENOLOGO|325010 AROMISTA",null,null,null,null,null,null,null,null,null,null,null,"    324205 TECNICO EM PATOLOGIA CLINICA"]
["    325015 PERFUMISTA|325105 AUXILIAR TECNICO EM LABORATORIO DE FARMACIA",null,null,null,null,null,null,null,null,"    325015 PERFUMISTA|325105 AUXILIAR TECNICO EM LABORATORIO DE FARMACIA",null,null,null,null,null,null,null,null,null,null,null,"    324210 AUXILIAR TECNICO EM PATOLOGIA CLINICA|325005 ENOLOGO|325010 AROMISTA"]
["    325110 TECNICO EM LABORATORIO DE FARMACIA|325205 TECNICO DE ALIMENTOS",null,null,null,null,null,null,null,null,"    325110 TECNICO EM LABORATORIO DE FARMACIA|325205 TECNICO DE ALIMENTOS",null,null,null,null,null,null,null,null,null,null,null,"    325015 PERFUMISTA|325105 AUXILIAR TECNICO EM LABORATORIO DE FARMACIA"]
["    325305 TECNICO EM BIOTECNOLOGIA|325310 TECNICO EM IMUNOBIOLOGICOS",null,null,null,null,null,null,null,null,"    325305 TECNICO EM BIOTECNOLOGIA|325310 TECNICO EM IMUNOBIOLOGICOS",null,null,null,null,null,null,null,null,null,null,null,"    325110 TECNICO EM LABORATORIO DE FARMACIA|325205 TECNICO DE ALIMENTOS"]
["    328105 EMBALSAMADOR|328110 TAXIDERMISTA",null,null,null,null,null,null,null,null,"    328105 EMBALSAMADOR|328110 TAXIDERMISTA",null,null,null,null,null,null,null,null,null,null,null,"    325305 TECNICO EM BIOTECNOLOGIA|325310 TECNICO EM IMUNOBIOLOGICOS"]
["    331105 PROFESSOR DE NIVEL MEDIO NA EDUCACAO INFANTIL",null,null,null,null,null,null,null,null,"    331105 PROFESSOR DE NIVEL MEDIO NA EDUCACAO INFANTIL",null,null,null,null,null,null,null,null,null,null,null,"    328105 EMBALSAMADOR|328110 TAXIDERMISTA"]
["    331110 AUXILIAR DE DESENVOLVIMENTO INFANTIL",null,null,null,null,null,null,null,null,"    331110 AUXILIAR DE DESENVOLVIMENTO INFANTIL",null,null,null,null,null,null,null,null,null,null,null,"    331105 PROFESSOR DE NIVEL MEDIO NA EDUCACAO INFANTIL"]
["    331205 PROFESSOR DE NIVEL MEDIO NO ENSINO FUNDAMENTAL",null,null,null,null,null,null,null,null,"    331205 PROFESSOR DE NIVEL MEDIO NO ENSINO FUNDAMENTAL",null,null,null,null,null,null,null,null,null,null,null,"    331110 AUXILIAR DE DESENVOLVIMENTO INFANTIL"]
["    331305 PROFESSOR DE NIVEL MEDIO NO ENSINO PROFISSIONALIZANTE",null,null,null,null,null,null,null,null,"    331305 PROFESSOR DE NIVEL MEDIO NO ENSINO PROFISSIONALIZANTE",null,null,null,null,null,null,null,null,null,null,null,"    331205 PROFESSOR DE NIVEL MEDIO NO ENSINO FUNDAMENTAL"]
["    332105 PROFESSOR LEIGO NO ENSINO FUNDAMENTAL",null,null,null,null,null,null,null,null,"    332105 PROFESSOR LEIGO NO ENSINO FUNDAMENTAL",null,null,null,null,null,null,null,null,null,null,null,"    331305 PROFESSOR DE NIVEL MEDIO NO ENSINO PROFISSIONALIZANTE"]
["    332205 PROFESSOR PRATICO NO ENSINO PROFISSIONALIZANTE",null,null,null,null,null,null,null,null,"    332205 PROFESSOR PRATICO NO ENSINO PROFISSIONALIZANTE",null,null,null,null,null,null,null,null,null,null,null,"    332105 PROFESSOR LEIGO NO ENSINO FUNDAMENTAL"]
["    333105 INSTRUTOR DE AUTO-ESCOLA|333110 INSTRUTOR DE CURSOS LIVRES",null,null,null,null,null,null,null,null,"    333105 INSTRUTOR DE AUTO-ESCOLA|333110 INSTRUTOR DE CURSOS LIVRES",null,null,null,null,null,null,null,null,null,null,null,"    332205 PROFESSOR PRATICO NO ENSINO PROFISSIONALIZANTE"]
["    333115 PROFESSORES DE CURSOS LIVRES",null,null,null,null,null,null,null,null,"    333115 PROFESSORES DE CURSOS LIVRES",null,null,null,null,null,null,null,null,null,null,null,"    333105 INSTRUTOR DE AUTO-ESCOLA|333110 INSTRUTOR DE CURSOS LIVRES"]
["    334105 INSPETOR DE ALUNOS DE ESCOLA PRIVADA",null,null,null,null,null,null,null,null,"    334105 INSPETOR DE ALUNOS DE ESCOLA PRIVADA",null,null,null,null,null,null,null,null,null,null,null,"    333115 PROFESSORES DE CURSOS LIVRES"]
["    334110 INSPETOR DE ALUNOS DE ESCOLA PUBLICA",null,null,null,null,null,null,null,null,"    334110 INSPETOR DE ALUNOS DE ESCOLA PUBLICA",null,null,null,null,null,null,null,null,null,null,null,"    334105 INSPETOR DE ALUNOS DE ESCOLA PRIVADA"]
["    341105 PILOTO COMERCIAL (EXCETO LINHAS AEREAS)",null,null,null,null,null,null,null,null,"    341105 PILOTO COMERCIAL (EXCETO LINHAS AEREAS)",null,null,null,null,null,null,null,null,null,null,null,"    334110 INSPETOR DE ALUNOS DE ESCOLA PUBLICA"]
["    341110 PILOTO COMERCIAL DE HELICOPTERO (EXCETO LINHAS AEREAS)",null,null,null,null,null,null,null,null,"    341110 PILOTO COMERCIAL DE HELICOPTERO (EXCETO LINHAS AEREAS)",null,null,null,null,null,null,null,null,null,null,null,"    341105 PILOTO COMERCIAL (EXCETO LINHAS AEREAS)"]
["    341115 MECANICO DE VOO|341120 PILOTO AGRICOLA",null,null,null,null,null,null,null,null,"    341115 MECANICO DE VOO|341120 PILOTO AGRICOLA",null,null,null,null,null,null,null,null,null,null,null,"    341110 PILOTO COMERCIAL DE HELICOPTERO (EXCETO LINHAS AEREAS)"]
["    341205 CONTRAMESTRE DE CABOTAGEM|341210 MESTRE DE CABOTAGEM",null,null,null,null,null,null,null,null,"    341205 CONTRAMESTRE DE CABOTAGEM|341210 MESTRE DE CABOTAGEM",null,null,null,null,null,null,null,null,null,null,null,"    341115 MECANICO DE VOO|341120 PILOTO AGRICOLA"]
["    341215 MESTRE FLUVIAL|341220 PATRAO DE PESCA DE ALTO-MAR",null,null,null,null,null,null,null,null,"    341215 MESTRE FLUVIAL|341220 PATRAO DE PESCA DE ALTO-MAR",null,null,null,null,null,null,null,null,null,null,null,"    341205 CONTRAMESTRE DE CABOTAGEM|341210 MESTRE DE CABOTAGEM"]
["    341225 PATRAO DE PESCA NA NAVEGACAO INTERIOR|341230 PILOTO FLUVIAL",null,null,null,null,null,null,null,null,"    341225 PATRAO DE PESCA NA NAVEGACAO INTERIOR|341230 PILOTO FLUVIAL",null,null,null,null,null,null,null,null,null,null,null,"    341215 MESTRE FLUVIAL|341220 PATRAO DE PESCA DE ALTO-MAR"]
["    341305 CONDUTOR MAQUINISTA FLUVIAL|341310 CONDUTOR MAQUINISTA MARITIMO",null,null,null,null,null,null,null,null,"    341305 CONDUTOR MAQUINISTA FLUVIAL|341310 CONDUTOR MAQUINISTA MARITIMO",null,null,null,null,null,null,null,null,null,null,null,"    341225 PATRAO DE PESCA NA NAVEGACAO INTERIOR|341230 PILOTO FLUVIAL"]
["    341315 ELETRICISTA DE BORDO",null,null,null,null,null,null,null,null,"    341315 ELETRICISTA DE BORDO",null,null,null,null,null,null,null,null,null,null,null,"    341305 CONDUTOR MAQUINISTA FLUVIAL|341310 CONDUTOR MAQUINISTA MARITIMO"]
["    342105 ANALISTA DE TRANSPORTE EM COMERCIO EXTERIOR",null,null,null,null,null,null,null,null,"    342105 ANALISTA DE TRANSPORTE EM COMERCIO EXTERIOR",null,null,null,null,null,null,null,null,null,null,null,"    341315 ELETRICISTA DE BORDO"]
["    342110 OPERADOR DE TRANSPORTE MULTIMODAL",null,null,null,null,null,null,null,null,"    342110 OPERADOR DE TRANSPORTE MULTIMODAL",null,null,null,null,null,null,null,null,null,null,null,"    342105 ANALISTA DE TRANSPORTE EM COMERCIO EXTERIOR"]
["    342115 CONTROLADOR DE SERVICOS DE MAQUINAS E VEICULOS|342120 AFRETADOR",null,null,null,null,null,null,null,null,"    342115 CONTROLADOR DE SERVICOS DE MAQUINAS E VEICULOS|342120 AFRETADOR",null,null,null,null,null,null,null,null,null,null,null,"    342110 OPERADOR DE TRANSPORTE MULTIMODAL"]
["    342205 AJUDANTE DE DESPACHANTE ADUANEIRO|342210 DESPACHANTE ADUANEIRO",null,null,null,null,null,null,null,null,"    342205 AJUDANTE DE DESPACHANTE ADUANEIRO|342210 DESPACHANTE ADUANEIRO",null,null,null,null,null,null,null,null,null,null,null,"    342115 CONTROLADOR DE SERVICOS DE MAQUINAS E VEICULOS|342120 AFRETADOR"]
["    342305 CHEFE DE SERVICO DE TRANSPORTE RODOVIARIO (PASSAGEIROS E CARGAS)",null,null,null,null,null,null,null,null,"    342305 CHEFE DE SERVICO DE TRANSPORTE RODOVIARIO (PASSAGEIROS E CARGAS)",null,null,null,null,null,null,null,null,null,null,null,"    342205 AJUDANTE DE DESPACHANTE ADUANEIRO|342210 DESPACHANTE ADUANEIRO"]
["    342310 INSPETOR DE SERVICOS DE TRANSPORTES RODOVIARIOS (PASSAGEIROS E CARGAS)",null,null,null,null,null,null,null,null,"    342310 INSPETOR DE SERVICOS DE TRANSPORTES RODOVIARIOS (PASSAGEIROS E CARGAS)",null,null,null,null,null,null,null,null,null,null,null,"    342305 CHEFE DE SERVICO DE TRANSPORTE RODOVIARIO (PASSAGEIROS E CARGAS)"]
["    342315 SUPERVISOR DE CARGA E DESCARGA",null,null,null,null,null,null,null,null,"    342315 SUPERVISOR DE CARGA E DESCARGA",null,null,null,null,null,null,null,null,null,null,null,"    342310 INSPETOR DE SERVICOS DE TRANSPORTES RODOVIARIOS (PASSAGEIROS E CARGAS)"]
["    342405 AGENTE DE ESTACAO (FERROVIA E METRO)",null,null,null,null,null,null,null,null,"    342405 AGENTE DE ESTACAO (FERROVIA E METRO)",null,null,null,null,null,null,null,null,null,null,null,"    342315 SUPERVISOR DE CARGA E DESCARGA"]
["    342410 OPERADOR DE CENTRO DE CONTROLE (FERROVIA E METRO)",null,null,null,null,null,null,null,null,"    342410 OPERADOR DE CENTRO DE CONTROLE (FERROVIA E METRO)",null,null,null,null,null,null,null,null,null,null,null,"    342405 AGENTE DE ESTACAO (FERROVIA E METRO)"]
["    342505 CONTROLADOR DE TRAFEGO AEREO|342510 DESPACHANTE OPERACIONAL DE VOO",null,null,null,null,null,null,null,null,"    342505 CONTROLADOR DE TRAFEGO AEREO|342510 DESPACHANTE OPERACIONAL DE VOO",null,null,null,null,null,null,null,null,null,null,null,"    342410 OPERADOR DE CENTRO DE CONTROLE (FERROVIA E METRO)"]
["    342515 FISCAL DE AVIACAO CIVIL (FAC)",null,null,null,null,null,null,null,null,"    342515 FISCAL DE AVIACAO CIVIL (FAC)",null,null,null,null,null,null,null,null,null,null,null,"    342505 CONTROLADOR DE TRAFEGO AEREO|342510 DESPACHANTE OPERACIONAL DE VOO"]
["    342520 GERENTE DA ADMINISTRACAO DE AEROPORTOS",null,null,null,null,null,null,null,null,"    342520 GERENTE DA ADMINISTRACAO DE AEROPORTOS",null,null,null,null,null,null,null,null,null,null,null,"    342515 FISCAL DE AVIACAO CIVIL (FAC)"]
["    342525 GERENTE DE EMPRESA AEREA EM AEROPORTOS",null,null,null,null,null,null,null,null,"    342525 GERENTE DE EMPRESA AEREA EM AEROPORTOS",null,null,null,null,null,null,null,null,null,null,null,"    342520 GERENTE DA ADMINISTRACAO DE AEROPORTOS"]
["    342530 INSPETOR DE AVIACAO CIVIL|342535 OPERADOR DE ATENDIMENTO AEROVIARIO",null,null,null,null,null,null,null,null,"    342530 INSPETOR DE AVIACAO CIVIL|342535 OPERADOR DE ATENDIMENTO AEROVIARIO",null,null,null,null,null,null,null,null,null,null,null,"    342525 GERENTE DE EMPRESA AEREA EM AEROPORTOS"]
["    342540 SUPERVISOR DA ADMINISTRACAO DE AEROPORTOS",null,null,null,null,null,null,null,null,"    342540 SUPERVISOR DA ADMINISTRACAO DE AEROPORTOS",null,null,null,null,null,null,null,null,null,null,null,"    342530 INSPETOR DE AVIACAO CIVIL|342535 OPERADOR DE ATENDIMENTO AEROVIARIO"]
["    342545 SUPERVISOR DE EMPRESA AEREA EM AEROPORTOS",null,null,null,null,null,null,null,null,"    342545 SUPERVISOR DE EMPRESA AEREA EM AEROPORTOS",null,null,null,null,null,null,null,null,null,null,null,"    342540 SUPERVISOR DA ADMINISTRACAO DE AEROPORTOS"]
["    342605 CHEFE DE ESTACAO PORTUARIA|342610 SUPERVISOR DE OPERACOES PORTUARIAS",null,null,null,null,null,null,null,null,"    342605 CHEFE DE ESTACAO PORTUARIA|342610 SUPERVISOR DE OPERACOES PORTUARIAS",null,null,null,null,null,null,null,null,null,null,null,"    342545 SUPERVISOR DE EMPRESA AEREA EM AEROPORTOS"]
["    351105 TECNICO DE CONTABILIDADE|351110 CHEFE DE CONTABILIDADE (TECNICO)",null,null,null,null,null,null,null,null,"    351105 TECNICO DE CONTABILIDADE|351110 CHEFE DE CONTABILIDADE (TECNICO)",null,null,null,null,null,null,null,null,null,null,null,"    342605 CHEFE DE ESTACAO PORTUARIA|342610 SUPERVISOR DE OPERACOES PORTUARIAS"]
["    351115 CONSULTOR CONTABIL (TECNICO)|351305 TECNICO EM ADMINISTRACAO",null,null,null,null,null,null,null,null,"    351115 CONSULTOR CONTABIL (TECNICO)|351305 TECNICO EM ADMINISTRACAO",null,null,null,null,null,null,null,null,null,null,null,"    351105 TECNICO DE CONTABILIDADE|351110 CHEFE DE CONTABILIDADE (TECNICO)"]
["    351310 TECNICO EM ADMINISTRACAO DE COMERCIO EXTERIOR",null,null,null,null,null,null,null,null,"    351310 TECNICO EM ADMINISTRACAO DE COMERCIO EXTERIOR",null,null,null,null,null,null,null,null,null,null,null,"    351115 CONSULTOR CONTABIL (TECNICO)|351305 TECNICO EM ADMINISTRACAO"]
["    351315 AGENTE DE RECRUTAMENTO E SELECAO|351405 ESCREVENTE",null,null,null,null,null,null,null,null,"    351315 AGENTE DE RECRUTAMENTO E SELECAO|351405 ESCREVENTE",null,null,null,null,null,null,null,null,null,null,null,"    351310 TECNICO EM ADMINISTRACAO DE COMERCIO EXTERIOR"]
["    351410 ESCRIVAO JUDICIAL|351415 ESCRIVAO EXTRA - JUDICIAL",null,null,null,null,null,null,null,null,"    351410 ESCRIVAO JUDICIAL|351415 ESCRIVAO EXTRA - JUDICIAL",null,null,null,null,null,null,null,null,null,null,null,"    351315 AGENTE DE RECRUTAMENTO E SELECAO|351405 ESCREVENTE"]
["    351420 ESCRIVAO DE POLICIA|351425 OFICIAL DE JUSTICA",null,null,null,null,null,null,null,null,"    351420 ESCRIVAO DE POLICIA|351425 OFICIAL DE JUSTICA",null,null,null,null,null,null,null,null,null,null,null,"    351410 ESCRIVAO JUDICIAL|351415 ESCRIVAO EXTRA - JUDICIAL"]
["    351430 AUXILIAR DE SERVICOS JURIDICOS|351505 TECNICO EM SECRETARIADO",null,null,null,null,null,null,null,null,"    351430 AUXILIAR DE SERVICOS JURIDICOS|351505 TECNICO EM SECRETARIADO",null,null,null,null,null,null,null,null,null,null,null,"    351420 ESCRIVAO DE POLICIA|351425 OFICIAL DE JUSTICA"]
["    351510 TAQUIGRAFO|351515 ESTENOTIPISTA",null,null,null,null,null,null,null,null,"    351510 TAQUIGRAFO|351515 ESTENOTIPISTA",null,null,null,null,null,null,null,null,null,null,null,"    351430 AUXILIAR DE SERVICOS JURIDICOS|351505 TECNICO EM SECRETARIADO"]
["    351605 TECNICO EM SEGURANCA NO TRABALHO|351705 ANALISTA DE SEGUROS (TECNICO)",null,null,null,null,null,null,null,null,"    351605 TECNICO EM SEGURANCA NO TRABALHO|351705 ANALISTA DE SEGUROS (TECNICO)",null,null,null,null,null,null,null,null,null,null,null,"    351510 TAQUIGRAFO|351515 ESTENOTIPISTA"]
["    351710 ANALISTA DE SINISTROS|351715 ASSISTENTE COMERCIAL DE SEGUROS",null,null,null,null,null,null,null,null,"    351710 ANALISTA DE SINISTROS|351715 ASSISTENTE COMERCIAL DE SEGUROS",null,null,null,null,null,null,null,null,null,null,null,"    351605 TECNICO EM SEGURANCA NO TRABALHO|351705 ANALISTA DE SEGUROS (TECNICO)"]
["    351720 ASSISTENTE TECNICO DE SEGUROS|351725 INSPETOR DE RISCO",null,null,null,null,null,null,null,null,"    351720 ASSISTENTE TECNICO DE SEGUROS|351725 INSPETOR DE RISCO",null,null,null,null,null,null,null,null,null,null,null,"    351710 ANALISTA DE SINISTROS|351715 ASSISTENTE COMERCIAL DE SEGUROS"]
["    351730 INSPETOR DE SINISTROS|351735 TECNICO DE RESSEGUROS",null,null,null,null,null,null,null,null,"    351730 INSPETOR DE SINISTROS|351735 TECNICO DE RESSEGUROS",null,null,null,null,null,null,null,null,null,null,null,"    351720 ASSISTENTE TECNICO DE SEGUROS|351725 INSPETOR DE RISCO"]
["    351740 TECNICO DE SEGUROS|351805 DETETIVE PROFISSIONAL",null,null,null,null,null,null,null,null,"    351740 TECNICO DE SEGUROS|351805 DETETIVE PROFISSIONAL",null,null,null,null,null,null,null,null,null,null,null,"    351730 INSPETOR DE SINISTROS|351735 TECNICO DE RESSEGUROS"]
["    351810 INVESTIGADOR DE POLICIA|351815 PAPILOSCOPISTA POLICIAL",null,null,null,null,null,null,null,null,"    351810 INVESTIGADOR DE POLICIA|351815 PAPILOSCOPISTA POLICIAL",null,null,null,null,null,null,null,null,null,null,null,"    351740 TECNICO DE SEGUROS|351805 DETETIVE PROFISSIONAL"]
["    352205 AGENTE DE DEFESA AMBIENTAL|352210 AGENTE DE SAUDE PUBLICA",null,null,null,null,null,null,null,null,"    352205 AGENTE DE DEFESA AMBIENTAL|352210 AGENTE DE SAUDE PUBLICA",null,null,null,null,null,null,null,null,null,null,null,"    351810 INVESTIGADOR DE POLICIA|351815 PAPILOSCOPISTA POLICIAL"]
["    352305 METROLOGISTA|352310 AGENTE FISCAL DE QUALIDADE",null,null,null,null,null,null,null,null,"    352305 METROLOGISTA|352310 AGENTE FISCAL DE QUALIDADE",null,null,null,null,null,null,null,null,null,null,null,"    352205 AGENTE DE DEFESA AMBIENTAL|352210 AGENTE DE SAUDE PUBLICA"]
["    352315 AGENTE FISCAL METROLOGICO|352320 AGENTE FISCAL TEXTIL",null,null,null,null,null,null,null,null,"    352315 AGENTE FISCAL METROLOGICO|352320 AGENTE FISCAL TEXTIL",null,null,null,null,null,null,null,null,null,null,null,"    352305 METROLOGISTA|352310 AGENTE FISCAL DE QUALIDADE"]
["    352405 AGENTE DE DIREITOS AUTORAIS",null,null,null,null,null,null,null,null,"    352405 AGENTE DE DIREITOS AUTORAIS",null,null,null,null,null,null,null,null,null,null,null,"    352315 AGENTE FISCAL METROLOGICO|352320 AGENTE FISCAL TEXTIL"]
["    352410 AVALIADOR DE PRODUTOS DO MEIO DE COMUNICACAO",null,null,null,null,null,null,null,null,"    352410 AVALIADOR DE PRODUTOS DO MEIO DE COMUNICACAO",null,null,null,null,null,null,null,null,null,null,null,"    352405 AGENTE DE DIREITOS AUTORAIS"]
["    352415 OUVIDOR (OMBUDSMAN) DO MEIO DE COMUNICACAO",null,null,null,null,null,null,null,null,"    352415 OUVIDOR (OMBUDSMAN) DO MEIO DE COMUNICACAO",null,null,null,null,null,null,null,null,null,null,null,"    352410 AVALIADOR DE PRODUTOS DO MEIO DE COMUNICACAO"]
["    352420 TECNICO EM DIREITOS AUTORAIS",null,null,null,null,null,null,null,null,"    352420 TECNICO EM DIREITOS AUTORAIS",null,null,null,null,null,null,null,null,null,null,null,"    352415 OUVIDOR (OMBUDSMAN) DO MEIO DE COMUNICACAO"]
["    353205 TECNICO DE OPERACOES E SERVICOS BANCARIOS - CAMBIO",null,null,null,null,null,null,null,null,"    353205 TECNICO DE OPERACOES E SERVICOS BANCARIOS - CAMBIO",null,null,null,null,null,null,null,null,null,null,null,"    352420 TECNICO EM DIREITOS AUTORAIS"]
["    353210 TECNICO DE OPERACOES E SERVICOS BANCARIOS - CREDITO IMOBILIARIO",null,null,null,null,null,null,null,null,"    353210 TECNICO DE OPERACOES E SERVICOS BANCARIOS - CREDITO IMOBILIARIO",null,null,null,null,null,null,null,null,null,null,null,"    353205 TECNICO DE OPERACOES E SERVICOS BANCARIOS - CAMBIO"]
["    353215 TECNICO DE OPERACOES E SERVICOS BANCARIOS - CREDITO RURAL",null,null,null,null,null,null,null,null,"    353215 TECNICO DE OPERACOES E SERVICOS BANCARIOS - CREDITO RURAL",null,null,null,null,null,null,null,null,null,null,null,"    353210 TECNICO DE OPERACOES E SERVICOS BANCARIOS - CREDITO IMOBILIARIO"]
["    353220 TECNICO DE OPERACOES E SERVICOS BANCARIOS - LEASING",null,null,null,null,null,null,null,null,"    353220 TECNICO DE OPERACOES E SERVICOS BANCARIOS - LEASING",null,null,null,null,null,null,null,null,null,null,null,"    353215 TECNICO DE OPERACOES E SERVICOS BANCARIOS - CREDITO RURAL"]
["    353225 TECNICO DE OPERACOES E SERVICOS BANCARIOS - RENDA FIXA E VARIAVEL",null,null,null,null,null,null,null,null,"    353225 TECNICO DE OPERACOES E SERVICOS BANCARIOS - RENDA FIXA E VARIAVEL",null,null,null,null,null,null,null,null,null,null,null,"    353220 TECNICO DE OPERACOES E SERVICOS BANCARIOS - LEASING"]
["    353230 TESOUREIRO DE BANCO|353235 CHEFE DE SERVICOS BANCARIOS",null,null,null,null,null,null,null,null,"    353230 TESOUREIRO DE BANCO|353235 CHEFE DE SERVICOS BANCARIOS",null,null,null,null,null,null,null,null,null,null,null,"    353225 TECNICO DE OPERACOES E SERVICOS BANCARIOS - RENDA FIXA E VARIAVEL"]
["    354110 AGENCIADOR DE PROPAGANDA|354120 AGENTE DE VENDAS DE SERVICOS",null,null,null,null,null,null,null,null,"    354110 AGENCIADOR DE PROPAGANDA|354120 AGENTE DE VENDAS DE SERVICOS",null,null,null,null,null,null,null,null,null,null,null,"    353230 TESOUREIRO DE BANCO|353235 CHEFE DE SERVICOS BANCARIOS"]
["    354125 ASSISTENTE DE VENDAS|354130 PROMOTOR DE VENDAS ESPECIALIZADO",null,null,null,null,null,null,null,null,"    354125 ASSISTENTE DE VENDAS|354130 PROMOTOR DE VENDAS ESPECIALIZADO",null,null,null,null,null,null,null,null,null,null,null,"    354110 AGENCIADOR DE PROPAGANDA|354120 AGENTE DE VENDAS DE SERVICOS"]
["    354135 TECNICO DE VENDAS|354140 TECNICO EM ATENDIMENTO E VENDAS",null,null,null,null,null,null,null,null,"    354135 TECNICO DE VENDAS|354140 TECNICO EM ATENDIMENTO E VENDAS",null,null,null,null,null,null,null,null,null,null,null,"    354125 ASSISTENTE DE VENDAS|354130 PROMOTOR DE VENDAS ESPECIALIZADO"]
["    354145 VENDEDOR PRACISTA|354205 COMPRADOR|354210 SUPERVISOR DE COMPRAS",null,null,null,null,null,null,null,null,"    354145 VENDEDOR PRACISTA|354205 COMPRADOR|354210 SUPERVISOR DE COMPRAS",null,null,null,null,null,null,null,null,null,null,null,"    354135 TECNICO DE VENDAS|354140 TECNICO EM ATENDIMENTO E VENDAS"]
["    354305 ANALISTA DE EXPORTACAO E IMPORTACAO|354405 LEILOEIRO",null,null,null,null,null,null,null,null,"    354305 ANALISTA DE EXPORTACAO E IMPORTACAO|354405 LEILOEIRO",null,null,null,null,null,null,null,null,null,null,null,"    354145 VENDEDOR PRACISTA|354205 COMPRADOR|354210 SUPERVISOR DE COMPRAS"]
["    354410 AVALIADOR DE IMOVEIS|321105 TECNICO AGRICOLA",null,null,null,null,null,null,null,null,"    354410 AVALIADOR DE IMOVEIS|321105 TECNICO AGRICOLA",null,null,null,null,null,null,null,null,null,null,null,"    354305 ANALISTA DE EXPORTACAO E IMPORTACAO|354405 LEILOEIRO"]
["    354505 CORRETOR DE SEGUROS|354605 CORRETOR DE IMOVEIS",null,null,null,null,null,null,null,null,"    354505 CORRETOR DE SEGUROS|354605 CORRETOR DE IMOVEIS",null,null,null,null,null,null,null,null,null,null,null,"    354410 AVALIADOR DE IMOVEIS|321105 TECNICO AGRICOLA"]
["    354705 REPRESENTANTE COMERCIAL AUTONOMO|354805 TECNICO EM TURISMO",null,null,null,null,null,null,null,null,"    354705 REPRESENTANTE COMERCIAL AUTONOMO|354805 TECNICO EM TURISMO",null,null,null,null,null,null,null,null,null,null,null,"    354505 CORRETOR DE SEGUROS|354605 CORRETOR DE IMOVEIS"]
["    354810 OPERADOR DE TURISMO|354815 AGENTE DE VIAGEM",null,null,null,null,null,null,null,null,"    354810 OPERADOR DE TURISMO|354815 AGENTE DE VIAGEM",null,null,null,null,null,null,null,null,null,null,null,"    354705 REPRESENTANTE COMERCIAL AUTONOMO|354805 TECNICO EM TURISMO"]
["    354820 ORGANIZADOR DE EVENTO|371105 AUXILIAR DE BIBLIOTECA",null,null,null,null,null,null,null,null,"    354820 ORGANIZADOR DE EVENTO|371105 AUXILIAR DE BIBLIOTECA",null,null,null,null,null,null,null,null,null,null,null,"    354810 OPERADOR DE TURISMO|354815 AGENTE DE VIAGEM"]
["    371110 TECNICO EM BIBLIOTECONOMIA|371205 COLECIONADOR DE SELOS E MOEDAS",null,null,null,null,null,null,null,null,"    371110 TECNICO EM BIBLIOTECONOMIA|371205 COLECIONADOR DE SELOS E MOEDAS",null,null,null,null,null,null,null,null,null,null,null,"    354820 ORGANIZADOR DE EVENTO|371105 AUXILIAR DE BIBLIOTECA"]
["    371210 TECNICO EM MUSEOLOGIA|371305 TECNICO EM PROGRAMACAO VISUAL",null,null,null,null,null,null,null,null,"    371210 TECNICO EM MUSEOLOGIA|371305 TECNICO EM PROGRAMACAO VISUAL",null,null,null,null,null,null,null,null,null,null,null,"    371110 TECNICO EM BIBLIOTECONOMIA|371205 COLECIONADOR DE SELOS E MOEDAS"]
["    371310 TECNICO GRAFICO|371405 RECREADOR DE ACANTONAMENTO|371410 RECREADOR",null,null,null,null,null,null,null,null,"    371310 TECNICO GRAFICO|371405 RECREADOR DE ACANTONAMENTO|371410 RECREADOR",null,null,null,null,null,null,null,null,null,null,null,"    371210 TECNICO EM MUSEOLOGIA|371305 TECNICO EM PROGRAMACAO VISUAL"]
["    372105 DIRETOR DE FOTOGRAFIA|372110 ILUMINADOR (TELEVISAO)",null,null,null,null,null,null,null,null,"    372105 DIRETOR DE FOTOGRAFIA|372110 ILUMINADOR (TELEVISAO)",null,null,null,null,null,null,null,null,null,null,null,"    371310 TECNICO GRAFICO|371405 RECREADOR DE ACANTONAMENTO|371410 RECREADOR"]
["    372115 OPERADOR DE CAMERA DE TELEVISAO",null,null,null,null,null,null,null,null,"    372115 OPERADOR DE CAMERA DE TELEVISAO",null,null,null,null,null,null,null,null,null,null,null,"    372105 DIRETOR DE FOTOGRAFIA|372110 ILUMINADOR (TELEVISAO)"]
["    372205 OPERADOR DE REDE DE TELEPROCESSAMENTO|372210 RADIOTELEGRAFISTA",null,null,null,null,null,null,null,null,"    372205 OPERADOR DE REDE DE TELEPROCESSAMENTO|372210 RADIOTELEGRAFISTA",null,null,null,null,null,null,null,null,null,null,null,"    372115 OPERADOR DE CAMERA DE TELEVISAO"]
["    373105 OPERADOR DE AUDIO DE CONTINUIDADE (RADIO)",null,null,null,null,null,null,null,null,"    373105 OPERADOR DE AUDIO DE CONTINUIDADE (RADIO)",null,null,null,null,null,null,null,null,null,null,null,"    372205 OPERADOR DE REDE DE TELEPROCESSAMENTO|372210 RADIOTELEGRAFISTA"]
["    373110 OPERADOR DE CENTRAL DE RADIO|373115 OPERADOR DE EXTERNA (RADIO)",null,null,null,null,null,null,null,null,"    373110 OPERADOR DE CENTRAL DE RADIO|373115 OPERADOR DE EXTERNA (RADIO)",null,null,null,null,null,null,null,null,null,null,null,"    373105 OPERADOR DE AUDIO DE CONTINUIDADE (RADIO)"]
["    373120 OPERADOR DE GRAVACAO DE RADIO|373125 OPERADOR DE TRANSMISSOR DE RADIO",null,null,null,null,null,null,null,null,"    373120 OPERADOR DE GRAVACAO DE RADIO|373125 OPERADOR DE TRANSMISSOR DE RADIO",null,null,null,null,null,null,null,null,null,null,null,"    373110 OPERADOR DE CENTRAL DE RADIO|373115 OPERADOR DE EXTERNA (RADIO)"]
["    373205 TECNICO EM OPERACAO DE EQUIPAMENTOS DE PRODUCAO PARA TELEVISAO E PRODUTORAS DE VIDEO",null,null,null,null,null,null,null,null,"    373205 TECNICO EM OPERACAO DE EQUIPAMENTOS DE PRODUCAO PARA TELEVISAO E PRODUTORAS DE VIDEO",null,null,null,null,null,null,null,null,null,null,null,"    373120 OPERADOR DE GRAVACAO DE RADIO|373125 OPERADOR DE TRANSMISSOR DE RADIO"]
["    373210 TECNICO EM OPERACAO DE EQUIPAMENTO DE EXIBICAO DE TELEVISAO",null,null,null,null,null,null,null,null,"    373210 TECNICO EM OPERACAO DE EQUIPAMENTO DE EXIBICAO DE TELEVISAO",null,null,null,null,null,null,null,null,null,null,null,"    373205 TECNICO EM OPERACAO DE EQUIPAMENTOS DE PRODUCAO PARA TELEVISAO E PRODUTORAS DE VIDEO"]
["    373215 TECNICO EM OPERACAO DE EQUIPAMENTOS DE TRANSMISSAO/RECEPCAO DE TELEVISAO",null,null,null,null,null,null,null,null,"    373215 TECNICO EM OPERACAO DE EQUIPAMENTOS DE TRANSMISSAO/RECEPCAO DE TELEVISAO",null,null,null,null,null,null,null,null,null,null,null,"    373210 TECNICO EM OPERACAO DE EQUIPAMENTO DE EXIBICAO DE TELEVISAO"]
["    373220 SUPERVISOR TECNICO OPERACIONAL DE SISTEMAS DE TELEVISAO E PRODUTORAS DE VIDEO",null,null,null,null,null,null,null,null,"    373220 SUPERVISOR TECNICO OPERACIONAL DE SISTEMAS DE TELEVISAO E PRODUTORAS DE VIDEO",null,null,null,null,null,null,null,null,null,null,null,"    373215 TECNICO EM OPERACAO DE EQUIPAMENTOS DE TRANSMISSAO/RECEPCAO DE TELEVISAO"]
["    374105 TECNICO EM GRAVACAO DE AUDIO",null,null,null,null,null,null,null,null,"    374105 TECNICO EM GRAVACAO DE AUDIO",null,null,null,null,null,null,null,null,null,null,null,"    373220 SUPERVISOR TECNICO OPERACIONAL DE SISTEMAS DE TELEVISAO E PRODUTORAS DE VIDEO"]
["    374110 TECNICO EM INSTALACAO DE EQUIPAMENTOS DE AUDIO",null,null,null,null,null,null,null,null,"    374110 TECNICO EM INSTALACAO DE EQUIPAMENTOS DE AUDIO",null,null,null,null,null,null,null,null,null,null,null,"    374105 TECNICO EM GRAVACAO DE AUDIO"]
["    374115 TECNICO EM MASTERIZACAO DE AUDIO|374120 PROJETISTA DE SOM",null,null,null,null,null,null,null,null,"    374115 TECNICO EM MASTERIZACAO DE AUDIO|374120 PROJETISTA DE SOM",null,null,null,null,null,null,null,null,null,null,null,"    374110 TECNICO EM INSTALACAO DE EQUIPAMENTOS DE AUDIO"]
["    374125 TECNICO EM SONORIZACAO|374130 TECNICO EM MIXAGEM DE AUDIO",null,null,null,null,null,null,null,null,"    374125 TECNICO EM SONORIZACAO|374130 TECNICO EM MIXAGEM DE AUDIO",null,null,null,null,null,null,null,null,null,null,null,"    374115 TECNICO EM MASTERIZACAO DE AUDIO|374120 PROJETISTA DE SOM"]
["    374135 PROJETISTA DE SISTEMAS DE AUDIO|374140 MICROFONISTA",null,null,null,null,null,null,null,null,"    374135 PROJETISTA DE SISTEMAS DE AUDIO|374140 MICROFONISTA",null,null,null,null,null,null,null,null,null,null,null,"    374125 TECNICO EM SONORIZACAO|374130 TECNICO EM MIXAGEM DE AUDIO"]
["    374205 CENOTECNICO (CINEMA, VIDEO, TELEVISAO, TEATRO E ESPETACULOS)",null,null,null,null,null,null,null,null,"    374205 CENOTECNICO (CINEMA, VIDEO, TELEVISAO, TEATRO E ESPETACULOS)",null,null,null,null,null,null,null,null,null,null,null,"    374135 PROJETISTA DE SISTEMAS DE AUDIO|374140 MICROFONISTA"]
["    374210 MAQUINISTA DE CINEMA E VIDEO",null,null,null,null,null,null,null,null,"    374210 MAQUINISTA DE CINEMA E VIDEO",null,null,null,null,null,null,null,null,null,null,null,"    374205 CENOTECNICO (CINEMA, VIDEO, TELEVISAO, TEATRO E ESPETACULOS)"]
["    374215 MAQUINISTA DE TEATRO E ESPETACULOS",null,null,null,null,null,null,null,null,"    374215 MAQUINISTA DE TEATRO E ESPETACULOS",null,null,null,null,null,null,null,null,null,null,null,"    374210 MAQUINISTA DE CINEMA E VIDEO"]
["    374305 OPERADOR DE PROJETOR CINEMATOGRAFICO",null,null,null,null,null,null,null,null,"    374305 OPERADOR DE PROJETOR CINEMATOGRAFICO",null,null,null,null,null,null,null,null,null,null,null,"    374215 MAQUINISTA DE TEATRO E ESPETACULOS"]
["    374310 OPERADOR-MANTENEDOR DE PROJETOR CINEMATOGRAFICO",null,null,null,null,null,null,null,null,"    374310 OPERADOR-MANTENEDOR DE PROJETOR CINEMATOGRAFICO",null,null,null,null,null,null,null,null,null,null,null,"    374305 OPERADOR DE PROJETOR CINEMATOGRAFICO"]
["    374405 EDITOR DE TV E VIDEO|374410 FINALIZADOR DE FILMES",null,null,null,null,null,null,null,null,"    374405 EDITOR DE TV E VIDEO|374410 FINALIZADOR DE FILMES",null,null,null,null,null,null,null,null,null,null,null,"    374310 OPERADOR-MANTENEDOR DE PROJETOR CINEMATOGRAFICO"]
["    374415 FINALIZADOR DE VIDEO|374420 MONTADOR DE FILMES",null,null,null,null,null,null,null,null,"    374415 FINALIZADOR DE VIDEO|374420 MONTADOR DE FILMES",null,null,null,null,null,null,null,null,null,null,null,"    374405 EDITOR DE TV E VIDEO|374410 FINALIZADOR DE FILMES"]
["    375105 DESIGNER DE INTERIORES|375110 DESIGNER DE VITRINES",null,null,null,null,null,null,null,null,"    375105 DESIGNER DE INTERIORES|375110 DESIGNER DE VITRINES",null,null,null,null,null,null,null,null,null,null,null,"    374415 FINALIZADOR DE VIDEO|374420 MONTADOR DE FILMES"]
["    375115 VISUAL MERCHANDISER|376105 DANCARINO TRADICIONAL",null,null,null,null,null,null,null,null,"    375115 VISUAL MERCHANDISER|376105 DANCARINO TRADICIONAL",null,null,null,null,null,null,null,null,null,null,null,"    375105 DESIGNER DE INTERIORES|375110 DESIGNER DE VITRINES"]
["    376110 DANCARINO POPULAR|376205 ACROBATA|376210 ARTISTA AEREO",null,null,null,null,null,null,null,null,"    376110 DANCARINO POPULAR|376205 ACROBATA|376210 ARTISTA AEREO",null,null,null,null,null,null,null,null,null,null,null,"    375115 VISUAL MERCHANDISER|376105 DANCARINO TRADICIONAL"]
["    376215 ARTISTA DE CIRCO (OUTROS)|376220 CONTORCIONISTA",null,null,null,null,null,null,null,null,"    376215 ARTISTA DE CIRCO (OUTROS)|376220 CONTORCIONISTA",null,null,null,null,null,null,null,null,null,null,null,"    376110 DANCARINO POPULAR|376205 ACROBATA|376210 ARTISTA AEREO"]
["    376225 DOMADOR DE ANIMAIS (CIRCENSE)|376230 EQUILIBRISTA|376235 MAGICO",null,null,null,null,null,null,null,null,"    376225 DOMADOR DE ANIMAIS (CIRCENSE)|376230 EQUILIBRISTA|376235 MAGICO",null,null,null,null,null,null,null,null,null,null,null,"    376215 ARTISTA DE CIRCO (OUTROS)|376220 CONTORCIONISTA"]
["    376240 MALABARISTA|376245 PALHACO|376250 TITERITEIRO|376255 TRAPEZISTA",null,null,null,null,null,null,null,null,"    376240 MALABARISTA|376245 PALHACO|376250 TITERITEIRO|376255 TRAPEZISTA",null,null,null,null,null,null,null,null,null,null,null,"    376225 DOMADOR DE ANIMAIS (CIRCENSE)|376230 EQUILIBRISTA|376235 MAGICO"]
["    376305 APRESENTADOR DE EVENTOS|376310 APRESENTADOR DE FESTAS POPULARES",null,null,null,null,null,null,null,null,"    376305 APRESENTADOR DE EVENTOS|376310 APRESENTADOR DE FESTAS POPULARES",null,null,null,null,null,null,null,null,null,null,null,"    376240 MALABARISTA|376245 PALHACO|376250 TITERITEIRO|376255 TRAPEZISTA"]
["    376315 APRESENTADOR DE PROGRAMAS DE RADIO",null,null,null,null,null,null,null,null,"    376315 APRESENTADOR DE PROGRAMAS DE RADIO",null,null,null,null,null,null,null,null,null,null,null,"    376305 APRESENTADOR DE EVENTOS|376310 APRESENTADOR DE FESTAS POPULARES"]
["    376320 APRESENTADOR DE PROGRAMAS DE TELEVISAO|376325 APRESENTADOR DE CIRCO",null,null,null,null,null,null,null,null,"    376320 APRESENTADOR DE PROGRAMAS DE TELEVISAO|376325 APRESENTADOR DE CIRCO",null,null,null,null,null,null,null,null,null,null,null,"    376315 APRESENTADOR DE PROGRAMAS DE RADIO"]
["    376405 MODELO ARTISTICO|376410 MODELO DE MODAS|376415 MODELO PUBLICITARIO",null,null,null,null,null,null,null,null,"    376405 MODELO ARTISTICO|376410 MODELO DE MODAS|376415 MODELO PUBLICITARIO",null,null,null,null,null,null,null,null,null,null,null,"    376320 APRESENTADOR DE PROGRAMAS DE TELEVISAO|376325 APRESENTADOR DE CIRCO"]
["    377105 ATLETA PROFISSIONAL (OUTRAS MODALIDADES)",null,null,null,null,null,null,null,null,"    377105 ATLETA PROFISSIONAL (OUTRAS MODALIDADES)",null,null,null,null,null,null,null,null,null,null,null,"    376405 MODELO ARTISTICO|376410 MODELO DE MODAS|376415 MODELO PUBLICITARIO"]
["    377110 ATLETA PROFISSIONAL DE FUTEBOL|377115 ATLETA PROFISSIONAL DE GOLFE",null,null,null,null,null,null,null,null,"    377110 ATLETA PROFISSIONAL DE FUTEBOL|377115 ATLETA PROFISSIONAL DE GOLFE",null,null,null,null,null,null,null,null,null,null,null,"    377105 ATLETA PROFISSIONAL (OUTRAS MODALIDADES)"]
["    377120 ATLETA PROFISSIONAL DE LUTA|377125 ATLETA PROFISSIONAL DE TENIS",null,null,null,null,null,null,null,null,"    377120 ATLETA PROFISSIONAL DE LUTA|377125 ATLETA PROFISSIONAL DE TENIS",null,null,null,null,null,null,null,null,null,null,null,"    377110 ATLETA PROFISSIONAL DE FUTEBOL|377115 ATLETA PROFISSIONAL DE GOLFE"]
["    377130 JOQUEI|377135 PILOTO DE COMPETICAO AUTOMOBILISTICA",null,null,null,null,null,null,null,null,"    377130 JOQUEI|377135 PILOTO DE COMPETICAO AUTOMOBILISTICA",null,null,null,null,null,null,null,null,null,null,null,"    377120 ATLETA PROFISSIONAL DE LUTA|377125 ATLETA PROFISSIONAL DE TENIS"]
["    377140 PROFISSIONAL DE ATLETISMO|377145 PUGILISTA|377205 ARBITRO DESPORTIVO",null,null,null,null,null,null,null,null,"    377140 PROFISSIONAL DE ATLETISMO|377145 PUGILISTA|377205 ARBITRO DESPORTIVO",null,null,null,null,null,null,null,null,null,null,null,"    377130 JOQUEI|377135 PILOTO DE COMPETICAO AUTOMOBILISTICA"]
["    377210 ARBITRO DE ATLETISMO|377215 ARBITRO DE BASQUETE",null,null,null,null,null,null,null,null,"    377210 ARBITRO DE ATLETISMO|377215 ARBITRO DE BASQUETE",null,null,null,null,null,null,null,null,null,null,null,"    377140 PROFISSIONAL DE ATLETISMO|377145 PUGILISTA|377205 ARBITRO DESPORTIVO"]
["    377220 ARBITRO DE FUTEBOL|377225 ARBITRO DE FUTEBOL DE SALAO",null,null,null,null,null,null,null,null,"    377220 ARBITRO DE FUTEBOL|377225 ARBITRO DE FUTEBOL DE SALAO",null,null,null,null,null,null,null,null,null,null,null,"    377210 ARBITRO DE ATLETISMO|377215 ARBITRO DE BASQUETE"]
["    377230 ARBITRO DE JUDO|377235 ARBITRO DE KARATE",null,null,null,null,null,null,null,null,"    377230 ARBITRO DE JUDO|377235 ARBITRO DE KARATE",null,null,null,null,null,null,null,null,null,null,null,"    377220 ARBITRO DE FUTEBOL|377225 ARBITRO DE FUTEBOL DE SALAO"]
["    377240 ARBITRO DE POLO AQUATICO|377245 ARBITRO DE VOLEI|391105 CRONOANALISTA",null,null,null,null,null,null,null,null,"    377240 ARBITRO DE POLO AQUATICO|377245 ARBITRO DE VOLEI|391105 CRONOANALISTA",null,null,null,null,null,null,null,null,null,null,null,"    377230 ARBITRO DE JUDO|377235 ARBITRO DE KARATE"]
["    391110 CRONOMETRISTA|391115 CONTROLADOR DE ENTRADA E SAIDA|391120 PLANEJISTA",null,null,null,null,null,null,null,null,"    391110 CRONOMETRISTA|391115 CONTROLADOR DE ENTRADA E SAIDA|391120 PLANEJISTA",null,null,null,null,null,null,null,null,null,null,null,"    377240 ARBITRO DE POLO AQUATICO|377245 ARBITRO DE VOLEI|391105 CRONOANALISTA"]
["    391125 TECNICO DE PLANEJAMENTO DE PRODUCAO",null,null,null,null,null,null,null,null,"    391125 TECNICO DE PLANEJAMENTO DE PRODUCAO",null,null,null,null,null,null,null,null,null,null,null,"    391110 CRONOMETRISTA|391115 CONTROLADOR DE ENTRADA E SAIDA|391120 PLANEJISTA"]
["    391130 TECNICO DE PLANEJAMENTO E PROGRAMACAO DA MANUTENCAO",null,null,null,null,null,null,null,null,"    391130 TECNICO DE PLANEJAMENTO E PROGRAMACAO DA MANUTENCAO",null,null,null,null,null,null,null,null,null,null,null,"    391125 TECNICO DE PLANEJAMENTO DE PRODUCAO"]
["    391135 TECNICO DE MATERIA-PRIMA E MATERIAL|391205 INSPETOR DE QUALIDADE",null,null,null,null,null,null,null,null,"    391135 TECNICO DE MATERIA-PRIMA E MATERIAL|391205 INSPETOR DE QUALIDADE",null,null,null,null,null,null,null,null,null,null,null,"    391130 TECNICO DE PLANEJAMENTO E PROGRAMACAO DA MANUTENCAO"]
["    391210 TECNICO DE GARANTIA DA QUALIDADE",null,null,null,null,null,null,null,null,"    391210 TECNICO DE GARANTIA DA QUALIDADE",null,null,null,null,null,null,null,null,null,null,null,"    391135 TECNICO DE MATERIA-PRIMA E MATERIAL|391205 INSPETOR DE QUALIDADE"]
["    391215 OPERADOR DE INSPECAO DE QUALIDADE",null,null,null,null,null,null,null,null,"    391215 OPERADOR DE INSPECAO DE QUALIDADE",null,null,null,null,null,null,null,null,null,null,null,"    391210 TECNICO DE GARANTIA DA QUALIDADE"]
["    391220 TECNICO DE PAINEL DE CONTROLE|391225 ESCOLHEDOR DE PAPEL",null,null,null,null,null,null,null,null,"    391220 TECNICO DE PAINEL DE CONTROLE|391225 ESCOLHEDOR DE PAPEL",null,null,null,null,null,null,null,null,null,null,null,"    391215 OPERADOR DE INSPECAO DE QUALIDADE"]
["    391230 TECNICO OPERACIONAL DE SERVICOS DE CORREIOS",null,null,null,null,null,null,null,null,"    391230 TECNICO OPERACIONAL DE SERVICOS DE CORREIOS",null,null,null,null,null,null,null,null,null,null,null,"    391220 TECNICO DE PAINEL DE CONTROLE|391225 ESCOLHEDOR DE PAPEL"]
["    395105 TECNICO DE APOIO EM PESQUISA E DESENVOLVIMENTO (EXCETO AGROPECUARIO E FLORESTAL)",null,null,null,null,null,null,null,null,"    395105 TECNICO DE APOIO EM PESQUISA E DESENVOLVIMENTO (EXCETO AGROPECUARIO E FLORESTAL)",null,null,null,null,null,null,null,null,null,null,null,"    391230 TECNICO OPERACIONAL DE SERVICOS DE CORREIOS"]
["    395110 TECNICO DE APOIO EM PESQUISA E DESENVOLVIMENTO AGROPECUARIO FLORESTAL",null,null,null,null,null,null,null,null,"    395110 TECNICO DE APOIO EM PESQUISA E DESENVOLVIMENTO AGROPECUARIO FLORESTAL",null,null,null,null,null,null,null,null,null,null,null,"    395105 TECNICO DE APOIO EM PESQUISA E DESENVOLVIMENTO (EXCETO AGROPECUARIO E FLORESTAL)"]
["    410105 SUPERVISOR ADMINISTRATIVO|410205 SUPERVISOR DE ALMOXARIFADO",null,null,null,null,null,null,null,null,"    410105 SUPERVISOR ADMINISTRATIVO|410205 SUPERVISOR DE ALMOXARIFADO",null,null,null,null,null,null,null,null,null,null,null,"    395110 TECNICO DE APOIO EM PESQUISA E DESENVOLVIMENTO AGROPECUARIO FLORESTAL"]
["    410210 SUPERVISOR DE CAMBIO|410215 SUPERVISOR DE CONTAS A PAGAR",null,null,null,null,null,null,null,null,"    410210 SUPERVISOR DE CAMBIO|410215 SUPERVISOR DE CONTAS A PAGAR",null,null,null,null,null,null,null,null,null,null,null,"    410105 SUPERVISOR ADMINISTRATIVO|410205 SUPERVISOR DE ALMOXARIFADO"]
["    410220 SUPERVISOR DE CONTROLE PATRIMONIAL",null,null,null,null,null,null,null,null,"    410220 SUPERVISOR DE CONTROLE PATRIMONIAL",null,null,null,null,null,null,null,null,null,null,null,"    410210 SUPERVISOR DE CAMBIO|410215 SUPERVISOR DE CONTAS A PAGAR"]
["    410225 SUPERVISOR DE CREDITO E COBRANCA|410230 SUPERVISOR DE ORCAMENTO",null,null,null,null,null,null,null,null,"    410225 SUPERVISOR DE CREDITO E COBRANCA|410230 SUPERVISOR DE ORCAMENTO",null,null,null,null,null,null,null,null,null,null,null,"    410220 SUPERVISOR DE CONTROLE PATRIMONIAL"]
["    410235 SUPERVISOR DE TESOURARIA|411005 AUXILIAR DE ESCRITORIO, EM GERAL",null,null,null,null,null,null,null,null,"    410235 SUPERVISOR DE TESOURARIA|411005 AUXILIAR DE ESCRITORIO, EM GERAL",null,null,null,null,null,null,null,null,null,null,null,"    410225 SUPERVISOR DE CREDITO E COBRANCA|410230 SUPERVISOR DE ORCAMENTO"]
["    411010 ASSISTENTE ADMINISTRATIVO|411015 ATENDENTE DE JUDICIARIO",null,null,null,null,null,null,null,null,"    411010 ASSISTENTE ADMINISTRATIVO|411015 ATENDENTE DE JUDICIARIO",null,null,null,null,null,null,null,null,null,null,null,"    410235 SUPERVISOR DE TESOURARIA|411005 AUXILIAR DE ESCRITORIO, EM GERAL"]
["    411020 AUXILIAR DE JUDICIARIO|411025 AUXILIAR DE CARTORIO",null,null,null,null,null,null,null,null,"    411020 AUXILIAR DE JUDICIARIO|411025 AUXILIAR DE CARTORIO",null,null,null,null,null,null,null,null,null,null,null,"    411010 ASSISTENTE ADMINISTRATIVO|411015 ATENDENTE DE JUDICIARIO"]
["    411030 AUXILIAR DE PESSOAL|411035 AUXILIAR DE ESTATISTICA",null,null,null,null,null,null,null,null,"    411030 AUXILIAR DE PESSOAL|411035 AUXILIAR DE ESTATISTICA",null,null,null,null,null,null,null,null,null,null,null,"    411020 AUXILIAR DE JUDICIARIO|411025 AUXILIAR DE CARTORIO"]
["    411040 AUXILIAR DE SEGUROS",null,null,null,null,null,null,null,null,"    411040 AUXILIAR DE SEGUROS",null,null,null,null,null,null,null,null,null,null,null,"    411030 AUXILIAR DE PESSOAL|411035 AUXILIAR DE ESTATISTICA"]
["    411045 AUXILIAR DE SERVICOS DE IMPORTACAO E EXPORTACAO|412105 DATILOGRAFO",null,null,null,null,null,null,null,null,"    411045 AUXILIAR DE SERVICOS DE IMPORTACAO E EXPORTACAO|412105 DATILOGRAFO",null,null,null,null,null,null,null,null,null,null,null,"    411040 AUXILIAR DE SEGUROS"]
["    412110 DIGITADOR|412115 OPERADOR DE MENSAGENS DE TELECOMUNICACOES (CORREIOS)",null,null,null,null,null,null,null,null,"    412110 DIGITADOR|412115 OPERADOR DE MENSAGENS DE TELECOMUNICACOES (CORREIOS)",null,null,null,null,null,null,null,null,null,null,null,"    411045 AUXILIAR DE SERVICOS DE IMPORTACAO E EXPORTACAO|412105 DATILOGRAFO"]
["    412120 SUPERVISOR DE DIGITACAO E OPERACAO|412205 CONTINUO",null,null,null,null,null,null,null,null,"    412120 SUPERVISOR DE DIGITACAO E OPERACAO|412205 CONTINUO",null,null,null,null,null,null,null,null,null,null,null,"    412110 DIGITADOR|412115 OPERADOR DE MENSAGENS DE TELECOMUNICACOES (CORREIOS)"]
["    413105 ANALISTA DE FOLHA DE PAGAMENTO|413110 AUXILIAR DE CONTABILIDADE",null,null,null,null,null,null,null,null,"    413105 ANALISTA DE FOLHA DE PAGAMENTO|413110 AUXILIAR DE CONTABILIDADE",null,null,null,null,null,null,null,null,null,null,null,"    412120 SUPERVISOR DE DIGITACAO E OPERACAO|412205 CONTINUO"]
["    413115 AUXILIAR DE FATURAMENTO|413205 ATENDENTE DE AGENCIA",null,null,null,null,null,null,null,null,"    413115 AUXILIAR DE FATURAMENTO|413205 ATENDENTE DE AGENCIA",null,null,null,null,null,null,null,null,null,null,null,"    413105 ANALISTA DE FOLHA DE PAGAMENTO|413110 AUXILIAR DE CONTABILIDADE"]
["    413210 CAIXA DE BANCO|413215 COMPENSADOR DE BANCO",null,null,null,null,null,null,null,null,"    413210 CAIXA DE BANCO|413215 COMPENSADOR DE BANCO",null,null,null,null,null,null,null,null,null,null,null,"    413115 AUXILIAR DE FATURAMENTO|413205 ATENDENTE DE AGENCIA"]
["    413220 CONFERENTE DE SERVICOS BANCARIOS|413225 ESCRITURARIO DE BANCO",null,null,null,null,null,null,null,null,"    413220 CONFERENTE DE SERVICOS BANCARIOS|413225 ESCRITURARIO DE BANCO",null,null,null,null,null,null,null,null,null,null,null,"    413210 CAIXA DE BANCO|413215 COMPENSADOR DE BANCO"]
["    413230 OPERADOR DE COBRANCA BANCARIA|414105 ALMOXARIFE",null,null,null,null,null,null,null,null,"    413230 OPERADOR DE COBRANCA BANCARIA|414105 ALMOXARIFE",null,null,null,null,null,null,null,null,null,null,null,"    413220 CONFERENTE DE SERVICOS BANCARIOS|413225 ESCRITURARIO DE BANCO"]
["    354415 AVALIADOR DE BENS MOVEIS|414110 ARMAZENISTA|414115 BALANCEIRO",null,null,null,null,null,null,null,null,"    354415 AVALIADOR DE BENS MOVEIS|414110 ARMAZENISTA|414115 BALANCEIRO",null,null,null,null,null,null,null,null,null,null,null,"    413230 OPERADOR DE COBRANCA BANCARIA|414105 ALMOXARIFE"]
["    414205 APONTADOR DE MAO-DE-OBRA|414210 APONTADOR DE PRODUCAO",null,null,null,null,null,null,null,null,"    414205 APONTADOR DE MAO-DE-OBRA|414210 APONTADOR DE PRODUCAO",null,null,null,null,null,null,null,null,null,null,null,"    354415 AVALIADOR DE BENS MOVEIS|414110 ARMAZENISTA|414115 BALANCEIRO"]
["    414215 CONFERENTE DE CARGA E DESCARGA|415105 ARQUIVISTA DE DOCUMENTOS",null,null,null,null,null,null,null,null,"    414215 CONFERENTE DE CARGA E DESCARGA|415105 ARQUIVISTA DE DOCUMENTOS",null,null,null,null,null,null,null,null,null,null,null,"    414205 APONTADOR DE MAO-DE-OBRA|414210 APONTADOR DE PRODUCAO"]
["    415115 CODIFICADOR DE DADOS|415120 FITOTECARIO|415125 KARDEXISTA",null,null,null,null,null,null,null,null,"    415115 CODIFICADOR DE DADOS|415120 FITOTECARIO|415125 KARDEXISTA",null,null,null,null,null,null,null,null,null,null,null,"    414215 CONFERENTE DE CARGA E DESCARGA|415105 ARQUIVISTA DE DOCUMENTOS"]
["    415130 OPERADOR DE MAQUINA COPIADORA (EXCETO OPERADOR DE GRAFICA RAPIDA)",null,null,null,null,null,null,null,null,"    415130 OPERADOR DE MAQUINA COPIADORA (EXCETO OPERADOR DE GRAFICA RAPIDA)",null,null,null,null,null,null,null,null,null,null,null,"    415115 CODIFICADOR DE DADOS|415120 FITOTECARIO|415125 KARDEXISTA"]
["    415205 CARTEIRO|415210 OPERADOR DE TRIAGEM E TRANSBORDO",null,null,null,null,null,null,null,null,"    415205 CARTEIRO|415210 OPERADOR DE TRIAGEM E TRANSBORDO",null,null,null,null,null,null,null,null,null,null,null,"    415130 OPERADOR DE MAQUINA COPIADORA (EXCETO OPERADOR DE GRAFICA RAPIDA)"]
["    420105 SUPERVISOR DE CAIXAS E BILHETEIROS (EXCETO CAIXA DE BANCO)",null,null,null,null,null,null,null,null,"    420105 SUPERVISOR DE CAIXAS E BILHETEIROS (EXCETO CAIXA DE BANCO)",null,null,null,null,null,null,null,null,null,null,null,"    415205 CARTEIRO|415210 OPERADOR DE TRIAGEM E TRANSBORDO"]
["    420110 SUPERVISOR DE COBRANCA",null,null,null,null,null,null,null,null,"    420110 SUPERVISOR DE COBRANCA",null,null,null,null,null,null,null,null,null,null,null,"    420105 SUPERVISOR DE CAIXAS E BILHETEIROS (EXCETO CAIXA DE BANCO)"]
["    420115 SUPERVISOR DE COLETADORES DE APOSTAS E DE JOGOS",null,null,null,null,null,null,null,null,"    420115 SUPERVISOR DE COLETADORES DE APOSTAS E DE JOGOS",null,null,null,null,null,null,null,null,null,null,null,"    420110 SUPERVISOR DE COBRANCA"]
["    420125 SUPERVISOR DE RECEPCIONISTAS|420130 SUPERVISOR DE TELEFONISTAS",null,null,null,null,null,null,null,null,"    420125 SUPERVISOR DE RECEPCIONISTAS|420130 SUPERVISOR DE TELEFONISTAS",null,null,null,null,null,null,null,null,null,null,null,"    420115 SUPERVISOR DE COLETADORES DE APOSTAS E DE JOGOS"]
["    420135 SUPERVISOR DE TELEMARKETING E ATENDIMENTO",null,null,null,null,null,null,null,null,"    420135 SUPERVISOR DE TELEMARKETING E ATENDIMENTO",null,null,null,null,null,null,null,null,null,null,null,"    420125 SUPERVISOR DE RECEPCIONISTAS|420130 SUPERVISOR DE TELEFONISTAS"]
["    421105 ATENDENTE COMERCIAL (AGENCIA POSTAL)",null,null,null,null,null,null,null,null,"    421105 ATENDENTE COMERCIAL (AGENCIA POSTAL)",null,null,null,null,null,null,null,null,null,null,null,"    420135 SUPERVISOR DE TELEMARKETING E ATENDIMENTO"]
["    421110 BILHETEIRO DE TRANSPORTES COLETIVOS",null,null,null,null,null,null,null,null,"    421110 BILHETEIRO DE TRANSPORTES COLETIVOS",null,null,null,null,null,null,null,null,null,null,null,"    421105 ATENDENTE COMERCIAL (AGENCIA POSTAL)"]
["    421115 BILHETEIRO NO SERVICO DE DIVERSOES|421120 EMISSOR DE PASSAGENS",null,null,null,null,null,null,null,null,"    421115 BILHETEIRO NO SERVICO DE DIVERSOES|421120 EMISSOR DE PASSAGENS",null,null,null,null,null,null,null,null,null,null,null,"    421110 BILHETEIRO DE TRANSPORTES COLETIVOS"]
["    421125 OPERADOR DE CAIXA|421205 RECEBEDOR DE APOSTAS (LOTERIA)",null,null,null,null,null,null,null,null,"    421125 OPERADOR DE CAIXA|421205 RECEBEDOR DE APOSTAS (LOTERIA)",null,null,null,null,null,null,null,null,null,null,null,"    421115 BILHETEIRO NO SERVICO DE DIVERSOES|421120 EMISSOR DE PASSAGENS"]
["    421210 RECEBEDOR DE APOSTAS (TURFE)|421305 COBRADOR EXTERNO",null,null,null,null,null,null,null,null,"    421210 RECEBEDOR DE APOSTAS (TURFE)|421305 COBRADOR EXTERNO",null,null,null,null,null,null,null,null,null,null,null,"    421125 OPERADOR DE CAIXA|421205 RECEBEDOR DE APOSTAS (LOTERIA)"]
["    421310 COBRADOR INTERNO|421315 LOCALIZADOR (COBRADOR)",null,null,null,null,null,null,null,null,"    421310 COBRADOR INTERNO|421315 LOCALIZADOR (COBRADOR)",null,null,null,null,null,null,null,null,null,null,null,"    421210 RECEBEDOR DE APOSTAS (TURFE)|421305 COBRADOR EXTERNO"]
["    422105 RECEPCIONISTA, EM GERAL",null,null,null,null,null,null,null,null,"    422105 RECEPCIONISTA, EM GERAL",null,null,null,null,null,null,null,null,null,null,null,"    421310 COBRADOR INTERNO|421315 LOCALIZADOR (COBRADOR)"]
["    422110 RECEPCIONISTA DE CONSULTORIO MEDICO OU DENTARIO",null,null,null,null,null,null,null,null,"    422110 RECEPCIONISTA DE CONSULTORIO MEDICO OU DENTARIO",null,null,null,null,null,null,null,null,null,null,null,"    422105 RECEPCIONISTA, EM GERAL"]
["    422115 RECEPCIONISTA DE SEGURO SAUDE|422120 RECEPCIONISTA DE HOTEL",null,null,null,null,null,null,null,null,"    422115 RECEPCIONISTA DE SEGURO SAUDE|422120 RECEPCIONISTA DE HOTEL",null,null,null,null,null,null,null,null,null,null,null,"    422110 RECEPCIONISTA DE CONSULTORIO MEDICO OU DENTARIO"]
["    422125 RECEPCIONISTA DE BANCO|422205 TELEFONISTA|422210 TELEOPERADOR",null,null,null,null,null,null,null,null,"    422125 RECEPCIONISTA DE BANCO|422205 TELEFONISTA|422210 TELEOPERADOR",null,null,null,null,null,null,null,null,null,null,null,"    422115 RECEPCIONISTA DE SEGURO SAUDE|422120 RECEPCIONISTA DE HOTEL"]
["    422215 MONITOR DE TELEATENDIMENTO|422220 OPERADOR DE RADIO-CHAMADA",null,null,null,null,null,null,null,null,"    422215 MONITOR DE TELEATENDIMENTO|422220 OPERADOR DE RADIO-CHAMADA",null,null,null,null,null,null,null,null,null,null,null,"    422125 RECEPCIONISTA DE BANCO|422205 TELEFONISTA|422210 TELEOPERADOR"]
["    422305 OPERADOR DE TELEMARKETING ATIVO",null,null,null,null,null,null,null,null,"    422305 OPERADOR DE TELEMARKETING ATIVO",null,null,null,null,null,null,null,null,null,null,null,"    422215 MONITOR DE TELEATENDIMENTO|422220 OPERADOR DE RADIO-CHAMADA"]
["    422310 OPERADOR DE TELEMARKETING ATIVO E RECEPTIVO",null,null,null,null,null,null,null,null,"    422310 OPERADOR DE TELEMARKETING ATIVO E RECEPTIVO",null,null,null,null,null,null,null,null,null,null,null,"    422305 OPERADOR DE TELEMARKETING ATIVO"]
["    422315 OPERADOR DE TELEMARKETING RECEPTIVO",null,null,null,null,null,null,null,null,"    422315 OPERADOR DE TELEMARKETING RECEPTIVO",null,null,null,null,null,null,null,null,null,null,null,"    422310 OPERADOR DE TELEMARKETING ATIVO E RECEPTIVO"]
["    422320 OPERADOR DE TELEMARKETING TECNICO|423105 DESPACHANTE DOCUMENTALISTA",null,null,null,null,null,null,null,null,"    422320 OPERADOR DE TELEMARKETING TECNICO|423105 DESPACHANTE DOCUMENTALISTA",null,null,null,null,null,null,null,null,null,null,null,"    422315 OPERADOR DE TELEMARKETING RECEPTIVO"]
["    424105 ENTREVISTADOR CENSITARIO E DE PESQUISAS AMOSTRAIS",null,null,null,null,null,null,null,null,"    424105 ENTREVISTADOR CENSITARIO E DE PESQUISAS AMOSTRAIS",null,null,null,null,null,null,null,null,null,null,null,"    422320 OPERADOR DE TELEMARKETING TECNICO|423105 DESPACHANTE DOCUMENTALISTA"]
["    424110 ENTREVISTADOR DE PESQUISA DE OPINIAO E MIDIA",null,null,null,null,null,null,null,null,"    424110 ENTREVISTADOR DE PESQUISA DE OPINIAO E MIDIA",null,null,null,null,null,null,null,null,null,null,null,"    424105 ENTREVISTADOR CENSITARIO E DE PESQUISAS AMOSTRAIS"]
["    424115 ENTREVISTADOR DE PESQUISAS DE MERCADO|424120 ENTREVISTADOR DE PRECOS",null,null,null,null,null,null,null,null,"    424115 ENTREVISTADOR DE PESQUISAS DE MERCADO|424120 ENTREVISTADOR DE PRECOS",null,null,null,null,null,null,null,null,null,null,null,"    424110 ENTREVISTADOR DE PESQUISA DE OPINIAO E MIDIA"]
["    424125 ESCRITURARIO EM ESTATISTICA|510105 SUPERVISOR DE TRANSPORTES",null,null,null,null,null,null,null,null,"    424125 ESCRITURARIO EM ESTATISTICA|510105 SUPERVISOR DE TRANSPORTES",null,null,null,null,null,null,null,null,null,null,null,"    424115 ENTREVISTADOR DE PESQUISAS DE MERCADO|424120 ENTREVISTADOR DE PRECOS"]
["    510110 ADMINISTRADOR DE EDIFICIOS|510115 SUPERVISOR DE ANDAR",null,null,null,null,null,null,null,null,"    510110 ADMINISTRADOR DE EDIFICIOS|510115 SUPERVISOR DE ANDAR",null,null,null,null,null,null,null,null,null,null,null,"    424125 ESCRITURARIO EM ESTATISTICA|510105 SUPERVISOR DE TRANSPORTES"]
["    510120 CHEFE DE PORTARIA DE HOTEL|510125 CHEFE DE COZINHA",null,null,null,null,null,null,null,null,"    510120 CHEFE DE PORTARIA DE HOTEL|510125 CHEFE DE COZINHA",null,null,null,null,null,null,null,null,null,null,null,"    510110 ADMINISTRADOR DE EDIFICIOS|510115 SUPERVISOR DE ANDAR"]
["    510130 CHEFE DE BAR|510135 MAITRE|510205 SUPERVISOR DE LAVANDERIA",null,null,null,null,null,null,null,null,"    510130 CHEFE DE BAR|510135 MAITRE|510205 SUPERVISOR DE LAVANDERIA",null,null,null,null,null,null,null,null,null,null,null,"    510120 CHEFE DE PORTARIA DE HOTEL|510125 CHEFE DE COZINHA"]
["    510305 SUPERVISOR DE BOMBEIROS|510310 SUPERVISOR DE VIGILANTES",null,null,null,null,null,null,null,null,"    510305 SUPERVISOR DE BOMBEIROS|510310 SUPERVISOR DE VIGILANTES",null,null,null,null,null,null,null,null,null,null,null,"    510130 CHEFE DE BAR|510135 MAITRE|510205 SUPERVISOR DE LAVANDERIA"]
["    511105 COMISSARIO DE VOO|511110 COMISSARIO DE TREM|511115 TAIFEIRO",null,null,null,null,null,null,null,null,"    511105 COMISSARIO DE VOO|511110 COMISSARIO DE TREM|511115 TAIFEIRO",null,null,null,null,null,null,null,null,null,null,null,"    510305 SUPERVISOR DE BOMBEIROS|510310 SUPERVISOR DE VIGILANTES"]
["    511205 FISCAL DE TRANSPORTES COLETIVOS (EXCETO TREM)",null,null,null,null,null,null,null,null,"    511205 FISCAL DE TRANSPORTES COLETIVOS (EXCETO TREM)",null,null,null,null,null,null,null,null,null,null,null,"    511105 COMISSARIO DE VOO|511110 COMISSARIO DE TREM|511115 TAIFEIRO"]
["    511210 DESPACHANTE DE TRANSPORTES COLETIVOS (EXCETO TREM)",null,null,null,null,null,null,null,null,"    511210 DESPACHANTE DE TRANSPORTES COLETIVOS (EXCETO TREM)",null,null,null,null,null,null,null,null,null,null,null,"    511205 FISCAL DE TRANSPORTES COLETIVOS (EXCETO TREM)"]
["    511215 COBRADOR DE TRANSPORTES COLETIVOS (EXCETO TREM)",null,null,null,null,null,null,null,null,"    511215 COBRADOR DE TRANSPORTES COLETIVOS (EXCETO TREM)",null,null,null,null,null,null,null,null,null,null,null,"    511210 DESPACHANTE DE TRANSPORTES COLETIVOS (EXCETO TREM)"]
["    511220 BILHETEIRO (ESTACOES DE METRO, FERROVIARIAS E ASSEMELHADAS)",null,null,null,null,null,null,null,null,"    511220 BILHETEIRO (ESTACOES DE METRO, FERROVIARIAS E ASSEMELHADAS)",null,null,null,null,null,null,null,null,null,null,null,"    511215 COBRADOR DE TRANSPORTES COLETIVOS (EXCETO TREM)"]
["    511405 GUIA DE TURISMO|512105 EMPREGADO DOMESTICO NOS SERVICOS GERAIS",null,null,null,null,null,null,null,null,"    511405 GUIA DE TURISMO|512105 EMPREGADO DOMESTICO NOS SERVICOS GERAIS",null,null,null,null,null,null,null,null,null,null,null,"    511220 BILHETEIRO (ESTACOES DE METRO, FERROVIARIAS E ASSEMELHADAS)"]
["    512110 EMPREGADO DOMESTICO ARRUMADOR|512115 EMPREGADO DOMESTICO FAXINEIRO",null,null,null,null,null,null,null,null,"    512110 EMPREGADO DOMESTICO ARRUMADOR|512115 EMPREGADO DOMESTICO FAXINEIRO",null,null,null,null,null,null,null,null,null,null,null,"    511405 GUIA DE TURISMO|512105 EMPREGADO DOMESTICO NOS SERVICOS GERAIS"]
["    512120 EMPREGADO DOMESTICO DIARISTA|513105 MORDOMO DE RESIDENCIA",null,null,null,null,null,null,null,null,"    512120 EMPREGADO DOMESTICO DIARISTA|513105 MORDOMO DE RESIDENCIA",null,null,null,null,null,null,null,null,null,null,null,"    512110 EMPREGADO DOMESTICO ARRUMADOR|512115 EMPREGADO DOMESTICO FAXINEIRO"]
["    513110 MORDOMO DE HOTELARIA|513115 GOVERNANTA DE HOTELARIA",null,null,null,null,null,null,null,null,"    513110 MORDOMO DE HOTELARIA|513115 GOVERNANTA DE HOTELARIA",null,null,null,null,null,null,null,null,null,null,null,"    512120 EMPREGADO DOMESTICO DIARISTA|513105 MORDOMO DE RESIDENCIA"]
["    513205 COZINHEIRO GERAL|513210 COZINHEIRO DO SERVICO DOMESTICO",null,null,null,null,null,null,null,null,"    513205 COZINHEIRO GERAL|513210 COZINHEIRO DO SERVICO DOMESTICO",null,null,null,null,null,null,null,null,null,null,null,"    513110 MORDOMO DE HOTELARIA|513115 GOVERNANTA DE HOTELARIA"]
["    513215 COZINHEIRO INDUSTRIAL|513220 COZINHEIRO DE HOSPITAL",null,null,null,null,null,null,null,null,"    513215 COZINHEIRO INDUSTRIAL|513220 COZINHEIRO DE HOSPITAL",null,null,null,null,null,null,null,null,null,null,null,"    513205 COZINHEIRO GERAL|513210 COZINHEIRO DO SERVICO DOMESTICO"]
["    513225 COZINHEIRO DE EMBARCACOES|513305 CAMAREIRA DE TEATRO",null,null,null,null,null,null,null,null,"    513225 COZINHEIRO DE EMBARCACOES|513305 CAMAREIRA DE TEATRO",null,null,null,null,null,null,null,null,null,null,null,"    513215 COZINHEIRO INDUSTRIAL|513220 COZINHEIRO DE HOSPITAL"]
["    513310 CAMAREIRA DE TELEVISAO|513315 CAMAREIRO DE HOTEL",null,null,null,null,null,null,null,null,"    513310 CAMAREIRA DE TELEVISAO|513315 CAMAREIRO DE HOTEL",null,null,null,null,null,null,null,null,null,null,null,"    513225 COZINHEIRO DE EMBARCACOES|513305 CAMAREIRA DE TEATRO"]
["    513320 CAMAREIRO DE EMBARCACOES|513325 GUARDA-ROUPEIRA DE CINEMA",null,null,null,null,null,null,null,null,"    513320 CAMAREIRO DE EMBARCACOES|513325 GUARDA-ROUPEIRA DE CINEMA",null,null,null,null,null,null,null,null,null,null,null,"    513310 CAMAREIRA DE TELEVISAO|513315 CAMAREIRO DE HOTEL"]
["    513405 GARCOM|513410 GARCOM (SERVICOS DE VINHOS)|513415 CUMIM|513420 BARMAN",null,null,null,null,null,null,null,null,"    513405 GARCOM|513410 GARCOM (SERVICOS DE VINHOS)|513415 CUMIM|513420 BARMAN",null,null,null,null,null,null,null,null,null,null,null,"    513320 CAMAREIRO DE EMBARCACOES|513325 GUARDA-ROUPEIRA DE CINEMA"]
["    513425 COPEIRO|513430 COPEIRO DE HOSPITAL|513435 ATENDENTE DE LANCHONETE",null,null,null,null,null,null,null,null,"    513425 COPEIRO|513430 COPEIRO DE HOSPITAL|513435 ATENDENTE DE LANCHONETE",null,null,null,null,null,null,null,null,null,null,null,"    513405 GARCOM|513410 GARCOM (SERVICOS DE VINHOS)|513415 CUMIM|513420 BARMAN"]
["    514105 ASCENSORISTA|514110 GARAGISTA|514115 SACRISTAO",null,null,null,null,null,null,null,null,"    514105 ASCENSORISTA|514110 GARAGISTA|514115 SACRISTAO",null,null,null,null,null,null,null,null,null,null,null,"    513425 COPEIRO|513430 COPEIRO DE HOSPITAL|513435 ATENDENTE DE LANCHONETE"]
["    514120 ZELADOR DE EDIFICIO|514205 COLETOR DE LIXO|514210 FAXINEIRO",null,null,null,null,null,null,null,null,"    514120 ZELADOR DE EDIFICIO|514205 COLETOR DE LIXO|514210 FAXINEIRO",null,null,null,null,null,null,null,null,null,null,null,"    514105 ASCENSORISTA|514110 GARAGISTA|514115 SACRISTAO"]
["    514215 GARI|514220 LIMPADOR DE VIDROS",null,null,null,null,null,null,null,null,"    514215 GARI|514220 LIMPADOR DE VIDROS",null,null,null,null,null,null,null,null,null,null,null,"    514120 ZELADOR DE EDIFICIO|514205 COLETOR DE LIXO|514210 FAXINEIRO"]
["    514225 TRABALHADOR DE SERVICOS DE MANUTENCAO DE EDIFICIOS E LOGRADOUROS",null,null,null,null,null,null,null,null,"    514225 TRABALHADOR DE SERVICOS DE MANUTENCAO DE EDIFICIOS E LOGRADOUROS",null,null,null,null,null,null,null,null,null,null,null,"    514215 GARI|514220 LIMPADOR DE VIDROS"]
["    515105 AGENTE COMUNITARIO DE SAUDE|515110 ATENDENTE DE ENFERMAGEM",null,null,null,null,null,null,null,null,"    515105 AGENTE COMUNITARIO DE SAUDE|515110 ATENDENTE DE ENFERMAGEM",null,null,null,null,null,null,null,null,null,null,null,"    514225 TRABALHADOR DE SERVICOS DE MANUTENCAO DE EDIFICIOS E LOGRADOUROS"]
["    515115 PARTEIRA LEIGA|515120 VISITADOR SANITARIO",null,null,null,null,null,null,null,null,"    515115 PARTEIRA LEIGA|515120 VISITADOR SANITARIO",null,null,null,null,null,null,null,null,null,null,null,"    515105 AGENTE COMUNITARIO DE SAUDE|515110 ATENDENTE DE ENFERMAGEM"]
["    515205 AUXILIAR DE BANCO DE SANGUE",null,null,null,null,null,null,null,null,"    515205 AUXILIAR DE BANCO DE SANGUE",null,null,null,null,null,null,null,null,null,null,null,"    515115 PARTEIRA LEIGA|515120 VISITADOR SANITARIO"]
["    515210 AUXILIAR DE FARMACIA DE MANIPULACAO",null,null,null,null,null,null,null,null,"    515210 AUXILIAR DE FARMACIA DE MANIPULACAO",null,null,null,null,null,null,null,null,null,null,null,"    515205 AUXILIAR DE BANCO DE SANGUE"]
["    515215 AUXILIAR DE LABORATORIO DE ANALISES CLINICAS",null,null,null,null,null,null,null,null,"    515215 AUXILIAR DE LABORATORIO DE ANALISES CLINICAS",null,null,null,null,null,null,null,null,null,null,null,"    515210 AUXILIAR DE FARMACIA DE MANIPULACAO"]
["    515220 AUXILIAR DE LABORATORIO DE IMUNOBIOLOGICOS",null,null,null,null,null,null,null,null,"    515220 AUXILIAR DE LABORATORIO DE IMUNOBIOLOGICOS",null,null,null,null,null,null,null,null,null,null,null,"    515215 AUXILIAR DE LABORATORIO DE ANALISES CLINICAS"]
["    515225 AUXILIAR DE PRODUCAO FARMACEUTICA|516105 BARBEIRO|516110 CABELEIREIRO",null,null,null,null,null,null,null,null,"    515225 AUXILIAR DE PRODUCAO FARMACEUTICA|516105 BARBEIRO|516110 CABELEIREIRO",null,null,null,null,null,null,null,null,null,null,null,"    515220 AUXILIAR DE LABORATORIO DE IMUNOBIOLOGICOS"]
["    516115 ESTETICISTA|516120 MANICURE|516125 MAQUIADOR",null,null,null,null,null,null,null,null,"    516115 ESTETICISTA|516120 MANICURE|516125 MAQUIADOR",null,null,null,null,null,null,null,null,null,null,null,"    515225 AUXILIAR DE PRODUCAO FARMACEUTICA|516105 BARBEIRO|516110 CABELEIREIRO"]
["    516130 MAQUIADOR DE CARACTERIZACAO|516135 MASSAGISTA|516140 PEDICURE",null,null,null,null,null,null,null,null,"    516130 MAQUIADOR DE CARACTERIZACAO|516135 MASSAGISTA|516140 PEDICURE",null,null,null,null,null,null,null,null,null,null,null,"    516115 ESTETICISTA|516120 MANICURE|516125 MAQUIADOR"]
["    516205 BABA|516210 CUIDADOR DE IDOSOS|516215 MAE SOCIAL",null,null,null,null,null,null,null,null,"    516205 BABA|516210 CUIDADOR DE IDOSOS|516215 MAE SOCIAL",null,null,null,null,null,null,null,null,null,null,null,"    516130 MAQUIADOR DE CARACTERIZACAO|516135 MASSAGISTA|516140 PEDICURE"]
["    516305 LAVADEIRO, EM GERAL|516310 LAVADOR DE ROUPAS A MAQUINA",null,null,null,null,null,null,null,null,"    516305 LAVADEIRO, EM GERAL|516310 LAVADOR DE ROUPAS A MAQUINA",null,null,null,null,null,null,null,null,null,null,null,"    516205 BABA|516210 CUIDADOR DE IDOSOS|516215 MAE SOCIAL"]
["    516315 LAVADOR DE ARTEFATOS DE TAPECARIA|516320 LIMPADOR A SECO, A MAQUINA",null,null,null,null,null,null,null,null,"    516315 LAVADOR DE ARTEFATOS DE TAPECARIA|516320 LIMPADOR A SECO, A MAQUINA",null,null,null,null,null,null,null,null,null,null,null,"    516305 LAVADEIRO, EM GERAL|516310 LAVADOR DE ROUPAS A MAQUINA"]
["    516325 PASSADOR DE ROUPAS EM GERAL|516330 TINGIDOR DE ROUPAS",null,null,null,null,null,null,null,null,"    516325 PASSADOR DE ROUPAS EM GERAL|516330 TINGIDOR DE ROUPAS",null,null,null,null,null,null,null,null,null,null,null,"    516315 LAVADOR DE ARTEFATOS DE TAPECARIA|516320 LIMPADOR A SECO, A MAQUINA"]
["    516335 CONFERENTE-EXPEDIDOR DE ROUPAS (LAVANDERIAS)",null,null,null,null,null,null,null,null,"    516335 CONFERENTE-EXPEDIDOR DE ROUPAS (LAVANDERIAS)",null,null,null,null,null,null,null,null,null,null,null,"    516325 PASSADOR DE ROUPAS EM GERAL|516330 TINGIDOR DE ROUPAS"]
["    516340 ATENDENTE DE LAVANDERIA|516345 AUXILIAR DE LAVANDERIA",null,null,null,null,null,null,null,null,"    516340 ATENDENTE DE LAVANDERIA|516345 AUXILIAR DE LAVANDERIA",null,null,null,null,null,null,null,null,null,null,null,"    516335 CONFERENTE-EXPEDIDOR DE ROUPAS (LAVANDERIAS)"]
["    516405 LAVADOR DE ROUPAS|516410 LIMPADOR DE ROUPAS A SECO, A MAO",null,null,null,null,null,null,null,null,"    516405 LAVADOR DE ROUPAS|516410 LIMPADOR DE ROUPAS A SECO, A MAO",null,null,null,null,null,null,null,null,null,null,null,"    516340 ATENDENTE DE LAVANDERIA|516345 AUXILIAR DE LAVANDERIA"]
["    516415 PASSADOR DE ROUPAS, A MAO|516505 AGENTE FUNERARIO",null,null,null,null,null,null,null,null,"    516415 PASSADOR DE ROUPAS, A MAO|516505 AGENTE FUNERARIO",null,null,null,null,null,null,null,null,null,null,null,"    516405 LAVADOR DE ROUPAS|516410 LIMPADOR DE ROUPAS A SECO, A MAO"]
["    516605 OPERADOR DE FORNO (SERVICOS FUNERARIOS)|516610 SEPULTADOR",null,null,null,null,null,null,null,null,"    516605 OPERADOR DE FORNO (SERVICOS FUNERARIOS)|516610 SEPULTADOR",null,null,null,null,null,null,null,null,null,null,null,"    516415 PASSADOR DE ROUPAS, A MAO|516505 AGENTE FUNERARIO"]
["    516705 ASTROLOGO|516710 NUMEROLOGO|516805 ESOTERICO",null,null,null,null,null,null,null,null,"    516705 ASTROLOGO|516710 NUMEROLOGO|516805 ESOTERICO",null,null,null,null,null,null,null,null,null,null,null,"    516605 OPERADOR DE FORNO (SERVICOS FUNERARIOS)|516610 SEPULTADOR"]
["    420120 SUPERVISOR DE ENTREVISTADORES E RECENSEADORES|516810 PARANORMAL",null,null,null,null,null,null,null,null,"    420120 SUPERVISOR DE ENTREVISTADORES E RECENSEADORES|516810 PARANORMAL",null,null,null,null,null,null,null,null,null,null,null,"    516705 ASTROLOGO|516710 NUMEROLOGO|516805 ESOTERICO"]
["    517105 BOMBEIRO DE AERODROMO|517110 BOMBEIRO DE SEGURANCA DO TRABALHO",null,null,null,null,null,null,null,null,"    517105 BOMBEIRO DE AERODROMO|517110 BOMBEIRO DE SEGURANCA DO TRABALHO",null,null,null,null,null,null,null,null,null,null,null,"    420120 SUPERVISOR DE ENTREVISTADORES E RECENSEADORES|516810 PARANORMAL"]
["    517115 SALVA-VIDAS|517205 AGENTE DE POLICIA FEDERAL",null,null,null,null,null,null,null,null,"    517115 SALVA-VIDAS|517205 AGENTE DE POLICIA FEDERAL",null,null,null,null,null,null,null,null,null,null,null,"    517105 BOMBEIRO DE AERODROMO|517110 BOMBEIRO DE SEGURANCA DO TRABALHO"]
["    517210 POLICIAL RODOVIARIO FEDERAL|517215 GUARDA-CIVIL MUNICIPAL",null,null,null,null,null,null,null,null,"    517210 POLICIAL RODOVIARIO FEDERAL|517215 GUARDA-CIVIL MUNICIPAL",null,null,null,null,null,null,null,null,null,null,null,"    517115 SALVA-VIDAS|517205 AGENTE DE POLICIA FEDERAL"]
["    517220 AGENTE DE TRANSITO|517305 AGENTE DE PROTECAO DE AEROPORTO",null,null,null,null,null,null,null,null,"    517220 AGENTE DE TRANSITO|517305 AGENTE DE PROTECAO DE AEROPORTO",null,null,null,null,null,null,null,null,null,null,null,"    517210 POLICIAL RODOVIARIO FEDERAL|517215 GUARDA-CIVIL MUNICIPAL"]
["    517310 AGENTE DE SEGURANCA|517315 AGENTE DE SEGURANCA PENITENCIARIA",null,null,null,null,null,null,null,null,"    517310 AGENTE DE SEGURANCA|517315 AGENTE DE SEGURANCA PENITENCIARIA",null,null,null,null,null,null,null,null,null,null,null,"    517220 AGENTE DE TRANSITO|517305 AGENTE DE PROTECAO DE AEROPORTO"]
["    517320 VIGIA FLORESTAL|517325 VIGIA PORTUARIO|517330 VIGILANTE",null,null,null,null,null,null,null,null,"    517320 VIGIA FLORESTAL|517325 VIGIA PORTUARIO|517330 VIGILANTE",null,null,null,null,null,null,null,null,null,null,null,"    517310 AGENTE DE SEGURANCA|517315 AGENTE DE SEGURANCA PENITENCIARIA"]
["    517405 PORTEIRO (HOTEL)|517410 PORTEIRO DE EDIFICIOS",null,null,null,null,null,null,null,null,"    517405 PORTEIRO (HOTEL)|517410 PORTEIRO DE EDIFICIOS",null,null,null,null,null,null,null,null,null,null,null,"    517320 VIGIA FLORESTAL|517325 VIGIA PORTUARIO|517330 VIGILANTE"]
["    517415 PORTEIRO DE LOCAIS DE DIVERSAO|517420 VIGIA",null,null,null,null,null,null,null,null,"    517415 PORTEIRO DE LOCAIS DE DIVERSAO|517420 VIGIA",null,null,null,null,null,null,null,null,null,null,null,"    517405 PORTEIRO (HOTEL)|517410 PORTEIRO DE EDIFICIOS"]
["    519105 CICLISTA MENSAGEIRO",null,null,null,null,null,null,null,null,"    519105 CICLISTA MENSAGEIRO",null,null,null,null,null,null,null,null,null,null,null,"    517415 PORTEIRO DE LOCAIS DE DIVERSAO|517420 VIGIA"]
["    519110 MOTOCICLISTA NO TRANSPORTE DE DOCUMENTOS E PEQUENOS VOLUMES",null,null,null,null,null,null,null,null,"    519110 MOTOCICLISTA NO TRANSPORTE DE DOCUMENTOS E PEQUENOS VOLUMES",null,null,null,null,null,null,null,null,null,null,null,"    519105 CICLISTA MENSAGEIRO"]
["    519205 CATADOR DE MATERIAL RECICLAVEL|519305 ENFERMEIRO VETERINARIO",null,null,null,null,null,null,null,null,"    519205 CATADOR DE MATERIAL RECICLAVEL|519305 ENFERMEIRO VETERINARIO",null,null,null,null,null,null,null,null,null,null,null,"    519110 MOTOCICLISTA NO TRANSPORTE DE DOCUMENTOS E PEQUENOS VOLUMES"]
["    519310 ESTETICISTA DE ANIMAIS DOMESTICOS",null,null,null,null,null,null,null,null,"    519310 ESTETICISTA DE ANIMAIS DOMESTICOS",null,null,null,null,null,null,null,null,null,null,null,"    519205 CATADOR DE MATERIAL RECICLAVEL|519305 ENFERMEIRO VETERINARIO"]
["    519315 BANHISTA DE ANIMAIS DOMESTICOS|519320 TOSADOR DE ANIMAIS DOMESTICOS",null,null,null,null,null,null,null,null,"    519315 BANHISTA DE ANIMAIS DOMESTICOS|519320 TOSADOR DE ANIMAIS DOMESTICOS",null,null,null,null,null,null,null,null,null,null,null,"    519310 ESTETICISTA DE ANIMAIS DOMESTICOS"]
["    519805 PROFISSIONAL DO SEXO|519905 CARTAZEIRO|519910 CONTROLADOR DE PRAGAS",null,null,null,null,null,null,null,null,"    519805 PROFISSIONAL DO SEXO|519905 CARTAZEIRO|519910 CONTROLADOR DE PRAGAS",null,null,null,null,null,null,null,null,null,null,null,"    519315 BANHISTA DE ANIMAIS DOMESTICOS|519320 TOSADOR DE ANIMAIS DOMESTICOS"]
["    519915 ENGRAXATE|519920 GANDULA|519925 GUARDADOR DE VEICULOS",null,null,null,null,null,null,null,null,"    519915 ENGRAXATE|519920 GANDULA|519925 GUARDADOR DE VEICULOS",null,null,null,null,null,null,null,null,null,null,null,"    519805 PROFISSIONAL DO SEXO|519905 CARTAZEIRO|519910 CONTROLADOR DE PRAGAS"]
["    519930 LAVADOR DE GARRAFAS, VIDROS E OUTROS UTENSILIOS",null,null,null,null,null,null,null,null,"    519930 LAVADOR DE GARRAFAS, VIDROS E OUTROS UTENSILIOS",null,null,null,null,null,null,null,null,null,null,null,"    519915 ENGRAXATE|519920 GANDULA|519925 GUARDADOR DE VEICULOS"]
["    519935 LAVADOR DE VEICULOS|519940 LEITURISTA",null,null,null,null,null,null,null,null,"    519935 LAVADOR DE VEICULOS|519940 LEITURISTA",null,null,null,null,null,null,null,null,null,null,null,"    519930 LAVADOR DE GARRAFAS, VIDROS E OUTROS UTENSILIOS"]
["    519945 RECEPCIONISTA DE CASAS DE ESPETACULOS",null,null,null,null,null,null,null,null,"    519945 RECEPCIONISTA DE CASAS DE ESPETACULOS",null,null,null,null,null,null,null,null,null,null,null,"    519935 LAVADOR DE VEICULOS|519940 LEITURISTA"]
["    520105 SUPERVISOR DE VENDAS DE SERVICOS",null,null,null,null,null,null,null,null,"    520105 SUPERVISOR DE VENDAS DE SERVICOS",null,null,null,null,null,null,null,null,null,null,null,"    519945 RECEPCIONISTA DE CASAS DE ESPETACULOS"]
["    520110 SUPERVISOR DE VENDAS COMERCIAL|521105 VENDEDOR EM COMERCIO ATACADISTA",null,null,null,null,null,null,null,null,"    520110 SUPERVISOR DE VENDAS COMERCIAL|521105 VENDEDOR EM COMERCIO ATACADISTA",null,null,null,null,null,null,null,null,null,null,null,"    520105 SUPERVISOR DE VENDAS DE SERVICOS"]
["    521115 PROMOTOR DE VENDAS|521120 DEMONSTRADOR DE MERCADORIAS",null,null,null,null,null,null,null,null,"    521115 PROMOTOR DE VENDAS|521120 DEMONSTRADOR DE MERCADORIAS",null,null,null,null,null,null,null,null,null,null,null,"    520110 SUPERVISOR DE VENDAS COMERCIAL|521105 VENDEDOR EM COMERCIO ATACADISTA"]
["    521125 REPOSITOR DE MERCADORIAS|521130 ATENDENTE DE FARMACIA - BALCONISTA",null,null,null,null,null,null,null,null,"    521125 REPOSITOR DE MERCADORIAS|521130 ATENDENTE DE FARMACIA - BALCONISTA",null,null,null,null,null,null,null,null,null,null,null,"    521115 PROMOTOR DE VENDAS|521120 DEMONSTRADOR DE MERCADORIAS"]
["    521135 FRENTISTA",null,null,null,null,null,null,null,null,"    521135 FRENTISTA",null,null,null,null,null,null,null,null,null,null,null,"    521125 REPOSITOR DE MERCADORIAS|521130 ATENDENTE DE FARMACIA - BALCONISTA"]
["    523105 INSTALADOR DE CORTINAS E PERSIANAS, PORTAS SANFONADAS E BOXE",null,null,null,null,null,null,null,null,"    523105 INSTALADOR DE CORTINAS E PERSIANAS, PORTAS SANFONADAS E BOXE",null,null,null,null,null,null,null,null,null,null,null,"    521135 FRENTISTA"]
["    523110 INSTALADOR DE SOM E ACESSORIOS DE VEICULOS|523115 CHAVEIRO",null,null,null,null,null,null,null,null,"    523110 INSTALADOR DE SOM E ACESSORIOS DE VEICULOS|523115 CHAVEIRO",null,null,null,null,null,null,null,null,null,null,null,"    523105 INSTALADOR DE CORTINAS E PERSIANAS, PORTAS SANFONADAS E BOXE"]
["    524105 VENDEDOR EM DOMICILIO|524205 FEIRANTE",null,null,null,null,null,null,null,null,"    524105 VENDEDOR EM DOMICILIO|524205 FEIRANTE",null,null,null,null,null,null,null,null,null,null,null,"    523110 INSTALADOR DE SOM E ACESSORIOS DE VEICULOS|523115 CHAVEIRO"]
["    524210 JORNALEIRO (EM BANCA DE JORNAL)|524215 VENDEDOR PERMISSIONARIO",null,null,null,null,null,null,null,null,"    524210 JORNALEIRO (EM BANCA DE JORNAL)|524215 VENDEDOR PERMISSIONARIO",null,null,null,null,null,null,null,null,null,null,null,"    524105 VENDEDOR EM DOMICILIO|524205 FEIRANTE"]
["    524305 VENDEDOR AMBULANTE|524310 PIPOQUEIRO AMBULANTE",null,null,null,null,null,null,null,null,"    524305 VENDEDOR AMBULANTE|524310 PIPOQUEIRO AMBULANTE",null,null,null,null,null,null,null,null,null,null,null,"    524210 JORNALEIRO (EM BANCA DE JORNAL)|524215 VENDEDOR PERMISSIONARIO"]
["    611005 PRODUTOR AGROPECUARIO, EM GERAL|612005 PRODUTOR AGRICOLA POLIVALENTE",null,null,null,null,null,null,null,null,"    611005 PRODUTOR AGROPECUARIO, EM GERAL|612005 PRODUTOR AGRICOLA POLIVALENTE",null,null,null,null,null,null,null,null,null,null,null,"    524305 VENDEDOR AMBULANTE|524310 PIPOQUEIRO AMBULANTE"]
["    612105 PRODUTOR DE ARROZ|612110 PRODUTOR DE CANA-DE-ACUCAR",null,null,null,null,null,null,null,null,"    612105 PRODUTOR DE ARROZ|612110 PRODUTOR DE CANA-DE-ACUCAR",null,null,null,null,null,null,null,null,null,null,null,"    611005 PRODUTOR AGROPECUARIO, EM GERAL|612005 PRODUTOR AGRICOLA POLIVALENTE"]
["    612115 PRODUTOR DE CEREAIS DE INVERNO",null,null,null,null,null,null,null,null,"    612115 PRODUTOR DE CEREAIS DE INVERNO",null,null,null,null,null,null,null,null,null,null,null,"    612105 PRODUTOR DE ARROZ|612110 PRODUTOR DE CANA-DE-ACUCAR"]
["    612120 PRODUTOR DE GRAMINEAS FORRAGEIRAS|612125 PRODUTOR DE MILHO E SORGO",null,null,null,null,null,null,null,null,"    612120 PRODUTOR DE GRAMINEAS FORRAGEIRAS|612125 PRODUTOR DE MILHO E SORGO",null,null,null,null,null,null,null,null,null,null,null,"    612115 PRODUTOR DE CEREAIS DE INVERNO"]
["    612205 PRODUTOR DE ALGODAO|612210 PRODUTOR DE CURAUA|612215 PRODUTOR DE JUTA",null,null,null,null,null,null,null,null,"    612205 PRODUTOR DE ALGODAO|612210 PRODUTOR DE CURAUA|612215 PRODUTOR DE JUTA",null,null,null,null,null,null,null,null,null,null,null,"    612120 PRODUTOR DE GRAMINEAS FORRAGEIRAS|612125 PRODUTOR DE MILHO E SORGO"]
["    612220 PRODUTOR DE RAMI|612225 PRODUTOR DE SISAL",null,null,null,null,null,null,null,null,"    612220 PRODUTOR DE RAMI|612225 PRODUTOR DE SISAL",null,null,null,null,null,null,null,null,null,null,null,"    612205 PRODUTOR DE ALGODAO|612210 PRODUTOR DE CURAUA|612215 PRODUTOR DE JUTA"]
["    612305 PRODUTOR NA OLERICULTURA DE LEGUMES",null,null,null,null,null,null,null,null,"    612305 PRODUTOR NA OLERICULTURA DE LEGUMES",null,null,null,null,null,null,null,null,null,null,null,"    612220 PRODUTOR DE RAMI|612225 PRODUTOR DE SISAL"]
["    612310 PRODUTOR NA OLERICULTURA DE RAIZES, BULBOS E TUBERCULOS",null,null,null,null,null,null,null,null,"    612310 PRODUTOR NA OLERICULTURA DE RAIZES, BULBOS E TUBERCULOS",null,null,null,null,null,null,null,null,null,null,null,"    612305 PRODUTOR NA OLERICULTURA DE LEGUMES"]
["    612315 PRODUTOR NA OLERICULTURA DE TALOS, FOLHAS E FLORES",null,null,null,null,null,null,null,null,"    612315 PRODUTOR NA OLERICULTURA DE TALOS, FOLHAS E FLORES",null,null,null,null,null,null,null,null,null,null,null,"    612310 PRODUTOR NA OLERICULTURA DE RAIZES, BULBOS E TUBERCULOS"]
["    612320 PRODUTOR NA OLERICULTURA DE FRUTOS E SEMENTES",null,null,null,null,null,null,null,null,"    612320 PRODUTOR NA OLERICULTURA DE FRUTOS E SEMENTES",null,null,null,null,null,null,null,null,null,null,null,"    612315 PRODUTOR NA OLERICULTURA DE TALOS, FOLHAS E FLORES"]
["    612405 PRODUTOR DE FLORES DE CORTE|612410 PRODUTOR DE FLORES EM VASO",null,null,null,null,null,null,null,null,"    612405 PRODUTOR DE FLORES DE CORTE|612410 PRODUTOR DE FLORES EM VASO",null,null,null,null,null,null,null,null,null,null,null,"    612320 PRODUTOR NA OLERICULTURA DE FRUTOS E SEMENTES"]
["    612415 PRODUTOR DE FORRACOES|612420 PRODUTOR DE PLANTAS ORNAMENTAIS",null,null,null,null,null,null,null,null,"    612415 PRODUTOR DE FORRACOES|612420 PRODUTOR DE PLANTAS ORNAMENTAIS",null,null,null,null,null,null,null,null,null,null,null,"    612405 PRODUTOR DE FLORES DE CORTE|612410 PRODUTOR DE FLORES EM VASO"]
["    612505 PRODUTOR DE ARVORES FRUTIFERAS",null,null,null,null,null,null,null,null,"    612505 PRODUTOR DE ARVORES FRUTIFERAS",null,null,null,null,null,null,null,null,null,null,null,"    612415 PRODUTOR DE FORRACOES|612420 PRODUTOR DE PLANTAS ORNAMENTAIS"]
["    612510 PRODUTOR DE ESPECIES FRUTIFERAS RASTEIRAS",null,null,null,null,null,null,null,null,"    612510 PRODUTOR DE ESPECIES FRUTIFERAS RASTEIRAS",null,null,null,null,null,null,null,null,null,null,null,"    612505 PRODUTOR DE ARVORES FRUTIFERAS"]
["    612515 PRODUTOR DE ESPECIES FRUTIFERAS TREPADEIRAS|612605 CAFEICULTOR",null,null,null,null,null,null,null,null,"    612515 PRODUTOR DE ESPECIES FRUTIFERAS TREPADEIRAS|612605 CAFEICULTOR",null,null,null,null,null,null,null,null,null,null,null,"    612510 PRODUTOR DE ESPECIES FRUTIFERAS RASTEIRAS"]
["    612610 PRODUTOR DE CACAU|612615 PRODUTOR DE ERVA-MATE",null,null,null,null,null,null,null,null,"    612610 PRODUTOR DE CACAU|612615 PRODUTOR DE ERVA-MATE",null,null,null,null,null,null,null,null,null,null,null,"    612515 PRODUTOR DE ESPECIES FRUTIFERAS TREPADEIRAS|612605 CAFEICULTOR"]
["    612620 PRODUTOR DE FUMO|612625 PRODUTOR DE GUARANA",null,null,null,null,null,null,null,null,"    612620 PRODUTOR DE FUMO|612625 PRODUTOR DE GUARANA",null,null,null,null,null,null,null,null,null,null,null,"    612610 PRODUTOR DE CACAU|612615 PRODUTOR DE ERVA-MATE"]
["    612705 PRODUTOR DA CULTURA DE AMENDOIM|612710 PRODUTOR DA CULTURA DE CANOLA",null,null,null,null,null,null,null,null,"    612705 PRODUTOR DA CULTURA DE AMENDOIM|612710 PRODUTOR DA CULTURA DE CANOLA",null,null,null,null,null,null,null,null,null,null,null,"    612620 PRODUTOR DE FUMO|612625 PRODUTOR DE GUARANA"]
["    612715 PRODUTOR DA CULTURA DE COCO-DA-BAIA",null,null,null,null,null,null,null,null,"    612715 PRODUTOR DA CULTURA DE COCO-DA-BAIA",null,null,null,null,null,null,null,null,null,null,null,"    612705 PRODUTOR DA CULTURA DE AMENDOIM|612710 PRODUTOR DA CULTURA DE CANOLA"]
["    612720 PRODUTOR DA CULTURA DE DENDE|612725 PRODUTOR DA CULTURA DE GIRASSOL",null,null,null,null,null,null,null,null,"    612720 PRODUTOR DA CULTURA DE DENDE|612725 PRODUTOR DA CULTURA DE GIRASSOL",null,null,null,null,null,null,null,null,null,null,null,"    612715 PRODUTOR DA CULTURA DE COCO-DA-BAIA"]
["    612730 PRODUTOR DA CULTURA DE LINHO|612735 PRODUTOR DA CULTURA DE MAMONA",null,null,null,null,null,null,null,null,"    612730 PRODUTOR DA CULTURA DE LINHO|612735 PRODUTOR DA CULTURA DE MAMONA",null,null,null,null,null,null,null,null,null,null,null,"    612720 PRODUTOR DA CULTURA DE DENDE|612725 PRODUTOR DA CULTURA DE GIRASSOL"]
["    612740 PRODUTOR DA CULTURA DE SOJA|612805 PRODUTOR DE ESPECIARIAS",null,null,null,null,null,null,null,null,"    612740 PRODUTOR DA CULTURA DE SOJA|612805 PRODUTOR DE ESPECIARIAS",null,null,null,null,null,null,null,null,null,null,null,"    612730 PRODUTOR DA CULTURA DE LINHO|612735 PRODUTOR DA CULTURA DE MAMONA"]
["    612810 PRODUTOR DE PLANTAS AROMATICAS E MEDICINAIS",null,null,null,null,null,null,null,null,"    612810 PRODUTOR DE PLANTAS AROMATICAS E MEDICINAIS",null,null,null,null,null,null,null,null,null,null,null,"    612740 PRODUTOR DA CULTURA DE SOJA|612805 PRODUTOR DE ESPECIARIAS"]
["    613005 CRIADOR EM PECUARIA POLIVALENTE|613010 CRIADOR DE ANIMAIS DOMESTICOS",null,null,null,null,null,null,null,null,"    613005 CRIADOR EM PECUARIA POLIVALENTE|613010 CRIADOR DE ANIMAIS DOMESTICOS",null,null,null,null,null,null,null,null,null,null,null,"    612810 PRODUTOR DE PLANTAS AROMATICAS E MEDICINAIS"]
["    613105 CRIADOR DE ASININOS E MUARES|613110 CRIADOR DE BOVINOS (CORTE)",null,null,null,null,null,null,null,null,"    613105 CRIADOR DE ASININOS E MUARES|613110 CRIADOR DE BOVINOS (CORTE)",null,null,null,null,null,null,null,null,null,null,null,"    613005 CRIADOR EM PECUARIA POLIVALENTE|613010 CRIADOR DE ANIMAIS DOMESTICOS"]
["    613115 CRIADOR DE BOVINOS (LEITE)|613120 CRIADOR DE BUBALINOS (CORTE)",null,null,null,null,null,null,null,null,"    613115 CRIADOR DE BOVINOS (LEITE)|613120 CRIADOR DE BUBALINOS (CORTE)",null,null,null,null,null,null,null,null,null,null,null,"    613105 CRIADOR DE ASININOS E MUARES|613110 CRIADOR DE BOVINOS (CORTE)"]
["    613125 CRIADOR DE BUBALINOS (LEITE)|613130 CRIADOR DE EQUINOS",null,null,null,null,null,null,null,null,"    613125 CRIADOR DE BUBALINOS (LEITE)|613130 CRIADOR DE EQUINOS",null,null,null,null,null,null,null,null,null,null,null,"    613115 CRIADOR DE BOVINOS (LEITE)|613120 CRIADOR DE BUBALINOS (CORTE)"]
["    613205 CRIADOR DE CAPRINOS|613210 CRIADOR DE OVINOS|613215 CRIADOR DE SUINOS",null,null,null,null,null,null,null,null,"    613205 CRIADOR DE CAPRINOS|613210 CRIADOR DE OVINOS|613215 CRIADOR DE SUINOS",null,null,null,null,null,null,null,null,null,null,null,"    613125 CRIADOR DE BUBALINOS (LEITE)|613130 CRIADOR DE EQUINOS"]
["    613305 AVICULTOR|613310 CUNICULTOR|613405 APICULTOR",null,null,null,null,null,null,null,null,"    613305 AVICULTOR|613310 CUNICULTOR|613405 APICULTOR",null,null,null,null,null,null,null,null,null,null,null,"    613205 CRIADOR DE CAPRINOS|613210 CRIADOR DE OVINOS|613215 CRIADOR DE SUINOS"]
["    613410 CRIADOR DE ANIMAIS PRODUTORES DE VENENO|613415 MINHOCULTOR",null,null,null,null,null,null,null,null,"    613410 CRIADOR DE ANIMAIS PRODUTORES DE VENENO|613415 MINHOCULTOR",null,null,null,null,null,null,null,null,null,null,null,"    613305 AVICULTOR|613310 CUNICULTOR|613405 APICULTOR"]
["    613420 SERICULTOR|620105 SUPERVISOR DE EXPLORACAO AGRICOLA",null,null,null,null,null,null,null,null,"    613420 SERICULTOR|620105 SUPERVISOR DE EXPLORACAO AGRICOLA",null,null,null,null,null,null,null,null,null,null,null,"    613410 CRIADOR DE ANIMAIS PRODUTORES DE VENENO|613415 MINHOCULTOR"]
["    620110 SUPERVISOR DE EXPLORACAO AGROPECUARIA",null,null,null,null,null,null,null,null,"    620110 SUPERVISOR DE EXPLORACAO AGROPECUARIA",null,null,null,null,null,null,null,null,null,null,null,"    613420 SERICULTOR|620105 SUPERVISOR DE EXPLORACAO AGRICOLA"]
["    620115 SUPERVISOR DE EXPLORACAO PECUARIA",null,null,null,null,null,null,null,null,"    620115 SUPERVISOR DE EXPLORACAO PECUARIA",null,null,null,null,null,null,null,null,null,null,null,"    620110 SUPERVISOR DE EXPLORACAO AGROPECUARIA"]
["    621005 TRABALHADOR AGROPECUARIO EM GERAL|622005 CASEIRO (AGRICULTURA)",null,null,null,null,null,null,null,null,"    621005 TRABALHADOR AGROPECUARIO EM GERAL|622005 CASEIRO (AGRICULTURA)",null,null,null,null,null,null,null,null,null,null,null,"    620115 SUPERVISOR DE EXPLORACAO PECUARIA"]
["    622010 JARDINEIRO|622015 TRABALHADOR NA PRODUCAO DE MUDAS E SEMENTES",null,null,null,null,null,null,null,null,"    622010 JARDINEIRO|622015 TRABALHADOR NA PRODUCAO DE MUDAS E SEMENTES",null,null,null,null,null,null,null,null,null,null,null,"    621005 TRABALHADOR AGROPECUARIO EM GERAL|622005 CASEIRO (AGRICULTURA)"]
["    622020 TRABALHADOR VOLANTE DA AGRICULTURA",null,null,null,null,null,null,null,null,"    622020 TRABALHADOR VOLANTE DA AGRICULTURA",null,null,null,null,null,null,null,null,null,null,null,"    622010 JARDINEIRO|622015 TRABALHADOR NA PRODUCAO DE MUDAS E SEMENTES"]
["    622105 TRABALHADOR DA CULTURA DE ARROZ",null,null,null,null,null,null,null,null,"    622105 TRABALHADOR DA CULTURA DE ARROZ",null,null,null,null,null,null,null,null,null,null,null,"    622020 TRABALHADOR VOLANTE DA AGRICULTURA"]
["    622110 TRABALHADOR DA CULTURA DE CANA-DE-ACUCAR",null,null,null,null,null,null,null,null,"    622110 TRABALHADOR DA CULTURA DE CANA-DE-ACUCAR",null,null,null,null,null,null,null,null,null,null,null,"    622105 TRABALHADOR DA CULTURA DE ARROZ"]
["    622115 TRABALHADOR DA CULTURA DE MILHO E SORGO",null,null,null,null,null,null,null,null,"    622115 TRABALHADOR DA CULTURA DE MILHO E SORGO",null,null,null,null,null,null,null,null,null,null,null,"    622110 TRABALHADOR DA CULTURA DE CANA-DE-ACUCAR"]
["    622120 TRABALHADOR DA CULTURA DE TRIGO, AVEIA, CEVADA E TRITICALE",null,null,null,null,null,null,null,null,"    622120 TRABALHADOR DA CULTURA DE TRIGO, AVEIA, CEVADA E TRITICALE",null,null,null,null,null,null,null,null,null,null,null,"    622115 TRABALHADOR DA CULTURA DE MILHO E SORGO"]
["    622205 TRABALHADOR DA CULTURA DE ALGODAO",null,null,null,null,null,null,null,null,"    622205 TRABALHADOR DA CULTURA DE ALGODAO",null,null,null,null,null,null,null,null,null,null,null,"    622120 TRABALHADOR DA CULTURA DE TRIGO, AVEIA, CEVADA E TRITICALE"]
["    622210 TRABALHADOR DA CULTURA DE SISAL|622215 TRABALHADOR DA CULTURA DO RAMI",null,null,null,null,null,null,null,null,"    622210 TRABALHADOR DA CULTURA DE SISAL|622215 TRABALHADOR DA CULTURA DO RAMI",null,null,null,null,null,null,null,null,null,null,null,"    622205 TRABALHADOR DA CULTURA DE ALGODAO"]
["    622305 TRABALHADOR NA OLERICULTURA (FRUTOS E SEMENTES)",null,null,null,null,null,null,null,null,"    622305 TRABALHADOR NA OLERICULTURA (FRUTOS E SEMENTES)",null,null,null,null,null,null,null,null,null,null,null,"    622210 TRABALHADOR DA CULTURA DE SISAL|622215 TRABALHADOR DA CULTURA DO RAMI"]
["    622310 TRABALHADOR NA OLERICULTURA (LEGUMES)",null,null,null,null,null,null,null,null,"    622310 TRABALHADOR NA OLERICULTURA (LEGUMES)",null,null,null,null,null,null,null,null,null,null,null,"    622305 TRABALHADOR NA OLERICULTURA (FRUTOS E SEMENTES)"]
["    622315 TRABALHADOR NA OLERICULTURA (RAIZES, BULBOS E TUBERCULOS)",null,null,null,null,null,null,null,null,"    622315 TRABALHADOR NA OLERICULTURA (RAIZES, BULBOS E TUBERCULOS)",null,null,null,null,null,null,null,null,null,null,null,"    622310 TRABALHADOR NA OLERICULTURA (LEGUMES)"]
["    622320 TRABALHADOR NA OLERICULTURA (TALOS, FOLHAS E FLORES)",null,null,null,null,null,null,null,null,"    622320 TRABALHADOR NA OLERICULTURA (TALOS, FOLHAS E FLORES)",null,null,null,null,null,null,null,null,null,null,null,"    622315 TRABALHADOR NA OLERICULTURA (RAIZES, BULBOS E TUBERCULOS)"]
["    622405 TRABALHADOR NO CULTIVO DE FLORES E FOLHAGENS DE CORTE",null,null,null,null,null,null,null,null,"    622405 TRABALHADOR NO CULTIVO DE FLORES E FOLHAGENS DE CORTE",null,null,null,null,null,null,null,null,null,null,null,"    622320 TRABALHADOR NA OLERICULTURA (TALOS, FOLHAS E FLORES)"]
["    622410 TRABALHADOR NO CULTIVO DE FLORES EM VASO",null,null,null,null,null,null,null,null,"    622410 TRABALHADOR NO CULTIVO DE FLORES EM VASO",null,null,null,null,null,null,null,null,null,null,null,"    622405 TRABALHADOR NO CULTIVO DE FLORES E FOLHAGENS DE CORTE"]
["    622415 TRABALHADOR NO CULTIVO DE FORRACOES",null,null,null,null,null,null,null,null,"    622415 TRABALHADOR NO CULTIVO DE FORRACOES",null,null,null,null,null,null,null,null,null,null,null,"    622410 TRABALHADOR NO CULTIVO DE FLORES EM VASO"]
["    622420 TRABALHADOR NO CULTIVO DE MUDAS",null,null,null,null,null,null,null,null,"    622420 TRABALHADOR NO CULTIVO DE MUDAS",null,null,null,null,null,null,null,null,null,null,null,"    622415 TRABALHADOR NO CULTIVO DE FORRACOES"]
["    622425 TRABALHADOR NO CULTIVO DE PLANTAS ORNAMENTAIS",null,null,null,null,null,null,null,null,"    622425 TRABALHADOR NO CULTIVO DE PLANTAS ORNAMENTAIS",null,null,null,null,null,null,null,null,null,null,null,"    622420 TRABALHADOR NO CULTIVO DE MUDAS"]
["    622505 TRABALHADOR NO CULTIVO DE ARVORES FRUTIFERAS",null,null,null,null,null,null,null,null,"    622505 TRABALHADOR NO CULTIVO DE ARVORES FRUTIFERAS",null,null,null,null,null,null,null,null,null,null,null,"    622425 TRABALHADOR NO CULTIVO DE PLANTAS ORNAMENTAIS"]
["    622510 TRABALHADOR NO CULTIVO DE ESPECIES FRUTIFERAS RASTEIRAS",null,null,null,null,null,null,null,null,"    622510 TRABALHADOR NO CULTIVO DE ESPECIES FRUTIFERAS RASTEIRAS",null,null,null,null,null,null,null,null,null,null,null,"    622505 TRABALHADOR NO CULTIVO DE ARVORES FRUTIFERAS"]
["    622515 TRABALHADOR NO CULTIVO DE TREPADEIRAS FRUTIFERAS",null,null,null,null,null,null,null,null,"    622515 TRABALHADOR NO CULTIVO DE TREPADEIRAS FRUTIFERAS",null,null,null,null,null,null,null,null,null,null,null,"    622510 TRABALHADOR NO CULTIVO DE ESPECIES FRUTIFERAS RASTEIRAS"]
["    622605 TRABALHADOR DA CULTURA DE CACAU|622610 TRABALHADOR DA CULTURA DE CAFE",null,null,null,null,null,null,null,null,"    622605 TRABALHADOR DA CULTURA DE CACAU|622610 TRABALHADOR DA CULTURA DE CAFE",null,null,null,null,null,null,null,null,null,null,null,"    622515 TRABALHADOR NO CULTIVO DE TREPADEIRAS FRUTIFERAS"]
["    622615 TRABALHADOR DA CULTURA DE ERVA-MATE",null,null,null,null,null,null,null,null,"    622615 TRABALHADOR DA CULTURA DE ERVA-MATE",null,null,null,null,null,null,null,null,null,null,null,"    622605 TRABALHADOR DA CULTURA DE CACAU|622610 TRABALHADOR DA CULTURA DE CAFE"]
["    622620 TRABALHADOR DA CULTURA DE FUMO",null,null,null,null,null,null,null,null,"    622620 TRABALHADOR DA CULTURA DE FUMO",null,null,null,null,null,null,null,null,null,null,null,"    622615 TRABALHADOR DA CULTURA DE ERVA-MATE"]
["    622625 TRABALHADOR DA CULTURA DE GUARANA",null,null,null,null,null,null,null,null,"    622625 TRABALHADOR DA CULTURA DE GUARANA",null,null,null,null,null,null,null,null,null,null,null,"    622620 TRABALHADOR DA CULTURA DE FUMO"]
["    622705 TRABALHADOR NA CULTURA DE AMENDOIM",null,null,null,null,null,null,null,null,"    622705 TRABALHADOR NA CULTURA DE AMENDOIM",null,null,null,null,null,null,null,null,null,null,null,"    622625 TRABALHADOR DA CULTURA DE GUARANA"]
["    622710 TRABALHADOR NA CULTURA DE CANOLA",null,null,null,null,null,null,null,null,"    622710 TRABALHADOR NA CULTURA DE CANOLA",null,null,null,null,null,null,null,null,null,null,null,"    622705 TRABALHADOR NA CULTURA DE AMENDOIM"]
["    622715 TRABALHADOR NA CULTURA DE COCO-DA-BAIA",null,null,null,null,null,null,null,null,"    622715 TRABALHADOR NA CULTURA DE COCO-DA-BAIA",null,null,null,null,null,null,null,null,null,null,null,"    622710 TRABALHADOR NA CULTURA DE CANOLA"]
["    622720 TRABALHADOR NA CULTURA DE DENDE",null,null,null,null,null,null,null,null,"    622720 TRABALHADOR NA CULTURA DE DENDE",null,null,null,null,null,null,null,null,null,null,null,"    622715 TRABALHADOR NA CULTURA DE COCO-DA-BAIA"]
["    622725 TRABALHADOR NA CULTURA DE MAMONA",null,null,null,null,null,null,null,null,"    622725 TRABALHADOR NA CULTURA DE MAMONA",null,null,null,null,null,null,null,null,null,null,null,"    622720 TRABALHADOR NA CULTURA DE DENDE"]
["    622730 TRABALHADOR NA CULTURA DE SOJA",null,null,null,null,null,null,null,null,"    622730 TRABALHADOR NA CULTURA DE SOJA",null,null,null,null,null,null,null,null,null,null,null,"    622725 TRABALHADOR NA CULTURA DE MAMONA"]
["    622735 TRABALHADOR NA CULTURA DO GIRASSOL",null,null,null,null,null,null,null,null,"    622735 TRABALHADOR NA CULTURA DO GIRASSOL",null,null,null,null,null,null,null,null,null,null,null,"    622730 TRABALHADOR NA CULTURA DE SOJA"]
["    622740 TRABALHADOR NA CULTURA DO LINHO",null,null,null,null,null,null,null,null,"    622740 TRABALHADOR NA CULTURA DO LINHO",null,null,null,null,null,null,null,null,null,null,null,"    622735 TRABALHADOR NA CULTURA DO GIRASSOL"]
["    622805 TRABALHADOR DA CULTURA DE ESPECIARIAS",null,null,null,null,null,null,null,null,"    622805 TRABALHADOR DA CULTURA DE ESPECIARIAS",null,null,null,null,null,null,null,null,null,null,null,"    622740 TRABALHADOR NA CULTURA DO LINHO"]
["    622810 TRABALHADOR DA CULTURA DE PLANTAS AROMATICAS E MEDICINAIS",null,null,null,null,null,null,null,null,"    622810 TRABALHADOR DA CULTURA DE PLANTAS AROMATICAS E MEDICINAIS",null,null,null,null,null,null,null,null,null,null,null,"    622805 TRABALHADOR DA CULTURA DE ESPECIARIAS"]
["    623005 ADESTRADOR DE ANIMAIS|623010 INSEMINADOR",null,null,null,null,null,null,null,null,"    623005 ADESTRADOR DE ANIMAIS|623010 INSEMINADOR",null,null,null,null,null,null,null,null,null,null,null,"    622810 TRABALHADOR DA CULTURA DE PLANTAS AROMATICAS E MEDICINAIS"]
["    623015 TRABALHADOR DE PECUARIA POLIVALENTE|623020 TRATADOR DE ANIMAIS",null,null,null,null,null,null,null,null,"    623015 TRABALHADOR DE PECUARIA POLIVALENTE|623020 TRATADOR DE ANIMAIS",null,null,null,null,null,null,null,null,null,null,null,"    623005 ADESTRADOR DE ANIMAIS|623010 INSEMINADOR"]
["    623105 TRABALHADOR DA PECUARIA (ASININOS E MUARES)",null,null,null,null,null,null,null,null,"    623105 TRABALHADOR DA PECUARIA (ASININOS E MUARES)",null,null,null,null,null,null,null,null,null,null,null,"    623015 TRABALHADOR DE PECUARIA POLIVALENTE|623020 TRATADOR DE ANIMAIS"]
["    521110 VENDEDOR DE COMERCIO VAREJISTA",null,null,null,null,null,null,null,null,"    521110 VENDEDOR DE COMERCIO VAREJISTA",null,null,null,null,null,null,null,null,null,null,null,"    623105 TRABALHADOR DA PECUARIA (ASININOS E MUARES)"]
["    623110 TRABALHADOR DA PECUARIA (BOVINOS CORTE)",null,null,null,null,null,null,null,null,"    623110 TRABALHADOR DA PECUARIA (BOVINOS CORTE)",null,null,null,null,null,null,null,null,null,null,null,"    521110 VENDEDOR DE COMERCIO VAREJISTA"]
["    623115 TRABALHADOR DA PECUARIA (BOVINOS LEITE)",null,null,null,null,null,null,null,null,"    623115 TRABALHADOR DA PECUARIA (BOVINOS LEITE)",null,null,null,null,null,null,null,null,null,null,null,"    623110 TRABALHADOR DA PECUARIA (BOVINOS CORTE)"]
["    623120 TRABALHADOR DA PECUARIA (BUBALINOS)",null,null,null,null,null,null,null,null,"    623120 TRABALHADOR DA PECUARIA (BUBALINOS)",null,null,null,null,null,null,null,null,null,null,null,"    623115 TRABALHADOR DA PECUARIA (BOVINOS LEITE)"]
["    623125 TRABALHADOR DA PECUARIA (EQUINOS)",null,null,null,null,null,null,null,null,"    623125 TRABALHADOR DA PECUARIA (EQUINOS)",null,null,null,null,null,null,null,null,null,null,null,"    623120 TRABALHADOR DA PECUARIA (BUBALINOS)"]
["    623205 TRABALHADOR DA CAPRINOCULTURA|623210 TRABALHADOR DA OVINOCULTURA",null,null,null,null,null,null,null,null,"    623205 TRABALHADOR DA CAPRINOCULTURA|623210 TRABALHADOR DA OVINOCULTURA",null,null,null,null,null,null,null,null,null,null,null,"    623125 TRABALHADOR DA PECUARIA (EQUINOS)"]
["    623215 TRABALHADOR DA SUINOCULTURA|623305 TRABALHADOR DA AVICULTURA DE CORTE",null,null,null,null,null,null,null,null,"    623215 TRABALHADOR DA SUINOCULTURA|623305 TRABALHADOR DA AVICULTURA DE CORTE",null,null,null,null,null,null,null,null,null,null,null,"    623205 TRABALHADOR DA CAPRINOCULTURA|623210 TRABALHADOR DA OVINOCULTURA"]
["    623310 TRABALHADOR DA AVICULTURA DE POSTURA|623315 OPERADOR DE INCUBADORA",null,null,null,null,null,null,null,null,"    623310 TRABALHADOR DA AVICULTURA DE POSTURA|623315 OPERADOR DE INCUBADORA",null,null,null,null,null,null,null,null,null,null,null,"    623215 TRABALHADOR DA SUINOCULTURA|623305 TRABALHADOR DA AVICULTURA DE CORTE"]
["    623320 TRABALHADOR DA CUNICULTURA|623325 SEXADOR",null,null,null,null,null,null,null,null,"    623320 TRABALHADOR DA CUNICULTURA|623325 SEXADOR",null,null,null,null,null,null,null,null,null,null,null,"    623310 TRABALHADOR DA AVICULTURA DE POSTURA|623315 OPERADOR DE INCUBADORA"]
["    623405 TRABALHADOR EM CRIATORIOS DE ANIMAIS PRODUTORES DE VENENO",null,null,null,null,null,null,null,null,"    623405 TRABALHADOR EM CRIATORIOS DE ANIMAIS PRODUTORES DE VENENO",null,null,null,null,null,null,null,null,null,null,null,"    623320 TRABALHADOR DA CUNICULTURA|623325 SEXADOR"]
["    623410 TRABALHADOR NA APICULTURA|623415 TRABALHADOR NA MINHOCULTURA",null,null,null,null,null,null,null,null,"    623410 TRABALHADOR NA APICULTURA|623415 TRABALHADOR NA MINHOCULTURA",null,null,null,null,null,null,null,null,null,null,null,"    623405 TRABALHADOR EM CRIATORIOS DE ANIMAIS PRODUTORES DE VENENO"]
["    623420 TRABALHADOR NA SERICICULTURA|630105 SUPERVISOR DA AQUICULTURA",null,null,null,null,null,null,null,null,"    623420 TRABALHADOR NA SERICICULTURA|630105 SUPERVISOR DA AQUICULTURA",null,null,null,null,null,null,null,null,null,null,null,"    623410 TRABALHADOR NA APICULTURA|623415 TRABALHADOR NA MINHOCULTURA"]
["    630110 SUPERVISOR DA AREA FLORESTAL|631005 CATADOR DE CARANGUEJOS E SIRIS",null,null,null,null,null,null,null,null,"    630110 SUPERVISOR DA AREA FLORESTAL|631005 CATADOR DE CARANGUEJOS E SIRIS",null,null,null,null,null,null,null,null,null,null,null,"    623420 TRABALHADOR NA SERICICULTURA|630105 SUPERVISOR DA AQUICULTURA"]
["    631010 CATADOR DE MARISCOS|631015 PESCADOR ARTESANAL DE LAGOSTAS",null,null,null,null,null,null,null,null,"    631010 CATADOR DE MARISCOS|631015 PESCADOR ARTESANAL DE LAGOSTAS",null,null,null,null,null,null,null,null,null,null,null,"    630110 SUPERVISOR DA AREA FLORESTAL|631005 CATADOR DE CARANGUEJOS E SIRIS"]
["    631020 PESCADOR ARTESANAL DE PEIXES E CAMAROES",null,null,null,null,null,null,null,null,"    631020 PESCADOR ARTESANAL DE PEIXES E CAMAROES",null,null,null,null,null,null,null,null,null,null,null,"    631010 CATADOR DE MARISCOS|631015 PESCADOR ARTESANAL DE LAGOSTAS"]
["    631105 PESCADOR ARTESANAL DE AGUA DOCE|631210 PESCADOR PROFISSIONAL",null,null,null,null,null,null,null,null,"    631105 PESCADOR ARTESANAL DE AGUA DOCE|631210 PESCADOR PROFISSIONAL",null,null,null,null,null,null,null,null,null,null,null,"    631020 PESCADOR ARTESANAL DE PEIXES E CAMAROES"]
["    631305 CRIADOR DE CAMAROES|631310 CRIADOR DE JACARES",null,null,null,null,null,null,null,null,"    631305 CRIADOR DE CAMAROES|631310 CRIADOR DE JACARES",null,null,null,null,null,null,null,null,null,null,null,"    631105 PESCADOR ARTESANAL DE AGUA DOCE|631210 PESCADOR PROFISSIONAL"]
["    631315 CRIADOR DE MEXILHOES|631320 CRIADOR DE OSTRAS",null,null,null,null,null,null,null,null,"    631315 CRIADOR DE MEXILHOES|631320 CRIADOR DE OSTRAS",null,null,null,null,null,null,null,null,null,null,null,"    631305 CRIADOR DE CAMAROES|631310 CRIADOR DE JACARES"]
["    631325 CRIADOR DE PEIXES|631330 CRIADOR DE QUELONIOS|631335 CRIADOR DE RAS",null,null,null,null,null,null,null,null,"    631325 CRIADOR DE PEIXES|631330 CRIADOR DE QUELONIOS|631335 CRIADOR DE RAS",null,null,null,null,null,null,null,null,null,null,null,"    631315 CRIADOR DE MEXILHOES|631320 CRIADOR DE OSTRAS"]
["    631405 GELADOR INDUSTRIAL|631410 GELADOR PROFISSIONAL|631415 PROEIRO",null,null,null,null,null,null,null,null,"    631405 GELADOR INDUSTRIAL|631410 GELADOR PROFISSIONAL|631415 PROEIRO",null,null,null,null,null,null,null,null,null,null,null,"    631325 CRIADOR DE PEIXES|631330 CRIADOR DE QUELONIOS|631335 CRIADOR DE RAS"]
["    631420 REDEIRO (PESCA)|632005 GUIA FLORESTAL|632010 RAIZEIRO",null,null,null,null,null,null,null,null,"    631420 REDEIRO (PESCA)|632005 GUIA FLORESTAL|632010 RAIZEIRO",null,null,null,null,null,null,null,null,null,null,null,"    631405 GELADOR INDUSTRIAL|631410 GELADOR PROFISSIONAL|631415 PROEIRO"]
["    632015 VIVEIRISTA FLORESTAL|632105 CLASSIFICADOR DE TORAS",null,null,null,null,null,null,null,null,"    632015 VIVEIRISTA FLORESTAL|632105 CLASSIFICADOR DE TORAS",null,null,null,null,null,null,null,null,null,null,null,"    631420 REDEIRO (PESCA)|632005 GUIA FLORESTAL|632010 RAIZEIRO"]
["    632110 CUBADOR DE MADEIRA|632115 IDENTIFICADOR FLORESTAL",null,null,null,null,null,null,null,null,"    632110 CUBADOR DE MADEIRA|632115 IDENTIFICADOR FLORESTAL",null,null,null,null,null,null,null,null,null,null,null,"    632015 VIVEIRISTA FLORESTAL|632105 CLASSIFICADOR DE TORAS"]
["    632120 OPERADOR DE MOTOSSERRA",null,null,null,null,null,null,null,null,"    632120 OPERADOR DE MOTOSSERRA",null,null,null,null,null,null,null,null,null,null,null,"    632110 CUBADOR DE MADEIRA|632115 IDENTIFICADOR FLORESTAL"]
["    632125 TRABALHADOR DE EXTRACAO FLORESTAL, EM GERAL|632205 SERINGUEIRO",null,null,null,null,null,null,null,null,"    632125 TRABALHADOR DE EXTRACAO FLORESTAL, EM GERAL|632205 SERINGUEIRO",null,null,null,null,null,null,null,null,null,null,null,"    632120 OPERADOR DE MOTOSSERRA"]
["    632210 TRABALHADOR DA EXPLORACAO DE ESPECIES PRODUTORAS DE GOMAS NAO ELASTICAS",null,null,null,null,null,null,null,null,"    632210 TRABALHADOR DA EXPLORACAO DE ESPECIES PRODUTORAS DE GOMAS NAO ELASTICAS",null,null,null,null,null,null,null,null,null,null,null,"    632125 TRABALHADOR DE EXTRACAO FLORESTAL, EM GERAL|632205 SERINGUEIRO"]
["    632215 TRABALHADOR DA EXPLORACAO DE RESINAS",null,null,null,null,null,null,null,null,"    632215 TRABALHADOR DA EXPLORACAO DE RESINAS",null,null,null,null,null,null,null,null,null,null,null,"    632210 TRABALHADOR DA EXPLORACAO DE ESPECIES PRODUTORAS DE GOMAS NAO ELASTICAS"]
["    632305 TRABALHADOR DA EXPLORACAO DE ANDIROBA",null,null,null,null,null,null,null,null,"    632305 TRABALHADOR DA EXPLORACAO DE ANDIROBA",null,null,null,null,null,null,null,null,null,null,null,"    632215 TRABALHADOR DA EXPLORACAO DE RESINAS"]
["    632310 TRABALHADOR DA EXPLORACAO DE BABACU",null,null,null,null,null,null,null,null,"    632310 TRABALHADOR DA EXPLORACAO DE BABACU",null,null,null,null,null,null,null,null,null,null,null,"    632305 TRABALHADOR DA EXPLORACAO DE ANDIROBA"]
["    632315 TRABALHADOR DA EXPLORACAO DE BACABA",null,null,null,null,null,null,null,null,"    632315 TRABALHADOR DA EXPLORACAO DE BACABA",null,null,null,null,null,null,null,null,null,null,null,"    632310 TRABALHADOR DA EXPLORACAO DE BABACU"]
["    632320 TRABALHADOR DA EXPLORACAO DE BURITI",null,null,null,null,null,null,null,null,"    632320 TRABALHADOR DA EXPLORACAO DE BURITI",null,null,null,null,null,null,null,null,null,null,null,"    632315 TRABALHADOR DA EXPLORACAO DE BACABA"]
["    632325 TRABALHADOR DA EXPLORACAO DE CARNAUBA",null,null,null,null,null,null,null,null,"    632325 TRABALHADOR DA EXPLORACAO DE CARNAUBA",null,null,null,null,null,null,null,null,null,null,null,"    632320 TRABALHADOR DA EXPLORACAO DE BURITI"]
["    632330 TRABALHADOR DA EXPLORACAO DE COCO-DA-PRAIA",null,null,null,null,null,null,null,null,"    632330 TRABALHADOR DA EXPLORACAO DE COCO-DA-PRAIA",null,null,null,null,null,null,null,null,null,null,null,"    632325 TRABALHADOR DA EXPLORACAO DE CARNAUBA"]
["    632335 TRABALHADOR DA EXPLORACAO DE COPAIBA",null,null,null,null,null,null,null,null,"    632335 TRABALHADOR DA EXPLORACAO DE COPAIBA",null,null,null,null,null,null,null,null,null,null,null,"    632330 TRABALHADOR DA EXPLORACAO DE COCO-DA-PRAIA"]
["    632340 TRABALHADOR DA EXPLORACAO DE MALVA (PAINA)",null,null,null,null,null,null,null,null,"    632340 TRABALHADOR DA EXPLORACAO DE MALVA (PAINA)",null,null,null,null,null,null,null,null,null,null,null,"    632335 TRABALHADOR DA EXPLORACAO DE COPAIBA"]
["    632345 TRABALHADOR DA EXPLORACAO DE MURUMURU",null,null,null,null,null,null,null,null,"    632345 TRABALHADOR DA EXPLORACAO DE MURUMURU",null,null,null,null,null,null,null,null,null,null,null,"    632340 TRABALHADOR DA EXPLORACAO DE MALVA (PAINA)"]
["    632350 TRABALHADOR DA EXPLORACAO DE OITICICA",null,null,null,null,null,null,null,null,"    632350 TRABALHADOR DA EXPLORACAO DE OITICICA",null,null,null,null,null,null,null,null,null,null,null,"    632345 TRABALHADOR DA EXPLORACAO DE MURUMURU"]
["    632355 TRABALHADOR DA EXPLORACAO DE OURICURI",null,null,null,null,null,null,null,null,"    632355 TRABALHADOR DA EXPLORACAO DE OURICURI",null,null,null,null,null,null,null,null,null,null,null,"    632350 TRABALHADOR DA EXPLORACAO DE OITICICA"]
["    632360 TRABALHADOR DA EXPLORACAO DE PEQUI",null,null,null,null,null,null,null,null,"    632360 TRABALHADOR DA EXPLORACAO DE PEQUI",null,null,null,null,null,null,null,null,null,null,null,"    632355 TRABALHADOR DA EXPLORACAO DE OURICURI"]
["    632365 TRABALHADOR DA EXPLORACAO DE PIACAVA",null,null,null,null,null,null,null,null,"    632365 TRABALHADOR DA EXPLORACAO DE PIACAVA",null,null,null,null,null,null,null,null,null,null,null,"    632360 TRABALHADOR DA EXPLORACAO DE PEQUI"]
["    632370 TRABALHADOR DA EXPLORACAO DE TUCUM",null,null,null,null,null,null,null,null,"    632370 TRABALHADOR DA EXPLORACAO DE TUCUM",null,null,null,null,null,null,null,null,null,null,null,"    632365 TRABALHADOR DA EXPLORACAO DE PIACAVA"]
["    632405 TRABALHADOR DA EXPLORACAO DE ACAI",null,null,null,null,null,null,null,null,"    632405 TRABALHADOR DA EXPLORACAO DE ACAI",null,null,null,null,null,null,null,null,null,null,null,"    632370 TRABALHADOR DA EXPLORACAO DE TUCUM"]
["    632410 TRABALHADOR DA EXPLORACAO DE CASTANHA",null,null,null,null,null,null,null,null,"    632410 TRABALHADOR DA EXPLORACAO DE CASTANHA",null,null,null,null,null,null,null,null,null,null,null,"    632405 TRABALHADOR DA EXPLORACAO DE ACAI"]
["    632415 TRABALHADOR DA EXPLORACAO DE PINHAO",null,null,null,null,null,null,null,null,"    632415 TRABALHADOR DA EXPLORACAO DE PINHAO",null,null,null,null,null,null,null,null,null,null,null,"    632410 TRABALHADOR DA EXPLORACAO DE CASTANHA"]
["    632420 TRABALHADOR DA EXPLORACAO DE PUPUNHA",null,null,null,null,null,null,null,null,"    632420 TRABALHADOR DA EXPLORACAO DE PUPUNHA",null,null,null,null,null,null,null,null,null,null,null,"    632415 TRABALHADOR DA EXPLORACAO DE PINHAO"]
["    632505 TRABALHADOR DA EXPLORACAO DE ARVORES E ARBUSTOS PRODUTORES DE SUBSTANCIAS AROMAT., MEDIC. E TOXICAS",null,null,null,null,null,null,null,null,"    632505 TRABALHADOR DA EXPLORACAO DE ARVORES E ARBUSTOS PRODUTORES DE SUBSTANCIAS AROMAT., MEDIC. E TOXICAS",null,null,null,null,null,null,null,null,null,null,null,"    632420 TRABALHADOR DA EXPLORACAO DE PUPUNHA"]
["    632510 TRABALHADOR DA EXPLORACAO DE CIPOS PRODUTORES DE SUBSTANCIAS AROMATICAS, MEDICINAIS E TOXICAS",null,null,null,null,null,null,null,null,"    632510 TRABALHADOR DA EXPLORACAO DE CIPOS PRODUTORES DE SUBSTANCIAS AROMATICAS, MEDICINAIS E TOXICAS",null,null,null,null,null,null,null,null,null,null,null,"    632505 TRABALHADOR DA EXPLORACAO DE ARVORES E ARBUSTOS PRODUTORES DE SUBSTANCIAS AROMAT., MEDIC. E TOXICAS"]
["    632515 TRABALHADOR DA EXPLORACAO DE MADEIRAS TANANTES",null,null,null,null,null,null,null,null,"    632515 TRABALHADOR DA EXPLORACAO DE MADEIRAS TANANTES",null,null,null,null,null,null,null,null,null,null,null,"    632510 TRABALHADOR DA EXPLORACAO DE CIPOS PRODUTORES DE SUBSTANCIAS AROMATICAS, MEDICINAIS E TOXICAS"]
["    632520 TRABALHADOR DA EXPLORACAO DE RAIZES PRODUTORAS DE SUBSTANCIAS AROMATICAS, MEDICINAIS E TOXICAS",null,null,null,null,null,null,null,null,"    632520 TRABALHADOR DA EXPLORACAO DE RAIZES PRODUTORAS DE SUBSTANCIAS AROMATICAS, MEDICINAIS E TOXICAS",null,null,null,null,null,null,null,null,null,null,null,"    632515 TRABALHADOR DA EXPLORACAO DE MADEIRAS TANANTES"]
["    632525 TRABALHADOR DA EXTRACAO DE SUBSTANCIAS AROMATICAS, MEDICINAIS E TOXICAS, EM GERAL",null,null,null,null,null,null,null,null,"    632525 TRABALHADOR DA EXTRACAO DE SUBSTANCIAS AROMATICAS, MEDICINAIS E TOXICAS, EM GERAL",null,null,null,null,null,null,null,null,null,null,null,"    632520 TRABALHADOR DA EXPLORACAO DE RAIZES PRODUTORAS DE SUBSTANCIAS AROMATICAS, MEDICINAIS E TOXICAS"]
["    632605 CARVOEIRO|632610 CARBONIZADOR|632615 AJUDANTE DE CARVOARIA",null,null,null,null,null,null,null,null,"    632605 CARVOEIRO|632610 CARBONIZADOR|632615 AJUDANTE DE CARVOARIA",null,null,null,null,null,null,null,null,null,null,null,"    632525 TRABALHADOR DA EXTRACAO DE SUBSTANCIAS AROMATICAS, MEDICINAIS E TOXICAS, EM GERAL"]
["    641005 OPERADOR DE COLHEITADEIRA",null,null,null,null,null,null,null,null,"    641005 OPERADOR DE COLHEITADEIRA",null,null,null,null,null,null,null,null,null,null,null,"    632605 CARVOEIRO|632610 CARBONIZADOR|632615 AJUDANTE DE CARVOARIA"]
["    641010 OPERADOR DE MAQUINAS DE BENEFICIAMENTO DE PRODUTOS AGRICOLAS",null,null,null,null,null,null,null,null,"    641010 OPERADOR DE MAQUINAS DE BENEFICIAMENTO DE PRODUTOS AGRICOLAS",null,null,null,null,null,null,null,null,null,null,null,"    641005 OPERADOR DE COLHEITADEIRA"]
["    641015 TRATORISTA AGRICOLA|642005 OPERADOR DE COLHEDOR FLORESTAL",null,null,null,null,null,null,null,null,"    641015 TRATORISTA AGRICOLA|642005 OPERADOR DE COLHEDOR FLORESTAL",null,null,null,null,null,null,null,null,null,null,null,"    641010 OPERADOR DE MAQUINAS DE BENEFICIAMENTO DE PRODUTOS AGRICOLAS"]
["    642010 OPERADOR DE MAQUINAS FLORESTAIS ESTATICAS",null,null,null,null,null,null,null,null,"    642010 OPERADOR DE MAQUINAS FLORESTAIS ESTATICAS",null,null,null,null,null,null,null,null,null,null,null,"    641015 TRATORISTA AGRICOLA|642005 OPERADOR DE COLHEDOR FLORESTAL"]
["    642015 OPERADOR DE TRATOR FLORESTAL",null,null,null,null,null,null,null,null,"    642015 OPERADOR DE TRATOR FLORESTAL",null,null,null,null,null,null,null,null,null,null,null,"    642010 OPERADOR DE MAQUINAS FLORESTAIS ESTATICAS"]
["    643005 TRABALHADOR NA OPERACAO DE SISTEMA DE IRRIGACAO LOCALIZADA (MICROASPERSAO E GOTEJAMENTO)",null,null,null,null,null,null,null,null,"    643005 TRABALHADOR NA OPERACAO DE SISTEMA DE IRRIGACAO LOCALIZADA (MICROASPERSAO E GOTEJAMENTO)",null,null,null,null,null,null,null,null,null,null,null,"    642015 OPERADOR DE TRATOR FLORESTAL"]
["    643010 TRABALHADOR NA OPERACAO DE SISTEMA DE IRRIGACAO POR ASPERSAO (PIVO CENTRAL)",null,null,null,null,null,null,null,null,"    643010 TRABALHADOR NA OPERACAO DE SISTEMA DE IRRIGACAO POR ASPERSAO (PIVO CENTRAL)",null,null,null,null,null,null,null,null,null,null,null,"    643005 TRABALHADOR NA OPERACAO DE SISTEMA DE IRRIGACAO LOCALIZADA (MICROASPERSAO E GOTEJAMENTO)"]
["    643015 TRABALHADOR NA OPERACAO DE SISTEMAS CONVENCIONAIS DE IRRIGACAO POR ASPERSAO",null,null,null,null,null,null,null,null,"    643015 TRABALHADOR NA OPERACAO DE SISTEMAS CONVENCIONAIS DE IRRIGACAO POR ASPERSAO",null,null,null,null,null,null,null,null,null,null,null,"    643010 TRABALHADOR NA OPERACAO DE SISTEMA DE IRRIGACAO POR ASPERSAO (PIVO CENTRAL)"]
["    643020 TRABALHADOR NA OPERACAO DE SISTEMAS DE IRRIGACAO E ASPERSAO (ALTO PROPELIDO)",null,null,null,null,null,null,null,null,"    643020 TRABALHADOR NA OPERACAO DE SISTEMAS DE IRRIGACAO E ASPERSAO (ALTO PROPELIDO)",null,null,null,null,null,null,null,null,null,null,null,"    643015 TRABALHADOR NA OPERACAO DE SISTEMAS CONVENCIONAIS DE IRRIGACAO POR ASPERSAO"]
["    643025 TRABALHADOR NA OPERACAO DE SISTEMAS DE IRRIGACAO POR SUPERFICIE E DRENAGEM",null,null,null,null,null,null,null,null,"    643025 TRABALHADOR NA OPERACAO DE SISTEMAS DE IRRIGACAO POR SUPERFICIE E DRENAGEM",null,null,null,null,null,null,null,null,null,null,null,"    643020 TRABALHADOR NA OPERACAO DE SISTEMAS DE IRRIGACAO E ASPERSAO (ALTO PROPELIDO)"]
["    710105 SUPERVISOR DE APOIO OPERACIONAL NA MINERACAO",null,null,null,null,null,null,null,null,"    710105 SUPERVISOR DE APOIO OPERACIONAL NA MINERACAO",null,null,null,null,null,null,null,null,null,null,null,"    643025 TRABALHADOR NA OPERACAO DE SISTEMAS DE IRRIGACAO POR SUPERFICIE E DRENAGEM"]
["    710110 SUPERVISOR DE EXTRACAO DE SAL",null,null,null,null,null,null,null,null,"    710110 SUPERVISOR DE EXTRACAO DE SAL",null,null,null,null,null,null,null,null,null,null,null,"    710105 SUPERVISOR DE APOIO OPERACIONAL NA MINERACAO"]
["    710115 SUPERVISOR DE PERFURACAO E DESMONTE",null,null,null,null,null,null,null,null,"    710115 SUPERVISOR DE PERFURACAO E DESMONTE",null,null,null,null,null,null,null,null,null,null,null,"    710110 SUPERVISOR DE EXTRACAO DE SAL"]
["    710120 SUPERVISOR DE PRODUCAO NA MINERACAO",null,null,null,null,null,null,null,null,"    710120 SUPERVISOR DE PRODUCAO NA MINERACAO",null,null,null,null,null,null,null,null,null,null,null,"    710115 SUPERVISOR DE PERFURACAO E DESMONTE"]
["    710125 SUPERVISOR DE TRANSPORTE NA MINERACAO",null,null,null,null,null,null,null,null,"    710125 SUPERVISOR DE TRANSPORTE NA MINERACAO",null,null,null,null,null,null,null,null,null,null,null,"    710120 SUPERVISOR DE PRODUCAO NA MINERACAO"]
["    710205 MESTRE (CONSTRUCAO CIVIL)|710210 MESTRE DE LINHAS (FERROVIAS)",null,null,null,null,null,null,null,null,"    710205 MESTRE (CONSTRUCAO CIVIL)|710210 MESTRE DE LINHAS (FERROVIAS)",null,null,null,null,null,null,null,null,null,null,null,"    710125 SUPERVISOR DE TRANSPORTE NA MINERACAO"]
["    710215 INSPETOR DE TERRAPLENAGEM|710220 SUPERVISOR DE USINA DE CONCRETO",null,null,null,null,null,null,null,null,"    710215 INSPETOR DE TERRAPLENAGEM|710220 SUPERVISOR DE USINA DE CONCRETO",null,null,null,null,null,null,null,null,null,null,null,"    710205 MESTRE (CONSTRUCAO CIVIL)|710210 MESTRE DE LINHAS (FERROVIAS)"]
["    710225 FISCAL DE PATIO DE USINA DE CONCRETO|711105 AMOSTRADOR DE MINERIOS",null,null,null,null,null,null,null,null,"    710225 FISCAL DE PATIO DE USINA DE CONCRETO|711105 AMOSTRADOR DE MINERIOS",null,null,null,null,null,null,null,null,null,null,null,"    710215 INSPETOR DE TERRAPLENAGEM|710220 SUPERVISOR DE USINA DE CONCRETO"]
["    711110 CANTEIRO|711115 DESTROCADOR DE PEDRA|711120 DETONADOR",null,null,null,null,null,null,null,null,"    711110 CANTEIRO|711115 DESTROCADOR DE PEDRA|711120 DETONADOR",null,null,null,null,null,null,null,null,null,null,null,"    710225 FISCAL DE PATIO DE USINA DE CONCRETO|711105 AMOSTRADOR DE MINERIOS"]
["    711125 ESCORADOR DE MINAS|711130 MINEIRO",null,null,null,null,null,null,null,null,"    711125 ESCORADOR DE MINAS|711130 MINEIRO",null,null,null,null,null,null,null,null,null,null,null,"    711110 CANTEIRO|711115 DESTROCADOR DE PEDRA|711120 DETONADOR"]
["    711205 OPERADOR DE CAMINHAO (MINAS E PEDREIRAS)",null,null,null,null,null,null,null,null,"    711205 OPERADOR DE CAMINHAO (MINAS E PEDREIRAS)",null,null,null,null,null,null,null,null,null,null,null,"    711125 ESCORADOR DE MINAS|711130 MINEIRO"]
["    711210 OPERADOR DE CARREGADEIRA",null,null,null,null,null,null,null,null,"    711210 OPERADOR DE CARREGADEIRA",null,null,null,null,null,null,null,null,null,null,null,"    711205 OPERADOR DE CAMINHAO (MINAS E PEDREIRAS)"]
["    711215 OPERADOR DE MAQUINA CORTADORA (MINAS E PEDREIRAS)",null,null,null,null,null,null,null,null,"    711215 OPERADOR DE MAQUINA CORTADORA (MINAS E PEDREIRAS)",null,null,null,null,null,null,null,null,null,null,null,"    711210 OPERADOR DE CARREGADEIRA"]
["    711220 OPERADOR DE MAQUINA DE EXTRACAO CONTINUA (MINAS DE CARVAO)",null,null,null,null,null,null,null,null,"    711220 OPERADOR DE MAQUINA DE EXTRACAO CONTINUA (MINAS DE CARVAO)",null,null,null,null,null,null,null,null,null,null,null,"    711215 OPERADOR DE MAQUINA CORTADORA (MINAS E PEDREIRAS)"]
["    711225 OPERADOR DE MAQUINA PERFURADORA (MINAS E PEDREIRAS)",null,null,null,null,null,null,null,null,"    711225 OPERADOR DE MAQUINA PERFURADORA (MINAS E PEDREIRAS)",null,null,null,null,null,null,null,null,null,null,null,"    711220 OPERADOR DE MAQUINA DE EXTRACAO CONTINUA (MINAS DE CARVAO)"]
["    711230 OPERADOR DE MAQUINA PERFURATRIZ",null,null,null,null,null,null,null,null,"    711230 OPERADOR DE MAQUINA PERFURATRIZ",null,null,null,null,null,null,null,null,null,null,null,"    711225 OPERADOR DE MAQUINA PERFURADORA (MINAS E PEDREIRAS)"]
["    711235 OPERADOR DE MOTONIVELADORA (EXTRACAO DE MINERAIS SOLIDOS)",null,null,null,null,null,null,null,null,"    711235 OPERADOR DE MOTONIVELADORA (EXTRACAO DE MINERAIS SOLIDOS)",null,null,null,null,null,null,null,null,null,null,null,"    711230 OPERADOR DE MAQUINA PERFURATRIZ"]
["    711240 OPERADOR DE SCHUTTHECAR|711245 OPERADOR DE TRATOR (MINAS E PEDREIRAS)",null,null,null,null,null,null,null,null,"    711240 OPERADOR DE SCHUTTHECAR|711245 OPERADOR DE TRATOR (MINAS E PEDREIRAS)",null,null,null,null,null,null,null,null,null,null,null,"    711235 OPERADOR DE MOTONIVELADORA (EXTRACAO DE MINERAIS SOLIDOS)"]
["    711305 OPERADOR DE SONDA DE PERCUSSAO|711310 OPERADOR DE SONDA ROTATIVA",null,null,null,null,null,null,null,null,"    711305 OPERADOR DE SONDA DE PERCUSSAO|711310 OPERADOR DE SONDA ROTATIVA",null,null,null,null,null,null,null,null,null,null,null,"    711240 OPERADOR DE SCHUTTHECAR|711245 OPERADOR DE TRATOR (MINAS E PEDREIRAS)"]
["    711315 SONDADOR (POCOS DE PETROLEO E GAS)",null,null,null,null,null,null,null,null,"    711315 SONDADOR (POCOS DE PETROLEO E GAS)",null,null,null,null,null,null,null,null,null,null,null,"    711305 OPERADOR DE SONDA DE PERCUSSAO|711310 OPERADOR DE SONDA ROTATIVA"]
["    711320 SONDADOR DE POCOS (EXCETO DE PETROLEO E GAS)",null,null,null,null,null,null,null,null,"    711320 SONDADOR DE POCOS (EXCETO DE PETROLEO E GAS)",null,null,null,null,null,null,null,null,null,null,null,"    711315 SONDADOR (POCOS DE PETROLEO E GAS)"]
["    711325 PLATAFORMISTA (PETROLEO)|711330 TORRISTA (PETROLEO)|711405 GARIMPEIRO",null,null,null,null,null,null,null,null,"    711325 PLATAFORMISTA (PETROLEO)|711330 TORRISTA (PETROLEO)|711405 GARIMPEIRO",null,null,null,null,null,null,null,null,null,null,null,"    711320 SONDADOR DE POCOS (EXCETO DE PETROLEO E GAS)"]
["    711410 OPERADOR DE SALINA (SAL MARINHO)|712105 MOLEIRO DE MINERIOS",null,null,null,null,null,null,null,null,"    711410 OPERADOR DE SALINA (SAL MARINHO)|712105 MOLEIRO DE MINERIOS",null,null,null,null,null,null,null,null,null,null,null,"    711325 PLATAFORMISTA (PETROLEO)|711330 TORRISTA (PETROLEO)|711405 GARIMPEIRO"]
["    712110 OPERADOR DE APARELHO DE FLOTACAO",null,null,null,null,null,null,null,null,"    712110 OPERADOR DE APARELHO DE FLOTACAO",null,null,null,null,null,null,null,null,null,null,null,"    711410 OPERADOR DE SALINA (SAL MARINHO)|712105 MOLEIRO DE MINERIOS"]
["    712115 OPERADOR DE APARELHO DE PRECIPITACAO (MINAS DE OURO OU PRATA)",null,null,null,null,null,null,null,null,"    712115 OPERADOR DE APARELHO DE PRECIPITACAO (MINAS DE OURO OU PRATA)",null,null,null,null,null,null,null,null,null,null,null,"    712110 OPERADOR DE APARELHO DE FLOTACAO"]
["    712120 OPERADOR DE BRITADOR DE MANDIBULAS|712125 OPERADOR DE ESPESSADOR",null,null,null,null,null,null,null,null,"    712120 OPERADOR DE BRITADOR DE MANDIBULAS|712125 OPERADOR DE ESPESSADOR",null,null,null,null,null,null,null,null,null,null,null,"    712115 OPERADOR DE APARELHO DE PRECIPITACAO (MINAS DE OURO OU PRATA)"]
["    712130 OPERADOR DE JIG (MINAS)|712135 OPERADOR DE PENEIRAS HIDRAULICAS",null,null,null,null,null,null,null,null,"    712130 OPERADOR DE JIG (MINAS)|712135 OPERADOR DE PENEIRAS HIDRAULICAS",null,null,null,null,null,null,null,null,null,null,null,"    712120 OPERADOR DE BRITADOR DE MANDIBULAS|712125 OPERADOR DE ESPESSADOR"]
["    712205 CORTADOR DE PEDRAS|712210 GRAVADOR DE INSCRICOES EM PEDRA",null,null,null,null,null,null,null,null,"    712205 CORTADOR DE PEDRAS|712210 GRAVADOR DE INSCRICOES EM PEDRA",null,null,null,null,null,null,null,null,null,null,null,"    712130 OPERADOR DE JIG (MINAS)|712135 OPERADOR DE PENEIRAS HIDRAULICAS"]
["    712215 GRAVADOR DE RELEVOS EM PEDRA|712220 POLIDOR DE PEDRAS",null,null,null,null,null,null,null,null,"    712215 GRAVADOR DE RELEVOS EM PEDRA|712220 POLIDOR DE PEDRAS",null,null,null,null,null,null,null,null,null,null,null,"    712205 CORTADOR DE PEDRAS|712210 GRAVADOR DE INSCRICOES EM PEDRA"]
["    712225 TORNEIRO (LAVRA DE PEDRA)|712230 TRACADOR DE PEDRAS",null,null,null,null,null,null,null,null,"    712225 TORNEIRO (LAVRA DE PEDRA)|712230 TRACADOR DE PEDRAS",null,null,null,null,null,null,null,null,null,null,null,"    712215 GRAVADOR DE RELEVOS EM PEDRA|712220 POLIDOR DE PEDRAS"]
["    715105 OPERADOR DE BATE-ESTACAS|715110 OPERADOR DE COMPACTADORA DE SOLOS",null,null,null,null,null,null,null,null,"    715105 OPERADOR DE BATE-ESTACAS|715110 OPERADOR DE COMPACTADORA DE SOLOS",null,null,null,null,null,null,null,null,null,null,null,"    712225 TORNEIRO (LAVRA DE PEDRA)|712230 TRACADOR DE PEDRAS"]
["    715115 OPERADOR DE ESCAVADEIRA|715120 OPERADOR DE MAQUINA DE ABRIR VALAS",null,null,null,null,null,null,null,null,"    715115 OPERADOR DE ESCAVADEIRA|715120 OPERADOR DE MAQUINA DE ABRIR VALAS",null,null,null,null,null,null,null,null,null,null,null,"    715105 OPERADOR DE BATE-ESTACAS|715110 OPERADOR DE COMPACTADORA DE SOLOS"]
["    715125 OPERADOR DE MAQUINAS DE CONSTRUCAO CIVIL E MINERACAO",null,null,null,null,null,null,null,null,"    715125 OPERADOR DE MAQUINAS DE CONSTRUCAO CIVIL E MINERACAO",null,null,null,null,null,null,null,null,null,null,null,"    715115 OPERADOR DE ESCAVADEIRA|715120 OPERADOR DE MAQUINA DE ABRIR VALAS"]
["    715130 OPERADOR DE MOTONIVELADORA|715135 OPERADOR DE PA CARREGADEIRA",null,null,null,null,null,null,null,null,"    715130 OPERADOR DE MOTONIVELADORA|715135 OPERADOR DE PA CARREGADEIRA",null,null,null,null,null,null,null,null,null,null,null,"    715125 OPERADOR DE MAQUINAS DE CONSTRUCAO CIVIL E MINERACAO"]
["    715140 OPERADOR DE PAVIMENTADORA (ASFALTO, CONCRETO E MATERIAIS SIMILARES)",null,null,null,null,null,null,null,null,"    715140 OPERADOR DE PAVIMENTADORA (ASFALTO, CONCRETO E MATERIAIS SIMILARES)",null,null,null,null,null,null,null,null,null,null,null,"    715130 OPERADOR DE MOTONIVELADORA|715135 OPERADOR DE PA CARREGADEIRA"]
["    715145 OPERADOR DE TRATOR DE LAMINA|715205 CALCETEIRO|715210 PEDREIRO",null,null,null,null,null,null,null,null,"    715145 OPERADOR DE TRATOR DE LAMINA|715205 CALCETEIRO|715210 PEDREIRO",null,null,null,null,null,null,null,null,null,null,null,"    715140 OPERADOR DE PAVIMENTADORA (ASFALTO, CONCRETO E MATERIAIS SIMILARES)"]
["    715215 PEDREIRO (CHAMINES INDUSTRIAIS)|715220 PEDREIRO (MATERIAL REFRATARIO)",null,null,null,null,null,null,null,null,"    715215 PEDREIRO (CHAMINES INDUSTRIAIS)|715220 PEDREIRO (MATERIAL REFRATARIO)",null,null,null,null,null,null,null,null,null,null,null,"    715145 OPERADOR DE TRATOR DE LAMINA|715205 CALCETEIRO|715210 PEDREIRO"]
["    715225 PEDREIRO (MINERACAO)|715230 PEDREIRO DE EDIFICACOES",null,null,null,null,null,null,null,null,"    715225 PEDREIRO (MINERACAO)|715230 PEDREIRO DE EDIFICACOES",null,null,null,null,null,null,null,null,null,null,null,"    715215 PEDREIRO (CHAMINES INDUSTRIAIS)|715220 PEDREIRO (MATERIAL REFRATARIO)"]
["    715305 ARMADOR DE ESTRUTURA DE CONCRETO",null,null,null,null,null,null,null,null,"    715305 ARMADOR DE ESTRUTURA DE CONCRETO",null,null,null,null,null,null,null,null,null,null,null,"    715225 PEDREIRO (MINERACAO)|715230 PEDREIRO DE EDIFICACOES"]
["    715310 MOLDADOR DE CORPOS DE PROVA EM USINAS DE CONCRETO",null,null,null,null,null,null,null,null,"    715310 MOLDADOR DE CORPOS DE PROVA EM USINAS DE CONCRETO",null,null,null,null,null,null,null,null,null,null,null,"    715305 ARMADOR DE ESTRUTURA DE CONCRETO"]
["    715315 ARMADOR DE ESTRUTURA DE CONCRETO ARMADO|715405 OPERADOR DE BETONEIRA",null,null,null,null,null,null,null,null,"    715315 ARMADOR DE ESTRUTURA DE CONCRETO ARMADO|715405 OPERADOR DE BETONEIRA",null,null,null,null,null,null,null,null,null,null,null,"    715310 MOLDADOR DE CORPOS DE PROVA EM USINAS DE CONCRETO"]
["    715410 OPERADOR DE BOMBA DE CONCRETO|715415 OPERADOR DE CENTRAL DE CONCRETO",null,null,null,null,null,null,null,null,"    715410 OPERADOR DE BOMBA DE CONCRETO|715415 OPERADOR DE CENTRAL DE CONCRETO",null,null,null,null,null,null,null,null,null,null,null,"    715315 ARMADOR DE ESTRUTURA DE CONCRETO ARMADO|715405 OPERADOR DE BETONEIRA"]
["    631205 PESCADOR INDUSTRIAL|715505 CARPINTEIRO",null,null,null,null,null,null,null,null,"    631205 PESCADOR INDUSTRIAL|715505 CARPINTEIRO",null,null,null,null,null,null,null,null,null,null,null,"    715410 OPERADOR DE BOMBA DE CONCRETO|715415 OPERADOR DE CENTRAL DE CONCRETO"]
["    715510 CARPINTEIRO (ESQUADRIAS)|715515 CARPINTEIRO (CENARIOS)",null,null,null,null,null,null,null,null,"    715510 CARPINTEIRO (ESQUADRIAS)|715515 CARPINTEIRO (CENARIOS)",null,null,null,null,null,null,null,null,null,null,null,"    631205 PESCADOR INDUSTRIAL|715505 CARPINTEIRO"]
["    715520 CARPINTEIRO (MINERACAO)|715525 CARPINTEIRO DE OBRAS",null,null,null,null,null,null,null,null,"    715520 CARPINTEIRO (MINERACAO)|715525 CARPINTEIRO DE OBRAS",null,null,null,null,null,null,null,null,null,null,null,"    715510 CARPINTEIRO (ESQUADRIAS)|715515 CARPINTEIRO (CENARIOS)"]
["    715530 CARPINTEIRO (TELHADOS)",null,null,null,null,null,null,null,null,"    715530 CARPINTEIRO (TELHADOS)",null,null,null,null,null,null,null,null,null,null,null,"    715520 CARPINTEIRO (MINERACAO)|715525 CARPINTEIRO DE OBRAS"]
["    715540 CARPINTEIRO DE OBRAS CIVIS DE ARTE (PONTES, TUNEIS, BARRAGENS)",null,null,null,null,null,null,null,null,"    715540 CARPINTEIRO DE OBRAS CIVIS DE ARTE (PONTES, TUNEIS, BARRAGENS)",null,null,null,null,null,null,null,null,null,null,null,"    715530 CARPINTEIRO (TELHADOS)"]
["    715545 MONTADOR DE ANDAIMES (EDIFICACOES)",null,null,null,null,null,null,null,null,"    715545 MONTADOR DE ANDAIMES (EDIFICACOES)",null,null,null,null,null,null,null,null,null,null,null,"    715540 CARPINTEIRO DE OBRAS CIVIS DE ARTE (PONTES, TUNEIS, BARRAGENS)"]
["    715605 ELETRICISTA DE INSTALACOES (CENARIOS)",null,null,null,null,null,null,null,null,"    715605 ELETRICISTA DE INSTALACOES (CENARIOS)",null,null,null,null,null,null,null,null,null,null,null,"    715545 MONTADOR DE ANDAIMES (EDIFICACOES)"]
["    715610 ELETRICISTA DE INSTALACOES (EDIFICIOS)",null,null,null,null,null,null,null,null,"    715610 ELETRICISTA DE INSTALACOES (EDIFICIOS)",null,null,null,null,null,null,null,null,null,null,null,"    715605 ELETRICISTA DE INSTALACOES (CENARIOS)"]
["    715615 ELETRICISTA DE INSTALACOES",null,null,null,null,null,null,null,null,"    715615 ELETRICISTA DE INSTALACOES",null,null,null,null,null,null,null,null,null,null,null,"    715610 ELETRICISTA DE INSTALACOES (EDIFICIOS)"]
["    715705 APLICADOR DE ASFALTO IMPERMEABILIZANTE (COBERTURAS)",null,null,null,null,null,null,null,null,"    715705 APLICADOR DE ASFALTO IMPERMEABILIZANTE (COBERTURAS)",null,null,null,null,null,null,null,null,null,null,null,"    715615 ELETRICISTA DE INSTALACOES"]
["    715710 INSTALADOR DE ISOLANTES ACUSTICOS",null,null,null,null,null,null,null,null,"    715710 INSTALADOR DE ISOLANTES ACUSTICOS",null,null,null,null,null,null,null,null,null,null,null,"    715705 APLICADOR DE ASFALTO IMPERMEABILIZANTE (COBERTURAS)"]
["    715715 INSTALADOR DE ISOLANTES TERMICOS (REFRIGERACAO E CLIMATIZACAO)",null,null,null,null,null,null,null,null,"    715715 INSTALADOR DE ISOLANTES TERMICOS (REFRIGERACAO E CLIMATIZACAO)",null,null,null,null,null,null,null,null,null,null,null,"    715710 INSTALADOR DE ISOLANTES ACUSTICOS"]
["    715720 INSTALADOR DE ISOLANTES TERMICOS DE CALDEIRA E TUBULACOES",null,null,null,null,null,null,null,null,"    715720 INSTALADOR DE ISOLANTES TERMICOS DE CALDEIRA E TUBULACOES",null,null,null,null,null,null,null,null,null,null,null,"    715715 INSTALADOR DE ISOLANTES TERMICOS (REFRIGERACAO E CLIMATIZACAO)"]
["    715725 INSTALADOR DE MATERIAL ISOLANTE, A MAO (EDIFICACOES)",null,null,null,null,null,null,null,null,"    715725 INSTALADOR DE MATERIAL ISOLANTE, A MAO (EDIFICACOES)",null,null,null,null,null,null,null,null,null,null,null,"    715720 INSTALADOR DE ISOLANTES TERMICOS DE CALDEIRA E TUBULACOES"]
["    715730 INSTALADOR DE MATERIAL ISOLANTE, A MAQUINA (EDIFICACOES)",null,null,null,null,null,null,null,null,"    715730 INSTALADOR DE MATERIAL ISOLANTE, A MAQUINA (EDIFICACOES)",null,null,null,null,null,null,null,null,null,null,null,"    715725 INSTALADOR DE MATERIAL ISOLANTE, A MAO (EDIFICACOES)"]
["    716105 ACABADOR DE SUPERFICIES DE CONCRETO",null,null,null,null,null,null,null,null,"    716105 ACABADOR DE SUPERFICIES DE CONCRETO",null,null,null,null,null,null,null,null,null,null,null,"    715730 INSTALADOR DE MATERIAL ISOLANTE, A MAQUINA (EDIFICACOES)"]
["    716110 REVESTIDOR DE SUPERFICIES DE CONCRETO",null,null,null,null,null,null,null,null,"    716110 REVESTIDOR DE SUPERFICIES DE CONCRETO",null,null,null,null,null,null,null,null,null,null,null,"    716105 ACABADOR DE SUPERFICIES DE CONCRETO"]
["    716205 TELHADOR (TELHAS DE ARGILA E MATERIAS SIMILARES)",null,null,null,null,null,null,null,null,"    716205 TELHADOR (TELHAS DE ARGILA E MATERIAS SIMILARES)",null,null,null,null,null,null,null,null,null,null,null,"    716110 REVESTIDOR DE SUPERFICIES DE CONCRETO"]
["    716210 TELHADOR (TELHAS DE CIMENTO-AMIANTO)",null,null,null,null,null,null,null,null,"    716210 TELHADOR (TELHAS DE CIMENTO-AMIANTO)",null,null,null,null,null,null,null,null,null,null,null,"    716205 TELHADOR (TELHAS DE ARGILA E MATERIAS SIMILARES)"]
["    716215 TELHADOR (TELHAS METALICAS)|716220 TELHADOR (TELHAS PLATICAS)",null,null,null,null,null,null,null,null,"    716215 TELHADOR (TELHAS METALICAS)|716220 TELHADOR (TELHAS PLATICAS)",null,null,null,null,null,null,null,null,null,null,null,"    716210 TELHADOR (TELHAS DE CIMENTO-AMIANTO)"]
["    716305 VIDRACEIRO|716310 VIDRACEIRO (EDIFICACOES)",null,null,null,null,null,null,null,null,"    716305 VIDRACEIRO|716310 VIDRACEIRO (EDIFICACOES)",null,null,null,null,null,null,null,null,null,null,null,"    716215 TELHADOR (TELHAS METALICAS)|716220 TELHADOR (TELHAS PLATICAS)"]
["    716315 VIDRACEIRO (VITRAIS)|716405 GESSEIRO|716505 ASSOALHADOR",null,null,null,null,null,null,null,null,"    716315 VIDRACEIRO (VITRAIS)|716405 GESSEIRO|716505 ASSOALHADOR",null,null,null,null,null,null,null,null,null,null,null,"    716305 VIDRACEIRO|716310 VIDRACEIRO (EDIFICACOES)"]
["    716510 LADRILHEIRO|716515 PASTILHEIRO|716520 LUSTRADOR DE PISO",null,null,null,null,null,null,null,null,"    716510 LADRILHEIRO|716515 PASTILHEIRO|716520 LUSTRADOR DE PISO",null,null,null,null,null,null,null,null,null,null,null,"    716315 VIDRACEIRO (VITRAIS)|716405 GESSEIRO|716505 ASSOALHADOR"]
["    716525 MARMORISTA (CONSTRUCAO)|716530 MOSAISTA|716535 TAQUEIRO",null,null,null,null,null,null,null,null,"    716525 MARMORISTA (CONSTRUCAO)|716530 MOSAISTA|716535 TAQUEIRO",null,null,null,null,null,null,null,null,null,null,null,"    716510 LADRILHEIRO|716515 PASTILHEIRO|716520 LUSTRADOR DE PISO"]
["    716605 CALAFETADOR|716610 PINTOR DE OBRAS",null,null,null,null,null,null,null,null,"    716605 CALAFETADOR|716610 PINTOR DE OBRAS",null,null,null,null,null,null,null,null,null,null,null,"    716525 MARMORISTA (CONSTRUCAO)|716530 MOSAISTA|716535 TAQUEIRO"]
["    716615 REVESTIDOR DE INTERIORES (PAPEL, MATERIAL PLASTICO E EMBORRACHADOS)",null,null,null,null,null,null,null,null,"    716615 REVESTIDOR DE INTERIORES (PAPEL, MATERIAL PLASTICO E EMBORRACHADOS)",null,null,null,null,null,null,null,null,null,null,null,"    716605 CALAFETADOR|716610 PINTOR DE OBRAS"]
["    717005 DEMOLIDOR DE EDIFICACOES|717010 OPERADOR DE MARTELETE",null,null,null,null,null,null,null,null,"    717005 DEMOLIDOR DE EDIFICACOES|717010 OPERADOR DE MARTELETE",null,null,null,null,null,null,null,null,null,null,null,"    716615 REVESTIDOR DE INTERIORES (PAPEL, MATERIAL PLASTICO E EMBORRACHADOS)"]
["    717015 POCEIRO (EDIFICACOES)|717020 SERVENTE DE OBRAS|717025 VIBRADORISTA",null,null,null,null,null,null,null,null,"    717015 POCEIRO (EDIFICACOES)|717020 SERVENTE DE OBRAS|717025 VIBRADORISTA",null,null,null,null,null,null,null,null,null,null,null,"    717005 DEMOLIDOR DE EDIFICACOES|717010 OPERADOR DE MARTELETE"]
["    720105 MESTRE (AFIADOR DE FERRAMENTAS)|720110 MESTRE DE CALDEIRARIA",null,null,null,null,null,null,null,null,"    720105 MESTRE (AFIADOR DE FERRAMENTAS)|720110 MESTRE DE CALDEIRARIA",null,null,null,null,null,null,null,null,null,null,null,"    717015 POCEIRO (EDIFICACOES)|717020 SERVENTE DE OBRAS|717025 VIBRADORISTA"]
["    720115 MESTRE DE FERRAMENTARIA|720120 MESTRE DE FORJARIA",null,null,null,null,null,null,null,null,"    720115 MESTRE DE FERRAMENTARIA|720120 MESTRE DE FORJARIA",null,null,null,null,null,null,null,null,null,null,null,"    720105 MESTRE (AFIADOR DE FERRAMENTAS)|720110 MESTRE DE CALDEIRARIA"]
["    720125 MESTRE DE FUNDICAO|720130 MESTRE DE GALVANOPLASTIA",null,null,null,null,null,null,null,null,"    720125 MESTRE DE FUNDICAO|720130 MESTRE DE GALVANOPLASTIA",null,null,null,null,null,null,null,null,null,null,null,"    720115 MESTRE DE FERRAMENTARIA|720120 MESTRE DE FORJARIA"]
["    720135 MESTRE DE PINTURA (TRATAMENTO DE SUPERFICIES)",null,null,null,null,null,null,null,null,"    720135 MESTRE DE PINTURA (TRATAMENTO DE SUPERFICIES)",null,null,null,null,null,null,null,null,null,null,null,"    720125 MESTRE DE FUNDICAO|720130 MESTRE DE GALVANOPLASTIA"]
["    720140 MESTRE DE SOLDAGEM|720145 MESTRE DE TREFILACAO DE METAIS",null,null,null,null,null,null,null,null,"    720140 MESTRE DE SOLDAGEM|720145 MESTRE DE TREFILACAO DE METAIS",null,null,null,null,null,null,null,null,null,null,null,"    720135 MESTRE DE PINTURA (TRATAMENTO DE SUPERFICIES)"]
["    720150 MESTRE DE USINAGEM|720155 MESTRE SERRALHEIRO",null,null,null,null,null,null,null,null,"    720150 MESTRE DE USINAGEM|720155 MESTRE SERRALHEIRO",null,null,null,null,null,null,null,null,null,null,null,"    720140 MESTRE DE SOLDAGEM|720145 MESTRE DE TREFILACAO DE METAIS"]
["    720160 SUPERVISOR DE CONTROLE DE TRATAMENTO TERMICO",null,null,null,null,null,null,null,null,"    720160 SUPERVISOR DE CONTROLE DE TRATAMENTO TERMICO",null,null,null,null,null,null,null,null,null,null,null,"    720150 MESTRE DE USINAGEM|720155 MESTRE SERRALHEIRO"]
["    720205 MESTRE (CONSTRUCAO NAVAL)",null,null,null,null,null,null,null,null,"    720205 MESTRE (CONSTRUCAO NAVAL)",null,null,null,null,null,null,null,null,null,null,null,"    720160 SUPERVISOR DE CONTROLE DE TRATAMENTO TERMICO"]
["    720210 MESTRE (INDUSTRIA DE AUTOMOTORES E MATERIAL DE TRANSPORTES)",null,null,null,null,null,null,null,null,"    720210 MESTRE (INDUSTRIA DE AUTOMOTORES E MATERIAL DE TRANSPORTES)",null,null,null,null,null,null,null,null,null,null,null,"    720205 MESTRE (CONSTRUCAO NAVAL)"]
["    720215 MESTRE (INDUSTRIA DE MAQUINAS E OUTROS EQUIPAMENTOS MECANICOS)",null,null,null,null,null,null,null,null,"    720215 MESTRE (INDUSTRIA DE MAQUINAS E OUTROS EQUIPAMENTOS MECANICOS)",null,null,null,null,null,null,null,null,null,null,null,"    720210 MESTRE (INDUSTRIA DE AUTOMOTORES E MATERIAL DE TRANSPORTES)"]
["    720220 MESTRE DE CONSTRUCAO DE FORNOS|721105 FERRAMENTEIRO",null,null,null,null,null,null,null,null,"    720220 MESTRE DE CONSTRUCAO DE FORNOS|721105 FERRAMENTEIRO",null,null,null,null,null,null,null,null,null,null,null,"    720215 MESTRE (INDUSTRIA DE MAQUINAS E OUTROS EQUIPAMENTOS MECANICOS)"]
["    721110 FERRAMENTEIRO DE MANDRIS, CALIBRADORES E OUTROS DISPOSITIVOS",null,null,null,null,null,null,null,null,"    721110 FERRAMENTEIRO DE MANDRIS, CALIBRADORES E OUTROS DISPOSITIVOS",null,null,null,null,null,null,null,null,null,null,null,"    720220 MESTRE DE CONSTRUCAO DE FORNOS|721105 FERRAMENTEIRO"]
["    721115 MODELADOR DE METAIS (FUNDICAO)",null,null,null,null,null,null,null,null,"    721115 MODELADOR DE METAIS (FUNDICAO)",null,null,null,null,null,null,null,null,null,null,null,"    721110 FERRAMENTEIRO DE MANDRIS, CALIBRADORES E OUTROS DISPOSITIVOS"]
["    721205 OPERADOR DE MAQUINA DE ELETROEROSAO",null,null,null,null,null,null,null,null,"    721205 OPERADOR DE MAQUINA DE ELETROEROSAO",null,null,null,null,null,null,null,null,null,null,null,"    721115 MODELADOR DE METAIS (FUNDICAO)"]
["    721210 OPERADOR DE MAQUINAS OPERATRIZES",null,null,null,null,null,null,null,null,"    721210 OPERADOR DE MAQUINAS OPERATRIZES",null,null,null,null,null,null,null,null,null,null,null,"    721205 OPERADOR DE MAQUINA DE ELETROEROSAO"]
["    721215 OPERADOR DE MAQUINAS-FERRAMENTA CONVENCIONAIS",null,null,null,null,null,null,null,null,"    721215 OPERADOR DE MAQUINAS-FERRAMENTA CONVENCIONAIS",null,null,null,null,null,null,null,null,null,null,null,"    721210 OPERADOR DE MAQUINAS OPERATRIZES"]
["    721220 OPERADOR DE USINAGEM CONVENCIONAL POR ABRASAO",null,null,null,null,null,null,null,null,"    721220 OPERADOR DE USINAGEM CONVENCIONAL POR ABRASAO",null,null,null,null,null,null,null,null,null,null,null,"    721215 OPERADOR DE MAQUINAS-FERRAMENTA CONVENCIONAIS"]
["    721225 PREPARADOR DE MAQUINAS-FERRAMENTA|721305 AFIADOR DE CARDAS",null,null,null,null,null,null,null,null,"    721225 PREPARADOR DE MAQUINAS-FERRAMENTA|721305 AFIADOR DE CARDAS",null,null,null,null,null,null,null,null,null,null,null,"    721220 OPERADOR DE USINAGEM CONVENCIONAL POR ABRASAO"]
["    721310 AFIADOR DE CUTELARIA|721315 AFIADOR DE FERRAMENTAS",null,null,null,null,null,null,null,null,"    721310 AFIADOR DE CUTELARIA|721315 AFIADOR DE FERRAMENTAS",null,null,null,null,null,null,null,null,null,null,null,"    721225 PREPARADOR DE MAQUINAS-FERRAMENTA|721305 AFIADOR DE CARDAS"]
["    721320 AFIADOR DE SERRAS|721325 POLIDOR DE METAIS",null,null,null,null,null,null,null,null,"    721320 AFIADOR DE SERRAS|721325 POLIDOR DE METAIS",null,null,null,null,null,null,null,null,null,null,null,"    721310 AFIADOR DE CUTELARIA|721315 AFIADOR DE FERRAMENTAS"]
["    721405 OPERADOR DE CENTRO DE USINAGEM COM COMANDO NUMERICO",null,null,null,null,null,null,null,null,"    721405 OPERADOR DE CENTRO DE USINAGEM COM COMANDO NUMERICO",null,null,null,null,null,null,null,null,null,null,null,"    721320 AFIADOR DE SERRAS|721325 POLIDOR DE METAIS"]
["    721410 OPERADOR DE FRESADORA COM COMANDO NUMERICO",null,null,null,null,null,null,null,null,"    721410 OPERADOR DE FRESADORA COM COMANDO NUMERICO",null,null,null,null,null,null,null,null,null,null,null,"    721405 OPERADOR DE CENTRO DE USINAGEM COM COMANDO NUMERICO"]
["    721415 OPERADOR DE MANDRILADORA COM COMANDO NUMERICO",null,null,null,null,null,null,null,null,"    721415 OPERADOR DE MANDRILADORA COM COMANDO NUMERICO",null,null,null,null,null,null,null,null,null,null,null,"    721410 OPERADOR DE FRESADORA COM COMANDO NUMERICO"]
["    721420 OPERADOR DE MAQUINA ELETROEROSAO, A FIO, COM COMANDO NUMERICO",null,null,null,null,null,null,null,null,"    721420 OPERADOR DE MAQUINA ELETROEROSAO, A FIO, COM COMANDO NUMERICO",null,null,null,null,null,null,null,null,null,null,null,"    721415 OPERADOR DE MANDRILADORA COM COMANDO NUMERICO"]
["    721425 OPERADOR DE RETIFICADORA COM COMANDO NUMERICO",null,null,null,null,null,null,null,null,"    721425 OPERADOR DE RETIFICADORA COM COMANDO NUMERICO",null,null,null,null,null,null,null,null,null,null,null,"    721420 OPERADOR DE MAQUINA ELETROEROSAO, A FIO, COM COMANDO NUMERICO"]
["    721430 OPERADOR DE TORNO COM COMANDO NUMERICO|722105 FORJADOR",null,null,null,null,null,null,null,null,"    721430 OPERADOR DE TORNO COM COMANDO NUMERICO|722105 FORJADOR",null,null,null,null,null,null,null,null,null,null,null,"    721425 OPERADOR DE RETIFICADORA COM COMANDO NUMERICO"]
["    722110 FORJADOR A MARTELO|722115 FORJADOR PRENSISTA",null,null,null,null,null,null,null,null,"    722110 FORJADOR A MARTELO|722115 FORJADOR PRENSISTA",null,null,null,null,null,null,null,null,null,null,null,"    721430 OPERADOR DE TORNO COM COMANDO NUMERICO|722105 FORJADOR"]
["    722205 FUNDIDOR DE METAIS|722210 LINGOTADOR",null,null,null,null,null,null,null,null,"    722205 FUNDIDOR DE METAIS|722210 LINGOTADOR",null,null,null,null,null,null,null,null,null,null,null,"    722110 FORJADOR A MARTELO|722115 FORJADOR PRENSISTA"]
["    722215 OPERADOR DE ACABAMENTO DE PECAS FUNDIDAS",null,null,null,null,null,null,null,null,"    722215 OPERADOR DE ACABAMENTO DE PECAS FUNDIDAS",null,null,null,null,null,null,null,null,null,null,null,"    722205 FUNDIDOR DE METAIS|722210 LINGOTADOR"]
["    722220 OPERADOR DE MAQUINA CENTRIFUGADORA DE FUNDICAO",null,null,null,null,null,null,null,null,"    722220 OPERADOR DE MAQUINA CENTRIFUGADORA DE FUNDICAO",null,null,null,null,null,null,null,null,null,null,null,"    722215 OPERADOR DE ACABAMENTO DE PECAS FUNDIDAS"]
["    722225 OPERADOR DE MAQUINA DE FUNDIR SOB PRESSAO",null,null,null,null,null,null,null,null,"    722225 OPERADOR DE MAQUINA DE FUNDIR SOB PRESSAO",null,null,null,null,null,null,null,null,null,null,null,"    722220 OPERADOR DE MAQUINA CENTRIFUGADORA DE FUNDICAO"]
["    722230 OPERADOR DE VAZAMENTO (LINGOTAMENTO)",null,null,null,null,null,null,null,null,"    722230 OPERADOR DE VAZAMENTO (LINGOTAMENTO)",null,null,null,null,null,null,null,null,null,null,null,"    722225 OPERADOR DE MAQUINA DE FUNDIR SOB PRESSAO"]
["    722235 PREPARADOR DE PANELAS (LINGOTAMENTO)|722305 MACHEIRO, A MAO",null,null,null,null,null,null,null,null,"    722235 PREPARADOR DE PANELAS (LINGOTAMENTO)|722305 MACHEIRO, A MAO",null,null,null,null,null,null,null,null,null,null,null,"    722230 OPERADOR DE VAZAMENTO (LINGOTAMENTO)"]
["    722310 MACHEIRO, A MAQUINA|722315 MOLDADOR, A MAO|722320 MOLDADOR, A MAQUINA",null,null,null,null,null,null,null,null,"    722310 MACHEIRO, A MAQUINA|722315 MOLDADOR, A MAO|722320 MOLDADOR, A MAQUINA",null,null,null,null,null,null,null,null,null,null,null,"    722235 PREPARADOR DE PANELAS (LINGOTAMENTO)|722305 MACHEIRO, A MAO"]
["    722325 OPERADOR DE EQUIPAMENTOS DE PREPARACAO DE AREIA",null,null,null,null,null,null,null,null,"    722325 OPERADOR DE EQUIPAMENTOS DE PREPARACAO DE AREIA",null,null,null,null,null,null,null,null,null,null,null,"    722310 MACHEIRO, A MAQUINA|722315 MOLDADOR, A MAO|722320 MOLDADOR, A MAQUINA"]
["    722330 OPERADOR DE MAQUINA DE MOLDAR AUTOMATIZADA|722405 CABLEADOR",null,null,null,null,null,null,null,null,"    722330 OPERADOR DE MAQUINA DE MOLDAR AUTOMATIZADA|722405 CABLEADOR",null,null,null,null,null,null,null,null,null,null,null,"    722325 OPERADOR DE EQUIPAMENTOS DE PREPARACAO DE AREIA"]
["    722410 ESTIRADOR DE TUBOS DE METAL SEM COSTURA",null,null,null,null,null,null,null,null,"    722410 ESTIRADOR DE TUBOS DE METAL SEM COSTURA",null,null,null,null,null,null,null,null,null,null,null,"    722330 OPERADOR DE MAQUINA DE MOLDAR AUTOMATIZADA|722405 CABLEADOR"]
["    722415 TREFILADOR DE METAIS, A MAQUINA|723105 CEMENTADOR DE METAIS",null,null,null,null,null,null,null,null,"    722415 TREFILADOR DE METAIS, A MAQUINA|723105 CEMENTADOR DE METAIS",null,null,null,null,null,null,null,null,null,null,null,"    722410 ESTIRADOR DE TUBOS DE METAL SEM COSTURA"]
["    723110 NORMALIZADOR DE METAIS E DE COMPOSITOS",null,null,null,null,null,null,null,null,"    723110 NORMALIZADOR DE METAIS E DE COMPOSITOS",null,null,null,null,null,null,null,null,null,null,null,"    722415 TREFILADOR DE METAIS, A MAQUINA|723105 CEMENTADOR DE METAIS"]
["    723115 OPERADOR DE EQUIPAMENTO PARA RESFRIAMENTO",null,null,null,null,null,null,null,null,"    723115 OPERADOR DE EQUIPAMENTO PARA RESFRIAMENTO",null,null,null,null,null,null,null,null,null,null,null,"    723110 NORMALIZADOR DE METAIS E DE COMPOSITOS"]
["    723120 OPERADOR DE FORNO DE TRATAMENTO TERMICO DE METAIS",null,null,null,null,null,null,null,null,"    723120 OPERADOR DE FORNO DE TRATAMENTO TERMICO DE METAIS",null,null,null,null,null,null,null,null,null,null,null,"    723115 OPERADOR DE EQUIPAMENTO PARA RESFRIAMENTO"]
["    723125 TEMPERADOR DE METAIS E DE COMPOSITOS|723205 DECAPADOR",null,null,null,null,null,null,null,null,"    723125 TEMPERADOR DE METAIS E DE COMPOSITOS|723205 DECAPADOR",null,null,null,null,null,null,null,null,null,null,null,"    723120 OPERADOR DE FORNO DE TRATAMENTO TERMICO DE METAIS"]
["    723210 FOSFATIZADOR|723215 GALVANIZADOR|723220 METALIZADOR A PISTOLA",null,null,null,null,null,null,null,null,"    723210 FOSFATIZADOR|723215 GALVANIZADOR|723220 METALIZADOR A PISTOLA",null,null,null,null,null,null,null,null,null,null,null,"    723125 TEMPERADOR DE METAIS E DE COMPOSITOS|723205 DECAPADOR"]
["    723225 METALIZADOR (BANHO QUENTE)",null,null,null,null,null,null,null,null,"    723225 METALIZADOR (BANHO QUENTE)",null,null,null,null,null,null,null,null,null,null,null,"    723210 FOSFATIZADOR|723215 GALVANIZADOR|723220 METALIZADOR A PISTOLA"]
["    723230 OPERADOR DE MAQUINA RECOBRIDORA DE ARAME",null,null,null,null,null,null,null,null,"    723230 OPERADOR DE MAQUINA RECOBRIDORA DE ARAME",null,null,null,null,null,null,null,null,null,null,null,"    723225 METALIZADOR (BANHO QUENTE)"]
["    723235 OPERADOR DE ZINCAGEM (PROCESSO ELETROLITICO)|723240 OXIDADOR",null,null,null,null,null,null,null,null,"    723235 OPERADOR DE ZINCAGEM (PROCESSO ELETROLITICO)|723240 OXIDADOR",null,null,null,null,null,null,null,null,null,null,null,"    723230 OPERADOR DE MAQUINA RECOBRIDORA DE ARAME"]
["    723305 OPERADOR DE EQUIPAMENTO DE SECAGEM DE PINTURA",null,null,null,null,null,null,null,null,"    723305 OPERADOR DE EQUIPAMENTO DE SECAGEM DE PINTURA",null,null,null,null,null,null,null,null,null,null,null,"    723235 OPERADOR DE ZINCAGEM (PROCESSO ELETROLITICO)|723240 OXIDADOR"]
["    723310 PINTOR A PINCEL E ROLO (EXCETO OBRAS E ESTRUTURAS METALICAS)",null,null,null,null,null,null,null,null,"    723310 PINTOR A PINCEL E ROLO (EXCETO OBRAS E ESTRUTURAS METALICAS)",null,null,null,null,null,null,null,null,null,null,null,"    723305 OPERADOR DE EQUIPAMENTO DE SECAGEM DE PINTURA"]
["    723315 PINTOR DE ESTRUTURAS METALICAS|723320 PINTOR DE VEICULOS (FABRICACAO)",null,null,null,null,null,null,null,null,"    723315 PINTOR DE ESTRUTURAS METALICAS|723320 PINTOR DE VEICULOS (FABRICACAO)",null,null,null,null,null,null,null,null,null,null,null,"    723310 PINTOR A PINCEL E ROLO (EXCETO OBRAS E ESTRUTURAS METALICAS)"]
["    723325 PINTOR POR IMERSAO",null,null,null,null,null,null,null,null,"    723325 PINTOR POR IMERSAO",null,null,null,null,null,null,null,null,null,null,null,"    723315 PINTOR DE ESTRUTURAS METALICAS|723320 PINTOR DE VEICULOS (FABRICACAO)"]
["    723330 PINTOR, A PISTOLA (EXCETO OBRAS E ESTRUTURAS METALICAS)",null,null,null,null,null,null,null,null,"    723330 PINTOR, A PISTOLA (EXCETO OBRAS E ESTRUTURAS METALICAS)",null,null,null,null,null,null,null,null,null,null,null,"    723325 PINTOR POR IMERSAO"]
["    724105 ASSENTADOR DE CANALIZACAO (EDIFICACOES)|724110 ENCANADOR",null,null,null,null,null,null,null,null,"    724105 ASSENTADOR DE CANALIZACAO (EDIFICACOES)|724110 ENCANADOR",null,null,null,null,null,null,null,null,null,null,null,"    723330 PINTOR, A PISTOLA (EXCETO OBRAS E ESTRUTURAS METALICAS)"]
["    724115 INSTALADOR DE TUBULACOES|724120 INSTALADOR DE TUBULACOES (AERONAVES)",null,null,null,null,null,null,null,null,"    724115 INSTALADOR DE TUBULACOES|724120 INSTALADOR DE TUBULACOES (AERONAVES)",null,null,null,null,null,null,null,null,null,null,null,"    724105 ASSENTADOR DE CANALIZACAO (EDIFICACOES)|724110 ENCANADOR"]
["    724125 INSTALADOR DE TUBULACOES (EMBARCACOES)",null,null,null,null,null,null,null,null,"    724125 INSTALADOR DE TUBULACOES (EMBARCACOES)",null,null,null,null,null,null,null,null,null,null,null,"    724115 INSTALADOR DE TUBULACOES|724120 INSTALADOR DE TUBULACOES (AERONAVES)"]
["    724130 INSTALADOR DE TUBULACOES DE GAS COMBUSTIVEL (PRODUCAO E DISTRIBUICAO)",null,null,null,null,null,null,null,null,"    724130 INSTALADOR DE TUBULACOES DE GAS COMBUSTIVEL (PRODUCAO E DISTRIBUICAO)",null,null,null,null,null,null,null,null,null,null,null,"    724125 INSTALADOR DE TUBULACOES (EMBARCACOES)"]
["    724135 INSTALADOR DE TUBULACOES DE VAPOR (PRODUCAO E DISTRIBUICAO)",null,null,null,null,null,null,null,null,"    724135 INSTALADOR DE TUBULACOES DE VAPOR (PRODUCAO E DISTRIBUICAO)",null,null,null,null,null,null,null,null,null,null,null,"    724130 INSTALADOR DE TUBULACOES DE GAS COMBUSTIVEL (PRODUCAO E DISTRIBUICAO)"]
["    724205 MONTADOR DE ESTRUTURAS METALICAS",null,null,null,null,null,null,null,null,"    724205 MONTADOR DE ESTRUTURAS METALICAS",null,null,null,null,null,null,null,null,null,null,null,"    724135 INSTALADOR DE TUBULACOES DE VAPOR (PRODUCAO E DISTRIBUICAO)"]
["    724210 MONTADOR DE ESTRUTURAS METALICAS DE EMBARCACOES",null,null,null,null,null,null,null,null,"    724210 MONTADOR DE ESTRUTURAS METALICAS DE EMBARCACOES",null,null,null,null,null,null,null,null,null,null,null,"    724205 MONTADOR DE ESTRUTURAS METALICAS"]
["    724215 REBITADOR A MARTELO PNEUMATICO",null,null,null,null,null,null,null,null,"    724215 REBITADOR A MARTELO PNEUMATICO",null,null,null,null,null,null,null,null,null,null,null,"    724210 MONTADOR DE ESTRUTURAS METALICAS DE EMBARCACOES"]
["    724220 PREPARADOR DE ESTRUTURAS METALICAS",null,null,null,null,null,null,null,null,"    724220 PREPARADOR DE ESTRUTURAS METALICAS",null,null,null,null,null,null,null,null,null,null,null,"    724215 REBITADOR A MARTELO PNEUMATICO"]
["    724225 RISCADOR DE ESTRUTURAS METALICAS|724230 REBITADOR, A MAO",null,null,null,null,null,null,null,null,"    724225 RISCADOR DE ESTRUTURAS METALICAS|724230 REBITADOR, A MAO",null,null,null,null,null,null,null,null,null,null,null,"    724220 PREPARADOR DE ESTRUTURAS METALICAS"]
["    724305 BRASADOR|724310 OXICORTADOR A MAO E A MAQUINA|724315 SOLDADOR",null,null,null,null,null,null,null,null,"    724305 BRASADOR|724310 OXICORTADOR A MAO E A MAQUINA|724315 SOLDADOR",null,null,null,null,null,null,null,null,null,null,null,"    724225 RISCADOR DE ESTRUTURAS METALICAS|724230 REBITADOR, A MAO"]
["    724320 SOLDADOR A OXIGAS|724325 SOLDADOR ELETRICO",null,null,null,null,null,null,null,null,"    724320 SOLDADOR A OXIGAS|724325 SOLDADOR ELETRICO",null,null,null,null,null,null,null,null,null,null,null,"    724305 BRASADOR|724310 OXICORTADOR A MAO E A MAQUINA|724315 SOLDADOR"]
["    724405 CALDEIREIRO (CHAPAS DE COBRE)",null,null,null,null,null,null,null,null,"    724405 CALDEIREIRO (CHAPAS DE COBRE)",null,null,null,null,null,null,null,null,null,null,null,"    724320 SOLDADOR A OXIGAS|724325 SOLDADOR ELETRICO"]
["    724410 CALDEIREIRO (CHAPAS DE FERRO E ACO)|724415 CHAPEADOR",null,null,null,null,null,null,null,null,"    724410 CALDEIREIRO (CHAPAS DE FERRO E ACO)|724415 CHAPEADOR",null,null,null,null,null,null,null,null,null,null,null,"    724405 CALDEIREIRO (CHAPAS DE COBRE)"]
["    861120 OPERADOR DE REATOR NUCLEAR",null,null,null,null,null,null,null,null,"    861120 OPERADOR DE REATOR NUCLEAR",null,null,null,null,null,null,null,null,null,null,null,"    724410 CALDEIREIRO (CHAPAS DE FERRO E ACO)|724415 CHAPEADOR"]
["    724420 CHAPEADOR DE CARROCERIAS METALICAS (FABRICACAO)",null,null,null,null,null,null,null,null,"    724420 CHAPEADOR DE CARROCERIAS METALICAS (FABRICACAO)",null,null,null,null,null,null,null,null,null,null,null,"    861120 OPERADOR DE REATOR NUCLEAR"]
["    724425 CHAPEADOR NAVAL|724430 CHAPEADOR DE AERONAVES",null,null,null,null,null,null,null,null,"    724425 CHAPEADOR NAVAL|724430 CHAPEADOR DE AERONAVES",null,null,null,null,null,null,null,null,null,null,null,"    724420 CHAPEADOR DE CARROCERIAS METALICAS (FABRICACAO)"]
["    724435 FUNILEIRO INDUSTRIAL|724440 SERRALHEIRO",null,null,null,null,null,null,null,null,"    724435 FUNILEIRO INDUSTRIAL|724440 SERRALHEIRO",null,null,null,null,null,null,null,null,null,null,null,"    724425 CHAPEADOR NAVAL|724430 CHAPEADOR DE AERONAVES"]
["    724505 OPERADOR DE MAQUINA DE CILINDRAR CHAPAS",null,null,null,null,null,null,null,null,"    724505 OPERADOR DE MAQUINA DE CILINDRAR CHAPAS",null,null,null,null,null,null,null,null,null,null,null,"    724435 FUNILEIRO INDUSTRIAL|724440 SERRALHEIRO"]
["    724510 OPERADOR DE MAQUINA DE DOBRAR CHAPAS",null,null,null,null,null,null,null,null,"    724510 OPERADOR DE MAQUINA DE DOBRAR CHAPAS",null,null,null,null,null,null,null,null,null,null,null,"    724505 OPERADOR DE MAQUINA DE CILINDRAR CHAPAS"]
["    715535 CARPINTEIRO DE FORMAS PARA CONCRETO",null,null,null,null,null,null,null,null,"    715535 CARPINTEIRO DE FORMAS PARA CONCRETO",null,null,null,null,null,null,null,null,null,null,null,"    724510 OPERADOR DE MAQUINA DE DOBRAR CHAPAS"]
["    724515 PRENSISTA (OPERADOR DE PRENSA)|724610 TRANCADOR DE CABOS DE ACO",null,null,null,null,null,null,null,null,"    724515 PRENSISTA (OPERADOR DE PRENSA)|724610 TRANCADOR DE CABOS DE ACO",null,null,null,null,null,null,null,null,null,null,null,"    715535 CARPINTEIRO DE FORMAS PARA CONCRETO"]
["    725005 AJUSTADOR FERRAMENTEIRO|725010 AJUSTADOR MECANICO",null,null,null,null,null,null,null,null,"    725005 AJUSTADOR FERRAMENTEIRO|725010 AJUSTADOR MECANICO",null,null,null,null,null,null,null,null,null,null,null,"    724515 PRENSISTA (OPERADOR DE PRENSA)|724610 TRANCADOR DE CABOS DE ACO"]
["    725015 AJUSTADOR MECANICO (USINAGEM EM BANCADA E EM MAQUINASFERRAMENTAS)",null,null,null,null,null,null,null,null,"    725015 AJUSTADOR MECANICO (USINAGEM EM BANCADA E EM MAQUINASFERRAMENTAS)",null,null,null,null,null,null,null,null,null,null,null,"    725005 AJUSTADOR FERRAMENTEIRO|725010 AJUSTADOR MECANICO"]
["    725020 AJUSTADOR MECANICO EM BANCADA",null,null,null,null,null,null,null,null,"    725020 AJUSTADOR MECANICO EM BANCADA",null,null,null,null,null,null,null,null,null,null,null,"    725015 AJUSTADOR MECANICO (USINAGEM EM BANCADA E EM MAQUINASFERRAMENTAS)"]
["    725025 AJUSTADOR NAVAL (REPARO E CONSTRUCAO)",null,null,null,null,null,null,null,null,"    725025 AJUSTADOR NAVAL (REPARO E CONSTRUCAO)",null,null,null,null,null,null,null,null,null,null,null,"    725020 AJUSTADOR MECANICO EM BANCADA"]
["    725105 MONTADOR DE MAQUINAS, MOTORES E ACESSORIOS (MONTAGEM EM SERIE)",null,null,null,null,null,null,null,null,"    725105 MONTADOR DE MAQUINAS, MOTORES E ACESSORIOS (MONTAGEM EM SERIE)",null,null,null,null,null,null,null,null,null,null,null,"    725025 AJUSTADOR NAVAL (REPARO E CONSTRUCAO)"]
["    725205 MONTADOR DE MAQUINAS|725210 MONTADOR DE MAQUINAS GRAFICAS",null,null,null,null,null,null,null,null,"    725205 MONTADOR DE MAQUINAS|725210 MONTADOR DE MAQUINAS GRAFICAS",null,null,null,null,null,null,null,null,null,null,null,"    725105 MONTADOR DE MAQUINAS, MOTORES E ACESSORIOS (MONTAGEM EM SERIE)"]
["    725215 MONTADOR DE MAQUINAS OPERATRIZES PARA MADEIRA",null,null,null,null,null,null,null,null,"    725215 MONTADOR DE MAQUINAS OPERATRIZES PARA MADEIRA",null,null,null,null,null,null,null,null,null,null,null,"    725205 MONTADOR DE MAQUINAS|725210 MONTADOR DE MAQUINAS GRAFICAS"]
["    725220 MONTADOR DE MAQUINAS TEXTEIS",null,null,null,null,null,null,null,null,"    725220 MONTADOR DE MAQUINAS TEXTEIS",null,null,null,null,null,null,null,null,null,null,null,"    725215 MONTADOR DE MAQUINAS OPERATRIZES PARA MADEIRA"]
["    725225 MONTADOR DE MAQUINAS-FERRAMENTAS (USINAGEM DE METAIS)",null,null,null,null,null,null,null,null,"    725225 MONTADOR DE MAQUINAS-FERRAMENTAS (USINAGEM DE METAIS)",null,null,null,null,null,null,null,null,null,null,null,"    725220 MONTADOR DE MAQUINAS TEXTEIS"]
["    725305 MONTADOR DE EQUIPAMENTO DE LEVANTAMENTO",null,null,null,null,null,null,null,null,"    725305 MONTADOR DE EQUIPAMENTO DE LEVANTAMENTO",null,null,null,null,null,null,null,null,null,null,null,"    725225 MONTADOR DE MAQUINAS-FERRAMENTAS (USINAGEM DE METAIS)"]
["    725310 MONTADOR DE MAQUINAS AGRICOLAS",null,null,null,null,null,null,null,null,"    725310 MONTADOR DE MAQUINAS AGRICOLAS",null,null,null,null,null,null,null,null,null,null,null,"    725305 MONTADOR DE EQUIPAMENTO DE LEVANTAMENTO"]
["    725315 MONTADOR DE MAQUINAS DE MINAS E PEDREIRAS",null,null,null,null,null,null,null,null,"    725315 MONTADOR DE MAQUINAS DE MINAS E PEDREIRAS",null,null,null,null,null,null,null,null,null,null,null,"    725310 MONTADOR DE MAQUINAS AGRICOLAS"]
["    725320 MONTADOR DE MAQUINAS DE TERRAPLENAGEM",null,null,null,null,null,null,null,null,"    725320 MONTADOR DE MAQUINAS DE TERRAPLENAGEM",null,null,null,null,null,null,null,null,null,null,null,"    725315 MONTADOR DE MAQUINAS DE MINAS E PEDREIRAS"]
["    725405 MECANICO MONTADOR DE MOTORES DE AERONAVES",null,null,null,null,null,null,null,null,"    725405 MECANICO MONTADOR DE MOTORES DE AERONAVES",null,null,null,null,null,null,null,null,null,null,null,"    725320 MONTADOR DE MAQUINAS DE TERRAPLENAGEM"]
["    725410 MECANICO MONTADOR DE MOTORES DE EMBARCACOES",null,null,null,null,null,null,null,null,"    725410 MECANICO MONTADOR DE MOTORES DE EMBARCACOES",null,null,null,null,null,null,null,null,null,null,null,"    725405 MECANICO MONTADOR DE MOTORES DE AERONAVES"]
["    725415 MECANICO MONTADOR DE MOTORES DE EXPLOSAO E DIESEL",null,null,null,null,null,null,null,null,"    725415 MECANICO MONTADOR DE MOTORES DE EXPLOSAO E DIESEL",null,null,null,null,null,null,null,null,null,null,null,"    725410 MECANICO MONTADOR DE MOTORES DE EMBARCACOES"]
["    725420 MECANICO MONTADOR DE TURBOALIMENTADORES",null,null,null,null,null,null,null,null,"    725420 MECANICO MONTADOR DE TURBOALIMENTADORES",null,null,null,null,null,null,null,null,null,null,null,"    725415 MECANICO MONTADOR DE MOTORES DE EXPLOSAO E DIESEL"]
["    725505 MONTADOR DE VEICULOS (LINHA DE MONTAGEM)",null,null,null,null,null,null,null,null,"    725505 MONTADOR DE VEICULOS (LINHA DE MONTAGEM)",null,null,null,null,null,null,null,null,null,null,null,"    725420 MECANICO MONTADOR DE TURBOALIMENTADORES"]
["    725510 OPERADOR DE TIME DE MONTAGEM",null,null,null,null,null,null,null,null,"    725510 OPERADOR DE TIME DE MONTAGEM",null,null,null,null,null,null,null,null,null,null,null,"    725505 MONTADOR DE VEICULOS (LINHA DE MONTAGEM)"]
["    725605 MONTADOR DE ESTRUTURAS DE AERONAVES",null,null,null,null,null,null,null,null,"    725605 MONTADOR DE ESTRUTURAS DE AERONAVES",null,null,null,null,null,null,null,null,null,null,null,"    725510 OPERADOR DE TIME DE MONTAGEM"]
["    725610 MONTADOR DE SISTEMAS DE COMBUSTIVEL DE AERONAVES",null,null,null,null,null,null,null,null,"    725610 MONTADOR DE SISTEMAS DE COMBUSTIVEL DE AERONAVES",null,null,null,null,null,null,null,null,null,null,null,"    725605 MONTADOR DE ESTRUTURAS DE AERONAVES"]
["    725705 MECANICO DE REFRIGERACAO",null,null,null,null,null,null,null,null,"    725705 MECANICO DE REFRIGERACAO",null,null,null,null,null,null,null,null,null,null,null,"    725610 MONTADOR DE SISTEMAS DE COMBUSTIVEL DE AERONAVES"]
["    730105 SUPERVISOR DE MONTAGEM E INSTALACAO ELETROELETRONICA",null,null,null,null,null,null,null,null,"    730105 SUPERVISOR DE MONTAGEM E INSTALACAO ELETROELETRONICA",null,null,null,null,null,null,null,null,null,null,null,"    725705 MECANICO DE REFRIGERACAO"]
["    731105 MONTADOR DE EQUIPAMENTOS ELETRONICOS (APARELHOS MEDICOS)",null,null,null,null,null,null,null,null,"    731105 MONTADOR DE EQUIPAMENTOS ELETRONICOS (APARELHOS MEDICOS)",null,null,null,null,null,null,null,null,null,null,null,"    730105 SUPERVISOR DE MONTAGEM E INSTALACAO ELETROELETRONICA"]
["    731110 MONTADOR DE EQUIPAMENTOS ELETRONICOS (COMPUTADORES E EQUIPAMENTOS AUXILIARES)",null,null,null,null,null,null,null,null,"    731110 MONTADOR DE EQUIPAMENTOS ELETRONICOS (COMPUTADORES E EQUIPAMENTOS AUXILIARES)",null,null,null,null,null,null,null,null,null,null,null,"    731105 MONTADOR DE EQUIPAMENTOS ELETRONICOS (APARELHOS MEDICOS)"]
["    731115 MONTADOR DE EQUIPAMENTOS ELETRICOS (INSTRUMENTOS DE MEDICAO)",null,null,null,null,null,null,null,null,"    731115 MONTADOR DE EQUIPAMENTOS ELETRICOS (INSTRUMENTOS DE MEDICAO)",null,null,null,null,null,null,null,null,null,null,null,"    731110 MONTADOR DE EQUIPAMENTOS ELETRONICOS (COMPUTADORES E EQUIPAMENTOS AUXILIARES)"]
["    731120 MONTADOR DE EQUIPAMENTOS ELETRICOS (APARELHOS ELETRODOMESTICOS)",null,null,null,null,null,null,null,null,"    731120 MONTADOR DE EQUIPAMENTOS ELETRICOS (APARELHOS ELETRODOMESTICOS)",null,null,null,null,null,null,null,null,null,null,null,"    731115 MONTADOR DE EQUIPAMENTOS ELETRICOS (INSTRUMENTOS DE MEDICAO)"]
["    731125 MONTADOR DE EQUIPAMENTOS ELETRICOS (CENTRAIS ELETRICAS)",null,null,null,null,null,null,null,null,"    731125 MONTADOR DE EQUIPAMENTOS ELETRICOS (CENTRAIS ELETRICAS)",null,null,null,null,null,null,null,null,null,null,null,"    731120 MONTADOR DE EQUIPAMENTOS ELETRICOS (APARELHOS ELETRODOMESTICOS)"]
["    731130 MONTADOR DE EQUIPAMENTOS ELETRICOS (MOTORES E DINAMOS)",null,null,null,null,null,null,null,null,"    731130 MONTADOR DE EQUIPAMENTOS ELETRICOS (MOTORES E DINAMOS)",null,null,null,null,null,null,null,null,null,null,null,"    731125 MONTADOR DE EQUIPAMENTOS ELETRICOS (CENTRAIS ELETRICAS)"]
["    731135 MONTADOR DE EQUIPAMENTOS ELETRICOS",null,null,null,null,null,null,null,null,"    731135 MONTADOR DE EQUIPAMENTOS ELETRICOS",null,null,null,null,null,null,null,null,null,null,null,"    731130 MONTADOR DE EQUIPAMENTOS ELETRICOS (MOTORES E DINAMOS)"]
["    731140 MONTADOR DE EQUIPAMENTOS ELETRONICOS (INSTALACOES DE SINALIZACAO)",null,null,null,null,null,null,null,null,"    731140 MONTADOR DE EQUIPAMENTOS ELETRONICOS (INSTALACOES DE SINALIZACAO)",null,null,null,null,null,null,null,null,null,null,null,"    731135 MONTADOR DE EQUIPAMENTOS ELETRICOS"]
["    731145 MONTADOR DE EQUIPAMENTOS ELETRONICOS (MAQUINAS INDUSTRIAIS)",null,null,null,null,null,null,null,null,"    731145 MONTADOR DE EQUIPAMENTOS ELETRONICOS (MAQUINAS INDUSTRIAIS)",null,null,null,null,null,null,null,null,null,null,null,"    731140 MONTADOR DE EQUIPAMENTOS ELETRONICOS (INSTALACOES DE SINALIZACAO)"]
["    731150 MONTADOR DE EQUIPAMENTOS ELETRONICOS",null,null,null,null,null,null,null,null,"    731150 MONTADOR DE EQUIPAMENTOS ELETRONICOS",null,null,null,null,null,null,null,null,null,null,null,"    731145 MONTADOR DE EQUIPAMENTOS ELETRONICOS (MAQUINAS INDUSTRIAIS)"]
["    731155 MONTADOR DE EQUIPAMENTOS ELETRICOS (ELEVADORES E EQUIPAMENTOS SIMILARES)",null,null,null,null,null,null,null,null,"    731155 MONTADOR DE EQUIPAMENTOS ELETRICOS (ELEVADORES E EQUIPAMENTOS SIMILARES)",null,null,null,null,null,null,null,null,null,null,null,"    731150 MONTADOR DE EQUIPAMENTOS ELETRONICOS"]
["    731160 MONTADOR DE EQUIPAMENTOS ELETRICOS (TRANSFORMADORES)",null,null,null,null,null,null,null,null,"    731160 MONTADOR DE EQUIPAMENTOS ELETRICOS (TRANSFORMADORES)",null,null,null,null,null,null,null,null,null,null,null,"    731155 MONTADOR DE EQUIPAMENTOS ELETRICOS (ELEVADORES E EQUIPAMENTOS SIMILARES)"]
["    731165 BOBINADOR ELETRICISTA, A MAO|731170 BOBINADOR ELETRICISTA, A MAQUINA",null,null,null,null,null,null,null,null,"    731165 BOBINADOR ELETRICISTA, A MAO|731170 BOBINADOR ELETRICISTA, A MAQUINA",null,null,null,null,null,null,null,null,null,null,null,"    731160 MONTADOR DE EQUIPAMENTOS ELETRICOS (TRANSFORMADORES)"]
["    731175 OPERADOR DE LINHA DE MONTAGEM (APARELHOS ELETRICOS)",null,null,null,null,null,null,null,null,"    731175 OPERADOR DE LINHA DE MONTAGEM (APARELHOS ELETRICOS)",null,null,null,null,null,null,null,null,null,null,null,"    731165 BOBINADOR ELETRICISTA, A MAO|731170 BOBINADOR ELETRICISTA, A MAQUINA"]
["    731180 OPERADOR DE LINHA DE MONTAGEM (APARELHOS ELETRONICOS)",null,null,null,null,null,null,null,null,"    731180 OPERADOR DE LINHA DE MONTAGEM (APARELHOS ELETRONICOS)",null,null,null,null,null,null,null,null,null,null,null,"    731175 OPERADOR DE LINHA DE MONTAGEM (APARELHOS ELETRICOS)"]
["    731205 MONTADOR DE EQUIPAMENTOS ELETRONICOS (ESTACAO DE RADIO, TV E EQUIPAMENTOS DE RADAR)",null,null,null,null,null,null,null,null,"    731205 MONTADOR DE EQUIPAMENTOS ELETRONICOS (ESTACAO DE RADIO, TV E EQUIPAMENTOS DE RADAR)",null,null,null,null,null,null,null,null,null,null,null,"    731180 OPERADOR DE LINHA DE MONTAGEM (APARELHOS ELETRONICOS)"]
["    731305 INSTALADOR-REPARADOR DE EQUIPAMENTOS DE COMUTACAO EM TELEFONIA",null,null,null,null,null,null,null,null,"    731305 INSTALADOR-REPARADOR DE EQUIPAMENTOS DE COMUTACAO EM TELEFONIA",null,null,null,null,null,null,null,null,null,null,null,"    731205 MONTADOR DE EQUIPAMENTOS ELETRONICOS (ESTACAO DE RADIO, TV E EQUIPAMENTOS DE RADAR)"]
["    731310 INSTALADOR-REPARADOR DE EQUIPAMENTOS DE ENERGIA EM TELEFONIA",null,null,null,null,null,null,null,null,"    731310 INSTALADOR-REPARADOR DE EQUIPAMENTOS DE ENERGIA EM TELEFONIA",null,null,null,null,null,null,null,null,null,null,null,"    731305 INSTALADOR-REPARADOR DE EQUIPAMENTOS DE COMUTACAO EM TELEFONIA"]
["    731315 INSTALADOR-REPARADOR DE EQUIPAMENTOS DE TRANSMISSAO EM TELEFONIA",null,null,null,null,null,null,null,null,"    731315 INSTALADOR-REPARADOR DE EQUIPAMENTOS DE TRANSMISSAO EM TELEFONIA",null,null,null,null,null,null,null,null,null,null,null,"    731310 INSTALADOR-REPARADOR DE EQUIPAMENTOS DE ENERGIA EM TELEFONIA"]
["    731320 INSTALADOR-REPARADOR DE LINHAS E APARELHOS DE TELECOMUNICACOES",null,null,null,null,null,null,null,null,"    731320 INSTALADOR-REPARADOR DE LINHAS E APARELHOS DE TELECOMUNICACOES",null,null,null,null,null,null,null,null,null,null,null,"    731315 INSTALADOR-REPARADOR DE EQUIPAMENTOS DE TRANSMISSAO EM TELEFONIA"]
["    731325 INSTALADOR-REPARADOR DE REDES E CABOS TELEFONICOS",null,null,null,null,null,null,null,null,"    731325 INSTALADOR-REPARADOR DE REDES E CABOS TELEFONICOS",null,null,null,null,null,null,null,null,null,null,null,"    731320 INSTALADOR-REPARADOR DE LINHAS E APARELHOS DE TELECOMUNICACOES"]
["    731330 REPARADOR DE APARELHOS DE TELECOMUNICACOES EM LABORATORIO",null,null,null,null,null,null,null,null,"    731330 REPARADOR DE APARELHOS DE TELECOMUNICACOES EM LABORATORIO",null,null,null,null,null,null,null,null,null,null,null,"    731325 INSTALADOR-REPARADOR DE REDES E CABOS TELEFONICOS"]
["    732105 ELETRICISTA DE MANUTENCAO DE LINHAS ELETRICAS, TELEFONICAS E DE COMUNICACAO DE DADOS",null,null,null,null,null,null,null,null,"    732105 ELETRICISTA DE MANUTENCAO DE LINHAS ELETRICAS, TELEFONICAS E DE COMUNICACAO DE DADOS",null,null,null,null,null,null,null,null,null,null,null,"    731330 REPARADOR DE APARELHOS DE TELECOMUNICACOES EM LABORATORIO"]
["    732110 EMENDADOR DE CABOS ELETRICOS E TELEFONICOS (AEREOS E SUBTERRANEOS)",null,null,null,null,null,null,null,null,"    732110 EMENDADOR DE CABOS ELETRICOS E TELEFONICOS (AEREOS E SUBTERRANEOS)",null,null,null,null,null,null,null,null,null,null,null,"    732105 ELETRICISTA DE MANUTENCAO DE LINHAS ELETRICAS, TELEFONICAS E DE COMUNICACAO DE DADOS"]
["    732115 EXAMINADOR DE CABOS, LINHAS ELETRICAS E TELEFONICAS",null,null,null,null,null,null,null,null,"    732115 EXAMINADOR DE CABOS, LINHAS ELETRICAS E TELEFONICAS",null,null,null,null,null,null,null,null,null,null,null,"    732110 EMENDADOR DE CABOS ELETRICOS E TELEFONICOS (AEREOS E SUBTERRANEOS)"]
["    732120 INSTALADOR DE LINHAS ELETRICAS DE ALTA E BAIXA - TENSAO (REDE AEREA E SUBTERRANEA)",null,null,null,null,null,null,null,null,"    732120 INSTALADOR DE LINHAS ELETRICAS DE ALTA E BAIXA - TENSAO (REDE AEREA E SUBTERRANEA)",null,null,null,null,null,null,null,null,null,null,null,"    732115 EXAMINADOR DE CABOS, LINHAS ELETRICAS E TELEFONICAS"]
["    732125 INSTALADOR ELETRICISTA (TRACAO DE VEICULOS)",null,null,null,null,null,null,null,null,"    732125 INSTALADOR ELETRICISTA (TRACAO DE VEICULOS)",null,null,null,null,null,null,null,null,null,null,null,"    732120 INSTALADOR DE LINHAS ELETRICAS DE ALTA E BAIXA - TENSAO (REDE AEREA E SUBTERRANEA)"]
["    732130 INSTALADOR-REPARADOR DE REDES TELEFONICAS E DE COMUNICACAO DE DADOS",null,null,null,null,null,null,null,null,"    732130 INSTALADOR-REPARADOR DE REDES TELEFONICAS E DE COMUNICACAO DE DADOS",null,null,null,null,null,null,null,null,null,null,null,"    732125 INSTALADOR ELETRICISTA (TRACAO DE VEICULOS)"]
["    732135 LIGADOR DE LINHAS TELEFONICAS",null,null,null,null,null,null,null,null,"    732135 LIGADOR DE LINHAS TELEFONICAS",null,null,null,null,null,null,null,null,null,null,null,"    732130 INSTALADOR-REPARADOR DE REDES TELEFONICAS E DE COMUNICACAO DE DADOS"]
["    740105 SUPERVISOR DA MECANICA DE PRECISAO",null,null,null,null,null,null,null,null,"    740105 SUPERVISOR DA MECANICA DE PRECISAO",null,null,null,null,null,null,null,null,null,null,null,"    732135 LIGADOR DE LINHAS TELEFONICAS"]
["    740110 SUPERVISOR DE FABRICACAO DE INSTRUMENTOS MUSICAIS",null,null,null,null,null,null,null,null,"    740110 SUPERVISOR DE FABRICACAO DE INSTRUMENTOS MUSICAIS",null,null,null,null,null,null,null,null,null,null,null,"    740105 SUPERVISOR DA MECANICA DE PRECISAO"]
["    741105 AJUSTADOR DE INSTRUMENTOS DE PRECISAO",null,null,null,null,null,null,null,null,"    741105 AJUSTADOR DE INSTRUMENTOS DE PRECISAO",null,null,null,null,null,null,null,null,null,null,null,"    740110 SUPERVISOR DE FABRICACAO DE INSTRUMENTOS MUSICAIS"]
["    741110 MONTADOR DE INSTRUMENTOS DE OPTICA",null,null,null,null,null,null,null,null,"    741110 MONTADOR DE INSTRUMENTOS DE OPTICA",null,null,null,null,null,null,null,null,null,null,null,"    741105 AJUSTADOR DE INSTRUMENTOS DE PRECISAO"]
["    741115 MONTADOR DE INSTRUMENTOS DE PRECISAO|741120 RELOJOEIRO (FABRICACAO)",null,null,null,null,null,null,null,null,"    741115 MONTADOR DE INSTRUMENTOS DE PRECISAO|741120 RELOJOEIRO (FABRICACAO)",null,null,null,null,null,null,null,null,null,null,null,"    741110 MONTADOR DE INSTRUMENTOS DE OPTICA"]
["    741125 RELOJOEIRO (REPARACAO)|742105 AFINADOR DE INSTRUMENTOS MUSICAIS",null,null,null,null,null,null,null,null,"    741125 RELOJOEIRO (REPARACAO)|742105 AFINADOR DE INSTRUMENTOS MUSICAIS",null,null,null,null,null,null,null,null,null,null,null,"    741115 MONTADOR DE INSTRUMENTOS DE PRECISAO|741120 RELOJOEIRO (FABRICACAO)"]
["    742110 CONFECCIONADOR DE ACORDEAO",null,null,null,null,null,null,null,null,"    742110 CONFECCIONADOR DE ACORDEAO",null,null,null,null,null,null,null,null,null,null,null,"    741125 RELOJOEIRO (REPARACAO)|742105 AFINADOR DE INSTRUMENTOS MUSICAIS"]
["    742115 CONFECCIONADOR DE INSTRUMENTOS DE CORDA",null,null,null,null,null,null,null,null,"    742115 CONFECCIONADOR DE INSTRUMENTOS DE CORDA",null,null,null,null,null,null,null,null,null,null,null,"    742110 CONFECCIONADOR DE ACORDEAO"]
["    742120 CONFECCIONADOR DE INSTRUMENTOS DE PERCUSSAO (PELE, COURO OU PLASTICO)",null,null,null,null,null,null,null,null,"    742120 CONFECCIONADOR DE INSTRUMENTOS DE PERCUSSAO (PELE, COURO OU PLASTICO)",null,null,null,null,null,null,null,null,null,null,null,"    742115 CONFECCIONADOR DE INSTRUMENTOS DE CORDA"]
["    742125 CONFECCIONADOR DE INSTRUMENTOS DE SOPRO (MADEIRA)",null,null,null,null,null,null,null,null,"    742125 CONFECCIONADOR DE INSTRUMENTOS DE SOPRO (MADEIRA)",null,null,null,null,null,null,null,null,null,null,null,"    742120 CONFECCIONADOR DE INSTRUMENTOS DE PERCUSSAO (PELE, COURO OU PLASTICO)"]
["    742130 CONFECCIONADOR DE INSTRUMENTOS DE SOPRO (METAL)",null,null,null,null,null,null,null,null,"    742130 CONFECCIONADOR DE INSTRUMENTOS DE SOPRO (METAL)",null,null,null,null,null,null,null,null,null,null,null,"    742125 CONFECCIONADOR DE INSTRUMENTOS DE SOPRO (MADEIRA)"]
["    742135 CONFECCIONADOR DE ORGAO|742140 CONFECCIONADOR DE PIANO",null,null,null,null,null,null,null,null,"    742135 CONFECCIONADOR DE ORGAO|742140 CONFECCIONADOR DE PIANO",null,null,null,null,null,null,null,null,null,null,null,"    742130 CONFECCIONADOR DE INSTRUMENTOS DE SOPRO (METAL)"]
["    750105 SUPERVISOR DE JOALHERIA",null,null,null,null,null,null,null,null,"    750105 SUPERVISOR DE JOALHERIA",null,null,null,null,null,null,null,null,null,null,null,"    742135 CONFECCIONADOR DE ORGAO|742140 CONFECCIONADOR DE PIANO"]
["    750205 SUPERVISOR DA INDUSTRIA DE MINERAIS NAO METALICOS (EXCETO OS DERIVADOS DE PETROLEO E CARVAO)",null,null,null,null,null,null,null,null,"    750205 SUPERVISOR DA INDUSTRIA DE MINERAIS NAO METALICOS (EXCETO OS DERIVADOS DE PETROLEO E CARVAO)",null,null,null,null,null,null,null,null,null,null,null,"    750105 SUPERVISOR DE JOALHERIA"]
["    751005 ENGASTADOR (JOIAS)|751010 JOALHEIRO|751015 JOALHEIRO (REPARACOES)",null,null,null,null,null,null,null,null,"    751005 ENGASTADOR (JOIAS)|751010 JOALHEIRO|751015 JOALHEIRO (REPARACOES)",null,null,null,null,null,null,null,null,null,null,null,"    750205 SUPERVISOR DA INDUSTRIA DE MINERAIS NAO METALICOS (EXCETO OS DERIVADOS DE PETROLEO E CARVAO)"]
["    751020 LAPIDADOR (JOIAS)|751105 BATE-FOLHA A MAQUINA",null,null,null,null,null,null,null,null,"    751020 LAPIDADOR (JOIAS)|751105 BATE-FOLHA A MAQUINA",null,null,null,null,null,null,null,null,null,null,null,"    751005 ENGASTADOR (JOIAS)|751010 JOALHEIRO|751015 JOALHEIRO (REPARACOES)"]
["    751110 FUNDIDOR (JOALHERIA E OURIVESARIA)",null,null,null,null,null,null,null,null,"    751110 FUNDIDOR (JOALHERIA E OURIVESARIA)",null,null,null,null,null,null,null,null,null,null,null,"    751020 LAPIDADOR (JOIAS)|751105 BATE-FOLHA A MAQUINA"]
["    751115 GRAVADOR (JOALHERIA E OURIVESARIA)",null,null,null,null,null,null,null,null,"    751115 GRAVADOR (JOALHERIA E OURIVESARIA)",null,null,null,null,null,null,null,null,null,null,null,"    751110 FUNDIDOR (JOALHERIA E OURIVESARIA)"]
["    751120 LAMINADOR DE METAIS PRECIOSOS A MAO|751125 OURIVES",null,null,null,null,null,null,null,null,"    751120 LAMINADOR DE METAIS PRECIOSOS A MAO|751125 OURIVES",null,null,null,null,null,null,null,null,null,null,null,"    751115 GRAVADOR (JOALHERIA E OURIVESARIA)"]
["    751130 TREFILADOR (JOALHERIA E OURIVESARIA)",null,null,null,null,null,null,null,null,"    751130 TREFILADOR (JOALHERIA E OURIVESARIA)",null,null,null,null,null,null,null,null,null,null,null,"    751120 LAMINADOR DE METAIS PRECIOSOS A MAO|751125 OURIVES"]
["    752105 ARTESAO MODELADOR (VIDROS)|752110 MOLDADOR (VIDROS)",null,null,null,null,null,null,null,null,"    752105 ARTESAO MODELADOR (VIDROS)|752110 MOLDADOR (VIDROS)",null,null,null,null,null,null,null,null,null,null,null,"    751130 TREFILADOR (JOALHERIA E OURIVESARIA)"]
["    752115 SOPRADOR DE VIDRO|752120 TRANSFORMADOR DE TUBOS DE VIDRO",null,null,null,null,null,null,null,null,"    752115 SOPRADOR DE VIDRO|752120 TRANSFORMADOR DE TUBOS DE VIDRO",null,null,null,null,null,null,null,null,null,null,null,"    752105 ARTESAO MODELADOR (VIDROS)|752110 MOLDADOR (VIDROS)"]
["    752205 APLICADOR SERIGRAFICO EM VIDROS|752210 CORTADOR DE VIDRO",null,null,null,null,null,null,null,null,"    752205 APLICADOR SERIGRAFICO EM VIDROS|752210 CORTADOR DE VIDRO",null,null,null,null,null,null,null,null,null,null,null,"    752115 SOPRADOR DE VIDRO|752120 TRANSFORMADOR DE TUBOS DE VIDRO"]
["    752215 GRAVADOR DE VIDRO A AGUA-FORTE|752220 GRAVADOR DE VIDRO A ESMERIL",null,null,null,null,null,null,null,null,"    752215 GRAVADOR DE VIDRO A AGUA-FORTE|752220 GRAVADOR DE VIDRO A ESMERIL",null,null,null,null,null,null,null,null,null,null,null,"    752205 APLICADOR SERIGRAFICO EM VIDROS|752210 CORTADOR DE VIDRO"]
["    752225 GRAVADOR DE VIDRO A JATO DE AREIA",null,null,null,null,null,null,null,null,"    752225 GRAVADOR DE VIDRO A JATO DE AREIA",null,null,null,null,null,null,null,null,null,null,null,"    752215 GRAVADOR DE VIDRO A AGUA-FORTE|752220 GRAVADOR DE VIDRO A ESMERIL"]
["    752230 LAPIDADOR DE VIDROS E CRISTAIS|752235 SURFASSAGISTA|752305 CERAMISTA",null,null,null,null,null,null,null,null,"    752230 LAPIDADOR DE VIDROS E CRISTAIS|752235 SURFASSAGISTA|752305 CERAMISTA",null,null,null,null,null,null,null,null,null,null,null,"    752225 GRAVADOR DE VIDRO A JATO DE AREIA"]
["    752310 CERAMISTA (TORNO DE PEDAL E MOTOR)",null,null,null,null,null,null,null,null,"    752310 CERAMISTA (TORNO DE PEDAL E MOTOR)",null,null,null,null,null,null,null,null,null,null,null,"    752230 LAPIDADOR DE VIDROS E CRISTAIS|752235 SURFASSAGISTA|752305 CERAMISTA"]
["    752315 CERAMISTA (TORNO SEMI-AUTOMATICO)|752320 CERAMISTA MODELADOR",null,null,null,null,null,null,null,null,"    752315 CERAMISTA (TORNO SEMI-AUTOMATICO)|752320 CERAMISTA MODELADOR",null,null,null,null,null,null,null,null,null,null,null,"    752310 CERAMISTA (TORNO DE PEDAL E MOTOR)"]
["    752325 CERAMISTA MOLDADOR|752330 CERAMISTA PRENSADOR",null,null,null,null,null,null,null,null,"    752325 CERAMISTA MOLDADOR|752330 CERAMISTA PRENSADOR",null,null,null,null,null,null,null,null,null,null,null,"    752315 CERAMISTA (TORNO SEMI-AUTOMATICO)|752320 CERAMISTA MODELADOR"]
["    752405 DECORADOR DE CERAMICA|752410 DECORADOR DE VIDRO",null,null,null,null,null,null,null,null,"    752405 DECORADOR DE CERAMICA|752410 DECORADOR DE VIDRO",null,null,null,null,null,null,null,null,null,null,null,"    752325 CERAMISTA MOLDADOR|752330 CERAMISTA PRENSADOR"]
["    752415 DECORADOR DE VIDRO A PINCEL|752420 OPERADOR DE ESMALTADEIRA",null,null,null,null,null,null,null,null,"    752415 DECORADOR DE VIDRO A PINCEL|752420 OPERADOR DE ESMALTADEIRA",null,null,null,null,null,null,null,null,null,null,null,"    752405 DECORADOR DE CERAMICA|752410 DECORADOR DE VIDRO"]
["    752425 OPERADOR DE ESPELHAMENTO|752430 PINTOR DE CERAMICA, A PINCEL",null,null,null,null,null,null,null,null,"    752425 OPERADOR DE ESPELHAMENTO|752430 PINTOR DE CERAMICA, A PINCEL",null,null,null,null,null,null,null,null,null,null,null,"    752415 DECORADOR DE VIDRO A PINCEL|752420 OPERADOR DE ESMALTADEIRA"]
["    760105 CONTRAMESTRE DE ACABAMENTO (INDUSTRIA TEXTIL)",null,null,null,null,null,null,null,null,"    760105 CONTRAMESTRE DE ACABAMENTO (INDUSTRIA TEXTIL)",null,null,null,null,null,null,null,null,null,null,null,"    752425 OPERADOR DE ESPELHAMENTO|752430 PINTOR DE CERAMICA, A PINCEL"]
["    760110 CONTRAMESTRE DE FIACAO (INDUSTRIA TEXTIL)",null,null,null,null,null,null,null,null,"    760110 CONTRAMESTRE DE FIACAO (INDUSTRIA TEXTIL)",null,null,null,null,null,null,null,null,null,null,null,"    760105 CONTRAMESTRE DE ACABAMENTO (INDUSTRIA TEXTIL)"]
["    760115 CONTRAMESTRE DE MALHARIA (INDUSTRIA TEXTIL)",null,null,null,null,null,null,null,null,"    760115 CONTRAMESTRE DE MALHARIA (INDUSTRIA TEXTIL)",null,null,null,null,null,null,null,null,null,null,null,"    760110 CONTRAMESTRE DE FIACAO (INDUSTRIA TEXTIL)"]
["    760120 CONTRAMESTRE DE TECELAGEM (INDUSTRIA TEXTIL)",null,null,null,null,null,null,null,null,"    760120 CONTRAMESTRE DE TECELAGEM (INDUSTRIA TEXTIL)",null,null,null,null,null,null,null,null,null,null,null,"    760115 CONTRAMESTRE DE MALHARIA (INDUSTRIA TEXTIL)"]
["    760125 MESTRE (INDUSTRIA TEXTIL E DE CONFECCOES)",null,null,null,null,null,null,null,null,"    760125 MESTRE (INDUSTRIA TEXTIL E DE CONFECCOES)",null,null,null,null,null,null,null,null,null,null,null,"    760120 CONTRAMESTRE DE TECELAGEM (INDUSTRIA TEXTIL)"]
["    760205 SUPERVISOR DE CURTIMENTO",null,null,null,null,null,null,null,null,"    760205 SUPERVISOR DE CURTIMENTO",null,null,null,null,null,null,null,null,null,null,null,"    760125 MESTRE (INDUSTRIA TEXTIL E DE CONFECCOES)"]
["    760305 ENCARREGADO DE CORTE NA CONFECCAO DO VESTUARIO",null,null,null,null,null,null,null,null,"    760305 ENCARREGADO DE CORTE NA CONFECCAO DO VESTUARIO",null,null,null,null,null,null,null,null,null,null,null,"    760205 SUPERVISOR DE CURTIMENTO"]
["    760310 ENCARREGADO DE COSTURA NA CONFECCAO DO VESTUARIO",null,null,null,null,null,null,null,null,"    760310 ENCARREGADO DE COSTURA NA CONFECCAO DO VESTUARIO",null,null,null,null,null,null,null,null,null,null,null,"    760305 ENCARREGADO DE CORTE NA CONFECCAO DO VESTUARIO"]
["    760405 SUPERVISOR (INDUSTRIA DE CALCADOS E ARTEFATOS DE COURO)",null,null,null,null,null,null,null,null,"    760405 SUPERVISOR (INDUSTRIA DE CALCADOS E ARTEFATOS DE COURO)",null,null,null,null,null,null,null,null,null,null,null,"    760310 ENCARREGADO DE COSTURA NA CONFECCAO DO VESTUARIO"]
["    760505 SUPERVISOR DA CONFECCAO DE ARTEFATOS DE TECIDOS, COUROS E AFINS",null,null,null,null,null,null,null,null,"    760505 SUPERVISOR DA CONFECCAO DE ARTEFATOS DE TECIDOS, COUROS E AFINS",null,null,null,null,null,null,null,null,null,null,null,"    760405 SUPERVISOR (INDUSTRIA DE CALCADOS E ARTEFATOS DE COURO)"]
["    760605 SUPERVISOR DAS ARTES GRAFICAS (INDUSTRIA EDITORIAL E GRAFICA)",null,null,null,null,null,null,null,null,"    760605 SUPERVISOR DAS ARTES GRAFICAS (INDUSTRIA EDITORIAL E GRAFICA)",null,null,null,null,null,null,null,null,null,null,null,"    760505 SUPERVISOR DA CONFECCAO DE ARTEFATOS DE TECIDOS, COUROS E AFINS"]
["    724605 OPERADOR DE LACOS DE CABOS DE ACO",null,null,null,null,null,null,null,null,"    724605 OPERADOR DE LACOS DE CABOS DE ACO",null,null,null,null,null,null,null,null,null,null,null,"    760605 SUPERVISOR DAS ARTES GRAFICAS (INDUSTRIA EDITORIAL E GRAFICA)"]
["    761105 CLASSIFICADOR DE FIBRAS TEXTEIS|761110 LAVADOR DE LA",null,null,null,null,null,null,null,null,"    761105 CLASSIFICADOR DE FIBRAS TEXTEIS|761110 LAVADOR DE LA",null,null,null,null,null,null,null,null,null,null,null,"    724605 OPERADOR DE LACOS DE CABOS DE ACO"]
["    761205 OPERADOR DE ABERTURA (FIACAO)|761210 OPERADOR DE BINADEIRA",null,null,null,null,null,null,null,null,"    761205 OPERADOR DE ABERTURA (FIACAO)|761210 OPERADOR DE BINADEIRA",null,null,null,null,null,null,null,null,null,null,null,"    761105 CLASSIFICADOR DE FIBRAS TEXTEIS|761110 LAVADOR DE LA"]
["    761215 OPERADOR DE BOBINADEIRA|761220 OPERADOR DE CARDAS",null,null,null,null,null,null,null,null,"    761215 OPERADOR DE BOBINADEIRA|761220 OPERADOR DE CARDAS",null,null,null,null,null,null,null,null,null,null,null,"    761205 OPERADOR DE ABERTURA (FIACAO)|761210 OPERADOR DE BINADEIRA"]
["    761225 OPERADOR DE CONICALEIRA|761230 OPERADOR DE FILATORIO",null,null,null,null,null,null,null,null,"    761225 OPERADOR DE CONICALEIRA|761230 OPERADOR DE FILATORIO",null,null,null,null,null,null,null,null,null,null,null,"    761215 OPERADOR DE BOBINADEIRA|761220 OPERADOR DE CARDAS"]
["    761235 OPERADOR DE LAMINADEIRA E REUNIDEIRA|761240 OPERADOR DE MACAROQUEIRA",null,null,null,null,null,null,null,null,"    761235 OPERADOR DE LAMINADEIRA E REUNIDEIRA|761240 OPERADOR DE MACAROQUEIRA",null,null,null,null,null,null,null,null,null,null,null,"    761225 OPERADOR DE CONICALEIRA|761230 OPERADOR DE FILATORIO"]
["    761245 OPERADOR DE OPEN-END|761250 OPERADOR DE PASSADOR (FIACAO)",null,null,null,null,null,null,null,null,"    761245 OPERADOR DE OPEN-END|761250 OPERADOR DE PASSADOR (FIACAO)",null,null,null,null,null,null,null,null,null,null,null,"    761235 OPERADOR DE LAMINADEIRA E REUNIDEIRA|761240 OPERADOR DE MACAROQUEIRA"]
["    761255 OPERADOR DE PENTEADEIRA|761260 OPERADOR DE RETORCEDEIRA",null,null,null,null,null,null,null,null,"    761255 OPERADOR DE PENTEADEIRA|761260 OPERADOR DE RETORCEDEIRA",null,null,null,null,null,null,null,null,null,null,null,"    761245 OPERADOR DE OPEN-END|761250 OPERADOR DE PASSADOR (FIACAO)"]
["    761303 TECELAO (REDES)|761306 TECELAO (RENDAS E BORDADOS)",null,null,null,null,null,null,null,null,"    761303 TECELAO (REDES)|761306 TECELAO (RENDAS E BORDADOS)",null,null,null,null,null,null,null,null,null,null,null,"    761255 OPERADOR DE PENTEADEIRA|761260 OPERADOR DE RETORCEDEIRA"]
["    761309 TECELAO (TEAR AUTOMATICO)|761312 TECELAO (TEAR JACQUARD)",null,null,null,null,null,null,null,null,"    761309 TECELAO (TEAR AUTOMATICO)|761312 TECELAO (TEAR JACQUARD)",null,null,null,null,null,null,null,null,null,null,null,"    761303 TECELAO (REDES)|761306 TECELAO (RENDAS E BORDADOS)"]
["    761315 TECELAO (TEAR MECANICO DE MAQUINETA)",null,null,null,null,null,null,null,null,"    761315 TECELAO (TEAR MECANICO DE MAQUINETA)",null,null,null,null,null,null,null,null,null,null,null,"    761309 TECELAO (TEAR AUTOMATICO)|761312 TECELAO (TEAR JACQUARD)"]
["    761318 TECELAO (TEAR MECANICO DE XADREZ)|761321 TECELAO (TEAR MECANICO LISO)",null,null,null,null,null,null,null,null,"    761318 TECELAO (TEAR MECANICO DE XADREZ)|761321 TECELAO (TEAR MECANICO LISO)",null,null,null,null,null,null,null,null,null,null,null,"    761315 TECELAO (TEAR MECANICO DE MAQUINETA)"]
["    761324 TECELAO (TEAR MECANICO, EXCETO JACQUARD)",null,null,null,null,null,null,null,null,"    761324 TECELAO (TEAR MECANICO, EXCETO JACQUARD)",null,null,null,null,null,null,null,null,null,null,null,"    761318 TECELAO (TEAR MECANICO DE XADREZ)|761321 TECELAO (TEAR MECANICO LISO)"]
["    761327 TECELAO DE MALHAS, A MAQUINA",null,null,null,null,null,null,null,null,"    761327 TECELAO DE MALHAS, A MAQUINA",null,null,null,null,null,null,null,null,null,null,null,"    761324 TECELAO (TEAR MECANICO, EXCETO JACQUARD)"]
["    761330 TECELAO DE MALHAS (MAQUINA CIRCULAR)",null,null,null,null,null,null,null,null,"    761330 TECELAO DE MALHAS (MAQUINA CIRCULAR)",null,null,null,null,null,null,null,null,null,null,null,"    761327 TECELAO DE MALHAS, A MAQUINA"]
["    761333 TECELAO DE MALHAS (MAQUINA RETILINEA)",null,null,null,null,null,null,null,null,"    761333 TECELAO DE MALHAS (MAQUINA RETILINEA)",null,null,null,null,null,null,null,null,null,null,null,"    761330 TECELAO DE MALHAS (MAQUINA CIRCULAR)"]
["    761336 TECELAO DE MEIAS, A MAQUINA",null,null,null,null,null,null,null,null,"    761336 TECELAO DE MEIAS, A MAQUINA",null,null,null,null,null,null,null,null,null,null,null,"    761333 TECELAO DE MALHAS (MAQUINA RETILINEA)"]
["    761339 TECELAO DE MEIAS (MAQUINA CIRCULAR)",null,null,null,null,null,null,null,null,"    761339 TECELAO DE MEIAS (MAQUINA CIRCULAR)",null,null,null,null,null,null,null,null,null,null,null,"    761336 TECELAO DE MEIAS, A MAQUINA"]
["    761342 TECELAO DE MEIAS (MAQUINA RETILINEA)",null,null,null,null,null,null,null,null,"    761342 TECELAO DE MEIAS (MAQUINA RETILINEA)",null,null,null,null,null,null,null,null,null,null,null,"    761339 TECELAO DE MEIAS (MAQUINA CIRCULAR)"]
["    761345 TECELAO DE TAPETES, A MAQUINA",null,null,null,null,null,null,null,null,"    761345 TECELAO DE TAPETES, A MAQUINA",null,null,null,null,null,null,null,null,null,null,null,"    761342 TECELAO DE MEIAS (MAQUINA RETILINEA)"]
["    761348 OPERADOR DE ENGOMADEIRA DE URDUME|761351 OPERADOR DE ESPULADEIRA",null,null,null,null,null,null,null,null,"    761348 OPERADOR DE ENGOMADEIRA DE URDUME|761351 OPERADOR DE ESPULADEIRA",null,null,null,null,null,null,null,null,null,null,null,"    761345 TECELAO DE TAPETES, A MAQUINA"]
["    761354 OPERADOR DE MAQUINA DE CORDOALHA|761357 OPERADOR DE URDIDEIRA",null,null,null,null,null,null,null,null,"    761354 OPERADOR DE MAQUINA DE CORDOALHA|761357 OPERADOR DE URDIDEIRA",null,null,null,null,null,null,null,null,null,null,null,"    761348 OPERADOR DE ENGOMADEIRA DE URDUME|761351 OPERADOR DE ESPULADEIRA"]
["    761360 PASSAMANEIRO A MAQUINA|761363 REMETEDOR DE FIOS",null,null,null,null,null,null,null,null,"    761360 PASSAMANEIRO A MAQUINA|761363 REMETEDOR DE FIOS",null,null,null,null,null,null,null,null,null,null,null,"    761354 OPERADOR DE MAQUINA DE CORDOALHA|761357 OPERADOR DE URDIDEIRA"]
["    761366 PICOTADOR DE CARTOES JACQUARD|761405 ALVEJADOR (TECIDOS)",null,null,null,null,null,null,null,null,"    761366 PICOTADOR DE CARTOES JACQUARD|761405 ALVEJADOR (TECIDOS)",null,null,null,null,null,null,null,null,null,null,null,"    761360 PASSAMANEIRO A MAQUINA|761363 REMETEDOR DE FIOS"]
["    761410 ESTAMPADOR DE TECIDO|761415 OPERADOR DE CALANDRAS (TECIDOS)",null,null,null,null,null,null,null,null,"    761410 ESTAMPADOR DE TECIDO|761415 OPERADOR DE CALANDRAS (TECIDOS)",null,null,null,null,null,null,null,null,null,null,null,"    761366 PICOTADOR DE CARTOES JACQUARD|761405 ALVEJADOR (TECIDOS)"]
["    761420 OPERADOR DE CHAMUSCADEIRA DE TECIDOS",null,null,null,null,null,null,null,null,"    761420 OPERADOR DE CHAMUSCADEIRA DE TECIDOS",null,null,null,null,null,null,null,null,null,null,null,"    761410 ESTAMPADOR DE TECIDO|761415 OPERADOR DE CALANDRAS (TECIDOS)"]
["    761425 OPERADOR DE IMPERMEABILIZADOR DE TECIDOS",null,null,null,null,null,null,null,null,"    761425 OPERADOR DE IMPERMEABILIZADOR DE TECIDOS",null,null,null,null,null,null,null,null,null,null,null,"    761420 OPERADOR DE CHAMUSCADEIRA DE TECIDOS"]
["    761430 OPERADOR DE MAQUINA DE LAVAR FIOS E TECIDOS",null,null,null,null,null,null,null,null,"    761430 OPERADOR DE MAQUINA DE LAVAR FIOS E TECIDOS",null,null,null,null,null,null,null,null,null,null,null,"    761425 OPERADOR DE IMPERMEABILIZADOR DE TECIDOS"]
["    761435 OPERADOR DE RAMEUSE|761805 INSPETOR DE ESTAMPARIA (PRODUCAO TEXTIL)",null,null,null,null,null,null,null,null,"    761435 OPERADOR DE RAMEUSE|761805 INSPETOR DE ESTAMPARIA (PRODUCAO TEXTIL)",null,null,null,null,null,null,null,null,null,null,null,"    761430 OPERADOR DE MAQUINA DE LAVAR FIOS E TECIDOS"]
["    761810 REVISOR DE FIOS (PRODUCAO TEXTIL)|761815 REVISOR DE TECIDOS ACABADOS",null,null,null,null,null,null,null,null,"    761810 REVISOR DE FIOS (PRODUCAO TEXTIL)|761815 REVISOR DE TECIDOS ACABADOS",null,null,null,null,null,null,null,null,null,null,null,"    761435 OPERADOR DE RAMEUSE|761805 INSPETOR DE ESTAMPARIA (PRODUCAO TEXTIL)"]
["    761820 REVISOR DE TECIDOS CRUS",null,null,null,null,null,null,null,null,"    761820 REVISOR DE TECIDOS CRUS",null,null,null,null,null,null,null,null,null,null,null,"    761810 REVISOR DE FIOS (PRODUCAO TEXTIL)|761815 REVISOR DE TECIDOS ACABADOS"]
["    762005 TRABALHADOR POLIVALENTE DO CURTIMENTO DE COUROS E PELES",null,null,null,null,null,null,null,null,"    762005 TRABALHADOR POLIVALENTE DO CURTIMENTO DE COUROS E PELES",null,null,null,null,null,null,null,null,null,null,null,"    761820 REVISOR DE TECIDOS CRUS"]
["    762105 CLASSIFICADOR DE PELES",null,null,null,null,null,null,null,null,"    762105 CLASSIFICADOR DE PELES",null,null,null,null,null,null,null,null,null,null,null,"    762005 TRABALHADOR POLIVALENTE DO CURTIMENTO DE COUROS E PELES"]
["    762110 DESCARNADOR DE COUROS E PELES, A MAQUINA",null,null,null,null,null,null,null,null,"    762110 DESCARNADOR DE COUROS E PELES, A MAQUINA",null,null,null,null,null,null,null,null,null,null,null,"    762105 CLASSIFICADOR DE PELES"]
["    762115 ESTIRADOR DE COUROS E PELES (PREPARACAO)|762120 FULONEIRO",null,null,null,null,null,null,null,null,"    762115 ESTIRADOR DE COUROS E PELES (PREPARACAO)|762120 FULONEIRO",null,null,null,null,null,null,null,null,null,null,null,"    762110 DESCARNADOR DE COUROS E PELES, A MAQUINA"]
["    762125 RACHADOR DE COUROS E PELES|762205 CURTIDOR (COUROS E PELES)",null,null,null,null,null,null,null,null,"    762125 RACHADOR DE COUROS E PELES|762205 CURTIDOR (COUROS E PELES)",null,null,null,null,null,null,null,null,null,null,null,"    762115 ESTIRADOR DE COUROS E PELES (PREPARACAO)|762120 FULONEIRO"]
["    762210 CLASSIFICADOR DE COUROS|762215 ENXUGADOR DE COUROS",null,null,null,null,null,null,null,null,"    762210 CLASSIFICADOR DE COUROS|762215 ENXUGADOR DE COUROS",null,null,null,null,null,null,null,null,null,null,null,"    762125 RACHADOR DE COUROS E PELES|762205 CURTIDOR (COUROS E PELES)"]
["    762220 REBAIXADOR DE COUROS|762305 ESTIRADOR DE COUROS E PELES (ACABAMENTO)",null,null,null,null,null,null,null,null,"    762220 REBAIXADOR DE COUROS|762305 ESTIRADOR DE COUROS E PELES (ACABAMENTO)",null,null,null,null,null,null,null,null,null,null,null,"    762210 CLASSIFICADOR DE COUROS|762215 ENXUGADOR DE COUROS"]
["    762310 FULONEIRO NO ACABAMENTO DE COUROS E PELES",null,null,null,null,null,null,null,null,"    762310 FULONEIRO NO ACABAMENTO DE COUROS E PELES",null,null,null,null,null,null,null,null,null,null,null,"    762220 REBAIXADOR DE COUROS|762305 ESTIRADOR DE COUROS E PELES (ACABAMENTO)"]
["    762315 LIXADOR DE COUROS E PELES|762320 MATIZADOR DE COUROS E PELES",null,null,null,null,null,null,null,null,"    762315 LIXADOR DE COUROS E PELES|762320 MATIZADOR DE COUROS E PELES",null,null,null,null,null,null,null,null,null,null,null,"    762310 FULONEIRO NO ACABAMENTO DE COUROS E PELES"]
["    762325 OPERADOR DE MAQUINAS DO ACABAMENTO DE COUROS E PELES",null,null,null,null,null,null,null,null,"    762325 OPERADOR DE MAQUINAS DO ACABAMENTO DE COUROS E PELES",null,null,null,null,null,null,null,null,null,null,null,"    762315 LIXADOR DE COUROS E PELES|762320 MATIZADOR DE COUROS E PELES"]
["    762330 PRENSADOR DE COUROS E PELES|762335 PALECIONADOR DE COUROS E PELES",null,null,null,null,null,null,null,null,"    762330 PRENSADOR DE COUROS E PELES|762335 PALECIONADOR DE COUROS E PELES",null,null,null,null,null,null,null,null,null,null,null,"    762325 OPERADOR DE MAQUINAS DO ACABAMENTO DE COUROS E PELES"]
["    762340 PREPARADOR DE COUROS CURTIDOS|762345 VAQUEADOR DE COUROS E PELES",null,null,null,null,null,null,null,null,"    762340 PREPARADOR DE COUROS CURTIDOS|762345 VAQUEADOR DE COUROS E PELES",null,null,null,null,null,null,null,null,null,null,null,"    762330 PRENSADOR DE COUROS E PELES|762335 PALECIONADOR DE COUROS E PELES"]
["    763005 ALFAIATE|763010 COSTUREIRA DE PECAS SOB ENCOMENDA",null,null,null,null,null,null,null,null,"    763005 ALFAIATE|763010 COSTUREIRA DE PECAS SOB ENCOMENDA",null,null,null,null,null,null,null,null,null,null,null,"    762340 PREPARADOR DE COUROS CURTIDOS|762345 VAQUEADOR DE COUROS E PELES"]
["    763015 COSTUREIRA DE REPARACAO DE ROUPAS",null,null,null,null,null,null,null,null,"    763015 COSTUREIRA DE REPARACAO DE ROUPAS",null,null,null,null,null,null,null,null,null,null,null,"    763005 ALFAIATE|763010 COSTUREIRA DE PECAS SOB ENCOMENDA"]
["    763020 COSTUREIRO DE ROUPA DE COURO E PELE",null,null,null,null,null,null,null,null,"    763020 COSTUREIRO DE ROUPA DE COURO E PELE",null,null,null,null,null,null,null,null,null,null,null,"    763015 COSTUREIRA DE REPARACAO DE ROUPAS"]
["    763105 AUXILIAR DE CORTE (PREPARACAO DA CONFECCAO DE ROUPAS)",null,null,null,null,null,null,null,null,"    763105 AUXILIAR DE CORTE (PREPARACAO DA CONFECCAO DE ROUPAS)",null,null,null,null,null,null,null,null,null,null,null,"    763020 COSTUREIRO DE ROUPA DE COURO E PELE"]
["    763110 CORTADOR DE ROUPAS|763115 ENFESTADOR DE ROUPAS",null,null,null,null,null,null,null,null,"    763110 CORTADOR DE ROUPAS|763115 ENFESTADOR DE ROUPAS",null,null,null,null,null,null,null,null,null,null,null,"    763105 AUXILIAR DE CORTE (PREPARACAO DA CONFECCAO DE ROUPAS)"]
["    763120 RISCADOR DE ROUPAS",null,null,null,null,null,null,null,null,"    763120 RISCADOR DE ROUPAS",null,null,null,null,null,null,null,null,null,null,null,"    763110 CORTADOR DE ROUPAS|763115 ENFESTADOR DE ROUPAS"]
["    763205 COSTUREIRO DE ROUPAS DE COURO E PELE, A MAQUINA NA CONFECCAO EM SERIE",null,null,null,null,null,null,null,null,"    763205 COSTUREIRO DE ROUPAS DE COURO E PELE, A MAQUINA NA CONFECCAO EM SERIE",null,null,null,null,null,null,null,null,null,null,null,"    763120 RISCADOR DE ROUPAS"]
["    763210 COSTUREIRO NA CONFECCAO EM SERIE",null,null,null,null,null,null,null,null,"    763210 COSTUREIRO NA CONFECCAO EM SERIE",null,null,null,null,null,null,null,null,null,null,null,"    763205 COSTUREIRO DE ROUPAS DE COURO E PELE, A MAQUINA NA CONFECCAO EM SERIE"]
["    763215 COSTUREIRO, A MAQUINA NA CONFECCAO EM SERIE|763305 ARREMATADEIRA",null,null,null,null,null,null,null,null,"    763215 COSTUREIRO, A MAQUINA NA CONFECCAO EM SERIE|763305 ARREMATADEIRA",null,null,null,null,null,null,null,null,null,null,null,"    763210 COSTUREIRO NA CONFECCAO EM SERIE"]
["    763310 BORDADOR, A MAQUINA",null,null,null,null,null,null,null,null,"    763310 BORDADOR, A MAQUINA",null,null,null,null,null,null,null,null,null,null,null,"    763215 COSTUREIRO, A MAQUINA NA CONFECCAO EM SERIE|763305 ARREMATADEIRA"]
["    763315 MARCADOR DE PECAS CONFECCIONADAS PARA BORDAR",null,null,null,null,null,null,null,null,"    763315 MARCADOR DE PECAS CONFECCIONADAS PARA BORDAR",null,null,null,null,null,null,null,null,null,null,null,"    763310 BORDADOR, A MAQUINA"]
["    763320 OPERADOR DE MAQUINA DE COSTURA DE ACABAMENTO",null,null,null,null,null,null,null,null,"    763320 OPERADOR DE MAQUINA DE COSTURA DE ACABAMENTO",null,null,null,null,null,null,null,null,null,null,null,"    763315 MARCADOR DE PECAS CONFECCIONADAS PARA BORDAR"]
["    763325 PASSADEIRA DE PECAS CONFECCIONADAS",null,null,null,null,null,null,null,null,"    763325 PASSADEIRA DE PECAS CONFECCIONADAS",null,null,null,null,null,null,null,null,null,null,null,"    763320 OPERADOR DE MAQUINA DE COSTURA DE ACABAMENTO"]
["    764005 TRABALHADOR POLIVALENTE DA CONFECCAO DE CALCADOS",null,null,null,null,null,null,null,null,"    764005 TRABALHADOR POLIVALENTE DA CONFECCAO DE CALCADOS",null,null,null,null,null,null,null,null,null,null,null,"    763325 PASSADEIRA DE PECAS CONFECCIONADAS"]
["    764105 CORTADOR DE CALCADOS, A MAQUINA (EXCETO SOLAS E PALMILHAS)",null,null,null,null,null,null,null,null,"    764105 CORTADOR DE CALCADOS, A MAQUINA (EXCETO SOLAS E PALMILHAS)",null,null,null,null,null,null,null,null,null,null,null,"    764005 TRABALHADOR POLIVALENTE DA CONFECCAO DE CALCADOS"]
["    764110 CORTADOR DE SOLAS E PALMILHAS, A MAQUINA",null,null,null,null,null,null,null,null,"    764110 CORTADOR DE SOLAS E PALMILHAS, A MAQUINA",null,null,null,null,null,null,null,null,null,null,null,"    764105 CORTADOR DE CALCADOS, A MAQUINA (EXCETO SOLAS E PALMILHAS)"]
["    764115 PREPARADOR DE CALCADOS|764120 PREPARADOR DE SOLAS E PALMILHAS",null,null,null,null,null,null,null,null,"    764115 PREPARADOR DE CALCADOS|764120 PREPARADOR DE SOLAS E PALMILHAS",null,null,null,null,null,null,null,null,null,null,null,"    764110 CORTADOR DE SOLAS E PALMILHAS, A MAQUINA"]
["    764205 COSTURADOR DE CALCADOS, A MAQUINA|764210 MONTADOR DE CALCADOS",null,null,null,null,null,null,null,null,"    764205 COSTURADOR DE CALCADOS, A MAQUINA|764210 MONTADOR DE CALCADOS",null,null,null,null,null,null,null,null,null,null,null,"    764115 PREPARADOR DE CALCADOS|764120 PREPARADOR DE SOLAS E PALMILHAS"]
["    764305 ACABADOR DE CALCADOS",null,null,null,null,null,null,null,null,"    764305 ACABADOR DE CALCADOS",null,null,null,null,null,null,null,null,null,null,null,"    764205 COSTURADOR DE CALCADOS, A MAQUINA|764210 MONTADOR DE CALCADOS"]
["    765005 CONFECCIONADOR DE ARTEFATOS DE COURO (EXCETO SAPATOS)",null,null,null,null,null,null,null,null,"    765005 CONFECCIONADOR DE ARTEFATOS DE COURO (EXCETO SAPATOS)",null,null,null,null,null,null,null,null,null,null,null,"    764305 ACABADOR DE CALCADOS"]
["    765010 CHAPELEIRO DE SENHORAS|765015 BONELEIRO",null,null,null,null,null,null,null,null,"    765010 CHAPELEIRO DE SENHORAS|765015 BONELEIRO",null,null,null,null,null,null,null,null,null,null,null,"    765005 CONFECCIONADOR DE ARTEFATOS DE COURO (EXCETO SAPATOS)"]
["    765105 CORTADOR DE ARTEFATOS DE COURO (EXCETO ROUPAS E CALCADOS)",null,null,null,null,null,null,null,null,"    765105 CORTADOR DE ARTEFATOS DE COURO (EXCETO ROUPAS E CALCADOS)",null,null,null,null,null,null,null,null,null,null,null,"    765010 CHAPELEIRO DE SENHORAS|765015 BONELEIRO"]
["    765110 CORTADOR DE TAPECARIA|765205 COLCHOEIRO (CONFECCAO DE COLCHOES)",null,null,null,null,null,null,null,null,"    765110 CORTADOR DE TAPECARIA|765205 COLCHOEIRO (CONFECCAO DE COLCHOES)",null,null,null,null,null,null,null,null,null,null,null,"    765105 CORTADOR DE ARTEFATOS DE COURO (EXCETO ROUPAS E CALCADOS)"]
["    765215 CONFECCIONADOR DE BRINQUEDOS DE PANO",null,null,null,null,null,null,null,null,"    765215 CONFECCIONADOR DE BRINQUEDOS DE PANO",null,null,null,null,null,null,null,null,null,null,null,"    765110 CORTADOR DE TAPECARIA|765205 COLCHOEIRO (CONFECCAO DE COLCHOES)"]
["    765225 CONFECCIONADOR DE VELAS NAUTICAS, BARRACAS E TOLDOS",null,null,null,null,null,null,null,null,"    765225 CONFECCIONADOR DE VELAS NAUTICAS, BARRACAS E TOLDOS",null,null,null,null,null,null,null,null,null,null,null,"    765215 CONFECCIONADOR DE BRINQUEDOS DE PANO"]
["    765230 ESTOFADOR DE AVIOES|765235 ESTOFADOR DE MOVEIS",null,null,null,null,null,null,null,null,"    765230 ESTOFADOR DE AVIOES|765235 ESTOFADOR DE MOVEIS",null,null,null,null,null,null,null,null,null,null,null,"    765225 CONFECCIONADOR DE VELAS NAUTICAS, BARRACAS E TOLDOS"]
["    765310 COSTURADOR DE ARTEFATOS DE COURO, A MAQUINA (EXCETO ROUPAS E CALCADOS)",null,null,null,null,null,null,null,null,"    765310 COSTURADOR DE ARTEFATOS DE COURO, A MAQUINA (EXCETO ROUPAS E CALCADOS)",null,null,null,null,null,null,null,null,null,null,null,"    765230 ESTOFADOR DE AVIOES|765235 ESTOFADOR DE MOVEIS"]
["    765315 MONTADOR DE ARTEFATOS DE COURO (EXCETO ROUPAS E CALCADOS)",null,null,null,null,null,null,null,null,"    765315 MONTADOR DE ARTEFATOS DE COURO (EXCETO ROUPAS E CALCADOS)",null,null,null,null,null,null,null,null,null,null,null,"    765310 COSTURADOR DE ARTEFATOS DE COURO, A MAQUINA (EXCETO ROUPAS E CALCADOS)"]
["    765405 TRABALHADOR DO ACABAMENTO DE ARTEFATOS DE TECIDOS E COUROS",null,null,null,null,null,null,null,null,"    765405 TRABALHADOR DO ACABAMENTO DE ARTEFATOS DE TECIDOS E COUROS",null,null,null,null,null,null,null,null,null,null,null,"    765315 MONTADOR DE ARTEFATOS DE COURO (EXCETO ROUPAS E CALCADOS)"]
["    766105 COPIADOR DE CHAPA",null,null,null,null,null,null,null,null,"    766105 COPIADOR DE CHAPA",null,null,null,null,null,null,null,null,null,null,null,"    765405 TRABALHADOR DO ACABAMENTO DE ARTEFATOS DE TECIDOS E COUROS"]
["    766115 GRAVADOR DE MATRIZ PARA FLEXOGRAFIA (CLICHERISTA)",null,null,null,null,null,null,null,null,"    766115 GRAVADOR DE MATRIZ PARA FLEXOGRAFIA (CLICHERISTA)",null,null,null,null,null,null,null,null,null,null,null,"    766105 COPIADOR DE CHAPA"]
["    766120 EDITOR DE TEXTO E IMAGEM",null,null,null,null,null,null,null,null,"    766120 EDITOR DE TEXTO E IMAGEM",null,null,null,null,null,null,null,null,null,null,null,"    766115 GRAVADOR DE MATRIZ PARA FLEXOGRAFIA (CLICHERISTA)"]
["    766125 MONTADOR DE FOTOLITO (ANALOGICO E DIGITAL)",null,null,null,null,null,null,null,null,"    766125 MONTADOR DE FOTOLITO (ANALOGICO E DIGITAL)",null,null,null,null,null,null,null,null,null,null,null,"    766120 EDITOR DE TEXTO E IMAGEM"]
["    766130 GRAVADOR DE MATRIZ PARA ROTOGRAVURA (ELETROMECANICO E QUIMICO)",null,null,null,null,null,null,null,null,"    766130 GRAVADOR DE MATRIZ PARA ROTOGRAVURA (ELETROMECANICO E QUIMICO)",null,null,null,null,null,null,null,null,null,null,null,"    766125 MONTADOR DE FOTOLITO (ANALOGICO E DIGITAL)"]
["    766135 GRAVADOR DE MATRIZ CALCOGRAFICA|766140 GRAVADOR DE MATRIZ SERIGRAFICA",null,null,null,null,null,null,null,null,"    766135 GRAVADOR DE MATRIZ CALCOGRAFICA|766140 GRAVADOR DE MATRIZ SERIGRAFICA",null,null,null,null,null,null,null,null,null,null,null,"    766130 GRAVADOR DE MATRIZ PARA ROTOGRAVURA (ELETROMECANICO E QUIMICO)"]
["    766145 OPERADOR DE SISTEMAS DE PROVA (ANALOGICO E DIGITAL)",null,null,null,null,null,null,null,null,"    766145 OPERADOR DE SISTEMAS DE PROVA (ANALOGICO E DIGITAL)",null,null,null,null,null,null,null,null,null,null,null,"    766135 GRAVADOR DE MATRIZ CALCOGRAFICA|766140 GRAVADOR DE MATRIZ SERIGRAFICA"]
["    766150 OPERADOR DE PROCESSO DE TRATAMENTO DE IMAGEM",null,null,null,null,null,null,null,null,"    766150 OPERADOR DE PROCESSO DE TRATAMENTO DE IMAGEM",null,null,null,null,null,null,null,null,null,null,null,"    766145 OPERADOR DE SISTEMAS DE PROVA (ANALOGICO E DIGITAL)"]
["    766155 PROGRAMADOR VISUAL GRAFICO|766205 IMPRESSOR (SERIGRAFIA)",null,null,null,null,null,null,null,null,"    766155 PROGRAMADOR VISUAL GRAFICO|766205 IMPRESSOR (SERIGRAFIA)",null,null,null,null,null,null,null,null,null,null,null,"    766150 OPERADOR DE PROCESSO DE TRATAMENTO DE IMAGEM"]
["    766210 IMPRESSOR CALCOGRAFICO|766215 IMPRESSOR DE OFSETE (PLANO E ROTATIVO)",null,null,null,null,null,null,null,null,"    766210 IMPRESSOR CALCOGRAFICO|766215 IMPRESSOR DE OFSETE (PLANO E ROTATIVO)",null,null,null,null,null,null,null,null,null,null,null,"    766155 PROGRAMADOR VISUAL GRAFICO|766205 IMPRESSOR (SERIGRAFIA)"]
["    766220 IMPRESSOR DE ROTATIVA|766225 IMPRESSOR DE ROTOGRAVURA",null,null,null,null,null,null,null,null,"    766220 IMPRESSOR DE ROTATIVA|766225 IMPRESSOR DE ROTOGRAVURA",null,null,null,null,null,null,null,null,null,null,null,"    766210 IMPRESSOR CALCOGRAFICO|766215 IMPRESSOR DE OFSETE (PLANO E ROTATIVO)"]
["    766230 IMPRESSOR DIGITAL|766235 IMPRESSOR FLEXOGRAFICO",null,null,null,null,null,null,null,null,"    766230 IMPRESSOR DIGITAL|766235 IMPRESSOR FLEXOGRAFICO",null,null,null,null,null,null,null,null,null,null,null,"    766220 IMPRESSOR DE ROTATIVA|766225 IMPRESSOR DE ROTOGRAVURA"]
["    766240 IMPRESSOR LETTERSET|766245 IMPRESSOR TAMPOGRAFICO",null,null,null,null,null,null,null,null,"    766240 IMPRESSOR LETTERSET|766245 IMPRESSOR TAMPOGRAFICO",null,null,null,null,null,null,null,null,null,null,null,"    766230 IMPRESSOR DIGITAL|766235 IMPRESSOR FLEXOGRAFICO"]
["    766250 IMPRESSOR TIPOGRAFICO",null,null,null,null,null,null,null,null,"    766250 IMPRESSOR TIPOGRAFICO",null,null,null,null,null,null,null,null,null,null,null,"    766240 IMPRESSOR LETTERSET|766245 IMPRESSOR TAMPOGRAFICO"]
["    766305 ACABADOR DE EMBALAGENS (FLEXIVEIS E CARTOTECNICAS)",null,null,null,null,null,null,null,null,"    766305 ACABADOR DE EMBALAGENS (FLEXIVEIS E CARTOTECNICAS)",null,null,null,null,null,null,null,null,null,null,null,"    766250 IMPRESSOR TIPOGRAFICO"]
["    766310 IMPRESSOR DE CORTE E VINCO",null,null,null,null,null,null,null,null,"    766310 IMPRESSOR DE CORTE E VINCO",null,null,null,null,null,null,null,null,null,null,null,"    766305 ACABADOR DE EMBALAGENS (FLEXIVEIS E CARTOTECNICAS)"]
["    766315 OPERADOR DE ACABAMENTO (INDUSTRIA GRAFICA)",null,null,null,null,null,null,null,null,"    766315 OPERADOR DE ACABAMENTO (INDUSTRIA GRAFICA)",null,null,null,null,null,null,null,null,null,null,null,"    766310 IMPRESSOR DE CORTE E VINCO"]
["    766320 OPERADOR DE GUILHOTINA (CORTE DE PAPEL)",null,null,null,null,null,null,null,null,"    766320 OPERADOR DE GUILHOTINA (CORTE DE PAPEL)",null,null,null,null,null,null,null,null,null,null,null,"    766315 OPERADOR DE ACABAMENTO (INDUSTRIA GRAFICA)"]
["    766325 PREPARADOR DE MATRIZES DE CORTE E VINCO",null,null,null,null,null,null,null,null,"    766325 PREPARADOR DE MATRIZES DE CORTE E VINCO",null,null,null,null,null,null,null,null,null,null,null,"    766320 OPERADOR DE GUILHOTINA (CORTE DE PAPEL)"]
["    766405 LABORATORISTA FOTOGRAFICO",null,null,null,null,null,null,null,null,"    766405 LABORATORISTA FOTOGRAFICO",null,null,null,null,null,null,null,null,null,null,null,"    766325 PREPARADOR DE MATRIZES DE CORTE E VINCO"]
["    766410 REVELADOR DE FILMES FOTOGRAFICOS, EM PRETO E BRANCO",null,null,null,null,null,null,null,null,"    766410 REVELADOR DE FILMES FOTOGRAFICOS, EM PRETO E BRANCO",null,null,null,null,null,null,null,null,null,null,null,"    766405 LABORATORISTA FOTOGRAFICO"]
["    766415 REVELADOR DE FILMES FOTOGRAFICOS, EM CORES",null,null,null,null,null,null,null,null,"    766415 REVELADOR DE FILMES FOTOGRAFICOS, EM CORES",null,null,null,null,null,null,null,null,null,null,null,"    766410 REVELADOR DE FILMES FOTOGRAFICOS, EM PRETO E BRANCO"]
["    766420 AUXILIAR DE RADIOLOGIA (REVELACAO FOTOGRAFICA)",null,null,null,null,null,null,null,null,"    766420 AUXILIAR DE RADIOLOGIA (REVELACAO FOTOGRAFICA)",null,null,null,null,null,null,null,null,null,null,null,"    766415 REVELADOR DE FILMES FOTOGRAFICOS, EM CORES"]
["    768105 TECELAO (TEAR MANUAL)|768110 TECELAO DE TAPETES, A MAO",null,null,null,null,null,null,null,null,"    768105 TECELAO (TEAR MANUAL)|768110 TECELAO DE TAPETES, A MAO",null,null,null,null,null,null,null,null,null,null,null,"    766420 AUXILIAR DE RADIOLOGIA (REVELACAO FOTOGRAFICA)"]
["    768115 TRICOTEIRO, A MAO|768120 REDEIRO",null,null,null,null,null,null,null,null,"    768115 TRICOTEIRO, A MAO|768120 REDEIRO",null,null,null,null,null,null,null,null,null,null,null,"    768105 TECELAO (TEAR MANUAL)|768110 TECELAO DE TAPETES, A MAO"]
["    761005 OPERADOR POLIVALENTE DA INDUSTRIA TEXTIL|768130 CROCHETEIRO, A MAO",null,null,null,null,null,null,null,null,"    761005 OPERADOR POLIVALENTE DA INDUSTRIA TEXTIL|768130 CROCHETEIRO, A MAO",null,null,null,null,null,null,null,null,null,null,null,"    768115 TRICOTEIRO, A MAO|768120 REDEIRO"]
["    768205 BORDADOR, A MAO|768210 CERZIDOR|768305 ARTIFICE DO COURO",null,null,null,null,null,null,null,null,"    768205 BORDADOR, A MAO|768210 CERZIDOR|768305 ARTIFICE DO COURO",null,null,null,null,null,null,null,null,null,null,null,"    761005 OPERADOR POLIVALENTE DA INDUSTRIA TEXTIL|768130 CROCHETEIRO, A MAO"]
["    768310 CORTADOR DE CALCADOS, A MAO (EXCETO SOLAS)",null,null,null,null,null,null,null,null,"    768310 CORTADOR DE CALCADOS, A MAO (EXCETO SOLAS)",null,null,null,null,null,null,null,null,null,null,null,"    768205 BORDADOR, A MAO|768210 CERZIDOR|768305 ARTIFICE DO COURO"]
["    768315 COSTURADOR DE ARTEFATOS DE COURO, A MAO (EXCETO ROUPAS E CALCADOS)",null,null,null,null,null,null,null,null,"    768315 COSTURADOR DE ARTEFATOS DE COURO, A MAO (EXCETO ROUPAS E CALCADOS)",null,null,null,null,null,null,null,null,null,null,null,"    768310 CORTADOR DE CALCADOS, A MAO (EXCETO SOLAS)"]
["    768320 SAPATEIRO (CALCADOS SOB MEDIDA)|768325 SELEIRO|768605 TIPOGRAFO",null,null,null,null,null,null,null,null,"    768320 SAPATEIRO (CALCADOS SOB MEDIDA)|768325 SELEIRO|768605 TIPOGRAFO",null,null,null,null,null,null,null,null,null,null,null,"    768315 COSTURADOR DE ARTEFATOS DE COURO, A MAO (EXCETO ROUPAS E CALCADOS)"]
["    768610 LINOTIPISTA|768615 MONOTIPISTA|768620 PAGINADOR",null,null,null,null,null,null,null,null,"    768610 LINOTIPISTA|768615 MONOTIPISTA|768620 PAGINADOR",null,null,null,null,null,null,null,null,null,null,null,"    768320 SAPATEIRO (CALCADOS SOB MEDIDA)|768325 SELEIRO|768605 TIPOGRAFO"]
["    768625 PINTOR DE LETREIROS|768630 CONFECCIONADOR DE CARIMBOS DE BORRACHA",null,null,null,null,null,null,null,null,"    768625 PINTOR DE LETREIROS|768630 CONFECCIONADOR DE CARIMBOS DE BORRACHA",null,null,null,null,null,null,null,null,null,null,null,"    768610 LINOTIPISTA|768615 MONOTIPISTA|768620 PAGINADOR"]
["    768705 GRAVADOR, A MAO (ENCADERNACAO)|768710 RESTAURADOR DE LIVROS",null,null,null,null,null,null,null,null,"    768705 GRAVADOR, A MAO (ENCADERNACAO)|768710 RESTAURADOR DE LIVROS",null,null,null,null,null,null,null,null,null,null,null,"    768625 PINTOR DE LETREIROS|768630 CONFECCIONADOR DE CARIMBOS DE BORRACHA"]
["    770105 MESTRE (INDUSTRIA DE MADEIRA E MOBILIARIO)|770110 MESTRE CARPINTEIRO",null,null,null,null,null,null,null,null,"    770105 MESTRE (INDUSTRIA DE MADEIRA E MOBILIARIO)|770110 MESTRE CARPINTEIRO",null,null,null,null,null,null,null,null,null,null,null,"    768705 GRAVADOR, A MAO (ENCADERNACAO)|768710 RESTAURADOR DE LIVROS"]
["    771105 MARCENEIRO|771110 MODELADOR DE MADEIRA",null,null,null,null,null,null,null,null,"    771105 MARCENEIRO|771110 MODELADOR DE MADEIRA",null,null,null,null,null,null,null,null,null,null,null,"    770105 MESTRE (INDUSTRIA DE MADEIRA E MOBILIARIO)|770110 MESTRE CARPINTEIRO"]
["    771115 MAQUETISTA NA MARCENARIA|771120 TANOEIRO",null,null,null,null,null,null,null,null,"    771115 MAQUETISTA NA MARCENARIA|771120 TANOEIRO",null,null,null,null,null,null,null,null,null,null,null,"    771105 MARCENEIRO|771110 MODELADOR DE MADEIRA"]
["    772105 CLASSIFICADOR DE MADEIRA|772110 IMPREGNADOR DE MADEIRA",null,null,null,null,null,null,null,null,"    772105 CLASSIFICADOR DE MADEIRA|772110 IMPREGNADOR DE MADEIRA",null,null,null,null,null,null,null,null,null,null,null,"    771115 MAQUETISTA NA MARCENARIA|771120 TANOEIRO"]
["    772115 SECADOR DE MADEIRA|773105 CORTADOR DE LAMINADOS DE MADEIRA",null,null,null,null,null,null,null,null,"    772115 SECADOR DE MADEIRA|773105 CORTADOR DE LAMINADOS DE MADEIRA",null,null,null,null,null,null,null,null,null,null,null,"    772105 CLASSIFICADOR DE MADEIRA|772110 IMPREGNADOR DE MADEIRA"]
["    773110 OPERADOR DE SERRAS NO DESDOBRAMENTO DE MADEIRA",null,null,null,null,null,null,null,null,"    773110 OPERADOR DE SERRAS NO DESDOBRAMENTO DE MADEIRA",null,null,null,null,null,null,null,null,null,null,null,"    772115 SECADOR DE MADEIRA|773105 CORTADOR DE LAMINADOS DE MADEIRA"]
["    773115 SERRADOR DE BORDAS NO DESDOBRAMENTO DE MADEIRA",null,null,null,null,null,null,null,null,"    773115 SERRADOR DE BORDAS NO DESDOBRAMENTO DE MADEIRA",null,null,null,null,null,null,null,null,null,null,null,"    773110 OPERADOR DE SERRAS NO DESDOBRAMENTO DE MADEIRA"]
["    773120 SERRADOR DE MADEIRA",null,null,null,null,null,null,null,null,"    773120 SERRADOR DE MADEIRA",null,null,null,null,null,null,null,null,null,null,null,"    773115 SERRADOR DE BORDAS NO DESDOBRAMENTO DE MADEIRA"]
["    773125 SERRADOR DE MADEIRA (SERRA CIRCULAR MULTIPLA)",null,null,null,null,null,null,null,null,"    773125 SERRADOR DE MADEIRA (SERRA CIRCULAR MULTIPLA)",null,null,null,null,null,null,null,null,null,null,null,"    773120 SERRADOR DE MADEIRA"]
["    773130 SERRADOR DE MADEIRA (SERRA DE FITA MULTIPLA)",null,null,null,null,null,null,null,null,"    773130 SERRADOR DE MADEIRA (SERRA DE FITA MULTIPLA)",null,null,null,null,null,null,null,null,null,null,null,"    773125 SERRADOR DE MADEIRA (SERRA CIRCULAR MULTIPLA)"]
["    773205 OPERADOR DE MAQUINA INTERCALADORA E PLACAS (COMPENSADOS)",null,null,null,null,null,null,null,null,"    773205 OPERADOR DE MAQUINA INTERCALADORA E PLACAS (COMPENSADOS)",null,null,null,null,null,null,null,null,null,null,null,"    773130 SERRADOR DE MADEIRA (SERRA DE FITA MULTIPLA)"]
["    773210 PRENSISTA DE AGLOMERADOS|773215 PRENSISTA DE COMPENSADOS",null,null,null,null,null,null,null,null,"    773210 PRENSISTA DE AGLOMERADOS|773215 PRENSISTA DE COMPENSADOS",null,null,null,null,null,null,null,null,null,null,null,"    773205 OPERADOR DE MAQUINA INTERCALADORA E PLACAS (COMPENSADOS)"]
["    773220 PREPARADOR DE AGLOMERANTES",null,null,null,null,null,null,null,null,"    773220 PREPARADOR DE AGLOMERANTES",null,null,null,null,null,null,null,null,null,null,null,"    773210 PRENSISTA DE AGLOMERADOS|773215 PRENSISTA DE COMPENSADOS"]
["    773305 OPERADOR DE DESEMPENADEIRA NA USINAGEM CONVENCIONAL DE MADEIRA",null,null,null,null,null,null,null,null,"    773305 OPERADOR DE DESEMPENADEIRA NA USINAGEM CONVENCIONAL DE MADEIRA",null,null,null,null,null,null,null,null,null,null,null,"    773220 PREPARADOR DE AGLOMERANTES"]
["    773310 OPERADOR DE ENTALHADEIRA (USINAGEM DE MADEIRA)",null,null,null,null,null,null,null,null,"    773310 OPERADOR DE ENTALHADEIRA (USINAGEM DE MADEIRA)",null,null,null,null,null,null,null,null,null,null,null,"    773305 OPERADOR DE DESEMPENADEIRA NA USINAGEM CONVENCIONAL DE MADEIRA"]
["    773315 OPERADOR DE FRESADORA (USINAGEM DE MADEIRA)",null,null,null,null,null,null,null,null,"    773315 OPERADOR DE FRESADORA (USINAGEM DE MADEIRA)",null,null,null,null,null,null,null,null,null,null,null,"    773310 OPERADOR DE ENTALHADEIRA (USINAGEM DE MADEIRA)"]
["    773320 OPERADOR DE LIXADEIRA (USINAGEM DE MADEIRA)",null,null,null,null,null,null,null,null,"    773320 OPERADOR DE LIXADEIRA (USINAGEM DE MADEIRA)",null,null,null,null,null,null,null,null,null,null,null,"    773315 OPERADOR DE FRESADORA (USINAGEM DE MADEIRA)"]
["    773325 OPERADOR DE MAQUINA DE USINAGEM MADEIRA, EM GERAL",null,null,null,null,null,null,null,null,"    773325 OPERADOR DE MAQUINA DE USINAGEM MADEIRA, EM GERAL",null,null,null,null,null,null,null,null,null,null,null,"    773320 OPERADOR DE LIXADEIRA (USINAGEM DE MADEIRA)"]
["    773330 OPERADOR DE MOLDURADORA (USINAGEM DE MADEIRA)",null,null,null,null,null,null,null,null,"    773330 OPERADOR DE MOLDURADORA (USINAGEM DE MADEIRA)",null,null,null,null,null,null,null,null,null,null,null,"    773325 OPERADOR DE MAQUINA DE USINAGEM MADEIRA, EM GERAL"]
["    773335 OPERADOR DE PLAINA DESENGROSSADEIRA",null,null,null,null,null,null,null,null,"    773335 OPERADOR DE PLAINA DESENGROSSADEIRA",null,null,null,null,null,null,null,null,null,null,null,"    773330 OPERADOR DE MOLDURADORA (USINAGEM DE MADEIRA)"]
["    773340 OPERADOR DE SERRAS (USINAGEM DE MADEIRA)",null,null,null,null,null,null,null,null,"    773340 OPERADOR DE SERRAS (USINAGEM DE MADEIRA)",null,null,null,null,null,null,null,null,null,null,null,"    773335 OPERADOR DE PLAINA DESENGROSSADEIRA"]
["    773345 OPERADOR DE TORNO AUTOMATICO (USINAGEM DE MADEIRA)",null,null,null,null,null,null,null,null,"    773345 OPERADOR DE TORNO AUTOMATICO (USINAGEM DE MADEIRA)",null,null,null,null,null,null,null,null,null,null,null,"    773340 OPERADOR DE SERRAS (USINAGEM DE MADEIRA)"]
["    773350 OPERADOR DE TUPIA (USINAGEM DE MADEIRA)",null,null,null,null,null,null,null,null,"    773350 OPERADOR DE TUPIA (USINAGEM DE MADEIRA)",null,null,null,null,null,null,null,null,null,null,null,"    773345 OPERADOR DE TORNO AUTOMATICO (USINAGEM DE MADEIRA)"]
["    773355 TORNEIRO NA USINAGEM CONVENCIONAL DE MADEIRA",null,null,null,null,null,null,null,null,"    773355 TORNEIRO NA USINAGEM CONVENCIONAL DE MADEIRA",null,null,null,null,null,null,null,null,null,null,null,"    773350 OPERADOR DE TUPIA (USINAGEM DE MADEIRA)"]
["    773405 OPERADOR DE MAQUINA BORDATRIZ",null,null,null,null,null,null,null,null,"    773405 OPERADOR DE MAQUINA BORDATRIZ",null,null,null,null,null,null,null,null,null,null,null,"    773355 TORNEIRO NA USINAGEM CONVENCIONAL DE MADEIRA"]
["    773410 OPERADOR DE MAQUINA DE CORTINA D´AGUA (PRODUCAO DE MOVEIS)",null,null,null,null,null,null,null,null,"    773410 OPERADOR DE MAQUINA DE CORTINA D´AGUA (PRODUCAO DE MOVEIS)",null,null,null,null,null,null,null,null,null,null,null,"    773405 OPERADOR DE MAQUINA BORDATRIZ"]
["    773415 OPERADOR DE MAQUINA DE USINAGEM DE MADEIRA (PRODUCAO EM SERIE)",null,null,null,null,null,null,null,null,"    773415 OPERADOR DE MAQUINA DE USINAGEM DE MADEIRA (PRODUCAO EM SERIE)",null,null,null,null,null,null,null,null,null,null,null,"    773410 OPERADOR DE MAQUINA DE CORTINA D´AGUA (PRODUCAO DE MOVEIS)"]
["    773420 OPERADOR DE PRENSA DE ALTA FREQUENCIA NA USINAGEM DE MADEIRA",null,null,null,null,null,null,null,null,"    773420 OPERADOR DE PRENSA DE ALTA FREQUENCIA NA USINAGEM DE MADEIRA",null,null,null,null,null,null,null,null,null,null,null,"    773415 OPERADOR DE MAQUINA DE USINAGEM DE MADEIRA (PRODUCAO EM SERIE)"]
["    773505 OPERADOR DE CENTRO DE USINAGEM DE MADEIRA (CNC)",null,null,null,null,null,null,null,null,"    773505 OPERADOR DE CENTRO DE USINAGEM DE MADEIRA (CNC)",null,null,null,null,null,null,null,null,null,null,null,"    773420 OPERADOR DE PRENSA DE ALTA FREQUENCIA NA USINAGEM DE MADEIRA"]
["    773510 OPERADOR DE MAQUINAS DE USINAR MADEIRA (CNC)",null,null,null,null,null,null,null,null,"    773510 OPERADOR DE MAQUINAS DE USINAR MADEIRA (CNC)",null,null,null,null,null,null,null,null,null,null,null,"    773505 OPERADOR DE CENTRO DE USINAGEM DE MADEIRA (CNC)"]
["    774105 MONTADOR DE MOVEIS E ARTEFATOS DE MADEIRA",null,null,null,null,null,null,null,null,"    774105 MONTADOR DE MOVEIS E ARTEFATOS DE MADEIRA",null,null,null,null,null,null,null,null,null,null,null,"    773510 OPERADOR DE MAQUINAS DE USINAR MADEIRA (CNC)"]
["    775105 ENTALHADOR DE MADEIRA|775110 FOLHEADOR DE MOVEIS DE MADEIRA",null,null,null,null,null,null,null,null,"    775105 ENTALHADOR DE MADEIRA|775110 FOLHEADOR DE MOVEIS DE MADEIRA",null,null,null,null,null,null,null,null,null,null,null,"    774105 MONTADOR DE MOVEIS E ARTEFATOS DE MADEIRA"]
["    775115 LUSTRADOR DE PECAS DE MADEIRA|775120 MARCHETEIRO|776405 CESTEIRO",null,null,null,null,null,null,null,null,"    775115 LUSTRADOR DE PECAS DE MADEIRA|775120 MARCHETEIRO|776405 CESTEIRO",null,null,null,null,null,null,null,null,null,null,null,"    775105 ENTALHADOR DE MADEIRA|775110 FOLHEADOR DE MOVEIS DE MADEIRA"]
["    776410 CONFECCIONADOR DE ESCOVAS, PINCEIS E PRODUTOS SIMILARES (A MAO)",null,null,null,null,null,null,null,null,"    776410 CONFECCIONADOR DE ESCOVAS, PINCEIS E PRODUTOS SIMILARES (A MAO)",null,null,null,null,null,null,null,null,null,null,null,"    775115 LUSTRADOR DE PECAS DE MADEIRA|775120 MARCHETEIRO|776405 CESTEIRO"]
["    776415 CONFECCIONADOR DE ESCOVAS, PINCEIS E PRODUTOS SIMILARES (A MAQUINA)",null,null,null,null,null,null,null,null,"    776415 CONFECCIONADOR DE ESCOVAS, PINCEIS E PRODUTOS SIMILARES (A MAQUINA)",null,null,null,null,null,null,null,null,null,null,null,"    776410 CONFECCIONADOR DE ESCOVAS, PINCEIS E PRODUTOS SIMILARES (A MAO)"]
["    776420 CONFECCIONADOR DE MOVEIS DE VIME, JUNCO E BAMBU|776425 ESTEIREIRO",null,null,null,null,null,null,null,null,"    776420 CONFECCIONADOR DE MOVEIS DE VIME, JUNCO E BAMBU|776425 ESTEIREIRO",null,null,null,null,null,null,null,null,null,null,null,"    776415 CONFECCIONADOR DE ESCOVAS, PINCEIS E PRODUTOS SIMILARES (A MAQUINA)"]
["    776430 VASSOUREIRO",null,null,null,null,null,null,null,null,"    776430 VASSOUREIRO",null,null,null,null,null,null,null,null,null,null,null,"    776420 CONFECCIONADOR DE MOVEIS DE VIME, JUNCO E BAMBU|776425 ESTEIREIRO"]
["    777105 CARPINTEIRO NAVAL (CONSTRUCAO DE PEQUENAS EMBARCACOES)",null,null,null,null,null,null,null,null,"    777105 CARPINTEIRO NAVAL (CONSTRUCAO DE PEQUENAS EMBARCACOES)",null,null,null,null,null,null,null,null,null,null,null,"    776430 VASSOUREIRO"]
["    777110 CARPINTEIRO NAVAL (EMBARCACOES)|777115 CARPINTEIRO NAVAL (ESTALEIROS)",null,null,null,null,null,null,null,null,"    777110 CARPINTEIRO NAVAL (EMBARCACOES)|777115 CARPINTEIRO NAVAL (ESTALEIROS)",null,null,null,null,null,null,null,null,null,null,null,"    777105 CARPINTEIRO NAVAL (CONSTRUCAO DE PEQUENAS EMBARCACOES)"]
["    777205 CARPINTEIRO DE CARRETAS|777210 CARPINTEIRO DE CARROCERIAS",null,null,null,null,null,null,null,null,"    777205 CARPINTEIRO DE CARRETAS|777210 CARPINTEIRO DE CARROCERIAS",null,null,null,null,null,null,null,null,null,null,null,"    777110 CARPINTEIRO NAVAL (EMBARCACOES)|777115 CARPINTEIRO NAVAL (ESTALEIROS)"]
["    780105 SUPERVISOR DE EMBALAGEM E ETIQUETAGEM",null,null,null,null,null,null,null,null,"    780105 SUPERVISOR DE EMBALAGEM E ETIQUETAGEM",null,null,null,null,null,null,null,null,null,null,null,"    777205 CARPINTEIRO DE CARRETAS|777210 CARPINTEIRO DE CARROCERIAS"]
["    781105 CONDUTOR DE PROCESSOS ROBOTIZADOS DE PINTURA",null,null,null,null,null,null,null,null,"    781105 CONDUTOR DE PROCESSOS ROBOTIZADOS DE PINTURA",null,null,null,null,null,null,null,null,null,null,null,"    780105 SUPERVISOR DE EMBALAGEM E ETIQUETAGEM"]
["    781110 CONDUTOR DE PROCESSOS ROBOTIZADOS DE SOLDAGEM",null,null,null,null,null,null,null,null,"    781110 CONDUTOR DE PROCESSOS ROBOTIZADOS DE SOLDAGEM",null,null,null,null,null,null,null,null,null,null,null,"    781105 CONDUTOR DE PROCESSOS ROBOTIZADOS DE PINTURA"]
["    781305 OPERADOR DE VEICULOS SUBAQUATICOS CONTROLADOS REMOTAMENTE",null,null,null,null,null,null,null,null,"    781305 OPERADOR DE VEICULOS SUBAQUATICOS CONTROLADOS REMOTAMENTE",null,null,null,null,null,null,null,null,null,null,null,"    781110 CONDUTOR DE PROCESSOS ROBOTIZADOS DE SOLDAGEM"]
["    781705 MERGULHADOR PROFISSIONAL (RASO E PROFUNDO)|782105 OPERADOR DE DRAGA",null,null,null,null,null,null,null,null,"    781705 MERGULHADOR PROFISSIONAL (RASO E PROFUNDO)|782105 OPERADOR DE DRAGA",null,null,null,null,null,null,null,null,null,null,null,"    781305 OPERADOR DE VEICULOS SUBAQUATICOS CONTROLADOS REMOTAMENTE"]
["    782110 OPERADOR DE GUINDASTE (FIXO)|782115 OPERADOR DE GUINDASTE MOVEL",null,null,null,null,null,null,null,null,"    782110 OPERADOR DE GUINDASTE (FIXO)|782115 OPERADOR DE GUINDASTE MOVEL",null,null,null,null,null,null,null,null,null,null,null,"    781705 MERGULHADOR PROFISSIONAL (RASO E PROFUNDO)|782105 OPERADOR DE DRAGA"]
["    782120 OPERADOR DE MAQUINA RODOFERROVIARIA",null,null,null,null,null,null,null,null,"    782120 OPERADOR DE MAQUINA RODOFERROVIARIA",null,null,null,null,null,null,null,null,null,null,null,"    782110 OPERADOR DE GUINDASTE (FIXO)|782115 OPERADOR DE GUINDASTE MOVEL"]
["    782125 OPERADOR DE MONTA-CARGAS (CONSTRUCAO CIVIL)",null,null,null,null,null,null,null,null,"    782125 OPERADOR DE MONTA-CARGAS (CONSTRUCAO CIVIL)",null,null,null,null,null,null,null,null,null,null,null,"    782120 OPERADOR DE MAQUINA RODOFERROVIARIA"]
["    782130 OPERADOR DE PONTE ROLANTE|782135 OPERADOR DE PORTICO ROLANTE",null,null,null,null,null,null,null,null,"    782130 OPERADOR DE PONTE ROLANTE|782135 OPERADOR DE PORTICO ROLANTE",null,null,null,null,null,null,null,null,null,null,null,"    782125 OPERADOR DE MONTA-CARGAS (CONSTRUCAO CIVIL)"]
["    782140 OPERADOR DE TALHA ELETRICA|782145 SINALEIRO (PONTE-ROLANTE)",null,null,null,null,null,null,null,null,"    782140 OPERADOR DE TALHA ELETRICA|782145 SINALEIRO (PONTE-ROLANTE)",null,null,null,null,null,null,null,null,null,null,null,"    782130 OPERADOR DE PONTE ROLANTE|782135 OPERADOR DE PORTICO ROLANTE"]
["    782205 GUINCHEIRO (CONSTRUCAO CIVIL)|782210 OPERADOR DE DOCAGEM",null,null,null,null,null,null,null,null,"    782205 GUINCHEIRO (CONSTRUCAO CIVIL)|782210 OPERADOR DE DOCAGEM",null,null,null,null,null,null,null,null,null,null,null,"    782140 OPERADOR DE TALHA ELETRICA|782145 SINALEIRO (PONTE-ROLANTE)"]
["    782220 OPERADOR DE EMPILHADEIRA|782305 MOTORISTA DE CARRO DE PASSEIO",null,null,null,null,null,null,null,null,"    782220 OPERADOR DE EMPILHADEIRA|782305 MOTORISTA DE CARRO DE PASSEIO",null,null,null,null,null,null,null,null,null,null,null,"    782205 GUINCHEIRO (CONSTRUCAO CIVIL)|782210 OPERADOR DE DOCAGEM"]
["    782310 MOTORISTA DE FURGAO OU VEICULO SIMILAR|782315 MOTORISTA DE TAXI",null,null,null,null,null,null,null,null,"    782310 MOTORISTA DE FURGAO OU VEICULO SIMILAR|782315 MOTORISTA DE TAXI",null,null,null,null,null,null,null,null,null,null,null,"    782220 OPERADOR DE EMPILHADEIRA|782305 MOTORISTA DE CARRO DE PASSEIO"]
["    782405 MOTORISTA DE ONIBUS RODOVIARIO|782410 MOTORISTA DE ONIBUS URBANO",null,null,null,null,null,null,null,null,"    782405 MOTORISTA DE ONIBUS RODOVIARIO|782410 MOTORISTA DE ONIBUS URBANO",null,null,null,null,null,null,null,null,null,null,null,"    782310 MOTORISTA DE FURGAO OU VEICULO SIMILAR|782315 MOTORISTA DE TAXI"]
["    782415 MOTORISTA DE TROLEBUS",null,null,null,null,null,null,null,null,"    782415 MOTORISTA DE TROLEBUS",null,null,null,null,null,null,null,null,null,null,null,"    782405 MOTORISTA DE ONIBUS RODOVIARIO|782410 MOTORISTA DE ONIBUS URBANO"]
["    782505 CAMINHONEIRO AUTONOMO (ROTAS REGIONAIS E INTERNACIONAIS)",null,null,null,null,null,null,null,null,"    782505 CAMINHONEIRO AUTONOMO (ROTAS REGIONAIS E INTERNACIONAIS)",null,null,null,null,null,null,null,null,null,null,null,"    782415 MOTORISTA DE TROLEBUS"]
["    782510 MOTORISTA DE CAMINHAO (ROTAS REGIONAIS E INTERNACIONAIS)",null,null,null,null,null,null,null,null,"    782510 MOTORISTA DE CAMINHAO (ROTAS REGIONAIS E INTERNACIONAIS)",null,null,null,null,null,null,null,null,null,null,null,"    782505 CAMINHONEIRO AUTONOMO (ROTAS REGIONAIS E INTERNACIONAIS)"]
["    782515 MOTORISTA OPERACIONAL DE GUINCHO|782605 OPERADOR DE TREM DE METRO",null,null,null,null,null,null,null,null,"    782515 MOTORISTA OPERACIONAL DE GUINCHO|782605 OPERADOR DE TREM DE METRO",null,null,null,null,null,null,null,null,null,null,null,"    782510 MOTORISTA DE CAMINHAO (ROTAS REGIONAIS E INTERNACIONAIS)"]
["    782610 MAQUINISTA DE TREM|782615 MAQUINISTA DE TREM METROPOLITANO",null,null,null,null,null,null,null,null,"    782610 MAQUINISTA DE TREM|782615 MAQUINISTA DE TREM METROPOLITANO",null,null,null,null,null,null,null,null,null,null,null,"    782515 MOTORISTA OPERACIONAL DE GUINCHO|782605 OPERADOR DE TREM DE METRO"]
["    782620 MOTORNEIRO|782625 AUXILIAR DE MAQUINISTA DE TREM",null,null,null,null,null,null,null,null,"    782620 MOTORNEIRO|782625 AUXILIAR DE MAQUINISTA DE TREM",null,null,null,null,null,null,null,null,null,null,null,"    782610 MAQUINISTA DE TREM|782615 MAQUINISTA DE TREM METROPOLITANO"]
["    782630 OPERADOR DE TELEFERICO (PASSAGEIROS)",null,null,null,null,null,null,null,null,"    782630 OPERADOR DE TELEFERICO (PASSAGEIROS)",null,null,null,null,null,null,null,null,null,null,null,"    782620 MOTORNEIRO|782625 AUXILIAR DE MAQUINISTA DE TREM"]
["    782705 MARINHEIRO DE CONVES (MARITIMO E FLUVIARIO)",null,null,null,null,null,null,null,null,"    782705 MARINHEIRO DE CONVES (MARITIMO E FLUVIARIO)",null,null,null,null,null,null,null,null,null,null,null,"    782630 OPERADOR DE TELEFERICO (PASSAGEIROS)"]
["    782710 MARINHEIRO DE MAQUINAS|782715 MOCO DE CONVES (MARITIMO E FLUVIARIO)",null,null,null,null,null,null,null,null,"    782710 MARINHEIRO DE MAQUINAS|782715 MOCO DE CONVES (MARITIMO E FLUVIARIO)",null,null,null,null,null,null,null,null,null,null,null,"    782705 MARINHEIRO DE CONVES (MARITIMO E FLUVIARIO)"]
["    782720 MOCO DE MAQUINAS (MARITIMO E FLUVIARIO)",null,null,null,null,null,null,null,null,"    782720 MOCO DE MAQUINAS (MARITIMO E FLUVIARIO)",null,null,null,null,null,null,null,null,null,null,null,"    782710 MARINHEIRO DE MAQUINAS|782715 MOCO DE CONVES (MARITIMO E FLUVIARIO)"]
["    782805 CONDUTOR DE VEICULOS DE TRACAO ANIMAL (RUAS E ESTRADAS)",null,null,null,null,null,null,null,null,"    782805 CONDUTOR DE VEICULOS DE TRACAO ANIMAL (RUAS E ESTRADAS)",null,null,null,null,null,null,null,null,null,null,null,"    782720 MOCO DE MAQUINAS (MARITIMO E FLUVIARIO)"]
["    782810 TROPEIRO|782815 BOIADEIRO|782820 CONDUTOR DE VEICULOS A PEDAIS",null,null,null,null,null,null,null,null,"    782810 TROPEIRO|782815 BOIADEIRO|782820 CONDUTOR DE VEICULOS A PEDAIS",null,null,null,null,null,null,null,null,null,null,null,"    782805 CONDUTOR DE VEICULOS DE TRACAO ANIMAL (RUAS E ESTRADAS)"]
["    783105 AGENTE DE PATIO|783110 MANOBRADOR|783205 CARREGADOR (AERONAVES)",null,null,null,null,null,null,null,null,"    783105 AGENTE DE PATIO|783110 MANOBRADOR|783205 CARREGADOR (AERONAVES)",null,null,null,null,null,null,null,null,null,null,null,"    782810 TROPEIRO|782815 BOIADEIRO|782820 CONDUTOR DE VEICULOS A PEDAIS"]
["    783210 CARREGADOR (ARMAZEM)",null,null,null,null,null,null,null,null,"    783210 CARREGADOR (ARMAZEM)",null,null,null,null,null,null,null,null,null,null,null,"    783105 AGENTE DE PATIO|783110 MANOBRADOR|783205 CARREGADOR (AERONAVES)"]
["    783215 CARREGADOR (VEICULOS DE TRANSPORTES TERRESTRES)|783220 ESTIVADOR",null,null,null,null,null,null,null,null,"    783215 CARREGADOR (VEICULOS DE TRANSPORTES TERRESTRES)|783220 ESTIVADOR",null,null,null,null,null,null,null,null,null,null,null,"    783210 CARREGADOR (ARMAZEM)"]
["    783225 AJUDANTE DE MOTORISTA|784105 EMBALADOR, A MAO",null,null,null,null,null,null,null,null,"    783225 AJUDANTE DE MOTORISTA|784105 EMBALADOR, A MAO",null,null,null,null,null,null,null,null,null,null,null,"    783215 CARREGADOR (VEICULOS DE TRANSPORTES TERRESTRES)|783220 ESTIVADOR"]
["    784110 EMBALADOR, A MAQUINA|784115 OPERADOR DE MAQUINA DE ETIQUETAR",null,null,null,null,null,null,null,null,"    784110 EMBALADOR, A MAQUINA|784115 OPERADOR DE MAQUINA DE ETIQUETAR",null,null,null,null,null,null,null,null,null,null,null,"    783225 AJUDANTE DE MOTORISTA|784105 EMBALADOR, A MAO"]
["    784120 OPERADOR DE MAQUINA DE ENVASAR LIQUIDOS",null,null,null,null,null,null,null,null,"    784120 OPERADOR DE MAQUINA DE ENVASAR LIQUIDOS",null,null,null,null,null,null,null,null,null,null,null,"    784110 EMBALADOR, A MAQUINA|784115 OPERADOR DE MAQUINA DE ETIQUETAR"]
["    784125 OPERADOR DE PRENSA DE ENFARDAMENTO",null,null,null,null,null,null,null,null,"    784125 OPERADOR DE PRENSA DE ENFARDAMENTO",null,null,null,null,null,null,null,null,null,null,null,"    784120 OPERADOR DE MAQUINA DE ENVASAR LIQUIDOS"]
["    784205 ALIMENTADOR DE LINHA DE PRODUCAO",null,null,null,null,null,null,null,null,"    784205 ALIMENTADOR DE LINHA DE PRODUCAO",null,null,null,null,null,null,null,null,null,null,null,"    784125 OPERADOR DE PRENSA DE ENFARDAMENTO"]
["    810105 MESTRE (INDUSTRIA PETROQUIMICA E CARBOQUIMICA)",null,null,null,null,null,null,null,null,"    810105 MESTRE (INDUSTRIA PETROQUIMICA E CARBOQUIMICA)",null,null,null,null,null,null,null,null,null,null,null,"    784205 ALIMENTADOR DE LINHA DE PRODUCAO"]
["    810110 MESTRE DE PRODUCAO QUIMICA",null,null,null,null,null,null,null,null,"    810110 MESTRE DE PRODUCAO QUIMICA",null,null,null,null,null,null,null,null,null,null,null,"    810105 MESTRE (INDUSTRIA PETROQUIMICA E CARBOQUIMICA)"]
["    810205 MESTRE (INDUSTRIA DE BORRACHA E PLASTICO)",null,null,null,null,null,null,null,null,"    810205 MESTRE (INDUSTRIA DE BORRACHA E PLASTICO)",null,null,null,null,null,null,null,null,null,null,null,"    810110 MESTRE DE PRODUCAO QUIMICA"]
["    810305 MESTRE DE PRODUCAO FARMACEUTICA",null,null,null,null,null,null,null,null,"    810305 MESTRE DE PRODUCAO FARMACEUTICA",null,null,null,null,null,null,null,null,null,null,null,"    810205 MESTRE (INDUSTRIA DE BORRACHA E PLASTICO)"]
["    811005 OPERADOR DE PROCESSOS QUIMICOS E PETROQUIMICOS",null,null,null,null,null,null,null,null,"    811005 OPERADOR DE PROCESSOS QUIMICOS E PETROQUIMICOS",null,null,null,null,null,null,null,null,null,null,null,"    810305 MESTRE DE PRODUCAO FARMACEUTICA"]
["    811010 OPERADOR DE SALA DE CONTROLE DE INSTALACOES QUIMICAS, PETROQUIMICAS E AFINS",null,null,null,null,null,null,null,null,"    811010 OPERADOR DE SALA DE CONTROLE DE INSTALACOES QUIMICAS, PETROQUIMICAS E AFINS",null,null,null,null,null,null,null,null,null,null,null,"    811005 OPERADOR DE PROCESSOS QUIMICOS E PETROQUIMICOS"]
["    811105 MOLEIRO (TRATAMENTOS QUIMICOS E AFINS)",null,null,null,null,null,null,null,null,"    811105 MOLEIRO (TRATAMENTOS QUIMICOS E AFINS)",null,null,null,null,null,null,null,null,null,null,null,"    811010 OPERADOR DE SALA DE CONTROLE DE INSTALACOES QUIMICAS, PETROQUIMICAS E AFINS"]
["    811110 OPERADOR DE MAQUINA MISTURADEIRA (TRATAMENTOS QUIMICOS E AFINS)",null,null,null,null,null,null,null,null,"    811110 OPERADOR DE MAQUINA MISTURADEIRA (TRATAMENTOS QUIMICOS E AFINS)",null,null,null,null,null,null,null,null,null,null,null,"    811105 MOLEIRO (TRATAMENTOS QUIMICOS E AFINS)"]
["    811115 OPERADOR DE BRITADEIRA (TRATAMENTOS QUIMICOS E AFINS)",null,null,null,null,null,null,null,null,"    811115 OPERADOR DE BRITADEIRA (TRATAMENTOS QUIMICOS E AFINS)",null,null,null,null,null,null,null,null,null,null,null,"    811110 OPERADOR DE MAQUINA MISTURADEIRA (TRATAMENTOS QUIMICOS E AFINS)"]
["    811120 OPERADOR DE CONCENTRACAO",null,null,null,null,null,null,null,null,"    811120 OPERADOR DE CONCENTRACAO",null,null,null,null,null,null,null,null,null,null,null,"    811115 OPERADOR DE BRITADEIRA (TRATAMENTOS QUIMICOS E AFINS)"]
["    811125 TRABALHADOR DA FABRICACAO DE RESINAS E VERNIZES",null,null,null,null,null,null,null,null,"    811125 TRABALHADOR DA FABRICACAO DE RESINAS E VERNIZES",null,null,null,null,null,null,null,null,null,null,null,"    811120 OPERADOR DE CONCENTRACAO"]
["    768125 CHAPELEIRO (CHAPEUS DE PALHA)",null,null,null,null,null,null,null,null,"    768125 CHAPELEIRO (CHAPEUS DE PALHA)",null,null,null,null,null,null,null,null,null,null,null,"    811125 TRABALHADOR DA FABRICACAO DE RESINAS E VERNIZES"]
["    811130 TRABALHADOR DE FABRICACAO DE TINTAS",null,null,null,null,null,null,null,null,"    811130 TRABALHADOR DE FABRICACAO DE TINTAS",null,null,null,null,null,null,null,null,null,null,null,"    768125 CHAPELEIRO (CHAPEUS DE PALHA)"]
["    811215 OPERADOR DE TRATAMENTO QUIMICO DE MATERIAIS RADIOATIVOS",null,null,null,null,null,null,null,null,"    811215 OPERADOR DE TRATAMENTO QUIMICO DE MATERIAIS RADIOATIVOS",null,null,null,null,null,null,null,null,null,null,null,"    811130 TRABALHADOR DE FABRICACAO DE TINTAS"]
["    811305 OPERADOR DE CENTRIFUGADORA (TRATAMENTOS QUIMICOS E AFINS)",null,null,null,null,null,null,null,null,"    811305 OPERADOR DE CENTRIFUGADORA (TRATAMENTOS QUIMICOS E AFINS)",null,null,null,null,null,null,null,null,null,null,null,"    811215 OPERADOR DE TRATAMENTO QUIMICO DE MATERIAIS RADIOATIVOS"]
["    811310 OPERADOR DE EXPLORACAO DE PETROLEO",null,null,null,null,null,null,null,null,"    811310 OPERADOR DE EXPLORACAO DE PETROLEO",null,null,null,null,null,null,null,null,null,null,null,"    811305 OPERADOR DE CENTRIFUGADORA (TRATAMENTOS QUIMICOS E AFINS)"]
["    811315 OPERADOR DE FILTRO DE SECAGEM (MINERACAO)",null,null,null,null,null,null,null,null,"    811315 OPERADOR DE FILTRO DE SECAGEM (MINERACAO)",null,null,null,null,null,null,null,null,null,null,null,"    811310 OPERADOR DE EXPLORACAO DE PETROLEO"]
["    811320 OPERADOR DE FILTRO DE TAMBOR ROTATIVO (TRATAMENTOS QUIMICOS E AFINS)",null,null,null,null,null,null,null,null,"    811320 OPERADOR DE FILTRO DE TAMBOR ROTATIVO (TRATAMENTOS QUIMICOS E AFINS)",null,null,null,null,null,null,null,null,null,null,null,"    811315 OPERADOR DE FILTRO DE SECAGEM (MINERACAO)"]
["    811325 OPERADOR DE FILTRO-ESTEIRA (MINERACAO)",null,null,null,null,null,null,null,null,"    811325 OPERADOR DE FILTRO-ESTEIRA (MINERACAO)",null,null,null,null,null,null,null,null,null,null,null,"    811320 OPERADOR DE FILTRO DE TAMBOR ROTATIVO (TRATAMENTOS QUIMICOS E AFINS)"]
["    811330 OPERADOR DE FILTRO-PRENSA (TRATAMENTOS QUIMICOS E AFINS)",null,null,null,null,null,null,null,null,"    811330 OPERADOR DE FILTRO-PRENSA (TRATAMENTOS QUIMICOS E AFINS)",null,null,null,null,null,null,null,null,null,null,null,"    811325 OPERADOR DE FILTRO-ESTEIRA (MINERACAO)"]
["    811335 OPERADOR DE FILTROS DE PARAFINA (TRATAMENTOS QUIMICOS E AFINS)",null,null,null,null,null,null,null,null,"    811335 OPERADOR DE FILTROS DE PARAFINA (TRATAMENTOS QUIMICOS E AFINS)",null,null,null,null,null,null,null,null,null,null,null,"    811330 OPERADOR DE FILTRO-PRENSA (TRATAMENTOS QUIMICOS E AFINS)"]
["    811405 DESTILADOR DE MADEIRA",null,null,null,null,null,null,null,null,"    811405 DESTILADOR DE MADEIRA",null,null,null,null,null,null,null,null,null,null,null,"    811335 OPERADOR DE FILTROS DE PARAFINA (TRATAMENTOS QUIMICOS E AFINS)"]
["    811410 DESTILADOR DE PRODUTOS QUIMICOS (EXCETO PETROLEO)",null,null,null,null,null,null,null,null,"    811410 DESTILADOR DE PRODUTOS QUIMICOS (EXCETO PETROLEO)",null,null,null,null,null,null,null,null,null,null,null,"    811405 DESTILADOR DE MADEIRA"]
["    811415 OPERADOR DE ALAMBIQUE DE FUNCIONAMENTO CONTINUO (PRODUTOS QUIMICOS, EXCETO PETROLEO)",null,null,null,null,null,null,null,null,"    811415 OPERADOR DE ALAMBIQUE DE FUNCIONAMENTO CONTINUO (PRODUTOS QUIMICOS, EXCETO PETROLEO)",null,null,null,null,null,null,null,null,null,null,null,"    811410 DESTILADOR DE PRODUTOS QUIMICOS (EXCETO PETROLEO)"]
["    811420 OPERADOR DE APARELHO DE REACAO E CONVERSAO (PRODUTOS QUIMICOS, EXCETO PETROLEO)",null,null,null,null,null,null,null,null,"    811420 OPERADOR DE APARELHO DE REACAO E CONVERSAO (PRODUTOS QUIMICOS, EXCETO PETROLEO)",null,null,null,null,null,null,null,null,null,null,null,"    811415 OPERADOR DE ALAMBIQUE DE FUNCIONAMENTO CONTINUO (PRODUTOS QUIMICOS, EXCETO PETROLEO)"]
["    811425 OPERADOR DE EQUIPAMENTO DE DESTILACAO DE ALCOOL",null,null,null,null,null,null,null,null,"    811425 OPERADOR DE EQUIPAMENTO DE DESTILACAO DE ALCOOL",null,null,null,null,null,null,null,null,null,null,null,"    811420 OPERADOR DE APARELHO DE REACAO E CONVERSAO (PRODUTOS QUIMICOS, EXCETO PETROLEO)"]
["    811430 OPERADOR DE EVAPORADOR NA DESTILACAO",null,null,null,null,null,null,null,null,"    811430 OPERADOR DE EVAPORADOR NA DESTILACAO",null,null,null,null,null,null,null,null,null,null,null,"    811425 OPERADOR DE EQUIPAMENTO DE DESTILACAO DE ALCOOL"]
["    811505 OPERADOR DE PAINEL DE CONTROLE (REFINACAO DE PETROLEO)",null,null,null,null,null,null,null,null,"    811505 OPERADOR DE PAINEL DE CONTROLE (REFINACAO DE PETROLEO)",null,null,null,null,null,null,null,null,null,null,null,"    811430 OPERADOR DE EVAPORADOR NA DESTILACAO"]
["    861205 OPERADOR DE SUBESTACAO",null,null,null,null,null,null,null,null,"    861205 OPERADOR DE SUBESTACAO",null,null,null,null,null,null,null,null,null,null,null,"    811505 OPERADOR DE PAINEL DE CONTROLE (REFINACAO DE PETROLEO)"]
["    811510 OPERADOR DE TRANSFERENCIA E ESTOCAGEM - NA REFINACAO DO PETROLEO",null,null,null,null,null,null,null,null,"    811510 OPERADOR DE TRANSFERENCIA E ESTOCAGEM - NA REFINACAO DO PETROLEO",null,null,null,null,null,null,null,null,null,null,null,"    861205 OPERADOR DE SUBESTACAO"]
["    811605 OPERADOR DE BRITADOR DE COQUE",null,null,null,null,null,null,null,null,"    811605 OPERADOR DE BRITADOR DE COQUE",null,null,null,null,null,null,null,null,null,null,null,"    811510 OPERADOR DE TRANSFERENCIA E ESTOCAGEM - NA REFINACAO DO PETROLEO"]
["    811610 OPERADOR DE CARRO DE APAGAMENTO E COQUE",null,null,null,null,null,null,null,null,"    811610 OPERADOR DE CARRO DE APAGAMENTO E COQUE",null,null,null,null,null,null,null,null,null,null,null,"    811605 OPERADOR DE BRITADOR DE COQUE"]
["    811615 OPERADOR DE DESTILACAO E SUBPRODUTOS DE COQUE",null,null,null,null,null,null,null,null,"    811615 OPERADOR DE DESTILACAO E SUBPRODUTOS DE COQUE",null,null,null,null,null,null,null,null,null,null,null,"    811610 OPERADOR DE CARRO DE APAGAMENTO E COQUE"]
["    811620 OPERADOR DE ENFORNAMENTO E DESENFORNAMENTO DE COQUE",null,null,null,null,null,null,null,null,"    811620 OPERADOR DE ENFORNAMENTO E DESENFORNAMENTO DE COQUE",null,null,null,null,null,null,null,null,null,null,null,"    811615 OPERADOR DE DESTILACAO E SUBPRODUTOS DE COQUE"]
["    811625 OPERADOR DE EXAUSTOR (COQUERIA)|811630 OPERADOR DE PAINEL DE CONTROLE",null,null,null,null,null,null,null,null,"    811625 OPERADOR DE EXAUSTOR (COQUERIA)|811630 OPERADOR DE PAINEL DE CONTROLE",null,null,null,null,null,null,null,null,null,null,null,"    811620 OPERADOR DE ENFORNAMENTO E DESENFORNAMENTO DE COQUE"]
["    811635 OPERADOR DE PRESERVACAO E CONTROLE TERMICO",null,null,null,null,null,null,null,null,"    811635 OPERADOR DE PRESERVACAO E CONTROLE TERMICO",null,null,null,null,null,null,null,null,null,null,null,"    811625 OPERADOR DE EXAUSTOR (COQUERIA)|811630 OPERADOR DE PAINEL DE CONTROLE"]
["    811640 OPERADOR DE REATOR DE COQUE DE PETROLEO",null,null,null,null,null,null,null,null,"    811640 OPERADOR DE REATOR DE COQUE DE PETROLEO",null,null,null,null,null,null,null,null,null,null,null,"    811635 OPERADOR DE PRESERVACAO E CONTROLE TERMICO"]
["    811645 OPERADOR DE REFRIGERACAO (COQUERIA)",null,null,null,null,null,null,null,null,"    811645 OPERADOR DE REFRIGERACAO (COQUERIA)",null,null,null,null,null,null,null,null,null,null,null,"    811640 OPERADOR DE REATOR DE COQUE DE PETROLEO"]
["    811650 OPERADOR DE SISTEMA DE REVERSAO (COQUERIA)|811705 BAMBURISTA",null,null,null,null,null,null,null,null,"    811650 OPERADOR DE SISTEMA DE REVERSAO (COQUERIA)|811705 BAMBURISTA",null,null,null,null,null,null,null,null,null,null,null,"    811645 OPERADOR DE REFRIGERACAO (COQUERIA)"]
["    811710 CALANDRISTA DE BORRACHA|811715 CONFECCIONADOR DE PNEUMATICOS",null,null,null,null,null,null,null,null,"    811710 CALANDRISTA DE BORRACHA|811715 CONFECCIONADOR DE PNEUMATICOS",null,null,null,null,null,null,null,null,null,null,null,"    811650 OPERADOR DE SISTEMA DE REVERSAO (COQUERIA)|811705 BAMBURISTA"]
["    811725 CONFECCIONADOR DE VELAS POR IMERSAO",null,null,null,null,null,null,null,null,"    811725 CONFECCIONADOR DE VELAS POR IMERSAO",null,null,null,null,null,null,null,null,null,null,null,"    811710 CALANDRISTA DE BORRACHA|811715 CONFECCIONADOR DE PNEUMATICOS"]
["    811735 CONFECCIONADOR DE VELAS POR MOLDAGEM|811745 LAMINADOR DE PLASTICO",null,null,null,null,null,null,null,null,"    811735 CONFECCIONADOR DE VELAS POR MOLDAGEM|811745 LAMINADOR DE PLASTICO",null,null,null,null,null,null,null,null,null,null,null,"    811725 CONFECCIONADOR DE VELAS POR IMERSAO"]
["    811750 MOLDADOR DE BORRACHA POR COMPRESSAO",null,null,null,null,null,null,null,null,"    811750 MOLDADOR DE BORRACHA POR COMPRESSAO",null,null,null,null,null,null,null,null,null,null,null,"    811735 CONFECCIONADOR DE VELAS POR MOLDAGEM|811745 LAMINADOR DE PLASTICO"]
["    811760 MOLDADOR DE PLASTICO POR COMPRESSAO",null,null,null,null,null,null,null,null,"    811760 MOLDADOR DE PLASTICO POR COMPRESSAO",null,null,null,null,null,null,null,null,null,null,null,"    811750 MOLDADOR DE BORRACHA POR COMPRESSAO"]
["    811770 MOLDADOR DE PLASTICO POR INJECAO|811775 TREFILADOR DE BORRACHA",null,null,null,null,null,null,null,null,"    811770 MOLDADOR DE PLASTICO POR INJECAO|811775 TREFILADOR DE BORRACHA",null,null,null,null,null,null,null,null,null,null,null,"    811760 MOLDADOR DE PLASTICO POR COMPRESSAO"]
["    811805 OPERADOR DE MAQUINA DE PRODUTOS FARMACEUTICOS",null,null,null,null,null,null,null,null,"    811805 OPERADOR DE MAQUINA DE PRODUTOS FARMACEUTICOS",null,null,null,null,null,null,null,null,null,null,null,"    811770 MOLDADOR DE PLASTICO POR INJECAO|811775 TREFILADOR DE BORRACHA"]
["    811810 DRAGEADOR (MEDICAMENTOS)",null,null,null,null,null,null,null,null,"    811810 DRAGEADOR (MEDICAMENTOS)",null,null,null,null,null,null,null,null,null,null,null,"    811805 OPERADOR DE MAQUINA DE PRODUTOS FARMACEUTICOS"]
["    811815 OPERADOR DE MAQUINA DE FABRICACAO DE COSMETICOS",null,null,null,null,null,null,null,null,"    811815 OPERADOR DE MAQUINA DE FABRICACAO DE COSMETICOS",null,null,null,null,null,null,null,null,null,null,null,"    811810 DRAGEADOR (MEDICAMENTOS)"]
["    811820 OPERADOR DE MAQUINA DE FABRICACAO DE PRODUTOS DE HIGIENE E LIMPEZA (SABAO, SABONETE, DETERGENTE, ABS",null,null,null,null,null,null,null,null,"    811820 OPERADOR DE MAQUINA DE FABRICACAO DE PRODUTOS DE HIGIENE E LIMPEZA (SABAO, SABONETE, DETERGENTE, ABS",null,null,null,null,null,null,null,null,null,null,null,"    811815 OPERADOR DE MAQUINA DE FABRICACAO DE COSMETICOS"]
["    812105 PIROTECNICO|812110 TRABALHADOR DA FABRICACAO DE MUNICAO E EXPLOSIVOS",null,null,null,null,null,null,null,null,"    812105 PIROTECNICO|812110 TRABALHADOR DA FABRICACAO DE MUNICAO E EXPLOSIVOS",null,null,null,null,null,null,null,null,null,null,null,"    811820 OPERADOR DE MAQUINA DE FABRICACAO DE PRODUTOS DE HIGIENE E LIMPEZA (SABAO, SABONETE, DETERGENTE, ABS"]
["    813105 CILINDRISTA (PETROQUIMICA E AFINS)",null,null,null,null,null,null,null,null,"    813105 CILINDRISTA (PETROQUIMICA E AFINS)",null,null,null,null,null,null,null,null,null,null,null,"    812105 PIROTECNICO|812110 TRABALHADOR DA FABRICACAO DE MUNICAO E EXPLOSIVOS"]
["    813110 OPERADOR DE CALANDRA (QUIMICA, PETROQUIMICA E AFINS)",null,null,null,null,null,null,null,null,"    813110 OPERADOR DE CALANDRA (QUIMICA, PETROQUIMICA E AFINS)",null,null,null,null,null,null,null,null,null,null,null,"    813105 CILINDRISTA (PETROQUIMICA E AFINS)"]
["    813115 OPERADOR DE EXTRUSORA (QUIMICA, PETROQUIMICA E AFINS)",null,null,null,null,null,null,null,null,"    813115 OPERADOR DE EXTRUSORA (QUIMICA, PETROQUIMICA E AFINS)",null,null,null,null,null,null,null,null,null,null,null,"    813110 OPERADOR DE CALANDRA (QUIMICA, PETROQUIMICA E AFINS)"]
["    813120 OPERADOR DE PROCESSO (QUIMICA, PETROQUIMICA E AFINS)",null,null,null,null,null,null,null,null,"    813120 OPERADOR DE PROCESSO (QUIMICA, PETROQUIMICA E AFINS)",null,null,null,null,null,null,null,null,null,null,null,"    813115 OPERADOR DE EXTRUSORA (QUIMICA, PETROQUIMICA E AFINS)"]
["    813125 OPERADOR DE PRODUCAO (QUIMICA, PETROQUIMICA E AFINS)",null,null,null,null,null,null,null,null,"    813125 OPERADOR DE PRODUCAO (QUIMICA, PETROQUIMICA E AFINS)",null,null,null,null,null,null,null,null,null,null,null,"    813120 OPERADOR DE PROCESSO (QUIMICA, PETROQUIMICA E AFINS)"]
["    813130 TECNICO DE OPERACAO (QUIMICA, PETROQUIMICA E AFINS)",null,null,null,null,null,null,null,null,"    813130 TECNICO DE OPERACAO (QUIMICA, PETROQUIMICA E AFINS)",null,null,null,null,null,null,null,null,null,null,null,"    813125 OPERADOR DE PRODUCAO (QUIMICA, PETROQUIMICA E AFINS)"]
["    818105 ASSISTENTE DE LABORATORIO INDUSTRIAL",null,null,null,null,null,null,null,null,"    818105 ASSISTENTE DE LABORATORIO INDUSTRIAL",null,null,null,null,null,null,null,null,null,null,null,"    813130 TECNICO DE OPERACAO (QUIMICA, PETROQUIMICA E AFINS)"]
["    818110 AUXILIAR DE LABORATORIO DE ANALISES FISICO-QUIMICAS",null,null,null,null,null,null,null,null,"    818110 AUXILIAR DE LABORATORIO DE ANALISES FISICO-QUIMICAS",null,null,null,null,null,null,null,null,null,null,null,"    818105 ASSISTENTE DE LABORATORIO INDUSTRIAL"]
["    820105 MESTRE DE SIDERURGIA|820110 MESTRE DE ACIARIA",null,null,null,null,null,null,null,null,"    820105 MESTRE DE SIDERURGIA|820110 MESTRE DE ACIARIA",null,null,null,null,null,null,null,null,null,null,null,"    818110 AUXILIAR DE LABORATORIO DE ANALISES FISICO-QUIMICAS"]
["    820115 MESTRE DE ALTO-FORNO|820120 MESTRE DE FORNO ELETRICO",null,null,null,null,null,null,null,null,"    820115 MESTRE DE ALTO-FORNO|820120 MESTRE DE FORNO ELETRICO",null,null,null,null,null,null,null,null,null,null,null,"    820105 MESTRE DE SIDERURGIA|820110 MESTRE DE ACIARIA"]
["    820125 MESTRE DE LAMINACAO",null,null,null,null,null,null,null,null,"    820125 MESTRE DE LAMINACAO",null,null,null,null,null,null,null,null,null,null,null,"    820115 MESTRE DE ALTO-FORNO|820120 MESTRE DE FORNO ELETRICO"]
["    820205 SUPERVISOR DE FABRICACAO DE PRODUTOS CERAMICOS, PORCELANATOS E AFINS",null,null,null,null,null,null,null,null,"    820205 SUPERVISOR DE FABRICACAO DE PRODUTOS CERAMICOS, PORCELANATOS E AFINS",null,null,null,null,null,null,null,null,null,null,null,"    820125 MESTRE DE LAMINACAO"]
["    820210 SUPERVISOR DE FABRICACAO DE PRODUTOS DE VIDRO",null,null,null,null,null,null,null,null,"    820210 SUPERVISOR DE FABRICACAO DE PRODUTOS DE VIDRO",null,null,null,null,null,null,null,null,null,null,null,"    820205 SUPERVISOR DE FABRICACAO DE PRODUTOS CERAMICOS, PORCELANATOS E AFINS"]
["    821105 OPERADOR DE CENTRO DE CONTROLE",null,null,null,null,null,null,null,null,"    821105 OPERADOR DE CENTRO DE CONTROLE",null,null,null,null,null,null,null,null,null,null,null,"    820210 SUPERVISOR DE FABRICACAO DE PRODUTOS DE VIDRO"]
["    821110 OPERADOR DE MAQUINA DE SINTERIZAR",null,null,null,null,null,null,null,null,"    821110 OPERADOR DE MAQUINA DE SINTERIZAR",null,null,null,null,null,null,null,null,null,null,null,"    821105 OPERADOR DE CENTRO DE CONTROLE"]
["    821205 FORNEIRO E OPERADOR (ALTO-FORNO)",null,null,null,null,null,null,null,null,"    821205 FORNEIRO E OPERADOR (ALTO-FORNO)",null,null,null,null,null,null,null,null,null,null,null,"    821110 OPERADOR DE MAQUINA DE SINTERIZAR"]
["    821210 FORNEIRO E OPERADOR (CONVERSOR A OXIGENIO)",null,null,null,null,null,null,null,null,"    821210 FORNEIRO E OPERADOR (CONVERSOR A OXIGENIO)",null,null,null,null,null,null,null,null,null,null,null,"    821205 FORNEIRO E OPERADOR (ALTO-FORNO)"]
["    821215 FORNEIRO E OPERADOR (FORNO ELETRICO)",null,null,null,null,null,null,null,null,"    821215 FORNEIRO E OPERADOR (FORNO ELETRICO)",null,null,null,null,null,null,null,null,null,null,null,"    821210 FORNEIRO E OPERADOR (CONVERSOR A OXIGENIO)"]
["    821220 FORNEIRO E OPERADOR (REFINO DE METAIS NAO-FERROSOS)",null,null,null,null,null,null,null,null,"    821220 FORNEIRO E OPERADOR (REFINO DE METAIS NAO-FERROSOS)",null,null,null,null,null,null,null,null,null,null,null,"    821215 FORNEIRO E OPERADOR (FORNO ELETRICO)"]
["    821225 FORNEIRO E OPERADOR DE FORNO DE REDUCAO DIRETA",null,null,null,null,null,null,null,null,"    821225 FORNEIRO E OPERADOR DE FORNO DE REDUCAO DIRETA",null,null,null,null,null,null,null,null,null,null,null,"    821220 FORNEIRO E OPERADOR (REFINO DE METAIS NAO-FERROSOS)"]
["    821230 OPERADOR DE ACIARIA (BASCULAMENTO DE CONVERTEDOR)",null,null,null,null,null,null,null,null,"    821230 OPERADOR DE ACIARIA (BASCULAMENTO DE CONVERTEDOR)",null,null,null,null,null,null,null,null,null,null,null,"    821225 FORNEIRO E OPERADOR DE FORNO DE REDUCAO DIRETA"]
["    821235 OPERADOR DE ACIARIA (DESSULFURACAO DE GUSA)",null,null,null,null,null,null,null,null,"    821235 OPERADOR DE ACIARIA (DESSULFURACAO DE GUSA)",null,null,null,null,null,null,null,null,null,null,null,"    821230 OPERADOR DE ACIARIA (BASCULAMENTO DE CONVERTEDOR)"]
["    821240 OPERADOR DE ACIARIA (RECEBIMENTO DE GUSA)",null,null,null,null,null,null,null,null,"    821240 OPERADOR DE ACIARIA (RECEBIMENTO DE GUSA)",null,null,null,null,null,null,null,null,null,null,null,"    821235 OPERADOR DE ACIARIA (DESSULFURACAO DE GUSA)"]
["    821245 OPERADOR DE AREA DE CORRIDA|821250 OPERADOR DE DESGASEIFICACAO",null,null,null,null,null,null,null,null,"    821245 OPERADOR DE AREA DE CORRIDA|821250 OPERADOR DE DESGASEIFICACAO",null,null,null,null,null,null,null,null,null,null,null,"    821240 OPERADOR DE ACIARIA (RECEBIMENTO DE GUSA)"]
["    821255 SOPRADOR DE CONVERTEDOR|821305 OPERADOR DE LAMINADOR",null,null,null,null,null,null,null,null,"    821255 SOPRADOR DE CONVERTEDOR|821305 OPERADOR DE LAMINADOR",null,null,null,null,null,null,null,null,null,null,null,"    821245 OPERADOR DE AREA DE CORRIDA|821250 OPERADOR DE DESGASEIFICACAO"]
["    821310 OPERADOR DE LAMINADOR DE BARRAS A FRIO",null,null,null,null,null,null,null,null,"    821310 OPERADOR DE LAMINADOR DE BARRAS A FRIO",null,null,null,null,null,null,null,null,null,null,null,"    821255 SOPRADOR DE CONVERTEDOR|821305 OPERADOR DE LAMINADOR"]
["    821315 OPERADOR DE LAMINADOR DE BARRAS A QUENTE",null,null,null,null,null,null,null,null,"    821315 OPERADOR DE LAMINADOR DE BARRAS A QUENTE",null,null,null,null,null,null,null,null,null,null,null,"    821310 OPERADOR DE LAMINADOR DE BARRAS A FRIO"]
["    821320 OPERADOR DE LAMINADOR DE METAIS NAO-FERROSOS",null,null,null,null,null,null,null,null,"    821320 OPERADOR DE LAMINADOR DE METAIS NAO-FERROSOS",null,null,null,null,null,null,null,null,null,null,null,"    821315 OPERADOR DE LAMINADOR DE BARRAS A QUENTE"]
["    821325 OPERADOR DE LAMINADOR DE TUBOS",null,null,null,null,null,null,null,null,"    821325 OPERADOR DE LAMINADOR DE TUBOS",null,null,null,null,null,null,null,null,null,null,null,"    821320 OPERADOR DE LAMINADOR DE METAIS NAO-FERROSOS"]
["    821330 OPERADOR DE MONTAGEM DE CILINDROS E MANCAIS",null,null,null,null,null,null,null,null,"    821330 OPERADOR DE MONTAGEM DE CILINDROS E MANCAIS",null,null,null,null,null,null,null,null,null,null,null,"    821325 OPERADOR DE LAMINADOR DE TUBOS"]
["    821335 RECUPERADOR DE GUIAS E CILINDROS",null,null,null,null,null,null,null,null,"    821335 RECUPERADOR DE GUIAS E CILINDROS",null,null,null,null,null,null,null,null,null,null,null,"    821330 OPERADOR DE MONTAGEM DE CILINDROS E MANCAIS"]
["    821405 ENCARREGADO DE ACABAMENTO DE CHAPAS E METAIS (TEMPERA)",null,null,null,null,null,null,null,null,"    821405 ENCARREGADO DE ACABAMENTO DE CHAPAS E METAIS (TEMPERA)",null,null,null,null,null,null,null,null,null,null,null,"    821335 RECUPERADOR DE GUIAS E CILINDROS"]
["    821410 ESCARFADOR|821415 MARCADOR DE PRODUTOS (SIDERURGICO E METALURGICO)",null,null,null,null,null,null,null,null,"    821410 ESCARFADOR|821415 MARCADOR DE PRODUTOS (SIDERURGICO E METALURGICO)",null,null,null,null,null,null,null,null,null,null,null,"    821405 ENCARREGADO DE ACABAMENTO DE CHAPAS E METAIS (TEMPERA)"]
["    821420 OPERADOR DE BOBINADEIRA DE TIRAS A QUENTE, NO ACABAMENTO DE CHAPAS E METAIS",null,null,null,null,null,null,null,null,"    821420 OPERADOR DE BOBINADEIRA DE TIRAS A QUENTE, NO ACABAMENTO DE CHAPAS E METAIS",null,null,null,null,null,null,null,null,null,null,null,"    821410 ESCARFADOR|821415 MARCADOR DE PRODUTOS (SIDERURGICO E METALURGICO)"]
["    821425 OPERADOR DE CABINE DE LAMINACAO (FIO-MAQUINA)",null,null,null,null,null,null,null,null,"    821425 OPERADOR DE CABINE DE LAMINACAO (FIO-MAQUINA)",null,null,null,null,null,null,null,null,null,null,null,"    821420 OPERADOR DE BOBINADEIRA DE TIRAS A QUENTE, NO ACABAMENTO DE CHAPAS E METAIS"]
["    821430 OPERADOR DE ESCORIA E SUCATA|821435 OPERADOR DE JATO ABRASIVO",null,null,null,null,null,null,null,null,"    821430 OPERADOR DE ESCORIA E SUCATA|821435 OPERADOR DE JATO ABRASIVO",null,null,null,null,null,null,null,null,null,null,null,"    821425 OPERADOR DE CABINE DE LAMINACAO (FIO-MAQUINA)"]
["    821440 OPERADOR DE TESOURA MECANICA E MAQUINA DE CORTE, NO ACABAMENTO DE CHAPAS E METAIS",null,null,null,null,null,null,null,null,"    821440 OPERADOR DE TESOURA MECANICA E MAQUINA DE CORTE, NO ACABAMENTO DE CHAPAS E METAIS",null,null,null,null,null,null,null,null,null,null,null,"    821430 OPERADOR DE ESCORIA E SUCATA|821435 OPERADOR DE JATO ABRASIVO"]
["    821445 PREPARADOR DE SUCATA E APARAS|821450 REBARBADOR DE METAL",null,null,null,null,null,null,null,null,"    821445 PREPARADOR DE SUCATA E APARAS|821450 REBARBADOR DE METAL",null,null,null,null,null,null,null,null,null,null,null,"    821440 OPERADOR DE TESOURA MECANICA E MAQUINA DE CORTE, NO ACABAMENTO DE CHAPAS E METAIS"]
["    822105 FORNEIRO DE CUBILO|822110 FORNEIRO DE FORNO-POCO",null,null,null,null,null,null,null,null,"    822105 FORNEIRO DE CUBILO|822110 FORNEIRO DE FORNO-POCO",null,null,null,null,null,null,null,null,null,null,null,"    821445 PREPARADOR DE SUCATA E APARAS|821450 REBARBADOR DE METAL"]
["    822115 FORNEIRO DE FUNDICAO (FORNO DE REDUCAO)",null,null,null,null,null,null,null,null,"    822115 FORNEIRO DE FUNDICAO (FORNO DE REDUCAO)",null,null,null,null,null,null,null,null,null,null,null,"    822105 FORNEIRO DE CUBILO|822110 FORNEIRO DE FORNO-POCO"]
["    822120 FORNEIRO DE REAQUECIMENTO E TRATAMENTO TERMICO NA METALURGIA",null,null,null,null,null,null,null,null,"    822120 FORNEIRO DE REAQUECIMENTO E TRATAMENTO TERMICO NA METALURGIA",null,null,null,null,null,null,null,null,null,null,null,"    822115 FORNEIRO DE FUNDICAO (FORNO DE REDUCAO)"]
["    822125 FORNEIRO DE REVERBERO",null,null,null,null,null,null,null,null,"    822125 FORNEIRO DE REVERBERO",null,null,null,null,null,null,null,null,null,null,null,"    822120 FORNEIRO DE REAQUECIMENTO E TRATAMENTO TERMICO NA METALURGIA"]
["    823105 PREPARADOR DE MASSA (FABRICACAO DE ABRASIVOS)",null,null,null,null,null,null,null,null,"    823105 PREPARADOR DE MASSA (FABRICACAO DE ABRASIVOS)",null,null,null,null,null,null,null,null,null,null,null,"    822125 FORNEIRO DE REVERBERO"]
["    823110 PREPARADOR DE MASSA (FABRICACAO DE VIDRO)",null,null,null,null,null,null,null,null,"    823110 PREPARADOR DE MASSA (FABRICACAO DE VIDRO)",null,null,null,null,null,null,null,null,null,null,null,"    823105 PREPARADOR DE MASSA (FABRICACAO DE ABRASIVOS)"]
["    823115 PREPARADOR DE MASSA DE ARGILA|823120 PREPARADOR DE BARBOTINA",null,null,null,null,null,null,null,null,"    823115 PREPARADOR DE MASSA DE ARGILA|823120 PREPARADOR DE BARBOTINA",null,null,null,null,null,null,null,null,null,null,null,"    823110 PREPARADOR DE MASSA (FABRICACAO DE VIDRO)"]
["    823125 PREPARADOR DE ESMALTES (CERAMICA)|823130 PREPARADOR DE ADITIVOS",null,null,null,null,null,null,null,null,"    823125 PREPARADOR DE ESMALTES (CERAMICA)|823130 PREPARADOR DE ADITIVOS",null,null,null,null,null,null,null,null,null,null,null,"    823115 PREPARADOR DE MASSA DE ARGILA|823120 PREPARADOR DE BARBOTINA"]
["    823135 OPERADOR DE ATOMIZADOR|823210 EXTRUSOR DE FIOS OU FIBRAS DE VIDRO",null,null,null,null,null,null,null,null,"    823135 OPERADOR DE ATOMIZADOR|823210 EXTRUSOR DE FIOS OU FIBRAS DE VIDRO",null,null,null,null,null,null,null,null,null,null,null,"    823125 PREPARADOR DE ESMALTES (CERAMICA)|823130 PREPARADOR DE ADITIVOS"]
["    823215 FORNEIRO NA FUNDICAO DE VIDRO|823220 FORNEIRO NO RECOZIMENTO DE VIDRO",null,null,null,null,null,null,null,null,"    823215 FORNEIRO NA FUNDICAO DE VIDRO|823220 FORNEIRO NO RECOZIMENTO DE VIDRO",null,null,null,null,null,null,null,null,null,null,null,"    823135 OPERADOR DE ATOMIZADOR|823210 EXTRUSOR DE FIOS OU FIBRAS DE VIDRO"]
["    823230 MOLDADOR DE ABRASIVOS NA FABRICACAO DE CERAMICA, VIDRO E PORCELANA",null,null,null,null,null,null,null,null,"    823230 MOLDADOR DE ABRASIVOS NA FABRICACAO DE CERAMICA, VIDRO E PORCELANA",null,null,null,null,null,null,null,null,null,null,null,"    823215 FORNEIRO NA FUNDICAO DE VIDRO|823220 FORNEIRO NO RECOZIMENTO DE VIDRO"]
["    823235 OPERADOR DE BANHO METALICO DE VIDRO POR FLUTUACAO",null,null,null,null,null,null,null,null,"    823235 OPERADOR DE BANHO METALICO DE VIDRO POR FLUTUACAO",null,null,null,null,null,null,null,null,null,null,null,"    823230 MOLDADOR DE ABRASIVOS NA FABRICACAO DE CERAMICA, VIDRO E PORCELANA"]
["    823240 OPERADOR DE MAQUINA DE SOPRAR VIDRO",null,null,null,null,null,null,null,null,"    823240 OPERADOR DE MAQUINA DE SOPRAR VIDRO",null,null,null,null,null,null,null,null,null,null,null,"    823235 OPERADOR DE BANHO METALICO DE VIDRO POR FLUTUACAO"]
["    823245 OPERADOR DE MAQUINA EXTRUSORA DE VARETAS E TUBOS DE VIDRO",null,null,null,null,null,null,null,null,"    823245 OPERADOR DE MAQUINA EXTRUSORA DE VARETAS E TUBOS DE VIDRO",null,null,null,null,null,null,null,null,null,null,null,"    823240 OPERADOR DE MAQUINA DE SOPRAR VIDRO"]
["    823250 OPERADOR DE PRENSA DE MOLDAR VIDRO|823255 TEMPERADOR DE VIDRO",null,null,null,null,null,null,null,null,"    823250 OPERADOR DE PRENSA DE MOLDAR VIDRO|823255 TEMPERADOR DE VIDRO",null,null,null,null,null,null,null,null,null,null,null,"    823245 OPERADOR DE MAQUINA EXTRUSORA DE VARETAS E TUBOS DE VIDRO"]
["    823265 TRABALHADOR NA FABRICACAO DE PRODUTOS ABRASIVOS",null,null,null,null,null,null,null,null,"    823265 TRABALHADOR NA FABRICACAO DE PRODUTOS ABRASIVOS",null,null,null,null,null,null,null,null,null,null,null,"    823250 OPERADOR DE PRENSA DE MOLDAR VIDRO|823255 TEMPERADOR DE VIDRO"]
["    823305 CLASSIFICADOR E EMPILHADOR DE TIJOLOS REFRATARIOS",null,null,null,null,null,null,null,null,"    823305 CLASSIFICADOR E EMPILHADOR DE TIJOLOS REFRATARIOS",null,null,null,null,null,null,null,null,null,null,null,"    823265 TRABALHADOR NA FABRICACAO DE PRODUTOS ABRASIVOS"]
["    823315 FORNEIRO (MATERIAIS DE CONSTRUCAO)",null,null,null,null,null,null,null,null,"    823315 FORNEIRO (MATERIAIS DE CONSTRUCAO)",null,null,null,null,null,null,null,null,null,null,null,"    823305 CLASSIFICADOR E EMPILHADOR DE TIJOLOS REFRATARIOS"]
["    823320 TRABALHADOR DA ELABORACAO DE PRE-FABRICADOS (CIMENTO AMIANTO)",null,null,null,null,null,null,null,null,"    823320 TRABALHADOR DA ELABORACAO DE PRE-FABRICADOS (CIMENTO AMIANTO)",null,null,null,null,null,null,null,null,null,null,null,"    823315 FORNEIRO (MATERIAIS DE CONSTRUCAO)"]
["    823325 TRABALHADOR DA ELABORACAO DE PRE-FABRICADOS (CONCRETO ARMADO)",null,null,null,null,null,null,null,null,"    823325 TRABALHADOR DA ELABORACAO DE PRE-FABRICADOS (CONCRETO ARMADO)",null,null,null,null,null,null,null,null,null,null,null,"    823320 TRABALHADOR DA ELABORACAO DE PRE-FABRICADOS (CIMENTO AMIANTO)"]
["    823330 TRABALHADOR DA FABRICACAO DE PEDRAS ARTIFICIAIS",null,null,null,null,null,null,null,null,"    823330 TRABALHADOR DA FABRICACAO DE PEDRAS ARTIFICIAIS",null,null,null,null,null,null,null,null,null,null,null,"    823325 TRABALHADOR DA ELABORACAO DE PRE-FABRICADOS (CONCRETO ARMADO)"]
["    828105 OLEIRO (FABRICACAO DE TELHAS)|828110 OLEIRO (FABRICACAO DE TIJOLOS)",null,null,null,null,null,null,null,null,"    828105 OLEIRO (FABRICACAO DE TELHAS)|828110 OLEIRO (FABRICACAO DE TIJOLOS)",null,null,null,null,null,null,null,null,null,null,null,"    823330 TRABALHADOR DA FABRICACAO DE PEDRAS ARTIFICIAIS"]
["    811205 OPERADOR DE CALCINACAO (TRATAMENTO QUIMICO E AFINS)",null,null,null,null,null,null,null,null,"    811205 OPERADOR DE CALCINACAO (TRATAMENTO QUIMICO E AFINS)",null,null,null,null,null,null,null,null,null,null,null,"    828105 OLEIRO (FABRICACAO DE TELHAS)|828110 OLEIRO (FABRICACAO DE TIJOLOS)"]
["    831105 CILINDREIRO NA PREPARACAO DE PASTA PARA FABRICACAO DE PAPEL",null,null,null,null,null,null,null,null,"    831105 CILINDREIRO NA PREPARACAO DE PASTA PARA FABRICACAO DE PAPEL",null,null,null,null,null,null,null,null,null,null,null,"    811205 OPERADOR DE CALCINACAO (TRATAMENTO QUIMICO E AFINS)"]
["    831110 OPERADOR DE BRANQUEADOR DE PASTA PARA FABRICACAO DE PAPEL",null,null,null,null,null,null,null,null,"    831110 OPERADOR DE BRANQUEADOR DE PASTA PARA FABRICACAO DE PAPEL",null,null,null,null,null,null,null,null,null,null,null,"    831105 CILINDREIRO NA PREPARACAO DE PASTA PARA FABRICACAO DE PAPEL"]
["    831115 OPERADOR DE DIGESTOR DE PASTA PARA FABRICACAO DE PAPEL",null,null,null,null,null,null,null,null,"    831115 OPERADOR DE DIGESTOR DE PASTA PARA FABRICACAO DE PAPEL",null,null,null,null,null,null,null,null,null,null,null,"    831110 OPERADOR DE BRANQUEADOR DE PASTA PARA FABRICACAO DE PAPEL"]
["    831120 OPERADOR DE LAVAGEM E DEPURACAO DE PASTA PARA FABRICACAO DE PAPEL",null,null,null,null,null,null,null,null,"    831120 OPERADOR DE LAVAGEM E DEPURACAO DE PASTA PARA FABRICACAO DE PAPEL",null,null,null,null,null,null,null,null,null,null,null,"    831115 OPERADOR DE DIGESTOR DE PASTA PARA FABRICACAO DE PAPEL"]
["    831125 OPERADOR DE MAQUINA DE SECAR CELULOSE|832105 CALANDRISTA DE PAPEL",null,null,null,null,null,null,null,null,"    831125 OPERADOR DE MAQUINA DE SECAR CELULOSE|832105 CALANDRISTA DE PAPEL",null,null,null,null,null,null,null,null,null,null,null,"    831120 OPERADOR DE LAVAGEM E DEPURACAO DE PASTA PARA FABRICACAO DE PAPEL"]
["    832110 OPERADOR DE CORTADEIRA DE PAPEL",null,null,null,null,null,null,null,null,"    832110 OPERADOR DE CORTADEIRA DE PAPEL",null,null,null,null,null,null,null,null,null,null,null,"    831125 OPERADOR DE MAQUINA DE SECAR CELULOSE|832105 CALANDRISTA DE PAPEL"]
["    832115 OPERADOR DE MAQUINA DE FABRICAR PAPEL (FASE UMIDA)",null,null,null,null,null,null,null,null,"    832115 OPERADOR DE MAQUINA DE FABRICAR PAPEL (FASE UMIDA)",null,null,null,null,null,null,null,null,null,null,null,"    832110 OPERADOR DE CORTADEIRA DE PAPEL"]
["    832120 OPERADOR DE MAQUINA DE FABRICAR PAPEL (FASE SECA)",null,null,null,null,null,null,null,null,"    832120 OPERADOR DE MAQUINA DE FABRICAR PAPEL (FASE SECA)",null,null,null,null,null,null,null,null,null,null,null,"    832115 OPERADOR DE MAQUINA DE FABRICAR PAPEL (FASE UMIDA)"]
["    832125 OPERADOR DE MAQUINA DE FABRICAR PAPEL E PAPELAO",null,null,null,null,null,null,null,null,"    832125 OPERADOR DE MAQUINA DE FABRICAR PAPEL E PAPELAO",null,null,null,null,null,null,null,null,null,null,null,"    832120 OPERADOR DE MAQUINA DE FABRICAR PAPEL (FASE SECA)"]
["    832135 OPERADOR DE REBOBINADEIRA NA FABRICACAO DE PAPEL E PAPELAO",null,null,null,null,null,null,null,null,"    832135 OPERADOR DE REBOBINADEIRA NA FABRICACAO DE PAPEL E PAPELAO",null,null,null,null,null,null,null,null,null,null,null,"    832125 OPERADOR DE MAQUINA DE FABRICAR PAPEL E PAPELAO"]
["    833105 CARTONAGEIRO, A MAQUINA",null,null,null,null,null,null,null,null,"    833105 CARTONAGEIRO, A MAQUINA",null,null,null,null,null,null,null,null,null,null,null,"    832135 OPERADOR DE REBOBINADEIRA NA FABRICACAO DE PAPEL E PAPELAO"]
["    833110 CONFECCIONADOR DE BOLSAS, SACOS E SACOLAS E PAPEL, A MAQUINA",null,null,null,null,null,null,null,null,"    833110 CONFECCIONADOR DE BOLSAS, SACOS E SACOLAS E PAPEL, A MAQUINA",null,null,null,null,null,null,null,null,null,null,null,"    833105 CARTONAGEIRO, A MAQUINA"]
["    833115 CONFECCIONADOR DE SACOS DE CELOFANE, A MAQUINA",null,null,null,null,null,null,null,null,"    833115 CONFECCIONADOR DE SACOS DE CELOFANE, A MAQUINA",null,null,null,null,null,null,null,null,null,null,null,"    833110 CONFECCIONADOR DE BOLSAS, SACOS E SACOLAS E PAPEL, A MAQUINA"]
["    833120 OPERADOR DE MAQUINA DE CORTAR E DOBRAR PAPELAO",null,null,null,null,null,null,null,null,"    833120 OPERADOR DE MAQUINA DE CORTAR E DOBRAR PAPELAO",null,null,null,null,null,null,null,null,null,null,null,"    833115 CONFECCIONADOR DE SACOS DE CELOFANE, A MAQUINA"]
["    833125 OPERADOR DE PRENSA DE EMBUTIR PAPELAO",null,null,null,null,null,null,null,null,"    833125 OPERADOR DE PRENSA DE EMBUTIR PAPELAO",null,null,null,null,null,null,null,null,null,null,null,"    833120 OPERADOR DE MAQUINA DE CORTAR E DOBRAR PAPELAO"]
["    833205 CARTONAGEIRO, A MAO (CAIXAS DE PAPELAO)",null,null,null,null,null,null,null,null,"    833205 CARTONAGEIRO, A MAO (CAIXAS DE PAPELAO)",null,null,null,null,null,null,null,null,null,null,null,"    833125 OPERADOR DE PRENSA DE EMBUTIR PAPELAO"]
["    840105 SUPERVISOR DE PRODUCAO DA INDUSTRIA ALIMENTICIA",null,null,null,null,null,null,null,null,"    840105 SUPERVISOR DE PRODUCAO DA INDUSTRIA ALIMENTICIA",null,null,null,null,null,null,null,null,null,null,null,"    833205 CARTONAGEIRO, A MAO (CAIXAS DE PAPELAO)"]
["    840110 SUPERVISOR DA INDUSTRIA DE BEBIDAS",null,null,null,null,null,null,null,null,"    840110 SUPERVISOR DA INDUSTRIA DE BEBIDAS",null,null,null,null,null,null,null,null,null,null,null,"    840105 SUPERVISOR DE PRODUCAO DA INDUSTRIA ALIMENTICIA"]
["    840115 SUPERVISOR DA INDUSTRIA DE FUMO|840120 CHEFE DE CONFEITARIA",null,null,null,null,null,null,null,null,"    840115 SUPERVISOR DA INDUSTRIA DE FUMO|840120 CHEFE DE CONFEITARIA",null,null,null,null,null,null,null,null,null,null,null,"    840110 SUPERVISOR DA INDUSTRIA DE BEBIDAS"]
["    841105 MOLEIRO DE CEREAIS (EXCETO ARROZ)|841110 MOLEIRO DE ESPECIARIAS",null,null,null,null,null,null,null,null,"    841105 MOLEIRO DE CEREAIS (EXCETO ARROZ)|841110 MOLEIRO DE ESPECIARIAS",null,null,null,null,null,null,null,null,null,null,null,"    840115 SUPERVISOR DA INDUSTRIA DE FUMO|840120 CHEFE DE CONFEITARIA"]
["    841115 OPERADOR DE PROCESSO DE MOAGEM|841205 MOEDOR DE SAL",null,null,null,null,null,null,null,null,"    841115 OPERADOR DE PROCESSO DE MOAGEM|841205 MOEDOR DE SAL",null,null,null,null,null,null,null,null,null,null,null,"    841105 MOLEIRO DE CEREAIS (EXCETO ARROZ)|841110 MOLEIRO DE ESPECIARIAS"]
["    841210 REFINADOR DE SAL",null,null,null,null,null,null,null,null,"    841210 REFINADOR DE SAL",null,null,null,null,null,null,null,null,null,null,null,"    841115 OPERADOR DE PROCESSO DE MOAGEM|841205 MOEDOR DE SAL"]
["    841305 OPERADOR DE CRISTALIZACAO NA REFINACAO DE ACUCAR",null,null,null,null,null,null,null,null,"    841305 OPERADOR DE CRISTALIZACAO NA REFINACAO DE ACUCAR",null,null,null,null,null,null,null,null,null,null,null,"    841210 REFINADOR DE SAL"]
["    841310 OPERADOR DE EQUIPAMENTOS DE REFINACAO DE ACUCAR (PROCESSO CONTINUO)",null,null,null,null,null,null,null,null,"    841310 OPERADOR DE EQUIPAMENTOS DE REFINACAO DE ACUCAR (PROCESSO CONTINUO)",null,null,null,null,null,null,null,null,null,null,null,"    841305 OPERADOR DE CRISTALIZACAO NA REFINACAO DE ACUCAR"]
["    841315 OPERADOR DE MOENDA NA FABRICACAO DE ACUCAR",null,null,null,null,null,null,null,null,"    841315 OPERADOR DE MOENDA NA FABRICACAO DE ACUCAR",null,null,null,null,null,null,null,null,null,null,null,"    841310 OPERADOR DE EQUIPAMENTOS DE REFINACAO DE ACUCAR (PROCESSO CONTINUO)"]
["    841320 OPERADOR DE TRATAMENTO DE CALDA NA REFINACAO DE ACUCAR",null,null,null,null,null,null,null,null,"    841320 OPERADOR DE TRATAMENTO DE CALDA NA REFINACAO DE ACUCAR",null,null,null,null,null,null,null,null,null,null,null,"    841315 OPERADOR DE MOENDA NA FABRICACAO DE ACUCAR"]
["    841408 COZINHADOR (CONSERVACAO DE ALIMENTOS)|841416 COZINHADOR DE CARNES",null,null,null,null,null,null,null,null,"    841408 COZINHADOR (CONSERVACAO DE ALIMENTOS)|841416 COZINHADOR DE CARNES",null,null,null,null,null,null,null,null,null,null,null,"    841320 OPERADOR DE TRATAMENTO DE CALDA NA REFINACAO DE ACUCAR"]
["    841420 COZINHADOR DE FRUTAS E LEGUMES|841428 COZINHADOR DE PESCADO",null,null,null,null,null,null,null,null,"    841420 COZINHADOR DE FRUTAS E LEGUMES|841428 COZINHADOR DE PESCADO",null,null,null,null,null,null,null,null,null,null,null,"    841408 COZINHADOR (CONSERVACAO DE ALIMENTOS)|841416 COZINHADOR DE CARNES"]
["    841432 DESIDRATADOR DE ALIMENTOS|841440 ESTERILIZADOR DE ALIMENTOS",null,null,null,null,null,null,null,null,"    841432 DESIDRATADOR DE ALIMENTOS|841440 ESTERILIZADOR DE ALIMENTOS",null,null,null,null,null,null,null,null,null,null,null,"    841420 COZINHADOR DE FRUTAS E LEGUMES|841428 COZINHADOR DE PESCADO"]
["    841444 HIDROGENADOR DE OLEOS E GORDURAS|841448 LAGAREIRO",null,null,null,null,null,null,null,null,"    841444 HIDROGENADOR DE OLEOS E GORDURAS|841448 LAGAREIRO",null,null,null,null,null,null,null,null,null,null,null,"    841432 DESIDRATADOR DE ALIMENTOS|841440 ESTERILIZADOR DE ALIMENTOS"]
["    841456 OPERADOR DE CAMARAS FRIAS",null,null,null,null,null,null,null,null,"    841456 OPERADOR DE CAMARAS FRIAS",null,null,null,null,null,null,null,null,null,null,null,"    841444 HIDROGENADOR DE OLEOS E GORDURAS|841448 LAGAREIRO"]
["    841460 OPERADOR DE PREPARACAO DE GRAOS VEGETAIS (OLEOS E GORDURAS)",null,null,null,null,null,null,null,null,"    841460 OPERADOR DE PREPARACAO DE GRAOS VEGETAIS (OLEOS E GORDURAS)",null,null,null,null,null,null,null,null,null,null,null,"    841456 OPERADOR DE CAMARAS FRIAS"]
["    841464 PRENSADOR DE FRUTAS (EXCETO OLEAGINOSAS)|841468 PREPARADOR DE RACOES",null,null,null,null,null,null,null,null,"    841464 PRENSADOR DE FRUTAS (EXCETO OLEAGINOSAS)|841468 PREPARADOR DE RACOES",null,null,null,null,null,null,null,null,null,null,null,"    841460 OPERADOR DE PREPARACAO DE GRAOS VEGETAIS (OLEOS E GORDURAS)"]
["    841472 REFINADOR DE OLEO E GORDURA",null,null,null,null,null,null,null,null,"    841472 REFINADOR DE OLEO E GORDURA",null,null,null,null,null,null,null,null,null,null,null,"    841464 PRENSADOR DE FRUTAS (EXCETO OLEAGINOSAS)|841468 PREPARADOR DE RACOES"]
["    841476 TRABALHADOR DE FABRICACAO DE MARGARINA",null,null,null,null,null,null,null,null,"    841476 TRABALHADOR DE FABRICACAO DE MARGARINA",null,null,null,null,null,null,null,null,null,null,null,"    841472 REFINADOR DE OLEO E GORDURA"]
["    841484 TRABALHADOR DE PREPARACAO DE PESCADOS (LIMPEZA)",null,null,null,null,null,null,null,null,"    841484 TRABALHADOR DE PREPARACAO DE PESCADOS (LIMPEZA)",null,null,null,null,null,null,null,null,null,null,null,"    841476 TRABALHADOR DE FABRICACAO DE MARGARINA"]
["    841505 TRABALHADOR DE TRATAMENTO DO LEITE E FABRICACAO DE LATICINIOS E AFINS",null,null,null,null,null,null,null,null,"    841505 TRABALHADOR DE TRATAMENTO DO LEITE E FABRICACAO DE LATICINIOS E AFINS",null,null,null,null,null,null,null,null,null,null,null,"    841484 TRABALHADOR DE PREPARACAO DE PESCADOS (LIMPEZA)"]
["    841605 MISTURADOR DE CAFE|841610 TORRADOR DE CAFE|841615 MOEDOR DE CAFE",null,null,null,null,null,null,null,null,"    841605 MISTURADOR DE CAFE|841610 TORRADOR DE CAFE|841615 MOEDOR DE CAFE",null,null,null,null,null,null,null,null,null,null,null,"    841505 TRABALHADOR DE TRATAMENTO DO LEITE E FABRICACAO DE LATICINIOS E AFINS"]
["    841620 OPERADOR DE EXTRACAO DE CAFE SOLUVEL|841625 TORRADOR DE CACAU",null,null,null,null,null,null,null,null,"    841620 OPERADOR DE EXTRACAO DE CAFE SOLUVEL|841625 TORRADOR DE CACAU",null,null,null,null,null,null,null,null,null,null,null,"    841605 MISTURADOR DE CAFE|841610 TORRADOR DE CAFE|841615 MOEDOR DE CAFE"]
["    841630 MISTURADOR DE CHA OU MATE|841705 ALAMBIQUEIRO",null,null,null,null,null,null,null,null,"    841630 MISTURADOR DE CHA OU MATE|841705 ALAMBIQUEIRO",null,null,null,null,null,null,null,null,null,null,null,"    841620 OPERADOR DE EXTRACAO DE CAFE SOLUVEL|841625 TORRADOR DE CACAU"]
["    841710 FILTRADOR DE CERVEJA|841715 FERMENTADOR",null,null,null,null,null,null,null,null,"    841710 FILTRADOR DE CERVEJA|841715 FERMENTADOR",null,null,null,null,null,null,null,null,null,null,null,"    841630 MISTURADOR DE CHA OU MATE|841705 ALAMBIQUEIRO"]
["    841720 TRABALHADOR DE FABRICACAO DE VINHOS|841725 MALTEIRO (GERMINACAO)",null,null,null,null,null,null,null,null,"    841720 TRABALHADOR DE FABRICACAO DE VINHOS|841725 MALTEIRO (GERMINACAO)",null,null,null,null,null,null,null,null,null,null,null,"    841710 FILTRADOR DE CERVEJA|841715 FERMENTADOR"]
["    841730 COZINHADOR DE MALTE|841735 DESSECADOR DE MALTE|841740 VINAGREIRO",null,null,null,null,null,null,null,null,"    841730 COZINHADOR DE MALTE|841735 DESSECADOR DE MALTE|841740 VINAGREIRO",null,null,null,null,null,null,null,null,null,null,null,"    841720 TRABALHADOR DE FABRICACAO DE VINHOS|841725 MALTEIRO (GERMINACAO)"]
["    841745 XAROPEIRO",null,null,null,null,null,null,null,null,"    841745 XAROPEIRO",null,null,null,null,null,null,null,null,null,null,null,"    841730 COZINHADOR DE MALTE|841735 DESSECADOR DE MALTE|841740 VINAGREIRO"]
["    841805 OPERADOR DE FORNO (FABRICACAO DE PAES, BISCOITOS E SIMILARES)",null,null,null,null,null,null,null,null,"    841805 OPERADOR DE FORNO (FABRICACAO DE PAES, BISCOITOS E SIMILARES)",null,null,null,null,null,null,null,null,null,null,null,"    841745 XAROPEIRO"]
["    841810 OPERADOR DE MAQUINAS DE FABRICACAO DE DOCES, SALGADOS E MASSAS ALIMENTICIAS",null,null,null,null,null,null,null,null,"    841810 OPERADOR DE MAQUINAS DE FABRICACAO DE DOCES, SALGADOS E MASSAS ALIMENTICIAS",null,null,null,null,null,null,null,null,null,null,null,"    841805 OPERADOR DE FORNO (FABRICACAO DE PAES, BISCOITOS E SIMILARES)"]
["    841815 OPERADOR DE MAQUINAS DE FABRICACAO DE CHOCOLATES E ACHOCOLATADOS",null,null,null,null,null,null,null,null,"    841815 OPERADOR DE MAQUINAS DE FABRICACAO DE CHOCOLATES E ACHOCOLATADOS",null,null,null,null,null,null,null,null,null,null,null,"    841810 OPERADOR DE MAQUINAS DE FABRICACAO DE DOCES, SALGADOS E MASSAS ALIMENTICIAS"]
["    842105 PREPARADOR DE MELADO E ESSENCIA DE FUMO|842110 PROCESSADOR DE FUMO",null,null,null,null,null,null,null,null,"    842105 PREPARADOR DE MELADO E ESSENCIA DE FUMO|842110 PROCESSADOR DE FUMO",null,null,null,null,null,null,null,null,null,null,null,"    841815 OPERADOR DE MAQUINAS DE FABRICACAO DE CHOCOLATES E ACHOCOLATADOS"]
["    842115 CLASSIFICADOR DE FUMO|842120 AUXILIAR DE PROCESSAMENTO DE FUMO",null,null,null,null,null,null,null,null,"    842115 CLASSIFICADOR DE FUMO|842120 AUXILIAR DE PROCESSAMENTO DE FUMO",null,null,null,null,null,null,null,null,null,null,null,"    842105 PREPARADOR DE MELADO E ESSENCIA DE FUMO|842110 PROCESSADOR DE FUMO"]
["    842205 PREPARADOR DE FUMO NA FABRICACAO DE CHARUTOS",null,null,null,null,null,null,null,null,"    842205 PREPARADOR DE FUMO NA FABRICACAO DE CHARUTOS",null,null,null,null,null,null,null,null,null,null,null,"    842115 CLASSIFICADOR DE FUMO|842120 AUXILIAR DE PROCESSAMENTO DE FUMO"]
["    842210 OPERADOR DE MAQUINA DE FABRICAR CHARUTOS E CIGARRILHAS",null,null,null,null,null,null,null,null,"    842210 OPERADOR DE MAQUINA DE FABRICAR CHARUTOS E CIGARRILHAS",null,null,null,null,null,null,null,null,null,null,null,"    842205 PREPARADOR DE FUMO NA FABRICACAO DE CHARUTOS"]
["    842215 CLASSIFICADOR DE CHARUTOS|842220 CORTADOR DE CHARUTOS",null,null,null,null,null,null,null,null,"    842215 CLASSIFICADOR DE CHARUTOS|842220 CORTADOR DE CHARUTOS",null,null,null,null,null,null,null,null,null,null,null,"    842210 OPERADOR DE MAQUINA DE FABRICAR CHARUTOS E CIGARRILHAS"]
["    842225 CELOFANISTA NA FABRICACAO DE CHARUTOS|842230 CHARUTEIRO A MAO",null,null,null,null,null,null,null,null,"    842225 CELOFANISTA NA FABRICACAO DE CHARUTOS|842230 CHARUTEIRO A MAO",null,null,null,null,null,null,null,null,null,null,null,"    842215 CLASSIFICADOR DE CHARUTOS|842220 CORTADOR DE CHARUTOS"]
["    842235 DEGUSTADOR DE CHARUTOS",null,null,null,null,null,null,null,null,"    842235 DEGUSTADOR DE CHARUTOS",null,null,null,null,null,null,null,null,null,null,null,"    842225 CELOFANISTA NA FABRICACAO DE CHARUTOS|842230 CHARUTEIRO A MAO"]
["    842305 OPERADOR DE MAQUINA DE FABRICAR CIGARROS",null,null,null,null,null,null,null,null,"    842305 OPERADOR DE MAQUINA DE FABRICAR CIGARROS",null,null,null,null,null,null,null,null,null,null,null,"    842235 DEGUSTADOR DE CHARUTOS"]
["    848105 DEFUMADOR DE CARNES E PESCADOS|848110 SALGADOR DE ALIMENTOS",null,null,null,null,null,null,null,null,"    848105 DEFUMADOR DE CARNES E PESCADOS|848110 SALGADOR DE ALIMENTOS",null,null,null,null,null,null,null,null,null,null,null,"    842305 OPERADOR DE MAQUINA DE FABRICAR CIGARROS"]
["    848115 SALSICHEIRO (FABRICACAO DE LINGUICA, SALSICHA E PRODUTOS SIMILARES)",null,null,null,null,null,null,null,null,"    848115 SALSICHEIRO (FABRICACAO DE LINGUICA, SALSICHA E PRODUTOS SIMILARES)",null,null,null,null,null,null,null,null,null,null,null,"    848105 DEFUMADOR DE CARNES E PESCADOS|848110 SALGADOR DE ALIMENTOS"]
["    848205 PASTEURIZADOR|848210 QUEIJEIRO NA FABRICACAO DE LATICINIO",null,null,null,null,null,null,null,null,"    848205 PASTEURIZADOR|848210 QUEIJEIRO NA FABRICACAO DE LATICINIO",null,null,null,null,null,null,null,null,null,null,null,"    848115 SALSICHEIRO (FABRICACAO DE LINGUICA, SALSICHA E PRODUTOS SIMILARES)"]
["    848215 MANTEIGUEIRO NA FABRICACAO DE LATICINIO|848305 PADEIRO",null,null,null,null,null,null,null,null,"    848215 MANTEIGUEIRO NA FABRICACAO DE LATICINIO|848305 PADEIRO",null,null,null,null,null,null,null,null,null,null,null,"    848205 PASTEURIZADOR|848210 QUEIJEIRO NA FABRICACAO DE LATICINIO"]
["    848310 CONFEITEIRO|848315 MASSEIRO (MASSAS ALIMENTICIAS)",null,null,null,null,null,null,null,null,"    848310 CONFEITEIRO|848315 MASSEIRO (MASSAS ALIMENTICIAS)",null,null,null,null,null,null,null,null,null,null,null,"    848215 MANTEIGUEIRO NA FABRICACAO DE LATICINIO|848305 PADEIRO"]
["    848325 TRABALHADOR DE FABRICACAO DE SORVETE|848405 DEGUSTADOR DE CAFE",null,null,null,null,null,null,null,null,"    848325 TRABALHADOR DE FABRICACAO DE SORVETE|848405 DEGUSTADOR DE CAFE",null,null,null,null,null,null,null,null,null,null,null,"    848310 CONFEITEIRO|848315 MASSEIRO (MASSAS ALIMENTICIAS)"]
["    848410 DEGUSTADOR DE CHA|848415 DEGUSTADOR DE DERIVADOS DE CACAU",null,null,null,null,null,null,null,null,"    848410 DEGUSTADOR DE CHA|848415 DEGUSTADOR DE DERIVADOS DE CACAU",null,null,null,null,null,null,null,null,null,null,null,"    848325 TRABALHADOR DE FABRICACAO DE SORVETE|848405 DEGUSTADOR DE CAFE"]
["    848420 DEGUSTADOR DE VINHOS OU LICORES|848505 ABATEDOR|848510 ACOUGUEIRO",null,null,null,null,null,null,null,null,"    848420 DEGUSTADOR DE VINHOS OU LICORES|848505 ABATEDOR|848510 ACOUGUEIRO",null,null,null,null,null,null,null,null,null,null,null,"    848410 DEGUSTADOR DE CHA|848415 DEGUSTADOR DE DERIVADOS DE CACAU"]
["    848515 DESOSSADOR|848520 MAGAREFE|848525 RETALHADOR DE CARNE",null,null,null,null,null,null,null,null,"    848515 DESOSSADOR|848520 MAGAREFE|848525 RETALHADOR DE CARNE",null,null,null,null,null,null,null,null,null,null,null,"    848420 DEGUSTADOR DE VINHOS OU LICORES|848505 ABATEDOR|848510 ACOUGUEIRO"]
["    848605 TRABALHADOR DO BENEFICIAMENTO DE FUMO",null,null,null,null,null,null,null,null,"    848605 TRABALHADOR DO BENEFICIAMENTO DE FUMO",null,null,null,null,null,null,null,null,null,null,null,"    848515 DESOSSADOR|848520 MAGAREFE|848525 RETALHADOR DE CARNE"]
["    860105 SUPERVISOR DE MANUTENCAO (ELETROMECANICA)",null,null,null,null,null,null,null,null,"    860105 SUPERVISOR DE MANUTENCAO (ELETROMECANICA)",null,null,null,null,null,null,null,null,null,null,null,"    848605 TRABALHADOR DO BENEFICIAMENTO DE FUMO"]
["    860110 SUPERVISOR DE OPERACAO DE FLUIDOS (DISTRIBUICAO, CAPTACAO, TRATAMENTO DE AGUA, GASES, VAPOR)",null,null,null,null,null,null,null,null,"    860110 SUPERVISOR DE OPERACAO DE FLUIDOS (DISTRIBUICAO, CAPTACAO, TRATAMENTO DE AGUA, GASES, VAPOR)",null,null,null,null,null,null,null,null,null,null,null,"    860105 SUPERVISOR DE MANUTENCAO (ELETROMECANICA)"]
["    860115 SUPERVISOR DE OPERACAO ELETRICA (GERACAO, TRANSMISSAO E DISTRIBUICAO DE ENERGIA ELETRICA)",null,null,null,null,null,null,null,null,"    860115 SUPERVISOR DE OPERACAO ELETRICA (GERACAO, TRANSMISSAO E DISTRIBUICAO DE ENERGIA ELETRICA)",null,null,null,null,null,null,null,null,null,null,null,"    860110 SUPERVISOR DE OPERACAO DE FLUIDOS (DISTRIBUICAO, CAPTACAO, TRATAMENTO DE AGUA, GASES, VAPOR)"]
["    861105 OPERADOR DE CENTRAL HIDRELETRICA",null,null,null,null,null,null,null,null,"    861105 OPERADOR DE CENTRAL HIDRELETRICA",null,null,null,null,null,null,null,null,null,null,null,"    860115 SUPERVISOR DE OPERACAO ELETRICA (GERACAO, TRANSMISSAO E DISTRIBUICAO DE ENERGIA ELETRICA)"]
["    861110 OPERADOR DE QUADRO DE DISTRIBUICAO DE ENERGIA ELETRICA",null,null,null,null,null,null,null,null,"    861110 OPERADOR DE QUADRO DE DISTRIBUICAO DE ENERGIA ELETRICA",null,null,null,null,null,null,null,null,null,null,null,"    861105 OPERADOR DE CENTRAL HIDRELETRICA"]
["    861115 OPERADOR DE CENTRAL TERMOELETRICA",null,null,null,null,null,null,null,null,"    861115 OPERADOR DE CENTRAL TERMOELETRICA",null,null,null,null,null,null,null,null,null,null,null,"    861110 OPERADOR DE QUADRO DE DISTRIBUICAO DE ENERGIA ELETRICA"]
["    862105 FOGUISTA (LOCOMOTIVAS A VAPOR)|862110 MAQUINISTA DE EMBARCACOES",null,null,null,null,null,null,null,null,"    862105 FOGUISTA (LOCOMOTIVAS A VAPOR)|862110 MAQUINISTA DE EMBARCACOES",null,null,null,null,null,null,null,null,null,null,null,"    861115 OPERADOR DE CENTRAL TERMOELETRICA"]
["    862115 OPERADOR DE BATERIA DE GAS DE HULHA|862120 OPERADOR DE CALDEIRA",null,null,null,null,null,null,null,null,"    862115 OPERADOR DE BATERIA DE GAS DE HULHA|862120 OPERADOR DE CALDEIRA",null,null,null,null,null,null,null,null,null,null,null,"    862105 FOGUISTA (LOCOMOTIVAS A VAPOR)|862110 MAQUINISTA DE EMBARCACOES"]
["    862130 OPERADOR DE COMPRESSOR DE AR",null,null,null,null,null,null,null,null,"    862130 OPERADOR DE COMPRESSOR DE AR",null,null,null,null,null,null,null,null,null,null,null,"    862115 OPERADOR DE BATERIA DE GAS DE HULHA|862120 OPERADOR DE CALDEIRA"]
["    862140 OPERADOR DE ESTACAO DE BOMBEAMENTO",null,null,null,null,null,null,null,null,"    862140 OPERADOR DE ESTACAO DE BOMBEAMENTO",null,null,null,null,null,null,null,null,null,null,null,"    862130 OPERADOR DE COMPRESSOR DE AR"]
["    862150 OPERADOR DE MAQUINAS FIXAS, EM GERAL",null,null,null,null,null,null,null,null,"    862150 OPERADOR DE MAQUINAS FIXAS, EM GERAL",null,null,null,null,null,null,null,null,null,null,null,"    862140 OPERADOR DE ESTACAO DE BOMBEAMENTO"]
["    862155 OPERADOR DE UTILIDADE (PRODUCAO E DISTRIBUICAO DE VAPOR, GAS, OLEO, COMBUSTIVEL, ENERGIA, OXIGENIO)",null,null,null,null,null,null,null,null,"    862155 OPERADOR DE UTILIDADE (PRODUCAO E DISTRIBUICAO DE VAPOR, GAS, OLEO, COMBUSTIVEL, ENERGIA, OXIGENIO)",null,null,null,null,null,null,null,null,null,null,null,"    862150 OPERADOR DE MAQUINAS FIXAS, EM GERAL"]
["    862205 OPERADOR DE ESTACAO DE CAPTACAO, TRATAMENTO E DISTRIBUICAO DE AGUA",null,null,null,null,null,null,null,null,"    862205 OPERADOR DE ESTACAO DE CAPTACAO, TRATAMENTO E DISTRIBUICAO DE AGUA",null,null,null,null,null,null,null,null,null,null,null,"    862155 OPERADOR DE UTILIDADE (PRODUCAO E DISTRIBUICAO DE VAPOR, GAS, OLEO, COMBUSTIVEL, ENERGIA, OXIGENIO)"]
["    862305 OPERADOR DE ESTACAO DE TRATAMENTO DE AGUA E EFLUENTES",null,null,null,null,null,null,null,null,"    862305 OPERADOR DE ESTACAO DE TRATAMENTO DE AGUA E EFLUENTES",null,null,null,null,null,null,null,null,null,null,null,"    862205 OPERADOR DE ESTACAO DE CAPTACAO, TRATAMENTO E DISTRIBUICAO DE AGUA"]
["    862310 OPERADOR DE FORNO DE INCINERACAO NO TRATAMENTO DE AGUA, EFLUENTES E RESIDUOS INDUSTRIAIS",null,null,null,null,null,null,null,null,"    862310 OPERADOR DE FORNO DE INCINERACAO NO TRATAMENTO DE AGUA, EFLUENTES E RESIDUOS INDUSTRIAIS",null,null,null,null,null,null,null,null,null,null,null,"    862305 OPERADOR DE ESTACAO DE TRATAMENTO DE AGUA E EFLUENTES"]
["    862405 OPERADOR DE INSTALACAO DE EXTRACAO, PROCESSAMENTO, ENVASAMENTO E DISTRIBUICAO DE GASES",null,null,null,null,null,null,null,null,"    862405 OPERADOR DE INSTALACAO DE EXTRACAO, PROCESSAMENTO, ENVASAMENTO E DISTRIBUICAO DE GASES",null,null,null,null,null,null,null,null,null,null,null,"    862310 OPERADOR DE FORNO DE INCINERACAO NO TRATAMENTO DE AGUA, EFLUENTES E RESIDUOS INDUSTRIAIS"]
["    862505 OPERADOR DE INSTALACAO DE REFRIGERACAO",null,null,null,null,null,null,null,null,"    862505 OPERADOR DE INSTALACAO DE REFRIGERACAO",null,null,null,null,null,null,null,null,null,null,null,"    862405 OPERADOR DE INSTALACAO DE EXTRACAO, PROCESSAMENTO, ENVASAMENTO E DISTRIBUICAO DE GASES"]
["    862510 OPERADOR DE REFRIGERACAO COM AMONIA",null,null,null,null,null,null,null,null,"    862510 OPERADOR DE REFRIGERACAO COM AMONIA",null,null,null,null,null,null,null,null,null,null,null,"    862505 OPERADOR DE INSTALACAO DE REFRIGERACAO"]
["    862515 OPERADOR DE INSTALACAO DE AR-CONDICIONADO",null,null,null,null,null,null,null,null,"    862515 OPERADOR DE INSTALACAO DE AR-CONDICIONADO",null,null,null,null,null,null,null,null,null,null,null,"    862510 OPERADOR DE REFRIGERACAO COM AMONIA"]
["    910105 ENCARREGADO DE MANUTENCAO MECANICA DE SISTEMAS OPERACIONAIS",null,null,null,null,null,null,null,null,"    910105 ENCARREGADO DE MANUTENCAO MECANICA DE SISTEMAS OPERACIONAIS",null,null,null,null,null,null,null,null,null,null,null,"    862515 OPERADOR DE INSTALACAO DE AR-CONDICIONADO"]
["    910110 SUPERVISOR DE MANUTENCAO DE APARELHOS TERMICOS, DE CLIMATIZACAO E DE REFRIGERACAO",null,null,null,null,null,null,null,null,"    910110 SUPERVISOR DE MANUTENCAO DE APARELHOS TERMICOS, DE CLIMATIZACAO E DE REFRIGERACAO",null,null,null,null,null,null,null,null,null,null,null,"    910105 ENCARREGADO DE MANUTENCAO MECANICA DE SISTEMAS OPERACIONAIS"]
["    910115 SUPERVISOR DE MANUTENCAO DE BOMBAS, MOTORES, COMPRESSORES E EQUIPAMENTOS DE TRANSMISSAO",null,null,null,null,null,null,null,null,"    910115 SUPERVISOR DE MANUTENCAO DE BOMBAS, MOTORES, COMPRESSORES E EQUIPAMENTOS DE TRANSMISSAO",null,null,null,null,null,null,null,null,null,null,null,"    910110 SUPERVISOR DE MANUTENCAO DE APARELHOS TERMICOS, DE CLIMATIZACAO E DE REFRIGERACAO"]
["    830105 MESTRE (INDUSTRIA DE CELULOSE, PAPEL E PAPELAO)",null,null,null,null,null,null,null,null,"    830105 MESTRE (INDUSTRIA DE CELULOSE, PAPEL E PAPELAO)",null,null,null,null,null,null,null,null,null,null,null,"    910115 SUPERVISOR DE MANUTENCAO DE BOMBAS, MOTORES, COMPRESSORES E EQUIPAMENTOS DE TRANSMISSAO"]
["    999995 PRESIDIARIO ( PESSOAS CONFINADAS EM INSTITUICOES PENAIS, INCLUSIVE MENORES DE IDADE )",null,null,null,null,null,null,null,null,"    999995 PRESIDIARIO ( PESSOAS CONFINADAS EM INSTITUICOES PENAIS, INCLUSIVE MENORES DE IDADE )",null,null,null,null,null,null,null,null,null,null,null,"    830105 MESTRE (INDUSTRIA DE CELULOSE, PAPEL E PAPELAO)"]
["[Arquivos]",null,null,null,null,null,null,null,null,"[Arquivos]",null,null,null,null,null,null,null,null,null,null,null,"    999995 PRESIDIARIO ( PESSOAS CONFINADAS EM INSTITUICOES PENAIS, INCLUSIVE MENORES DE IDADE )"]
["ACBIONET.DBF",null,null,null,null,null,null,null,null,"ACGRANET.DBF",null,null,null,null,null,null,null,null,null,null,null,"[Arquivos]"]
["Registros_Processados= 4523",null,null,null,null,null,null,null,null,"Registros_Processados= 1720",null,null,null,null,null,null,null,null,null,null,null,"IEXOGNET.DBF"]
["Tempo_Decorrido= 0:00",null,null,null,null,null,null,null,null,"Tempo_Decorrido= 0:00",null,null,null,null,null,null,null,null,null,null,null,"Registros_Processados= 4729"]
[null,null,null,null,null,null,null,null,null,null,null,null,null,null,null,null,null,null,null,null,null,"Tempo_Decorrido= 0:00"]